{"text_format":"1","workbook":"xlsx","n_sheets":33,"sheets":["Calculations","Busy_Screen","Menu","ScheduleSetup","Calculations2","Soil_Moisture_2","Soil_Moisture","Cumulative data","Connections","Drought_Stress","Caluations","Table1","Crop & Soil Tables","Compatibility Report","Weather","Stations","Test_Junk","Outlook","Soy_Model","Soybean Delayed Planting","Soybean_Growth","Maury Vitosh Water Use","Sheet2","Help","C_Sheet","Use_Report","GDD_Base","SoyPicts","7_Day","Chart1","Entry","SM","Corn_GDD"],"not_rendered":{"charts":33,"images":23,"macros":1,"external_links":1,"defined_names":1477,"comments":1,"pivot_tables":0},"unopened":[{"sheet":"Soil_Moisture_2","index":5,"reason":"not_a_worksheet"},{"sheet":"Soil_Moisture","index":6,"reason":"not_a_worksheet"},{"sheet":"Cumulative data","index":7,"reason":"not_a_worksheet"},{"sheet":"Chart1","index":29,"reason":"not_a_worksheet"}],"bounds":{"document_bytes":16777216,"sheet_cells":100000,"rows_first":2000,"rows_last":500,"rows_between":2000,"halvings":0,"cell_chars":16384,"cell_head_chars":4096},"cells_cut":0,"cells_raw":0,"read":"whole","date_system":"1900"}

{"sheet":"Calculations","index":0,"n_rows":160,"n_cols":254,"rows_kept":160,"cut":false,"hidden":true,"merged":[[0,9,0,10],[9,0,9,4],[0,6,0,8],[9,10,9,14],[7,0,7,7],[1,2,1,4],[1,0,1,1],[3,0,3,7],[4,0,4,7],[5,0,5,7],[6,0,6,7],[0,2,0,4],[0,0,0,1],[158,0,159,0],[16,6,16,11],[14,0,14,4],[16,1,16,5],[14,6,14,10]]}
["Field Identifier",null,null,null,null,null,"User fills out the data in",null,null,"light yellow"]
["Crop"]
[]
["     Estimates of Potential ET can be found at the MSU AgWeather site: http://www.agweather.geo.msu.edu/mawn/irrigation/"]
["     The Table of Crop Coefficients contains estimated values of Root Depth and Canopy Cover Coeff, as a function of the percentage of the growing season."]
["     To use the Table, first determine the length of the growing season and rooting depth for the variety of your crop, then extrapolate data from emergence date."]
["     For example, 120 day Corn36 (a corn variety with an effective rooting depth of 36 inches) and has an emergence date of May 15th, 10% of the growing season is May 27th."]
["10% of 120 = 12            15 + 12 = 27"]
[null,null,null,null,null,null,null,null,null,null,null,null,null,null,null,null,null,null,null,null,null,null,null,null,null,null,null,null,null,null,null,null,null,null,null,null,null,null,null,null,null,null,null,null,null,null,null,null,null,null,null,null,null,null,null,null,null,null,null,null,null,null,null,null,null,null,null,null,null,null,null,null,null,null,null,null,null,null,null,null,null,null,null,null,null,null,null,null,null,null,null,null,null,null,null,null,null,null,null,null,null,null,null,null,null,null,null,null,null,null,null,null,null,null,null,null,null,null,null,null,null,null,null,null,null,null,null,null,null,null,null,null,null,null,null,null,null,null,null,null,null,null,null,null,null,null,null,null,null,null,null,null,null,null,null,null,null,null,null,null,null,null,null,null,null,null,null,null,null,null,null,null,null,null,null,null,null,null,null,null,null,null,null,null,null,null,null,null,null,null,null,null,null,null,null,null,null,null,null,null,null,null,null,null,null,null,null,null,null,null,null,null,null,null,null,null,null,null,null,null,null,null,null,null,null,null,null,null,null,null,null,null,null,null,null,null,null,null,null,null,null,null,null,null,null,null,null,null,null,null,"Adrian",null,null,"Alfalfa"]
["Available water (AW) holding capacity of soil - (inches water/inch soil).  See Table 1 or Soil Survey.",null,null,null,null,null,null,null,null,null,"Soil Type (Bronson or Oshtema)",null,null,null,null,"Oshtemo",null,null,null,null,null,null,null,null,null,null,null,null,null,null,null,null,null,null,null,null,null,null,null,null,null,null,null,null,null,null,null,null,null,null,null,null,null,null,null,null,null,null,null,null,null,null,null,null,null,null,null,null,null,null,null,null,null,null,null,null,null,null,null,null,null,null,null,null,null,null,null,null,null,null,null,null,null,null,null,null,null,null,null,null,null,null,null,null,null,null,null,null,null,null,null,null,null,null,null,null,null,null,null,null,null,null,null,null,null,null,null,null,null,null,null,null,null,null,null,null,null,null,null,null,null,null,null,null,null,null,null,null,null,null,null,null,null,null,null,null,null,null,null,null,null,null,null,null,null,null,null,null,null,null,null,null,null,null,null,null,null,null,null,null,null,null,null,null,null,null,null,null,null,null,null,null,null,null,null,null,null,null,null,null,null,null,null,null,null,null,null,null,null,null,null,null,null,null,null,null,null,null,null,null,null,null,null,null,null,null,null,null,null,null,null,null,null,null,null,null,null,null,null,null,null,null,null,null,null,null,null,null,null,null,"Alcona-Richter",null,null,"Alfalfa1"]
["Depth Range (in)","0 - 6","6 - 12","12 - 18","18 - 24","24 - 30","30 - 36","36 - 42","42 - 48",null,"Crop (Corn24 or Corn36):",null,null,null,null,"Corn36",null,null,null,null,null,null,null,null,null,null,null,null,null,null,null,null,null,null,null,null,null,null,null,null,null,null,null,null,null,null,null,null,null,null,null,null,null,null,null,null,null,null,null,null,null,null,null,null,null,null,null,null,null,null,null,null,null,null,null,null,null,null,null,null,null,null,null,null,null,null,null,null,null,null,null,null,null,null,null,null,null,null,null,null,null,null,null,null,null,null,null,null,null,null,null,null,null,null,null,null,null,null,null,null,null,null,null,null,null,null,null,null,null,null,null,null,null,null,null,null,null,null,null,null,null,null,null,null,null,null,null,null,null,null,null,null,null,null,null,null,null,null,null,null,null,null,null,null,null,null,null,null,null,null,null,null,null,null,null,null,null,null,null,null,null,null,null,null,null,null,null,null,null,null,null,null,null,null,null,null,null,null,null,null,null,null,null,null,null,null,null,null,null,null,null,null,null,null,null,null,null,null,null,null,null,null,null,null,null,null,null,null,null,null,null,null,null,null,null,null,null,null,null,null,null,null,null,null,null,null,null,null,null,null,"Algansee",null,null,"Apple"]
["AW (in/in)",null,null,null,null,null,null,null,null,null,"Length of Growing Season (days):",null,null,null,null,135,null,null,null,null,null,null,null,null,null,null,null,null,null,null,null,null,null,null,null,null,null,null,null,null,null,null,null,null,null,null,null,null,null,null,null,null,null,null,null,null,null,null,null,null,null,null,null,null,null,null,null,null,null,null,null,null,null,null,null,null,null,null,null,null,null,null,null,null,null,null,null,null,null,null,null,null,null,null,null,null,null,null,null,null,null,null,null,null,null,null,null,null,null,null,null,null,null,null,null,null,null,null,null,null,null,null,null,null,null,null,null,null,null,null,null,null,null,null,null,null,null,null,null,null,null,null,null,null,null,null,null,null,null,null,null,null,null,null,null,null,null,null,null,null,null,null,null,null,null,null,null,null,null,null,null,null,null,null,null,null,null,null,null,null,null,null,null,null,null,null,null,null,null,null,null,null,null,null,null,null,null,null,null,null,null,null,null,null,null,null,null,null,null,null,null,null,null,null,null,null,null,null,null,null,null,null,null,null,null,null,null,null,null,null,null,null,null,null,null,null,null,null,null,null,null,null,null,null,null,null,null,null,null,null,"Arkona",null,null,"Blueberries12"]
["Capacity filled (%)",60,80,95,95,95,95,95,95,null,"Emergence Date (mm/dd/yyyy):",null,null,null,null,"2014-05-07",null,"Irrigated",null,null,null,null,null,null,null,null,null,null,null,null,null,null,null,null,null,null,null,null,null,null,null,null,null,null,null,null,null,null,null,null,null,null,null,null,null,null,null,null,null,null,null,null,null,null,null,null,null,null,null,null,null,null,null,null,null,null,null,null,null,null,null,null,null,null,null,null,null,null,null,null,null,null,null,null,null,null,null,null,null,null,null,null,null,null,null,null,null,null,null,null,null,null,null,null,null,null,null,null,null,null,null,null,null,null,null,null,null,null,null,null,null,null,null,null,null,null,null,null,null,null,null,null,null,null,null,null,null,null,null,null,null,null,null,null,null,null,null,null,null,null,null,null,null,null,null,null,null,null,null,null,null,null,null,null,null,null,null,null,null,null,null,null,null,null,null,null,null,null,null,null,null,null,null,null,null,null,null,null,null,null,null,null,null,null,null,null,null,null,null,null,null,null,null,null,null,null,null,null,null,null,null,null,null,null,null,null,null,null,null,null,null,null,null,null,null,null,null,null,null,null,null,null,null,null,null,null,null,null,null,null,"Au Gres",null,null,"Blueberries18"]
[null,null,null,null,null,null,null,null,null,null,null,null,null,null,null,null,null,"Acres in Field",null,null,null,null,null,null,null,null,null,null,null,null,null,null,null,null,null,null,null,null,null,null,null,null,null,null,null,null,null,null,null,null,null,null,null,null,null,null,null,null,null,null,null,null,null,null,null,null,null,null,null,null,null,null,null,null,null,null,null,null,null,null,null,null,null,null,null,null,null,null,null,null,null,null,null,null,null,null,null,null,null,null,null,null,null,null,null,null,null,null,null,null,null,null,null,null,null,null,null,null,null,null,null,null,null,null,null,null,null,null,null,null,null,null,null,null,null,null,null,null,null,null,null,null,null,null,null,null,null,null,null,null,null,null,null,null,null,null,null,null,null,null,null,null,null,null,null,null,null,null,null,null,null,null,null,null,null,null,null,null,null,null,null,null,null,null,null,null,null,null,null,null,null,null,null,null,null,null,null,null,null,null,null,null,null,null,null,null,null,null,null,null,null,null,null,null,null,null,null,null,null,null,null,null,null,null,null,null,null,null,null,null,null,null,null,null,null,null,null,null,null,null,null,null,null,null,null,null,null,null,null,null,"Aubbeenaubbee",null,null,"Blueberries24"]
["Irrigation increment/amount per application (inches)",null,null,null,null,1,"Irrigate at this % of Available Soil Water in Root Zone",null,null,null,null,50,null,50,null,"Soybeans - 40 of avail until R-3",null,127,null,null,null,null,null,null,null,null,null,null,null,null,null,null,null,null,null,null,null,null,null,null,null,null,null,null,null,null,null,null,null,null,null,null,null,null,null,null,null,null,null,null,null,null,null,null,null,null,null,null,null,null,null,null,null,null,null,null,null,null,null,null,null,null,null,null,null,null,null,null,null,null,null,null,null,null,null,null,null,null,null,null,null,null,null,null,null,null,null,null,null,null,null,null,null,null,null,null,null,null,null,null,null,null,null,null,null,null,null,null,null,null,null,null,null,null,null,null,null,null,null,null,null,null,null,null,null,null,null,null,null,null,null,null,null,null,null,null,null,null,null,null,null,null,null,null,null,null,null,null,null,null,null,null,null,null,null,null,null,null,null,null,null,null,null,null,null,null,null,null,null,null,null,null,null,null,null,null,null,null,null,null,null,null,null,null,null,null,null,null,null,null,null,null,null,null,null,null,null,null,null,null,null,null,null,null,null,null,null,null,null,null,null,null,null,null,null,null,null,null,null,null,null,null,null,null,null,null,null,null,null,null,"Belleville",null,null,"Broccoli"]
[null,null,null,null,null,null,null,null,null,null,null,null,null,null,null,null,null,null,null,null,null,null,null,null,null,null,null,null,null,null,null,null,null,null,null,null,null,null,null,null,null,null,null,null,null,null,null,null,null,null,null,null,null,null,null,null,null,null,null,null,null,null,null,null,null,null,null,null,null,null,null,null,null,null,null,null,null,null,null,null,null,null,null,null,null,null,null,null,null,null,null,null,null,null,null,null,null,null,null,null,null,null,null,null,null,null,null,null,null,null,null,null,null,null,null,null,null,null,null,null,null,null,null,null,null,null,null,null,null,null,null,null,null,null,null,null,null,null,null,null,null,null,null,null,null,null,null,null,null,null,null,null,null,null,null,null,null,null,null,null,null,null,null,null,null,null,null,null,null,null,null,null,null,null,null,null,null,null,null,null,null,null,null,null,null,null,null,null,null,null,null,null,null,null,null,null,null,null,null,null,null,null,null,null,null,null,null,null,null,null,null,null,null,null,null,null,null,null,null,null,null,null,null,null,null,null,null,null,null,null,null,null,null,null,null,null,null,null,null,null,null,null,null,null,null,null,null,null,null,null,"Benona ",null,null,"Carrot12"]
[null,null,null,null,null,null,"Calculated in XLS",null,null,null,null,null,null,null,null,null,null,null,null,null,null,null,null,null,null,null,null,null,null,null,null,null,null,null,null,null,null,null,null,null,null,null,null,null,null,null,null,null,null,null,null,null,null,null,null,null,null,null,null,null,null,null,null,null,null,null,null,null,null,null,null,null,null,null,null,null,null,null,null,null,null,null,null,null,null,null,null,null,null,null,null,null,null,null,null,null,null,null,null,null,null,null,null,null,null,null,null,null,null,null,null,null,null,null,null,null,null,null,null,null,null,null,null,null,null,null,null,null,null,null,null,null,null,null,null,null,null,null,null,null,null,null,null,null,null,null,null,null,null,null,null,null,null,null,null,null,null,null,null,null,null,null,null,null,null,null,null,null,null,null,null,null,null,null,null,null,null,null,null,null,null,null,null,null,null,null,null,null,null,null,null,null,null,null,null,null,null,null,null,null,null,null,null,null,null,null,null,null,null,null,null,null,null,null,null,null,null,null,null,null,null,null,null,null,null,null,null,null,null,null,null,null,null,null,null,null,null,null,null,null,null,null,null,null,null,null,null,null,null,null,"Blount Loam",null,null,"Carrot18"]
["Date","Root Depth (inches)","Rainfall (inches)","Irrigation added (inches)",0.155,"% Canopy Cover (Kc)","ET modified for crop (inches)","Capacity of root zone (inches)","Available Water in root zone (inches)","% capacity filled","Drainage (inches)","Additional capacity of root zone (inches)",null,"Grower Added Growth Stage","Proj ET","Cumulative GDD's ","Estimated Corn Growth Stage",null,null,null,null,null,null,null,null,null,null,null,null,null,null,null,null,null,null,null,null,null,null,null,null,null,null,null,null,null,null,null,null,null,null,null,null,null,null,null,null,null,null,null,null,null,null,null,null,null,null,null,null,null,null,null,null,null,null,null,null,null,null,null,null,null,null,null,null,null,null,null,null,null,null,null,null,null,null,null,null,null,null,null,null,null,null,null,null,null,null,null,null,null,null,null,null,null,null,null,null,null,null,null,null,null,null,null,null,null,null,null,null,null,null,"Available Water in Root Zone Calculations",null,null,null,null,null,null,null,null,null,null,null,null,null,null,null,null,null,null,null,null,null,null,null,null,null,null,null,null,null,null,null,null,null,null,null,null,null,null,null,null,null,null,null,null,null,null,null,null,null,null,null,null,null,null,null,null,null,null,null,null,null,null,null,null,null,null,null,null,null,null,null,null,null,null,null,null,null,null,null,null,null,null,null,null,null,null,null,null,null,null,null,null,null,null,null,null,null,null,null,null,null,null,null,null,null,null,null,null,null,null,null,null,null,null,null,null,null,null,"Blue Lake",null,null,"Carrot24"]
[{"$f":"P13","v":"2014-05-07"},null,null,null,null,null,0,{"$f":"IF($B19<=6,$B19*$B$12,IF($B19<=12,6*$B$12+($B19-6)*$C$12,IF($B19<=18,6*$B$12+6*$C$12+($B19-12)*$D$12,IF($B19<=24,6*$B$12+6*$C$12+6*$D$12+($B19-18)*$E$12,IF($B19<=30,6*$B$12+6*$C$12+6*$D$12+6*$E$12+($B19-24)*$F$12,IF($B19<=36,6*$B$12+6*$C$12+6*$D$12+6*$E$12+6*$F$12+($B19-30)*$G$12,IF($B19<=42,6*$B$12+6*$C$12+6*$D$12+6*$E$12+6*$F$12+6*$G$12+($B19-36)*$H$12,IF($B19<=48,6*$B$12+6*$C$12+6*$D$12+6*$E$12+6*$F$12+6*$G$12+6*$H$12+(F19-42)*$I$12,\"rootdepth>48in\"))))))))","v":0},{"$f":"$H19*$J$19/100","v":0},95,0,null,null,null,null,null,{"$f":"+VLOOKUP(P19,$T$19:$U$40,2)","v":"VE"},null,null,0,"VE",null,"VE",null,null,null,null,null,null,null,null,null,null,null,null,null,null,null,null,null,null,null,null,null,null,null,null,null,null,null,null,null,null,null,null,null,null,null,null,null,null,null,null,null,null,null,null,null,null,null,null,null,null,null,null,null,null,null,null,null,null,null,null,null,null,null,null,null,null,null,null,null,null,null,null,null,null,null,null,null,null,null,null,null,null,null,null,null,null,null,null,null,null,null,null,null,null,null,null,null,null,null,null,null,null,null,null,null,null,null,null,null,null,null,null,null,null,null,null,null,null,null,null,null,null,null,null,null,null,null,null,null,null,null,null,null,null,null,null,null,null,null,null,null,null,null,null,null,null,null,null,null,null,null,null,null,null,null,null,null,null,null,null,null,null,null,null,null,null,null,null,null,null,null,null,null,null,null,null,null,null,null,null,null,null,null,null,null,null,null,null,null,null,null,null,null,null,null,null,null,null,null,null,null,null,null,null,null,null,null,null,null,null,null,null,null,null,null,null,null,null,null,null,null,null,null,null,null,null,null,"Brady",null,null,"Carrot36"]
[{"$f":"1+A19","v":"2014-05-08"},null,null,null,null,null,{"$f":"$F20*$E20","v":0},{"$f":"IF($B20<=6,$B20*$B$12,IF($B20<=12,6*$B$12+($B20-6)*$C$12,IF($B20<=18,6*$B$12+6*$C$12+($B20-12)*$D$12,IF($B20<=24,6*$B$12+6*$C$12+6*$D$12+($B20-18)*$E$12,IF($B20<=30,6*$B$12+6*$C$12+6*$D$12+6*$E$12+($B20-24)*$F$12,IF($B20<=36,6*$B$12+6*$C$12+6*$D$12+6*$E$12+6*$F$12+($B20-30)*$G$12,IF($B20<=42,6*$B$12+6*$C$12+6*$D$12+6*$E$12+6*$F$12+6*$G$12+($B20-36)*$H$12,IF($B20<=48,6*$B$12+6*$C$12+6*$D$12+6*$E$12+6*$F$12+6*$G$12+6*$H$12+(F20-42)*$I$12,\"rootdepth>48in\"))))))))","v":0},{"$f":"MAX(IF(($I19+$C20+$D20-$G20)+(($H20-$H19)*$B$13/100)>($H20*1.03),($H20*1.03),($I19+$C20+$D20-$G20)+(($H20-$H19)*$B$13/100)),0)","v":0},{"$f":"IF(AND(Caluations!$F9>7,Caluations!$F9<>FALSE),\"\",IF($E21=\"\",(Caluations!$H9/$H20)*100,$I20/$H20*100))","v":{"$error":"#VALUE!"}},{"$f":"IF(OR($J20<103,$E20=\"\"),0,$C20+$D20+$I19-$G20-($H20*1.03))","v":{"$error":"#VALUE!"}},{"$f":"IF(Caluations!$J9<0,0,Caluations!$J9)","v":0},null,null,{"$f":"IF(AND($E20=\"\",Caluations!$F9<8),$N20*$F20,0)","v":0},null,{"$f":"+VLOOKUP(P20,$T$19:$U$40,2)","v":"VE"},null,null,82,"V1",null,"VC",null,null,null,null,null,null,null,null,null,null,null,null,null,null,null,null,null,null,null,null,null,null,null,null,null,null,null,null,null,null,null,null,null,null,null,null,null,null,null,null,null,null,null,null,null,null,null,null,null,null,null,null,null,null,null,null,null,null,null,null,null,null,null,null,null,null,null,null,null,null,null,null,null,null,null,null,null,null,null,null,null,null,null,null,null,null,null,null,null,null,null,null,null,null,null,null,null,null,null,null,null,null,null,null,null,null,null,null,"IF($B20 < 6, $B$12, IF($B20 > 6))",null,null,null,null,null,null,null,null,null,null,null,null,null,null,null,null,null,null,null,null,null,null,null,null,null,null,null,null,null,null,null,null,null,null,null,null,null,null,null,null,null,null,null,null,null,null,null,null,null,null,null,null,null,null,null,null,null,null,null,null,null,null,null,null,null,null,null,null,null,null,null,null,null,null,null,null,null,null,null,null,null,null,null,null,null,null,null,null,null,null,null,null,null,null,null,null,null,null,null,null,null,null,null,null,null,null,null,null,null,null,null,null,null,null,null,null,null,null,"Brevert",null,null,"Cauliflower12"]
["2014-05-09",null,null,null,null,null,{"$f":"$F21*$E21","v":0},{"$f":"IF($B21<=6,$B21*$B$12,IF($B21<=12,6*$B$12+($B21-6)*$C$12,IF($B21<=18,6*$B$12+6*$C$12+($B21-12)*$D$12,IF($B21<=24,6*$B$12+6*$C$12+6*$D$12+($B21-18)*$E$12,IF($B21<=30,6*$B$12+6*$C$12+6*$D$12+6*$E$12+($B21-24)*$F$12,IF($B21<=36,6*$B$12+6*$C$12+6*$D$12+6*$E$12+6*$F$12+($B21-30)*$G$12,IF($B21<=42,6*$B$12+6*$C$12+6*$D$12+6*$E$12+6*$F$12+6*$G$12+($B21-36)*$H$12,IF($B21<=48,6*$B$12+6*$C$12+6*$D$12+6*$E$12+6*$F$12+6*$G$12+6*$H$12+(F21-42)*$I$12,\"rootdepth>48in\"))))))))","v":0},{"$f":"MAX(IF(($I20+$C21+$D21-$G21)+(($H21-$H20)*$B$13/100)>($H21*1.03),($H21*1.03),($I20+$C21+$D21-$G21)+(($H21-$H20)*$B$13/100)),0)","v":0},{"$f":"IF(AND(Caluations!$F10>7,Caluations!$F10<>FALSE),\"\",IF($E22=\"\",(Caluations!$H10/$H21)*100,$I21/$H21*100))","v":{"$error":"#VALUE!"}},{"$error":"#VALUE!"},{"$f":"IF(Caluations!$J10<0,0,Caluations!$J10)","v":5.0636666666666663E-2},null,null,{"$f":"IF(AND($E21=\"\",Caluations!$F10<8),$N21*$F21,0)","v":0},null,"VE",null,null,164,"V2",null,"V1",null,null,null,null,null,null,null,null,null,null,null,null,null,null,null,null,null,null,null,null,null,null,null,null,null,null,null,null,null,null,null,null,null,null,null,null,null,null,null,null,null,null,null,null,null,null,null,null,null,null,null,null,null,null,null,null,null,null,null,null,null,null,null,null,null,null,null,null,null,null,null,null,null,null,null,null,null,null,null,null,null,null,null,null,null,null,null,null,null,null,null,null,null,null,null,null,null,null,null,null,null,null,null,null,null,null,null,null,null,null,null,null,null,null,null,null,null,null,null,null,null,null,null,null,null,null,null,null,null,null,null,null,null,null,null,null,null,null,null,null,null,null,null,null,null,null,null,null,null,null,null,null,null,null,null,null,null,null,null,null,null,null,null,null,null,null,null,null,null,null,null,null,null,null,null,null,null,null,null,null,null,null,null,null,null,null,null,null,null,null,null,null,null,null,null,null,null,null,null,null,null,null,null,null,null,null,null,null,null,null,null,null,null,null,null,null,null,null,null,null,null,null,null,null,null,null,null,"Bronson",null,null,"Cauliflower18"]
["2014-05-10",null,null,null,null,null,0,0,0,{"$f":"IF(AND(Caluations!$F11>7,Caluations!$F11<>FALSE),\"\",IF($E23=\"\",(Caluations!$H11/$H22)*100,$I22/$H22*100))","v":{"$error":"#VALUE!"}},{"$error":"#VALUE!"},{"$f":"IF(Caluations!$J11<0,0,Caluations!$J11)","v":0.11133666666666669},null,null,{"$f":"IF(AND($E22=\"\",Caluations!$F11<8),$N22*$F22,0)","v":0},null,"VE",null,null,{"$f":"+T21+82","v":246},"V3",null,"V2",null,null,null,null,null,null,null,null,null,null,null,null,null,null,null,null,null,null,null,null,null,null,null,null,null,null,null,null,null,null,null,null,null,null,null,null,null,null,null,null,null,null,null,null,null,null,null,null,null,null,null,null,null,null,null,null,null,null,null,null,null,null,null,null,null,null,null,null,null,null,null,null,null,null,null,null,null,null,null,null,null,null,null,null,null,null,null,null,null,null,null,null,null,null,null,null,null,null,null,null,null,null,null,null,null,null,null,null,null,null,null,null,null,null,null,null,null,null,null,null,null,null,null,null,null,null,null,null,null,null,null,null,null,null,null,null,null,null,null,null,null,null,null,null,null,null,null,null,null,null,null,null,null,null,null,null,null,null,null,null,null,null,null,null,null,null,null,null,null,null,null,null,null,null,null,null,null,null,null,null,null,null,null,null,null,null,null,null,null,null,null,null,null,null,null,null,null,null,null,null,null,null,null,null,null,null,null,null,null,null,null,null,null,null,null,null,null,null,null,null,null,null,null,null,null,null,null,"Capac",null,null,"Celery"]
["2014-05-11",null,null,null,null,null,0,0,0,{"$f":"IF(AND(Caluations!$F12>7,Caluations!$F12<>FALSE),\"\",IF($E24=\"\",(Caluations!$H12/$H23)*100,$I23/$H23*100))","v":{"$error":"#VALUE!"}},{"$error":"#VALUE!"},{"$f":"IF(Caluations!$J12<0,0,Caluations!$J12)","v":0.16581166666666669},null,null,{"$f":"IF(AND($E23=\"\",Caluations!$F12<8),$N23*$F23,0)","v":0},null,"VE",null,null,328,"V4",null,"V3",null,null,null,null,null,null,null,null,null,null,null,null,null,null,null,null,null,null,null,null,null,null,null,null,null,null,null,null,null,null,null,null,null,null,null,null,null,null,null,null,null,null,null,null,null,null,null,null,null,null,null,null,null,null,null,null,null,null,null,null,null,null,null,null,null,null,null,null,null,null,null,null,null,null,null,null,null,null,null,null,null,null,null,null,null,null,null,null,null,null,null,null,null,null,null,null,null,null,null,null,null,null,null,null,null,null,null,null,null,null,null,null,null,null,null,null,null,null,null,null,null,null,null,null,null,null,null,null,null,null,null,null,null,null,null,null,null,null,null,null,null,null,null,null,null,null,null,null,null,null,null,null,null,null,null,null,null,null,null,null,null,null,null,null,null,null,null,null,null,null,null,null,null,null,null,null,null,null,null,null,null,null,null,null,null,null,null,null,null,null,null,null,null,null,null,null,null,null,null,null,null,null,null,null,null,null,null,null,null,null,null,null,null,null,null,null,null,null,null,null,null,null,null,null,null,null,null,"Carlisle",null,null,"Cherries"]
["2014-05-12",null,null,null,null,null,0,0,0,{"$f":"IF(AND(Caluations!$F13>7,Caluations!$F13<>FALSE),\"\",IF($E25=\"\",(Caluations!$H13/$H24)*100,$I24/$H24*100))","v":{"$error":"#VALUE!"}},{"$error":"#VALUE!"},{"$f":"IF(Caluations!$J13<0,0,Caluations!$J13)","v":0.25238041666666672},null,null,{"$f":"IF(AND($E24=\"\",Caluations!$F13<8),$N24*$F24,0)","v":0},null,"VE",null,null,410,"V5",null,"V4",null,null,null,null,null,null,null,null,null,null,null,null,null,null,null,null,null,null,null,null,null,null,null,null,null,null,null,null,null,null,null,null,null,null,null,null,null,null,null,null,null,null,null,null,null,null,null,null,null,null,null,null,null,null,null,null,null,null,null,null,null,null,null,null,null,null,null,null,null,null,null,null,null,null,null,null,null,null,null,null,null,null,null,null,null,null,null,null,null,null,null,null,null,null,null,null,null,null,null,null,null,null,null,null,null,null,null,null,null,null,null,null,null,null,null,null,null,null,null,null,null,null,null,null,null,null,null,null,null,null,null,null,null,null,null,null,null,null,null,null,null,null,null,null,null,null,null,null,null,null,null,null,null,null,null,null,null,null,null,null,null,null,null,null,null,null,null,null,null,null,null,null,null,null,null,null,null,null,null,null,null,null,null,null,null,null,null,null,null,null,null,null,null,null,null,null,null,null,null,null,null,null,null,null,null,null,null,null,null,null,null,null,null,null,null,null,null,null,null,null,null,null,null,null,null,null,null,"Chippeny-Nahma",null,null,"Corn18"]
["2014-05-13",null,null,null,null,null,0,0,0,{"$f":"IF(AND(Caluations!$F14>7,Caluations!$F14<>FALSE),\"\",IF($E26=\"\",(Caluations!$H14/$H25)*100,$I25/$H25*100))","v":{"$error":"#VALUE!"}},{"$error":"#VALUE!"},{"$f":"IF(Caluations!$J14<0,0,Caluations!$J14)","v":0.36264916666666674},null,null,{"$f":"IF(AND($E25=\"\",Caluations!$F14<8),$N25*$F25,0)","v":0},null,"VE",null,null,492,"V6",null,"V5",null,null,null,null,null,null,null,null,null,null,null,null,null,null,null,null,null,null,null,null,null,null,null,null,null,null,null,null,null,null,null,null,null,null,null,null,null,null,null,null,null,null,null,null,null,null,null,null,null,null,null,null,null,null,null,null,null,null,null,null,null,null,null,null,null,null,null,null,null,null,null,null,null,null,null,null,null,null,null,null,null,null,null,null,null,null,null,null,null,null,null,null,null,null,null,null,null,null,null,null,null,null,null,null,null,null,null,null,null,null,null,null,null,null,null,null,null,null,null,null,null,null,null,null,null,null,null,null,null,null,null,null,null,null,null,null,null,null,null,null,null,null,null,null,null,null,null,null,null,null,null,null,null,null,null,null,null,null,null,null,null,null,null,null,null,null,null,null,null,null,null,null,null,null,null,null,null,null,null,null,null,null,null,null,null,null,null,null,null,null,null,null,null,null,null,null,null,null,null,null,null,null,null,null,null,null,null,null,null,null,null,null,null,null,null,null,null,null,null,null,null,null,null,null,null,null,null,"Coloma",null,null,"Corn24"]
["2014-05-14",null,null,null,null,null,0,0,0,{"$f":"IF(AND(Caluations!$F15>7,Caluations!$F15<>FALSE),\"\",IF($E27=\"\",(Caluations!$H15/$H26)*100,$I26/$H26*100))","v":{"$error":"#VALUE!"}},{"$error":"#VALUE!"},{"$f":"IF(Caluations!$J15<0,0,Caluations!$J15)","v":0.41788666666666663},null,null,{"$f":"IF(AND($E26=\"\",Caluations!$F15<8),$N26*$F26,0)","v":0},null,"VE",null,null,574,"V7",null,"V6",null,null,null,null,null,null,null,null,null,null,null,null,null,null,null,null,null,null,null,null,null,null,null,null,null,null,null,null,null,null,null,null,null,null,null,null,null,null,null,null,null,null,null,null,null,null,null,null,null,null,null,null,null,null,null,null,null,null,null,null,null,null,null,null,null,null,null,null,null,null,null,null,null,null,null,null,null,null,null,null,null,null,null,null,null,null,null,null,null,null,null,null,null,null,null,null,null,null,null,null,null,null,null,null,null,null,null,null,null,null,null,null,null,null,null,null,null,null,null,null,null,null,null,null,null,null,null,null,null,null,null,null,null,null,null,null,null,null,null,null,null,null,null,null,null,null,null,null,null,null,null,null,null,null,null,null,null,null,null,null,null,null,null,null,null,null,null,null,null,null,null,null,null,null,null,null,null,null,null,null,null,null,null,null,null,null,null,null,null,null,null,null,null,null,null,null,null,null,null,null,null,null,null,null,null,null,null,null,null,null,null,null,null,null,null,null,null,null,null,null,null,null,null,null,null,null,null,"Coral",null,null,"Corn27"]
["2014-05-15",null,null,null,null,null,0,0,0,{"$f":"IF(AND(Caluations!$F16>7,Caluations!$F16<>FALSE),\"\",IF($E28=\"\",(Caluations!$H16/$H27)*100,$I27/$H27*100))","v":{"$error":"#VALUE!"}},{"$error":"#VALUE!"},{"$f":"IF(Caluations!$J16<0,0,Caluations!$J16)","v":0.48448041666666664},null,"VC",{"$f":"IF(AND($E27=\"\",Caluations!$F16<8),$N27*$F27,0)","v":0},null,"VE",null,null,656,"V8",null,"R1",null,null,null,null,null,null,null,null,null,null,null,null,null,null,null,null,null,null,null,null,null,null,null,null,null,null,null,null,null,null,null,null,null,null,null,null,null,null,null,null,null,null,null,null,null,null,null,null,null,null,null,null,null,null,null,null,null,null,null,null,null,null,null,null,null,null,null,null,null,null,null,null,null,null,null,null,null,null,null,null,null,null,null,null,null,null,null,null,null,null,null,null,null,null,null,null,null,null,null,null,null,null,null,null,null,null,null,null,null,null,null,null,null,null,null,null,null,null,null,null,null,null,null,null,null,null,null,null,null,null,null,null,null,null,null,null,null,null,null,null,null,null,null,null,null,null,null,null,null,null,null,null,null,null,null,null,null,null,null,null,null,null,null,null,null,null,null,null,null,null,null,null,null,null,null,null,null,null,null,null,null,null,null,null,null,null,null,null,null,null,null,null,null,null,null,null,null,null,null,null,null,null,null,null,null,null,null,null,null,null,null,null,null,null,null,null,null,null,null,null,null,null,null,null,null,null,null,"Corunna",null,null,"Corn36"]
["2014-05-16",null,null,null,null,null,0,0,0,{"$f":"IF(AND(Caluations!$F17>7,Caluations!$F17<>FALSE),\"\",IF($E29=\"\",(Caluations!$H17/$H28)*100,$I28/$H28*100))","v":{"$error":"#VALUE!"}},{"$error":"#VALUE!"},{"$f":"IF(Caluations!$J17<0,0,Caluations!$J17)","v":0.56227416666666663},null,"VC",{"$f":"IF(AND($E28=\"\",Caluations!$F17<8),$N28*$F28,0)","v":0},null,"VE",null,null,738,"V9",null,"R2",null,null,null,null,null,null,null,null,null,null,null,null,null,null,null,null,null,null,null,null,null,null,null,null,null,null,null,null,null,null,null,null,null,null,null,null,null,null,null,null,null,null,null,null,null,null,null,null,null,null,null,null,null,null,null,null,null,null,null,null,null,null,null,null,null,null,null,null,null,null,null,null,null,null,null,null,null,null,null,null,null,null,null,null,null,null,null,null,null,null,null,null,null,null,null,null,null,null,null,null,null,null,null,null,null,null,null,null,null,null,null,null,null,null,null,null,null,null,null,null,null,null,null,null,null,null,null,null,null,null,null,null,null,null,null,null,null,null,null,null,null,null,null,null,null,null,null,null,null,null,null,null,null,null,null,null,null,null,null,null,null,null,null,null,null,null,null,null,null,null,null,null,null,null,null,null,null,null,null,null,null,null,null,null,null,null,null,null,null,null,null,null,null,null,null,null,null,null,null,null,null,null,null,null,null,null,null,null,null,null,null,null,null,null,null,null,null,null,null,null,null,null,null,null,null,null,null,"Covert",null,null,"CucumberF12"]
["2014-05-17",null,null,null,null,null,0,0,0,{"$f":"IF(AND(Caluations!$F18>7,Caluations!$F18<>FALSE),\"\",IF($E30=\"\",(Caluations!$H18/$H29)*100,$I29/$H29*100))","v":{"$error":"#VALUE!"}},{"$error":"#VALUE!"},{"$f":"IF(Caluations!$J18<0,0,Caluations!$J18)","v":0.64514916666666666},null,"VC",{"$f":"IF(AND($E29=\"\",Caluations!$F18<8),$N29*$F29,0)","v":0},null,"VE",null,null,820,"V10",null,"R3",null,null,null,null,null,null,null,null,null,null,null,null,null,null,null,null,null,null,null,null,null,null,null,null,null,null,null,null,null,null,null,null,null,null,null,null,null,null,null,null,null,null,null,null,null,null,null,null,null,null,null,null,null,null,null,null,null,null,null,null,null,null,null,null,null,null,null,null,null,null,null,null,null,null,null,null,null,null,null,null,null,null,null,null,null,null,null,null,null,null,null,null,null,null,null,null,null,null,null,null,null,null,null,null,null,null,null,null,null,null,null,null,null,null,null,null,null,null,null,null,null,null,null,null,null,null,null,null,null,null,null,null,null,null,null,null,null,null,null,null,null,null,null,null,null,null,null,null,null,null,null,null,null,null,null,null,null,null,null,null,null,null,null,null,null,null,null,null,null,null,null,null,null,null,null,null,null,null,null,null,null,null,null,null,null,null,null,null,null,null,null,null,null,null,null,null,null,null,null,null,null,null,null,null,null,null,null,null,null,null,null,null,null,null,null,null,null,null,null,null,null,null,null,null,null,null,null,"Croswell",null,null,"CucumberF18"]
["2014-05-18",null,null,null,null,null,0,0,0,{"$f":"IF(AND(Caluations!$F19>7,Caluations!$F19<>FALSE),\"\",IF($E31=\"\",(Caluations!$H19/$H30)*100,$I30/$H30*100))","v":{"$error":"#VALUE!"}},{"$error":"#VALUE!"},{"$f":"IF(Caluations!$J19<0,0,Caluations!$J19)","v":0.73637885679748005},null,"VC",{"$f":"IF(AND($E30=\"\",Caluations!$F19<8),$N30*$F30,0)","v":0},null,"VE",null,null,870,"V11",null,"R4",null,null,null,null,null,null,null,null,null,null,null,null,null,null,null,null,null,null,null,null,null,null,null,null,null,null,null,null,null,null,null,null,null,null,null,null,null,null,null,null,null,null,null,null,null,null,null,null,null,null,null,null,null,null,null,null,null,null,null,null,null,null,null,null,null,null,null,null,null,null,null,null,null,null,null,null,null,null,null,null,null,null,null,null,null,null,null,null,null,null,null,null,null,null,null,null,null,null,null,null,null,null,null,null,null,null,null,null,null,null,null,null,null,null,null,null,null,null,null,null,null,null,null,null,null,null,null,null,null,null,null,null,null,null,null,null,null,null,null,null,null,null,null,null,null,null,null,null,null,null,null,null,null,null,null,null,null,null,null,null,null,null,null,null,null,null,null,null,null,null,null,null,null,null,null,null,null,null,null,null,null,null,null,null,null,null,null,null,null,null,null,null,null,null,null,null,null,null,null,null,null,null,null,null,null,null,null,null,null,null,null,null,null,null,null,null,null,null,null,null,null,null,null,null,null,null,null,"Edmore",null,null,"CucumberF24"]
["2014-05-19",null,null,null,null,null,0,0,0,{"$f":"IF(AND(Caluations!$F20>7,Caluations!$F20<>FALSE),\"\",IF($E32=\"\",(Caluations!$H20/$H31)*100,$I31/$H31*100))","v":{"$error":"#VALUE!"}},{"$error":"#VALUE!"},{"$f":"IF(Caluations!$J20<0,0,Caluations!$J20)","v":0.59278752664057022},null,"VC",{"$f":"IF(AND($E31=\"\",Caluations!$F20<8),$N31*$F31,0)","v":0},null,"VE",null,null,920,"V12",null,"R5",null,null,null,null,null,null,null,null,null,null,null,null,null,null,null,null,null,null,null,null,null,null,null,null,null,null,null,null,null,null,null,null,null,null,null,null,null,null,null,null,null,null,null,null,null,null,null,null,null,null,null,null,null,null,null,null,null,null,null,null,null,null,null,null,null,null,null,null,null,null,null,null,null,null,null,null,null,null,null,null,null,null,null,null,null,null,null,null,null,null,null,null,null,null,null,null,null,null,null,null,null,null,null,null,null,null,null,null,null,null,null,null,null,null,null,null,null,null,null,null,null,null,null,null,null,null,null,null,null,null,null,null,null,null,null,null,null,null,null,null,null,null,null,null,null,null,null,null,null,null,null,null,null,null,null,null,null,null,null,null,null,null,null,null,null,null,null,null,null,null,null,null,null,null,null,null,null,null,null,null,null,null,null,null,null,null,null,null,null,null,null,null,null,null,null,null,null,null,null,null,null,null,null,null,null,null,null,null,null,null,null,null,null,null,null,null,null,null,null,null,null,null,null,null,null,null,null,"Edwards",null,null,"CucumberF36"]
["2014-05-20",null,null,null,null,null,0,0,0,{"$f":"IF(AND(Caluations!$F21>7,Caluations!$F21<>FALSE),\"\",IF($E33=\"\",(Caluations!$H21/$H32)*100,$I32/$H32*100))","v":{"$error":"#VALUE!"}},{"$error":"#VALUE!"},{"$f":"IF(Caluations!$J21<0,0,Caluations!$J21)","v":0.12302252664057001},null,"VC",{"$f":"IF(AND($E32=\"\",Caluations!$F21<8),$N32*$F32,0)","v":0},null,"VE",null,null,970,"V13",null,"R6",null,null,null,null,null,null,null,null,null,null,null,null,null,null,null,null,null,null,null,null,null,null,null,null,null,null,null,null,null,null,null,null,null,null,null,null,null,null,null,null,null,null,null,null,null,null,null,null,null,null,null,null,null,null,null,null,null,null,null,null,null,null,null,null,null,null,null,null,null,null,null,null,null,null,null,null,null,null,null,null,null,null,null,null,null,null,null,null,null,null,null,null,null,null,null,null,null,null,null,null,null,null,null,null,null,null,null,null,null,null,null,null,null,null,null,null,null,null,null,null,null,null,null,null,null,null,null,null,null,null,null,null,null,null,null,null,null,null,null,null,null,null,null,null,null,null,null,null,null,null,null,null,null,null,null,null,null,null,null,null,null,null,null,null,null,null,null,null,null,null,null,null,null,null,null,null,null,null,null,null,null,null,null,null,null,null,null,null,null,null,null,null,null,null,null,null,null,null,null,null,null,null,null,null,null,null,null,null,null,null,null,null,null,null,null,null,null,null,null,null,null,null,null,null,null,null,null,"Elston",null,null,"CucumberP12"]
["2014-05-21",null,null,null,null,null,0,0,0,{"$f":"IF(AND(Caluations!$F22>7,Caluations!$F22<>FALSE),\"\",IF($E34=\"\",(Caluations!$H22/$H33)*100,$I33/$H33*100))","v":{"$error":"#VALUE!"}},{"$error":"#VALUE!"},{"$f":"IF(Caluations!$J22<0,0,Caluations!$J22)","v":0.18545002664057009},null,"VC",{"$f":"IF(AND($E33=\"\",Caluations!$F22<8),$N33*$F33,0)","v":0},null,"VE",null,null,1020,"V12",null,"R7",null,null,null,null,null,null,null,null,null,null,null,null,null,null,null,null,null,null,null,null,null,null,null,null,null,null,null,null,null,null,null,null,null,null,null,null,null,null,null,null,null,null,null,null,null,null,null,null,null,null,null,null,null,null,null,null,null,null,null,null,null,null,null,null,null,null,null,null,null,null,null,null,null,null,null,null,null,null,null,null,null,null,null,null,null,null,null,null,null,null,null,null,null,null,null,null,null,null,null,null,null,null,null,null,null,null,null,null,null,null,null,null,null,null,null,null,null,null,null,null,null,null,null,null,null,null,null,null,null,null,null,null,null,null,null,null,null,null,null,null,null,null,null,null,null,null,null,null,null,null,null,null,null,null,null,null,null,null,null,null,null,null,null,null,null,null,null,null,null,null,null,null,null,null,null,null,null,null,null,null,null,null,null,null,null,null,null,null,null,null,null,null,null,null,null,null,null,null,null,null,null,null,null,null,null,null,null,null,null,null,null,null,null,null,null,null,null,null,null,null,null,null,null,null,null,null,null,"Emmett",null,null,"CucumberP18"]
["2014-05-22",null,null,null,null,null,0,0,0,{"$f":"IF(AND(Caluations!$F23>7,Caluations!$F23<>FALSE),\"\",IF($E35=\"\",(Caluations!$H23/$H34)*100,$I34/$H34*100))","v":{"$error":"#VALUE!"}},{"$error":"#VALUE!"},{"$f":"IF(Caluations!$J23<0,0,Caluations!$J23)","v":0.15975085997390348},null,"VC",{"$f":"IF(AND($E34=\"\",Caluations!$F23<8),$N34*$F34,0)","v":0},null,"VE",null,null,1070,"V13",null,"R8",null,null,null,null,null,null,null,null,null,null,null,null,null,null,null,null,null,null,null,null,null,null,null,null,null,null,null,null,null,null,null,null,null,null,null,null,null,null,null,null,null,null,null,null,null,null,null,null,null,null,null,null,null,null,null,null,null,null,null,null,null,null,null,null,null,null,null,null,null,null,null,null,null,null,null,null,null,null,null,null,null,null,null,null,null,null,null,null,null,null,null,null,null,null,null,null,null,null,null,null,null,null,null,null,null,null,null,null,null,null,null,null,null,null,null,null,null,null,null,null,null,null,null,null,null,null,null,null,null,null,null,null,null,null,null,null,null,null,null,null,null,null,null,null,null,null,null,null,null,null,null,null,null,null,null,null,null,null,null,null,null,null,null,null,null,null,null,null,null,null,null,null,null,null,null,null,null,null,null,null,null,null,null,null,null,null,null,null,null,null,null,null,null,null,null,null,null,null,null,null,null,null,null,null,null,null,null,null,null,null,null,null,null,null,null,null,null,null,null,null,null,null,null,null,null,null,null,"Epoufette",null,null,"CucumberP24"]
["2014-05-23",null,null,null,null,null,0,0,0,{"$f":"IF(AND(Caluations!$F24>7,Caluations!$F24<>FALSE),\"\",IF($E36=\"\",(Caluations!$H24/$H35)*100,$I35/$H35*100))","v":{"$error":"#VALUE!"}},{"$error":"#VALUE!"},{"$f":"IF(Caluations!$J24<0,0,Caluations!$J24)","v":0.22300502664057009},null,"VC",{"$f":"IF(AND($E35=\"\",Caluations!$F24<8),$N35*$F35,0)","v":0},null,"VE",null,null,1120,"V14",null,null,null,null,null,null,null,null,null,null,null,null,null,null,null,null,null,null,null,null,null,null,null,null,null,null,null,null,null,null,null,null,null,null,null,null,null,null,null,null,null,null,null,null,null,null,null,null,null,null,null,null,null,null,null,null,null,null,null,null,null,null,null,null,null,null,null,null,null,null,null,null,null,null,null,null,null,null,null,null,null,null,null,null,null,null,null,null,null,null,null,null,null,null,null,null,null,null,null,null,null,null,null,null,null,null,null,null,null,null,null,null,null,null,null,null,null,null,null,null,null,null,null,null,null,null,null,null,null,null,null,null,null,null,null,null,null,null,null,null,null,null,null,null,null,null,null,null,null,null,null,null,null,null,null,null,null,null,null,null,null,null,null,null,null,null,null,null,null,null,null,null,null,null,null,null,null,null,null,null,null,null,null,null,null,null,null,null,null,null,null,null,null,null,null,null,null,null,null,null,null,null,null,null,null,null,null,null,null,null,null,null,null,null,null,null,null,null,null,null,null,null,null,null,null,null,null,null,null,"Fern",null,null,"CucumberP36"]
["2014-05-24",null,null,null,null,null,0,0,0,{"$f":"IF(AND(Caluations!$F25>7,Caluations!$F25<>FALSE),\"\",IF($E37=\"\",(Caluations!$H25/$H36)*100,$I36/$H36*100))","v":{"$error":"#VALUE!"}},{"$error":"#VALUE!"},{"$f":"IF(Caluations!$J25<0,0,Caluations!$J25)","v":0.32638002664056986},null,"VC",{"$f":"IF(AND($E36=\"\",Caluations!$F25<8),$N36*$F36,0)","v":0},null,"VE",null,null,1170,"V15",null,null,null,null,null,null,null,null,null,null,null,null,null,null,null,null,null,null,null,null,null,null,null,null,null,null,null,null,null,null,null,null,null,null,null,null,null,null,null,null,null,null,null,null,null,null,null,null,null,null,null,null,null,null,null,null,null,null,null,null,null,null,null,null,null,null,null,null,null,null,null,null,null,null,null,null,null,null,null,null,null,null,null,null,null,null,null,null,null,null,null,null,null,null,null,null,null,null,null,null,null,null,null,null,null,null,null,null,null,null,null,null,null,null,null,null,null,null,null,null,null,null,null,null,null,null,null,null,null,null,null,null,null,null,null,null,null,null,null,null,null,null,null,null,null,null,null,null,null,null,null,null,null,null,null,null,null,null,null,null,null,null,null,null,null,null,null,null,null,null,null,null,null,null,null,null,null,null,null,null,null,null,null,null,null,null,null,null,null,null,null,null,null,null,null,null,null,null,null,null,null,null,null,null,null,null,null,null,null,null,null,null,null,null,null,null,null,null,null,null,null,null,null,null,null,null,null,null,null,"Fox",null,null,"DryBeans18"]
["2014-05-25",null,null,null,null,null,0,0,0,{"$f":"IF(AND(Caluations!$F26>7,Caluations!$F26<>FALSE),\"\",IF($E38=\"\",(Caluations!$H26/$H37)*100,$I37/$H37*100))","v":{"$error":"#VALUE!"}},{"$error":"#VALUE!"},{"$f":"IF(Caluations!$J26<0,0,Caluations!$J26)","v":0.43291585997390314},null,"VC",{"$f":"IF(AND($E37=\"\",Caluations!$F26<8),$N37*$F37,0)","v":0},null,"VE",null,null,1220,"V16",null,null,null,null,null,null,null,null,null,null,null,null,null,null,null,null,null,null,null,null,null,null,null,null,null,null,null,null,null,null,null,null,null,null,null,null,null,null,null,null,null,null,null,null,null,null,null,null,null,null,null,null,null,null,null,null,null,null,null,null,null,null,null,null,null,null,null,null,null,null,null,null,null,null,null,null,null,null,null,null,null,null,null,null,null,null,null,null,null,null,null,null,null,null,null,null,null,null,null,null,null,null,null,null,null,null,null,null,null,null,null,null,null,null,null,null,null,null,null,null,null,null,null,null,null,null,null,null,null,null,null,null,null,null,null,null,null,null,null,null,null,null,null,null,null,null,null,null,null,null,null,null,null,null,null,null,null,null,null,null,null,null,null,null,null,null,null,null,null,null,null,null,null,null,null,null,null,null,null,null,null,null,null,null,null,null,null,null,null,null,null,null,null,null,null,null,null,null,null,null,null,null,null,null,null,null,null,null,null,null,null,null,null,null,null,null,null,null,null,null,null,null,null,null,null,null,null,null,null,"Gilford",null,null,"DryBeans21"]
["2014-05-26",null,null,null,null,null,0,{"$f":"IF($B38<=6,$B38*$B$12,IF($B38<=12,6*$B$12+($B38-6)*$C$12,IF($B38<=18,6*$B$12+6*$C$12+($B38-12)*$D$12,IF($B38<=24,6*$B$12+6*$C$12+6*$D$12+($B38-18)*$E$12,IF($B38<=30,6*$B$12+6*$C$12+6*$D$12+6*$E$12+($B38-24)*$F$12,IF($B38<=36,6*$B$12+6*$C$12+6*$D$12+6*$E$12+6*$F$12+($B38-30)*$G$12,IF($B38<=42,6*$B$12+6*$C$12+6*$D$12+6*$E$12+6*$F$12+6*$G$12+($B38-36)*$H$12,IF($B38<=48,6*$B$12+6*$C$12+6*$D$12+6*$E$12+6*$F$12+6*$G$12+6*$H$12+(F38-42)*$I$12,\"rootdepth>48in\"))))))))","v":0},{"$f":"MAX(IF(($I37+$C38+$D38-$G38)+(($H38-$H37)*$B$13/100)>($H38*1.03),($H38*1.03),($I37+$C38+$D38-$G38)+(($H38-$H37)*$B$13/100)),0)","v":0},{"$f":"IF(AND(Caluations!$F27>7,Caluations!$F27<>FALSE),\"\",IF($E39=\"\",(Caluations!$H27/$H38)*100,$I38/$H38*100))","v":{"$error":"#VALUE!"}},{"$error":"#VALUE!"},{"$f":"IF(Caluations!$J27<0,0,Caluations!$J27)","v":0.54269169330723632},null,"VC",{"$f":"IF(AND($E38=\"\",Caluations!$F27<8),$N38*$F38,0)","v":0},null,"VE",null,null,1270,"V17",null,null,null,null,null,null,null,null,null,null,null,null,null,null,null,null,null,null,null,null,null,null,null,null,null,null,null,null,null,null,null,null,null,null,null,null,null,null,null,null,null,null,null,null,null,null,null,null,null,null,null,null,null,null,null,null,null,null,null,null,null,null,null,null,null,null,null,null,null,null,null,null,null,null,null,null,null,null,null,null,null,null,null,null,null,null,null,null,null,null,null,null,null,null,null,null,null,null,null,null,null,null,null,null,null,null,null,null,null,null,null,null,null,null,null,null,null,null,null,null,null,null,null,null,null,null,null,null,null,null,null,null,null,null,null,null,null,null,null,null,null,null,null,null,null,null,null,null,null,null,null,null,null,null,null,null,null,null,null,null,null,null,null,null,null,null,null,null,null,null,null,null,null,null,null,null,null,null,null,null,null,null,null,null,null,null,null,null,null,null,null,null,null,null,null,null,null,null,null,null,null,null,null,null,null,null,null,null,null,null,null,null,null,null,null,null,null,null,null,null,null,null,null,null,null,null,null,null,null,"Gladwin",null,null,"DryBeans24"]
["2014-05-27",null,null,null,null,null,0,0,0,{"$f":"IF(AND(Caluations!$F28>7,Caluations!$F28<>FALSE),\"\",IF($E40=\"\",(Caluations!$H28/$H39)*100,$I39/$H39*100))","v":{"$error":"#VALUE!"}},{"$error":"#VALUE!"},{"$f":"IF(Caluations!$J28<0,0,Caluations!$J28)","v":0.66080752664056952},null,"VC",{"$f":"IF(AND($E39=\"\",Caluations!$F28<8),$N39*$F39,0)","v":0},null,"VE",null,null,1320,"V18",null,null,null,null,null,null,null,null,null,null,null,null,null,null,null,null,null,null,null,null,null,null,null,null,null,null,null,null,null,null,null,null,null,null,null,null,null,null,null,null,null,null,null,null,null,null,null,null,null,null,null,null,null,null,null,null,null,null,null,null,null,null,null,null,null,null,null,null,null,null,null,null,null,null,null,null,null,null,null,null,null,null,null,null,null,null,null,null,null,null,null,null,null,null,null,null,null,null,null,null,null,null,null,null,null,null,null,null,null,null,null,null,null,null,null,null,null,null,null,null,null,null,null,null,null,null,null,null,null,null,null,null,null,null,null,null,null,null,null,null,null,null,null,null,null,null,null,null,null,null,null,null,null,null,null,null,null,null,null,null,null,null,null,null,null,null,null,null,null,null,null,null,null,null,null,null,null,null,null,null,null,null,null,null,null,null,null,null,null,null,null,null,null,null,null,null,null,null,null,null,null,null,null,null,null,null,null,null,null,null,null,null,null,null,null,null,null,null,null,null,null,null,null,null,null,null,null,null,null,"Glendora",null,null,"DryOnion12"]
["2014-05-28",null,null,null,null,null,0,0,0,{"$f":"IF(AND(Caluations!$F29>7,Caluations!$F29<>FALSE),\"\",IF($E41=\"\",(Caluations!$H29/$H40)*100,$I40/$H40*100))","v":{"$error":"#VALUE!"}},{"$error":"#VALUE!"},{"$f":"IF(Caluations!$J29<0,0,Caluations!$J29)","v":0.7967825266405697},null,"VC",{"$f":"IF(AND($E40=\"\",Caluations!$F29<8),$N40*$F40,0)","v":0},null,"VE",null,null,1370,"VT",null,null,null,null,null,null,null,null,null,null,null,null,null,null,null,null,null,null,null,null,null,null,null,null,null,null,null,null,null,null,null,null,null,null,null,null,null,null,null,null,null,null,null,null,null,null,null,null,null,null,null,null,null,null,null,null,null,null,null,null,null,null,null,null,null,null,null,null,null,null,null,null,null,null,null,null,null,null,null,null,null,null,null,null,null,null,null,null,null,null,null,null,null,null,null,null,null,null,null,null,null,null,null,null,null,null,null,null,null,null,null,null,null,null,null,null,null,null,null,null,null,null,null,null,null,null,null,null,null,null,null,null,null,null,null,null,null,null,null,null,null,null,null,null,null,null,null,null,null,null,null,null,null,null,null,null,null,null,null,null,null,null,null,null,null,null,null,null,null,null,null,null,null,null,null,null,null,null,null,null,null,null,null,null,null,null,null,null,null,null,null,null,null,null,null,null,null,null,null,null,null,null,null,null,null,null,null,null,null,null,null,null,null,null,null,null,null,null,null,null,null,null,null,null,null,null,null,null,null,"Granby",null,null,"DryOnion15"]
["2014-05-29",null,null,null,null,null,0,0,0,{"$f":"IF(AND(Caluations!$F30>7,Caluations!$F30<>FALSE),\"\",IF($E42=\"\",(Caluations!$H30/$H41)*100,$I41/$H41*100))","v":{"$error":"#VALUE!"}},{"$error":"#VALUE!"},{"$f":"IF(Caluations!$J30<0,0,Caluations!$J30)","v":0.9498300266405697},null,"VC",{"$f":"IF(AND($E41=\"\",Caluations!$F30<8),$N41*$F41,0)","v":0},null,"VE",null,null,null,null,null,null,null,null,null,null,null,null,null,null,null,null,null,null,null,null,null,null,null,null,null,null,null,null,null,null,null,null,null,null,null,null,null,null,null,null,null,null,null,null,null,null,null,null,null,null,null,null,null,null,null,null,null,null,null,null,null,null,null,null,null,null,null,null,null,null,null,null,null,null,null,null,null,null,null,null,null,null,null,null,null,null,null,null,null,null,null,null,null,null,null,null,null,null,null,null,null,null,null,null,null,null,null,null,null,null,null,null,null,null,null,null,null,null,null,null,null,null,null,null,null,null,null,null,null,null,null,null,null,null,null,null,null,null,null,null,null,null,null,null,null,null,null,null,null,null,null,null,null,null,null,null,null,null,null,null,null,null,null,null,null,null,null,null,null,null,null,null,null,null,null,null,null,null,null,null,null,null,null,null,null,null,null,null,null,null,null,null,null,null,null,null,null,null,null,null,null,null,null,null,null,null,null,null,null,null,null,null,null,null,null,null,null,null,null,null,null,null,null,null,null,null,null,null,null,null,null,null,null,"Grayling",null,null,"DryOnion18"]
["2014-05-30",null,null,null,null,null,0,0,0,{"$f":"IF(AND(Caluations!$F31>7,Caluations!$F31<>FALSE),\"\",IF($E43=\"\",(Caluations!$H31/$H42)*100,$I42/$H42*100))","v":{"$error":"#VALUE!"}},{"$error":"#VALUE!"},{"$f":"IF(Caluations!$J31<0,0,Caluations!$J31)","v":1.0885062766405698},null,"VC",{"$f":"IF(AND($E42=\"\",Caluations!$F31<8),$N42*$F42,0)","v":0},null,"VE",null,null,null,null,null,null,null,null,null,null,null,null,null,null,null,null,null,null,null,null,null,null,null,null,null,null,null,null,null,null,null,null,null,null,null,null,null,null,null,null,null,null,null,null,null,null,null,null,null,null,null,null,null,null,null,null,null,null,null,null,null,null,null,null,null,null,null,null,null,null,null,null,null,null,null,null,null,null,null,null,null,null,null,null,null,null,null,null,null,null,null,null,null,null,null,null,null,null,null,null,null,null,null,null,null,null,null,null,null,null,null,null,null,null,null,null,null,null,null,null,null,null,null,null,null,null,null,null,null,null,null,null,null,null,null,null,null,null,null,null,null,null,null,null,null,null,null,null,null,null,null,null,null,null,null,null,null,null,null,null,null,null,null,null,null,null,null,null,null,null,null,null,null,null,null,null,null,null,null,null,null,null,null,null,null,null,null,null,null,null,null,null,null,null,null,null,null,null,null,null,null,null,null,null,null,null,null,null,null,null,null,null,null,null,null,null,null,null,null,null,null,null,null,null,null,null,null,null,null,null,null,null,null,"Greenwood",null,null,"Grapes"]
["2014-05-31",null,null,null,null,null,0,0,0,{"$f":"IF(AND(Caluations!$F32>7,Caluations!$F32<>FALSE),\"\",IF($E44=\"\",(Caluations!$H32/$H43)*100,$I43/$H43*100))","v":{"$error":"#VALUE!"}},{"$error":"#VALUE!"},{"$f":"IF(Caluations!$J32<0,0,Caluations!$J32)","v":0.24257440164056954},null,"VC",{"$f":"IF(AND($E43=\"\",Caluations!$F32<8),$N43*$F43,0)","v":0},null,"VE",null,null,null,null,null,null,null,null,null,null,null,null,null,null,null,null,null,null,null,null,null,null,null,null,null,null,null,null,null,null,null,null,null,null,null,null,null,null,null,null,null,null,null,null,null,null,null,null,null,null,null,null,null,null,null,null,null,null,null,null,null,null,null,null,null,null,null,null,null,null,null,null,null,null,null,null,null,null,null,null,null,null,null,null,null,null,null,null,null,null,null,null,null,null,null,null,null,null,null,null,null,null,null,null,null,null,null,null,null,null,null,null,null,null,null,null,null,null,null,null,null,null,null,null,null,null,null,null,null,null,null,null,null,null,null,null,null,null,null,null,null,null,null,null,null,null,null,null,null,null,null,null,null,null,null,null,null,null,null,null,null,null,null,null,null,null,null,null,null,null,null,null,null,null,null,null,null,null,null,null,null,null,null,null,null,null,null,null,null,null,null,null,null,null,null,null,null,null,null,null,null,null,null,null,null,null,null,null,null,null,null,null,null,null,null,null,null,null,null,null,null,null,null,null,null,null,null,null,null,null,null,null,null,"Hillsdale",null,null,"Grass12"]
["2014-06-01",null,null,null,null,null,0,0,0,{"$f":"IF(AND(Caluations!$F33>7,Caluations!$F33<>FALSE),\"\",IF($E45=\"\",(Caluations!$H33/$H44)*100,$I44/$H44*100))","v":{"$error":"#VALUE!"}},{"$error":"#VALUE!"},{"$f":"IF(Caluations!$J33<0,0,Caluations!$J33)","v":0.10303252664056961},null,"VC",{"$f":"IF(AND($E44=\"\",Caluations!$F33<8),$N44*$F44,0)","v":0},null,"VE",null,null,null,null,null,null,null,null,null,null,null,null,null,null,null,null,null,null,null,null,null,null,null,null,null,null,null,null,null,null,null,null,null,null,null,null,null,null,null,null,null,null,null,null,null,null,null,null,null,null,null,null,null,null,null,null,null,null,null,null,null,null,null,null,null,null,null,null,null,null,null,null,null,null,null,null,null,null,null,null,null,null,null,null,null,null,null,null,null,null,null,null,null,null,null,null,null,null,null,null,null,null,null,null,null,null,null,null,null,null,null,null,null,null,null,null,null,null,null,null,null,null,null,null,null,null,null,null,null,null,null,null,null,null,null,null,null,null,null,null,null,null,null,null,null,null,null,null,null,null,null,null,null,null,null,null,null,null,null,null,null,null,null,null,null,null,null,null,null,null,null,null,null,null,null,null,null,null,null,null,null,null,null,null,null,null,null,null,null,null,null,null,null,null,null,null,null,null,null,null,null,null,null,null,null,null,null,null,null,null,null,null,null,null,null,null,null,null,null,null,null,null,null,null,null,null,null,null,null,null,null,null,null,"Houghton",null,null,"Grass18"]
["2014-06-02",null,null,null,null,null,0,0,0,{"$f":"IF(AND(Caluations!$F34>7,Caluations!$F34<>FALSE),\"\",IF($E46=\"\",(Caluations!$H34/$H45)*100,$I45/$H45*100))","v":{"$error":"#VALUE!"}},{"$error":"#VALUE!"},{"$f":"IF(Caluations!$J34<0,0,Caluations!$J34)","v":0},null,"VC",{"$f":"IF(AND($E45=\"\",Caluations!$F34<8),$N45*$F45,0)","v":0},null,"VE",null,null,null,null,null,null,null,null,null,null,null,null,null,null,null,null,null,null,null,null,null,null,null,null,null,null,null,null,null,null,null,null,null,null,null,null,null,null,null,null,null,null,null,null,null,null,null,null,null,null,null,null,null,null,null,null,null,null,null,null,null,null,null,null,null,null,null,null,null,null,null,null,null,null,null,null,null,null,null,null,null,null,null,null,null,null,null,null,null,null,null,null,null,null,null,null,null,null,null,null,null,null,null,null,null,null,null,null,null,null,null,null,null,null,null,null,null,null,null,null,null,null,null,null,null,null,null,null,null,null,null,null,null,null,null,null,null,null,null,null,null,null,null,null,null,null,null,null,null,null,null,null,null,null,null,null,null,null,null,null,null,null,null,null,null,null,null,null,null,null,null,null,null,null,null,null,null,null,null,null,null,null,null,null,null,null,null,null,null,null,null,null,null,null,null,null,null,null,null,null,null,null,null,null,null,null,null,null,null,null,null,null,null,null,null,null,null,null,null,null,null,null,null,null,null,null,null,null,null,null,null,null,null,"Iosca",null,null,"Grass24"]
["2014-06-03",null,null,null,null,null,0,0,0,{"$f":"IF(AND(Caluations!$F35>7,Caluations!$F35<>FALSE),\"\",IF($E47=\"\",(Caluations!$H35/$H46)*100,$I46/$H46*100))","v":{"$error":"#VALUE!"}},{"$error":"#VALUE!"},{"$f":"IF(Caluations!$J35<0,0,Caluations!$J35)","v":1.7031366666666603E-2},null,"VC",{"$f":"IF(AND($E46=\"\",Caluations!$F35<8),$N46*$F46,0)","v":0},null,"VE",null,null,null,null,null,null,null,null,null,null,null,null,null,null,null,null,null,null,null,null,null,null,null,null,null,null,null,null,null,null,null,null,null,null,null,null,null,null,null,null,null,null,null,null,null,null,null,null,null,null,null,null,null,null,null,null,null,null,null,null,null,null,null,null,null,null,null,null,null,null,null,null,null,null,null,null,null,null,null,null,null,null,null,null,null,null,null,null,null,null,null,null,null,null,null,null,null,null,null,null,null,null,null,null,null,null,null,null,null,null,null,null,null,null,null,null,null,null,null,null,null,null,null,null,null,null,null,null,null,null,null,null,null,null,null,null,null,null,null,null,null,null,null,null,null,null,null,null,null,null,null,null,null,null,null,null,null,null,null,null,null,null,null,null,null,null,null,null,null,null,null,null,null,null,null,null,null,null,null,null,null,null,null,null,null,null,null,null,null,null,null,null,null,null,null,null,null,null,null,null,null,null,null,null,null,null,null,null,null,null,null,null,null,null,null,null,null,null,null,null,null,null,null,null,null,null,null,null,null,null,null,null,null,"Isabella",null,null,"GreenBeans"]
["2014-06-04",null,null,null,null,null,0,0,0,{"$f":"IF(AND(Caluations!$F36>7,Caluations!$F36<>FALSE),\"\",IF($E48=\"\",(Caluations!$H36/$H47)*100,$I47/$H47*100))","v":{"$error":"#VALUE!"}},{"$error":"#VALUE!"},{"$f":"IF(Caluations!$J36<0,0,Caluations!$J36)","v":0},null,"VC",{"$f":"IF(AND($E47=\"\",Caluations!$F36<8),$N47*$F47,0)","v":0},null,"VE",null,null,null,null,null,null,null,null,null,null,null,null,null,null,null,null,null,null,null,null,null,null,null,null,null,null,null,null,null,null,null,null,null,null,null,null,null,null,null,null,null,null,null,null,null,null,null,null,null,null,null,null,null,null,null,null,null,null,null,null,null,null,null,null,null,null,null,null,null,null,null,null,null,null,null,null,null,null,null,null,null,null,null,null,null,null,null,null,null,null,null,null,null,null,null,null,null,null,null,null,null,null,null,null,null,null,null,null,null,null,null,null,null,null,null,null,null,null,null,null,null,null,null,null,null,null,null,null,null,null,null,null,null,null,null,null,null,null,null,null,null,null,null,null,null,null,null,null,null,null,null,null,null,null,null,null,null,null,null,null,null,null,null,null,null,null,null,null,null,null,null,null,null,null,null,null,null,null,null,null,null,null,null,null,null,null,null,null,null,null,null,null,null,null,null,null,null,null,null,null,null,null,null,null,null,null,null,null,null,null,null,null,null,null,null,null,null,null,null,null,null,null,null,null,null,null,null,null,null,null,null,null,null,"Island lake",null,null,"GreenOnion12"]
["2014-06-05",null,null,null,null,null,0,0,0,{"$f":"IF(AND(Caluations!$F37>7,Caluations!$F37<>FALSE),\"\",IF($E49=\"\",(Caluations!$H37/$H48)*100,$I48/$H48*100))","v":{"$error":"#VALUE!"}},{"$error":"#VALUE!"},{"$f":"IF(Caluations!$J37<0,0,Caluations!$J37)","v":0},null,"VC",{"$f":"IF(AND($E48=\"\",Caluations!$F37<8),$N48*$F48,0)","v":0},null,"VE",null,null,null,null,null,null,null,null,null,null,null,null,null,null,null,null,null,null,null,null,null,null,null,null,null,null,null,null,null,null,null,null,null,null,null,null,null,null,null,null,null,null,null,null,null,null,null,null,null,null,null,null,null,null,null,null,null,null,null,null,null,null,null,null,null,null,null,null,null,null,null,null,null,null,null,null,null,null,null,null,null,null,null,null,null,null,null,null,null,null,null,null,null,null,null,null,null,null,null,null,null,null,null,null,null,null,null,null,null,null,null,null,null,null,null,null,null,null,null,null,null,null,null,null,null,null,null,null,null,null,null,null,null,null,null,null,null,null,null,null,null,null,null,null,null,null,null,null,null,null,null,null,null,null,null,null,null,null,null,null,null,null,null,null,null,null,null,null,null,null,null,null,null,null,null,null,null,null,null,null,null,null,null,null,null,null,null,null,null,null,null,null,null,null,null,null,null,null,null,null,null,null,null,null,null,null,null,null,null,null,null,null,null,null,null,null,null,null,null,null,null,null,null,null,null,null,null,null,null,null,null,null,null,"Ithaca",null,null,"GreenOnion18"]
["2014-06-06",null,null,null,null,null,0,0,0,{"$f":"IF(AND(Caluations!$F38>7,Caluations!$F38<>FALSE),\"\",IF($E50=\"\",(Caluations!$H38/$H49)*100,$I49/$H49*100))","v":{"$error":"#VALUE!"}},{"$error":"#VALUE!"},{"$f":"IF(Caluations!$J38<0,0,Caluations!$J38)","v":0},null,"VC",{"$f":"IF(AND($E49=\"\",Caluations!$F38<8),$N49*$F49,0)","v":0},null,"VE",null,null,null,null,null,null,null,null,null,null,null,null,null,null,null,null,null,null,null,null,null,null,null,null,null,null,null,null,null,null,null,null,null,null,null,null,null,null,null,null,null,null,null,null,null,null,null,null,null,null,null,null,null,null,null,null,null,null,null,null,null,null,null,null,null,null,null,null,null,null,null,null,null,null,null,null,null,null,null,null,null,null,null,null,null,null,null,null,null,null,null,null,null,null,null,null,null,null,null,null,null,null,null,null,null,null,null,null,null,null,null,null,null,null,null,null,null,null,null,null,null,null,null,null,null,null,null,null,null,null,null,null,null,null,null,null,null,null,null,null,null,null,null,null,null,null,null,null,null,null,null,null,null,null,null,null,null,null,null,null,null,null,null,null,null,null,null,null,null,null,null,null,null,null,null,null,null,null,null,null,null,null,null,null,null,null,null,null,null,null,null,null,null,null,null,null,null,null,null,null,null,null,null,null,null,null,null,null,null,null,null,null,null,null,null,null,null,null,null,null,null,null,null,null,null,null,null,null,null,null,null,null,null,"Kalamazoo",null,null,"GreenOnion24"]
["2014-06-07",null,null,null,null,null,0,0,0,{"$f":"IF(AND(Caluations!$F39>7,Caluations!$F39<>FALSE),\"\",IF($E51=\"\",(Caluations!$H39/$H50)*100,$I50/$H50*100))","v":{"$error":"#VALUE!"}},{"$error":"#VALUE!"},{"$f":"IF(Caluations!$J39<0,0,Caluations!$J39)","v":0.10057674999999966},null,"VC",{"$f":"IF(AND($E50=\"\",Caluations!$F39<8),$N50*$F50,0)","v":0},null,"VE",null,null,null,null,null,null,null,null,null,null,null,null,null,null,null,null,null,null,null,null,null,null,null,null,null,null,null,null,null,null,null,null,null,null,null,null,null,null,null,null,null,null,null,null,null,null,null,null,null,null,null,null,null,null,null,null,null,null,null,null,null,null,null,null,null,null,null,null,null,null,null,null,null,null,null,null,null,null,null,null,null,null,null,null,null,null,null,null,null,null,null,null,null,null,null,null,null,null,null,null,null,null,null,null,null,null,null,null,null,null,null,null,null,null,null,null,null,null,null,null,null,null,null,null,null,null,null,null,null,null,null,null,null,null,null,null,null,null,null,null,null,null,null,null,null,null,null,null,null,null,null,null,null,null,null,null,null,null,null,null,null,null,null,null,null,null,null,null,null,null,null,null,null,null,null,null,null,null,null,null,null,null,null,null,null,null,null,null,null,null,null,null,null,null,null,null,null,null,null,null,null,null,null,null,null,null,null,null,null,null,null,null,null,null,null,null,null,null,null,null,null,null,null,null,null,null,null,null,null,null,null,null,null,"Kawkawlin",null,null,"MuskMelon12"]
["2014-06-08",null,null,null,null,null,0,0,0,{"$f":"IF(AND(Caluations!$F40>7,Caluations!$F40<>FALSE),\"\",IF($E52=\"\",(Caluations!$H40/$H51)*100,$I51/$H51*100))","v":{"$error":"#VALUE!"}},{"$error":"#VALUE!"},{"$f":"IF(Caluations!$J40<0,0,Caluations!$J40)","v":0.31649299999999947},null,"VC",{"$f":"IF(AND($E51=\"\",Caluations!$F40<8),$N51*$F51,0)","v":0},null,"VE",null,null,null,null,null,null,null,null,null,null,null,null,null,null,null,null,null,null,null,null,null,null,null,null,null,null,null,null,null,null,null,null,null,null,null,null,null,null,null,null,null,null,null,null,null,null,null,null,null,null,null,null,null,null,null,null,null,null,null,null,null,null,null,null,null,null,null,null,null,null,null,null,null,null,null,null,null,null,null,null,null,null,null,null,null,null,null,null,null,null,null,null,null,null,null,null,null,null,null,null,null,null,null,null,null,null,null,null,null,null,null,null,null,null,null,null,null,null,null,null,null,null,null,null,null,null,null,null,null,null,null,null,null,null,null,null,null,null,null,null,null,null,null,null,null,null,null,null,null,null,null,null,null,null,null,null,null,null,null,null,null,null,null,null,null,null,null,null,null,null,null,null,null,null,null,null,null,null,null,null,null,null,null,null,null,null,null,null,null,null,null,null,null,null,null,null,null,null,null,null,null,null,null,null,null,null,null,null,null,null,null,null,null,null,null,null,null,null,null,null,null,null,null,null,null,null,null,null,null,null,null,null,null,"Kerston",null,null,"MuskMelon15"]
[{"$f":"1+A51","v":"2014-06-09"},null,null,null,null,null,0,0,0,{"$f":"IF(AND(Caluations!$F41>7,Caluations!$F41<>FALSE),\"\",IF($E53=\"\",(Caluations!$H41/$H52)*100,$I52/$H52*100))","v":{"$error":"#VALUE!"}},{"$error":"#VALUE!"},{"$f":"IF(Caluations!$J41<0,0,Caluations!$J41)","v":0.52901174999999956},null,"VC",{"$f":"IF(AND($E52=\"\",Caluations!$F41<8),$N52*$F52,0)","v":0},null,"VE",null,null,null,null,null,null,null,null,null,null,null,null,null,null,null,null,null,null,null,null,null,null,null,null,null,null,null,null,null,null,null,null,null,null,null,null,null,null,null,null,null,null,null,null,null,null,null,null,null,null,null,null,null,null,null,null,null,null,null,null,null,null,null,null,null,null,null,null,null,null,null,null,null,null,null,null,null,null,null,null,null,null,null,null,null,null,null,null,null,null,null,null,null,null,null,null,null,null,null,null,null,null,null,null,null,null,null,null,null,null,null,null,null,null,null,null,null,null,null,null,null,null,null,null,null,null,null,null,null,null,null,null,null,null,null,null,null,null,null,null,null,null,null,null,null,null,null,null,null,null,null,null,null,null,null,null,null,null,null,null,null,null,null,null,null,null,null,null,null,null,null,null,null,null,null,null,null,null,null,null,null,null,null,null,null,null,null,null,null,null,null,null,null,null,null,null,null,null,null,null,null,null,null,null,null,null,null,null,null,null,null,null,null,null,null,null,null,null,null,null,null,null,null,null,null,null,null,null,null,null,null,null,null,"Kilmanagh",null,null,"MuskMelon18"]
["2014-06-10",null,null,null,null,null,0,0,0,{"$f":"IF(AND(Caluations!$F42>7,Caluations!$F42<>FALSE),\"\",IF($E54=\"\",(Caluations!$H42/$H53)*100,$I53/$H53*100))","v":{"$error":"#VALUE!"}},{"$error":"#VALUE!"},{"$f":"IF(Caluations!$J42<0,0,Caluations!$J42)","v":0.76090549999999979},null,"VC",{"$f":"IF(AND($E53=\"\",Caluations!$F42<8),$N53*$F53,0)","v":0},null,"VE",null,null,null,null,null,null,null,null,null,null,null,null,null,null,null,null,null,null,null,null,null,null,null,null,null,null,null,null,null,null,null,null,null,null,null,null,null,null,null,null,null,null,null,null,null,null,null,null,null,null,null,null,null,null,null,null,null,null,null,null,null,null,null,null,null,null,null,null,null,null,null,null,null,null,null,null,null,null,null,null,null,null,null,null,null,null,null,null,null,null,null,null,null,null,null,null,null,null,null,null,null,null,null,null,null,null,null,null,null,null,null,null,null,null,null,null,null,null,null,null,null,null,null,null,null,null,null,null,null,null,null,null,null,null,null,null,null,null,null,null,null,null,null,null,null,null,null,null,null,null,null,null,null,null,null,null,null,null,null,null,null,null,null,null,null,null,null,null,null,null,null,null,null,null,null,null,null,null,null,null,null,null,null,null,null,null,null,null,null,null,null,null,null,null,null,null,null,null,null,null,null,null,null,null,null,null,null,null,null,null,null,null,null,null,null,null,null,null,null,null,null,null,null,null,null,null,null,null,null,null,null,null,null,"Lapeer",null,null,"MuskMelon36"]
["2014-06-11",null,null,null,null,null,0,0,0,{"$f":"IF(AND(Caluations!$F43>7,Caluations!$F43<>FALSE),\"\",IF($E55=\"\",(Caluations!$H43/$H54)*100,$I54/$H54*100))","v":{"$error":"#VALUE!"}},{"$error":"#VALUE!"},{"$f":"IF(Caluations!$J43<0,0,Caluations!$J43)","v":0.9877180000000001},null,"VC",{"$f":"IF(AND($E54=\"\",Caluations!$F43<8),$N54*$F54,0)","v":0},null,"VE",null,null,null,null,null,null,null,null,null,null,null,null,null,null,null,null,null,null,null,null,null,null,null,null,null,null,null,null,null,null,null,null,null,null,null,null,null,null,null,null,null,null,null,null,null,null,null,null,null,null,null,null,null,null,null,null,null,null,null,null,null,null,null,null,null,null,null,null,null,null,null,null,null,null,null,null,null,null,null,null,null,null,null,null,null,null,null,null,null,null,null,null,null,null,null,null,null,null,null,null,null,null,null,null,null,null,null,null,null,null,null,null,null,null,null,null,null,null,null,null,null,null,null,null,null,null,null,null,null,null,null,null,null,null,null,null,null,null,null,null,null,null,null,null,null,null,null,null,null,null,null,null,null,null,null,null,null,null,null,null,null,null,null,null,null,null,null,null,null,null,null,null,null,null,null,null,null,null,null,null,null,null,null,null,null,null,null,null,null,null,null,null,null,null,null,null,null,null,null,null,null,null,null,null,null,null,null,null,null,null,null,null,null,null,null,null,null,null,null,null,null,null,null,null,null,null,null,null,null,null,null,null,null,"Leoni",null,null,"Peaches"]
["2014-06-12",null,null,null,null,null,0,0,0,{"$f":"IF(AND(Caluations!$F44>7,Caluations!$F44<>FALSE),\"\",IF($E56=\"\",(Caluations!$H44/$H55)*100,$I55/$H55*100))","v":{"$error":"#VALUE!"}},{"$error":"#VALUE!"},{"$f":"IF(Caluations!$J44<0,0,Caluations!$J44)","v":1.2258930000000001},null,"VC",{"$f":"IF(AND($E55=\"\",Caluations!$F44<8),$N55*$F55,0)","v":0},null,"VE",null,null,null,null,null,null,null,null,null,null,null,null,null,null,null,null,null,null,null,null,null,null,null,null,null,null,null,null,null,null,null,null,null,null,null,null,null,null,null,null,null,null,null,null,null,null,null,null,null,null,null,null,null,null,null,null,null,null,null,null,null,null,null,null,null,null,null,null,null,null,null,null,null,null,null,null,null,null,null,null,null,null,null,null,null,null,null,null,null,null,null,null,null,null,null,null,null,null,null,null,null,null,null,null,null,null,null,null,null,null,null,null,null,null,null,null,null,null,null,null,null,null,null,null,null,null,null,null,null,null,null,null,null,null,null,null,null,null,null,null,null,null,null,null,null,null,null,null,null,null,null,null,null,null,null,null,null,null,null,null,null,null,null,null,null,null,null,null,null,null,null,null,null,null,null,null,null,null,null,null,null,null,null,null,null,null,null,null,null,null,null,null,null,null,null,null,null,null,null,null,null,null,null,null,null,null,null,null,null,null,null,null,null,null,null,null,null,null,null,null,null,null,null,null,null,null,null,null,null,null,null,null,null,"Locke",null,null,"Pears"]
["2014-06-13",null,null,null,null,null,0,0,0,{"$f":"IF(AND(Caluations!$F45>7,Caluations!$F45<>FALSE),\"\",IF($E57=\"\",(Caluations!$H45/$H56)*100,$I56/$H56*100))","v":{"$error":"#VALUE!"}},{"$error":"#VALUE!"},{"$f":"IF(Caluations!$J45<0,0,Caluations!$J45)","v":1.4545430000000001},null,"VC",{"$f":"IF(AND($E56=\"\",Caluations!$F45<8),$N56*$F56,0)","v":0},null,"VE",null,null,null,null,null,null,null,null,null,null,null,null,null,null,null,null,null,null,null,null,null,null,null,null,null,null,null,null,null,null,null,null,null,null,null,null,null,null,null,null,null,null,null,null,null,null,null,null,null,null,null,null,null,null,null,null,null,null,null,null,null,null,null,null,null,null,null,null,null,null,null,null,null,null,null,null,null,null,null,null,null,null,null,null,null,null,null,null,null,null,null,null,null,null,null,null,null,null,null,null,null,null,null,null,null,null,null,null,null,null,null,null,null,null,null,null,null,null,null,null,null,null,null,null,null,null,null,null,null,null,null,null,null,null,null,null,null,null,null,null,null,null,null,null,null,null,null,null,null,null,null,null,null,null,null,null,null,null,null,null,null,null,null,null,null,null,null,null,null,null,null,null,null,null,null,null,null,null,null,null,null,null,null,null,null,null,null,null,null,null,null,null,null,null,null,null,null,null,null,null,null,null,null,null,null,null,null,null,null,null,null,null,null,null,null,null,null,null,null,null,null,null,null,null,null,null,null,null,null,null,null,null,null,"Londo",null,null,"Peas"]
["2014-06-14",null,null,null,null,null,0,0,0,{"$f":"IF(AND(Caluations!$F46>7,Caluations!$F46<>FALSE),\"\",IF($E58=\"\",(Caluations!$H46/$H57)*100,$I57/$H57*100))","v":{"$error":"#VALUE!"}},{"$error":"#VALUE!"},{"$f":"IF(Caluations!$J46<0,0,Caluations!$J46)","v":1.6970179999999999},null,"VC",{"$f":"IF(AND($E57=\"\",Caluations!$F46<8),$N57*$F57,0)","v":0},null,"VE",null,null,null,null,null,null,null,null,null,null,null,null,null,null,null,null,null,null,null,null,null,null,null,null,null,null,null,null,null,null,null,null,null,null,null,null,null,null,null,null,null,null,null,null,null,null,null,null,null,null,null,null,null,null,null,null,null,null,null,null,null,null,null,null,null,null,null,null,null,null,null,null,null,null,null,null,null,null,null,null,null,null,null,null,null,null,null,null,null,null,null,null,null,null,null,null,null,null,null,null,null,null,null,null,null,null,null,null,null,null,null,null,null,null,null,null,null,null,null,null,null,null,null,null,null,null,null,null,null,null,null,null,null,null,null,null,null,null,null,null,null,null,null,null,null,null,null,null,null,null,null,null,null,null,null,null,null,null,null,null,null,null,null,null,null,null,null,null,null,null,null,null,null,null,null,null,null,null,null,null,null,null,null,null,null,null,null,null,null,null,null,null,null,null,null,null,null,null,null,null,null,null,null,null,null,null,null,null,null,null,null,null,null,null,null,null,null,null,null,null,null,null,null,null,null,null,null,null,null,null,null,null,null,"Loxley",null,null,"Plums"]
["2014-06-15",null,null,null,null,null,0,0,0,{"$f":"IF(AND(Caluations!$F47>7,Caluations!$F47<>FALSE),\"\",IF($E59=\"\",(Caluations!$H47/$H58)*100,$I58/$H58*100))","v":{"$error":"#VALUE!"}},{"$error":"#VALUE!"},{"$f":"IF(Caluations!$J47<0,0,Caluations!$J47)","v":1.3583179999999997},null,"VC",{"$f":"IF(AND($E58=\"\",Caluations!$F47<8),$N58*$F58,0)","v":0},null,"VE",null,null,null,null,null,null,null,null,null,null,null,null,null,null,null,null,null,null,null,null,null,null,null,null,null,null,null,null,null,null,null,null,null,null,null,null,null,null,null,null,null,null,null,null,null,null,null,null,null,null,null,null,null,null,null,null,null,null,null,null,null,null,null,null,null,null,null,null,null,null,null,null,null,null,null,null,null,null,null,null,null,null,null,null,null,null,null,null,null,null,null,null,null,null,null,null,null,null,null,null,null,null,null,null,null,null,null,null,null,null,null,null,null,null,null,null,null,null,null,null,null,null,null,null,null,null,null,null,null,null,null,null,null,null,null,null,null,null,null,null,null,null,null,null,null,null,null,null,null,null,null,null,null,null,null,null,null,null,null,null,null,null,null,null,null,null,null,null,null,null,null,null,null,null,null,null,null,null,null,null,null,null,null,null,null,null,null,null,null,null,null,null,null,null,null,null,null,null,null,null,null,null,null,null,null,null,null,null,null,null,null,null,null,null,null,null,null,null,null,null,null,null,null,null,null,null,null,null,null,null,null,null,null,"Mancelona",null,null,"Potatoes12"]
["2014-06-16",null,null,null,null,null,0,0,0,{"$f":"IF(AND(Caluations!$F48>7,Caluations!$F48<>FALSE),\"\",IF($E60=\"\",(Caluations!$H48/$H59)*100,$I59/$H59*100))","v":{"$error":"#VALUE!"}},{"$error":"#VALUE!"},{"$f":"IF(Caluations!$J48<0,0,Caluations!$J48)","v":1.6183429999999994},null,"VC",{"$f":"IF(AND($E59=\"\",Caluations!$F48<8),$N59*$F59,0)","v":0},null,"VE",null,null,null,null,null,null,null,null,null,null,null,null,null,null,null,null,null,null,null,null,null,null,null,null,null,null,null,null,null,null,null,null,null,null,null,null,null,null,null,null,null,null,null,null,null,null,null,null,null,null,null,null,null,null,null,null,null,null,null,null,null,null,null,null,null,null,null,null,null,null,null,null,null,null,null,null,null,null,null,null,null,null,null,null,null,null,null,null,null,null,null,null,null,null,null,null,null,null,null,null,null,null,null,null,null,null,null,null,null,null,null,null,null,null,null,null,null,null,null,null,null,null,null,null,null,null,null,null,null,null,null,null,null,null,null,null,null,null,null,null,null,null,null,null,null,null,null,null,null,null,null,null,null,null,null,null,null,null,null,null,null,null,null,null,null,null,null,null,null,null,null,null,null,null,null,null,null,null,null,null,null,null,null,null,null,null,null,null,null,null,null,null,null,null,null,null,null,null,null,null,null,null,null,null,null,null,null,null,null,null,null,null,null,null,null,null,null,null,null,null,null,null,null,null,null,null,null,null,null,null,null,null,null,"Marlette",null,null,"Potatoes18"]
["2014-06-17",null,null,null,null,null,0,0,0,{"$f":"IF(AND(Caluations!$F49>7,Caluations!$F49<>FALSE),\"\",IF($E61=\"\",(Caluations!$H49/$H60)*100,$I60/$H60*100))","v":{"$error":"#VALUE!"}},{"$error":"#VALUE!"},{"$f":"IF(Caluations!$J49<0,0,Caluations!$J49)","v":1.8449929999999997},null,"VC",{"$f":"IF(AND($E60=\"\",Caluations!$F49<8),$N60*$F60,0)","v":0},null,"VE",null,null,null,null,null,null,null,null,null,null,null,null,null,null,null,null,null,null,null,null,null,null,null,null,null,null,null,null,null,null,null,null,null,null,null,null,null,null,null,null,null,null,null,null,null,null,null,null,null,null,null,null,null,null,null,null,null,null,null,null,null,null,null,null,null,null,null,null,null,null,null,null,null,null,null,null,null,null,null,null,null,null,null,null,null,null,null,null,null,null,null,null,null,null,null,null,null,null,null,null,null,null,null,null,null,null,null,null,null,null,null,null,null,null,null,null,null,null,null,null,null,null,null,null,null,null,null,null,null,null,null,null,null,null,null,null,null,null,null,null,null,null,null,null,null,null,null,null,null,null,null,null,null,null,null,null,null,null,null,null,null,null,null,null,null,null,null,null,null,null,null,null,null,null,null,null,null,null,null,null,null,null,null,null,null,null,null,null,null,null,null,null,null,null,null,null,null,null,null,null,null,null,null,null,null,null,null,null,null,null,null,null,null,null,null,null,null,null,null,null,null,null,null,null,null,null,null,null,null,null,null,null,null,"Matea",null,null,"Potatoes24"]
["2014-06-18",null,null,null,null,null,0,0,0,{"$f":"IF(AND(Caluations!$F50>7,Caluations!$F50<>FALSE),\"\",IF($E62=\"\",(Caluations!$H50/$H61)*100,$I61/$H61*100))","v":{"$error":"#VALUE!"}},{"$error":"#VALUE!"},{"$f":"IF(Caluations!$J50<0,0,Caluations!$J50)","v":2.0693929999999998},null,"VC",{"$f":"IF(AND($E61=\"\",Caluations!$F50<8),$N61*$F61,0)","v":0},null,"VE",null,null,null,null,null,null,null,null,null,null,null,null,null,null,null,null,null,null,null,null,null,null,null,null,null,null,null,null,null,null,null,null,null,null,null,null,null,null,null,null,null,null,null,null,null,null,null,null,null,null,null,null,null,null,null,null,null,null,null,null,null,null,null,null,null,null,null,null,null,null,null,null,null,null,null,null,null,null,null,null,null,null,null,null,null,null,null,null,null,null,null,null,null,null,null,null,null,null,null,null,null,null,null,null,null,null,null,null,null,null,null,null,null,null,null,null,null,null,null,null,null,null,null,null,null,null,null,null,null,null,null,null,null,null,null,null,null,null,null,null,null,null,null,null,null,null,null,null,null,null,null,null,null,null,null,null,null,null,null,null,null,null,null,null,null,null,null,null,null,null,null,null,null,null,null,null,null,null,null,null,null,null,null,null,null,null,null,null,null,null,null,null,null,null,null,null,null,null,null,null,null,null,null,null,null,null,null,null,null,null,null,null,null,null,null,null,null,null,null,null,null,null,null,null,null,null,null,null,null,null,null,null,null,"McBride",null,null,"Soybeans12"]
["2014-06-19",null,null,null,null,null,0,0,0,{"$f":"IF(AND(Caluations!$F51>7,Caluations!$F51<>FALSE),\"\",IF($E63=\"\",(Caluations!$H51/$H62)*100,$I62/$H62*100))","v":{"$error":"#VALUE!"}},{"$error":"#VALUE!"},{"$f":"IF(Caluations!$J51<0,0,Caluations!$J51)","v":1.3059637507692305},null,"VC",{"$f":"IF(AND($E62=\"\",Caluations!$F51<8),$N62*$F62,0)","v":0},null,"VE",null,null,null,null,null,null,null,null,null,null,null,null,null,null,null,null,null,null,null,null,null,null,null,null,null,null,null,null,null,null,null,null,null,null,null,null,null,null,null,null,null,null,null,null,null,null,null,null,null,null,null,null,null,null,null,null,null,null,null,null,null,null,null,null,null,null,null,null,null,null,null,null,null,null,null,null,null,null,null,null,null,null,null,null,null,null,null,null,null,null,null,null,null,null,null,null,null,null,null,null,null,null,null,null,null,null,null,null,null,null,null,null,null,null,null,null,null,null,null,null,null,null,null,null,null,null,null,null,null,null,null,null,null,null,null,null,null,null,null,null,null,null,null,null,null,null,null,null,null,null,null,null,null,null,null,null,null,null,null,null,null,null,null,null,null,null,null,null,null,null,null,null,null,null,null,null,null,null,null,null,null,null,null,null,null,null,null,null,null,null,null,null,null,null,null,null,null,null,null,null,null,null,null,null,null,null,null,null,null,null,null,null,null,null,null,null,null,null,null,null,null,null,null,null,null,null,null,null,null,null,null,null,null,"McBride",null,null,"Soybeans18"]
["2014-06-20",null,null,null,null,null,0,0,0,{"$f":"IF(AND(Caluations!$F52>7,Caluations!$F52<>FALSE),\"\",IF($E64=\"\",(Caluations!$H52/$H63)*100,$I63/$H63*100))","v":{"$error":"#VALUE!"}},{"$error":"#VALUE!"},{"$f":"IF(Caluations!$J52<0,0,Caluations!$J52)","v":1.3875637507692304},null,"VC",{"$f":"IF(AND($E63=\"\",Caluations!$F52<8),$N63*$F63,0)","v":0},null,"VE",null,null,null,null,null,null,null,null,null,null,null,null,null,null,null,null,null,null,null,null,null,null,null,null,null,null,null,null,null,null,null,null,null,null,null,null,null,null,null,null,null,null,null,null,null,null,null,null,null,null,null,null,null,null,null,null,null,null,null,null,null,null,null,null,null,null,null,null,null,null,null,null,null,null,null,null,null,null,null,null,null,null,null,null,null,null,null,null,null,null,null,null,null,null,null,null,null,null,null,null,null,null,null,null,null,null,null,null,null,null,null,null,null,null,null,null,null,null,null,null,null,null,null,null,null,null,null,null,null,null,null,null,null,null,null,null,null,null,null,null,null,null,null,null,null,null,null,null,null,null,null,null,null,null,null,null,null,null,null,null,null,null,null,null,null,null,null,null,null,null,null,null,null,null,null,null,null,null,null,null,null,null,null,null,null,null,null,null,null,null,null,null,null,null,null,null,null,null,null,null,null,null,null,null,null,null,null,null,null,null,null,null,null,null,null,null,null,null,null,null,null,null,null,null,null,null,null,null,null,null,null,null,null,"Mecosta",null,null,"Soybeans24"]
["2014-06-21",null,null,null,null,null,0,0,0,{"$f":"IF(AND(Caluations!$F53>7,Caluations!$F53<>FALSE),\"\",IF($E65=\"\",(Caluations!$H53/$H64)*100,$I64/$H64*100))","v":{"$error":"#VALUE!"}},{"$error":"#VALUE!"},{"$f":"IF(Caluations!$J53<0,0,Caluations!$J53)","v":1.6047637507692305},null,"VC",{"$f":"IF(AND($E64=\"\",Caluations!$F53<8),$N64*$F64,0)","v":0},null,"VE",null,null,null,null,null,null,null,null,null,null,null,null,null,null,null,null,null,null,null,null,null,null,null,null,null,null,null,null,null,null,null,null,null,null,null,null,null,null,null,null,null,null,null,null,null,null,null,null,null,null,null,null,null,null,null,null,null,null,null,null,null,null,null,null,null,null,null,null,null,null,null,null,null,null,null,null,null,null,null,null,null,null,null,null,null,null,null,null,null,null,null,null,null,null,null,null,null,null,null,null,null,null,null,null,null,null,null,null,null,null,null,null,null,null,null,null,null,null,null,null,null,null,null,null,null,null,null,null,null,null,null,null,null,null,null,null,null,null,null,null,null,null,null,null,null,null,null,null,null,null,null,null,null,null,null,null,null,null,null,null,null,null,null,null,null,null,null,null,null,null,null,null,null,null,null,null,null,null,null,null,null,null,null,null,null,null,null,null,null,null,null,null,null,null,null,null,null,null,null,null,null,null,null,null,null,null,null,null,null,null,null,null,null,null,null,null,null,null,null,null,null,null,null,null,null,null,null,null,null,null,null,null,null,"Melita",null,null,"Squash"]
["2014-06-22",null,null,null,null,null,0,0,0,{"$f":"IF(AND(Caluations!$F54>7,Caluations!$F54<>FALSE),\"\",IF($E66=\"\",(Caluations!$H54/$H65)*100,$I65/$H65*100))","v":{"$error":"#VALUE!"}},{"$error":"#VALUE!"},{"$f":"IF(Caluations!$J54<0,0,Caluations!$J54)","v":1.8111637507692304},null,"VC",{"$f":"IF(AND($E65=\"\",Caluations!$F54<8),$N65*$F65,0)","v":0},null,"VE",null,null,null,null,null,null,null,null,null,null,null,null,null,null,null,null,null,null,null,null,null,null,null,null,null,null,null,null,null,null,null,null,null,null,null,null,null,null,null,null,null,null,null,null,null,null,null,null,null,null,null,null,null,null,null,null,null,null,null,null,null,null,null,null,null,null,null,null,null,null,null,null,null,null,null,null,null,null,null,null,null,null,null,null,null,null,null,null,null,null,null,null,null,null,null,null,null,null,null,null,null,null,null,null,null,null,null,null,null,null,null,null,null,null,null,null,null,null,null,null,null,null,null,null,null,null,null,null,null,null,null,null,null,null,null,null,null,null,null,null,null,null,null,null,null,null,null,null,null,null,null,null,null,null,null,null,null,null,null,null,null,null,null,null,null,null,null,null,null,null,null,null,null,null,null,null,null,null,null,null,null,null,null,null,null,null,null,null,null,null,null,null,null,null,null,null,null,null,null,null,null,null,null,null,null,null,null,null,null,null,null,null,null,null,null,null,null,null,null,null,null,null,null,null,null,null,null,null,null,null,null,null,null,"Montcalm",null,null,"Strawberries"]
["2014-06-23",null,null,null,null,null,0,0,0,{"$f":"IF(AND(Caluations!$F55>7,Caluations!$F55<>FALSE),\"\",IF($E67=\"\",(Caluations!$H55/$H66)*100,$I66/$H66*100))","v":{"$error":"#VALUE!"}},{"$error":"#VALUE!"},{"$f":"IF(Caluations!$J55<0,0,Caluations!$J55)","v":2.0079637507692305},null,"VC",{"$f":"IF(AND($E66=\"\",Caluations!$F55<8),$N66*$F66,0)","v":0},null,"VE",null,null,null,null,null,null,null,null,null,null,null,null,null,null,null,null,null,null,null,null,null,null,null,null,null,null,null,null,null,null,null,null,null,null,null,null,null,null,null,null,null,null,null,null,null,null,null,null,null,null,null,null,null,null,null,null,null,null,null,null,null,null,null,null,null,null,null,null,null,null,null,null,null,null,null,null,null,null,null,null,null,null,null,null,null,null,null,null,null,null,null,null,null,null,null,null,null,null,null,null,null,null,null,null,null,null,null,null,null,null,null,null,null,null,null,null,null,null,null,null,null,null,null,null,null,null,null,null,null,null,null,null,null,null,null,null,null,null,null,null,null,null,null,null,null,null,null,null,null,null,null,null,null,null,null,null,null,null,null,null,null,null,null,null,null,null,null,null,null,null,null,null,null,null,null,null,null,null,null,null,null,null,null,null,null,null,null,null,null,null,null,null,null,null,null,null,null,null,null,null,null,null,null,null,null,null,null,null,null,null,null,null,null,null,null,null,null,null,null,null,null,null,null,null,null,null,null,null,null,null,null,null,null,"Nadeau",null,null,"TomatoesS12"]
["2014-06-24",null,null,null,null,null,0,0,0,{"$f":"IF(AND(Caluations!$F56>7,Caluations!$F56<>FALSE),\"\",IF($E68=\"\",(Caluations!$H56/$H67)*100,$I67/$H67*100))","v":{"$error":"#VALUE!"}},{"$error":"#VALUE!"},{"$f":"IF(Caluations!$J56<0,0,Caluations!$J56)","v":2.1965852106925441},null,"VC",{"$f":"IF(AND($E67=\"\",Caluations!$F56<8),$N67*$F67,0)","v":0},null,"VE",null,null,null,null,null,null,null,null,null,null,null,null,null,null,null,null,null,null,null,null,null,null,null,null,null,null,null,null,null,null,null,null,null,null,null,null,null,null,null,null,null,null,null,null,null,null,null,null,null,null,null,null,null,null,null,null,null,null,null,null,null,null,null,null,null,null,null,null,null,null,null,null,null,null,null,null,null,null,null,null,null,null,null,null,null,null,null,null,null,null,null,null,null,null,null,null,null,null,null,null,null,null,null,null,null,null,null,null,null,null,null,null,null,null,null,null,null,null,null,null,null,null,null,null,null,null,null,null,null,null,null,null,null,null,null,null,null,null,null,null,null,null,null,null,null,null,null,null,null,null,null,null,null,null,null,null,null,null,null,null,null,null,null,null,null,null,null,null,null,null,null,null,null,null,null,null,null,null,null,null,null,null,null,null,null,null,null,null,null,null,null,null,null,null,null,null,null,null,null,null,null,null,null,null,null,null,null,null,null,null,null,null,null,null,null,null,null,null,null,null,null,null,null,null,null,null,null,null,null,null,null,null,null,"Nester",null,null,"TomatoesS18"]
["2014-06-25",null,null,null,null,null,0,0,0,{"$f":"IF(AND(Caluations!$F57>7,Caluations!$F57<>FALSE),\"\",IF($E69=\"\",(Caluations!$H57/$H68)*100,$I68/$H68*100))","v":{"$error":"#VALUE!"}},{"$error":"#VALUE!"},{"$f":"IF(Caluations!$J57<0,0,Caluations!$J57)","v":0.56430605148589397},null,"VC",{"$f":"IF(AND($E68=\"\",Caluations!$F57<8),$N68*$F68,0)","v":0},null,"VE",null,null,null,null,null,null,null,null,null,null,null,null,null,null,null,null,null,null,null,null,null,null,null,null,null,null,null,null,null,null,null,null,null,null,null,null,null,null,null,null,null,null,null,null,null,null,null,null,null,null,null,null,null,null,null,null,null,null,null,null,null,null,null,null,null,null,null,null,null,null,null,null,null,null,null,null,null,null,null,null,null,null,null,null,null,null,null,null,null,null,null,null,null,null,null,null,null,null,null,null,null,null,null,null,null,null,null,null,null,null,null,null,null,null,null,null,null,null,null,null,null,null,null,null,null,null,null,null,null,null,null,null,null,null,null,null,null,null,null,null,null,null,null,null,null,null,null,null,null,null,null,null,null,null,null,null,null,null,null,null,null,null,null,null,null,null,null,null,null,null,null,null,null,null,null,null,null,null,null,null,null,null,null,null,null,null,null,null,null,null,null,null,null,null,null,null,null,null,null,null,null,null,null,null,null,null,null,null,null,null,null,null,null,null,null,null,null,null,null,null,null,null,null,null,null,null,null,null,null,null,null,null,null,"Newago",null,null,"TomatoesS24"]
["2014-06-26",null,null,null,null,null,0,0,0,{"$f":"IF(AND(Caluations!$F58>7,Caluations!$F58<>FALSE),\"\",IF($E70=\"\",(Caluations!$H58/$H69)*100,$I69/$H69*100))","v":{"$error":"#VALUE!"}},{"$error":"#VALUE!"},{"$f":"IF(Caluations!$J58<0,0,Caluations!$J58)","v":0.65070605148589378},null,"VC",{"$f":"IF(AND($E69=\"\",Caluations!$F58<8),$N69*$F69,0)","v":0},null,"VE",null,null,null,null,null,null,null,null,null,null,null,null,null,null,null,null,null,null,null,null,null,null,null,null,null,null,null,null,null,null,null,null,null,null,null,null,null,null,null,null,null,null,null,null,null,null,null,null,null,null,null,null,null,null,null,null,null,null,null,null,null,null,null,null,null,null,null,null,null,null,null,null,null,null,null,null,null,null,null,null,null,null,null,null,null,null,null,null,null,null,null,null,null,null,null,null,null,null,null,null,null,null,null,null,null,null,null,null,null,null,null,null,null,null,null,null,null,null,null,null,null,null,null,null,null,null,null,null,null,null,null,null,null,null,null,null,null,null,null,null,null,null,null,null,null,null,null,null,null,null,null,null,null,null,null,null,null,null,null,null,null,null,null,null,null,null,null,null,null,null,null,null,null,null,null,null,null,null,null,null,null,null,null,null,null,null,null,null,null,null,null,null,null,null,null,null,null,null,null,null,null,null,null,null,null,null,null,null,null,null,null,null,null,null,null,null,null,null,null,null,null,null,null,null,null,null,null,null,null,null,null,null,null,"Nottawa",null,null,"TomatoesT12"]
["2014-06-27",null,null,null,null,null,0,0,0,{"$f":"IF(AND(Caluations!$F59>7,Caluations!$F59<>FALSE),\"\",IF($E71=\"\",(Caluations!$H59/$H70)*100,$I70/$H70*100))","v":{"$error":"#VALUE!"}},{"$error":"#VALUE!"},{"$f":"IF(Caluations!$J59<0,0,Caluations!$J59)","v":0.86790605148589384},null,"VC",{"$f":"IF(AND($E70=\"\",Caluations!$F59<8),$N70*$F70,0)","v":0},null,"VE",null,null,null,null,null,null,null,null,null,null,null,null,null,null,null,null,null,null,null,null,null,null,null,null,null,null,null,null,null,null,null,null,null,null,null,null,null,null,null,null,null,null,null,null,null,null,null,null,null,null,null,null,null,null,null,null,null,null,null,null,null,null,null,null,null,null,null,null,null,null,null,null,null,null,null,null,null,null,null,null,null,null,null,null,null,null,null,null,null,null,null,null,null,null,null,null,null,null,null,null,null,null,null,null,null,null,null,null,null,null,null,null,null,null,null,null,null,null,null,null,null,null,null,null,null,null,null,null,null,null,null,null,null,null,null,null,null,null,null,null,null,null,null,null,null,null,null,null,null,null,null,null,null,null,null,null,null,null,null,null,null,null,null,null,null,null,null,null,null,null,null,null,null,null,null,null,null,null,null,null,null,null,null,null,null,null,null,null,null,null,null,null,null,null,null,null,null,null,null,null,null,null,null,null,null,null,null,null,null,null,null,null,null,null,null,null,null,null,null,null,null,null,null,null,null,null,null,null,null,null,null,null,null,"Oshtemo",null,null,"TomatoesT18"]
["2014-06-28",null,null,null,null,null,0,0,0,{"$f":"IF(AND(Caluations!$F60>7,Caluations!$F60<>FALSE),\"\",IF($E72=\"\",(Caluations!$H60/$H71)*100,$I71/$H71*100))","v":{"$error":"#VALUE!"}},{"$error":"#VALUE!"},{"$f":"IF(Caluations!$J60<0,0,Caluations!$J60)","v":0.95270605148589382},null,"VC",{"$f":"IF(AND($E71=\"\",Caluations!$F60<8),$N71*$F71,0)","v":0},null,"VE",null,null,null,null,null,null,null,null,null,null,null,null,null,null,null,null,null,null,null,null,null,null,null,null,null,null,null,null,null,null,null,null,null,null,null,null,null,null,null,null,null,null,null,null,null,null,null,null,null,null,null,null,null,null,null,null,null,null,null,null,null,null,null,null,null,null,null,null,null,null,null,null,null,null,null,null,null,null,null,null,null,null,null,null,null,null,null,null,null,null,null,null,null,null,null,null,null,null,null,null,null,null,null,null,null,null,null,null,null,null,null,null,null,null,null,null,null,null,null,null,null,null,null,null,null,null,null,null,null,null,null,null,null,null,null,null,null,null,null,null,null,null,null,null,null,null,null,null,null,null,null,null,null,null,null,null,null,null,null,null,null,null,null,null,null,null,null,null,null,null,null,null,null,null,null,null,null,null,null,null,null,null,null,null,null,null,null,null,null,null,null,null,null,null,null,null,null,null,null,null,null,null,null,null,null,null,null,null,null,null,null,null,null,null,null,null,null,null,null,null,null,null,null,null,null,null,null,null,null,null,null,null,null,"Palms",null,null,"TomatoesT24"]
["2014-06-29",null,null,null,null,null,0,0,0,{"$f":"IF(AND(Caluations!$F61>7,Caluations!$F61<>FALSE),\"\",IF($E73=\"\",(Caluations!$H61/$H72)*100,$I72/$H72*100))","v":{"$error":"#VALUE!"}},{"$error":"#VALUE!"},{"$f":"IF(Caluations!$J61<0,0,Caluations!$J61)","v":1.0331060514858939},null,"VC",{"$f":"IF(AND($E72=\"\",Caluations!$F61<8),$N72*$F72,0)","v":0},null,"VE",null,null,null,null,null,null,null,null,null,null,null,null,null,null,null,null,null,null,null,null,null,null,null,null,null,null,null,null,null,null,null,null,null,null,null,null,null,null,null,null,null,null,null,null,null,null,null,null,null,null,null,null,null,null,null,null,null,null,null,null,null,null,null,null,null,null,null,null,null,null,null,null,null,null,null,null,null,null,null,null,null,null,null,null,null,null,null,null,null,null,null,null,null,null,null,null,null,null,null,null,null,null,null,null,null,null,null,null,null,null,null,null,null,null,null,null,null,null,null,null,null,null,null,null,null,null,null,null,null,null,null,null,null,null,null,null,null,null,null,null,null,null,null,null,null,null,null,null,null,null,null,null,null,null,null,null,null,null,null,null,null,null,null,null,null,null,null,null,null,null,null,null,null,null,null,null,null,null,null,null,null,null,null,null,null,null,null,null,null,null,null,null,null,null,null,null,null,null,null,null,null,null,null,null,null,null,null,null,null,null,null,null,null,null,null,null,null,null,null,null,null,null,null,null,null,null,null,null,null,null,null,null,null,"Palo",null,null,"Wheat"]
["2014-06-30",null,null,null,null,null,0,0,0,{"$f":"IF(AND(Caluations!$F62>7,Caluations!$F62<>FALSE),\"\",IF($E74=\"\",(Caluations!$H62/$H73)*100,$I73/$H73*100))","v":{"$error":"#VALUE!"}},{"$error":"#VALUE!"},{"$f":"IF(Caluations!$J62<0,0,Caluations!$J62)","v":1.233506051485894},null,"VC",{"$f":"IF(AND($E73=\"\",Caluations!$F62<8),$N73*$F73,0)","v":0},null,"VE",null,null,null,null,null,null,null,null,null,null,null,null,null,null,null,null,null,null,null,null,null,null,null,null,null,null,null,null,null,null,null,null,null,null,null,null,null,null,null,null,null,null,null,null,null,null,null,null,null,null,null,null,null,null,null,null,null,null,null,null,null,null,null,null,null,null,null,null,null,null,null,null,null,null,null,null,null,null,null,null,null,null,null,null,null,null,null,null,null,null,null,null,null,null,null,null,null,null,null,null,null,null,null,null,null,null,null,null,null,null,null,null,null,null,null,null,null,null,null,null,null,null,null,null,null,null,null,null,null,null,null,null,null,null,null,null,null,null,null,null,null,null,null,null,null,null,null,null,null,null,null,null,null,null,null,null,null,null,null,null,null,null,null,null,null,null,null,null,null,null,null,null,null,null,null,null,null,null,null,null,null,null,null,null,null,null,null,null,null,null,null,null,null,null,null,null,null,null,null,null,null,null,null,null,null,null,null,null,null,null,null,null,null,null,null,null,null,null,null,null,null,null,null,null,null,null,null,null,null,null,null,null,null,"Parkhill"]
["2014-07-01",null,null,null,null,null,0,0,0,{"$f":"IF(AND(Caluations!$F63>7,Caluations!$F63<>FALSE),\"\",IF($E75=\"\",(Caluations!$H63/$H74)*100,$I74/$H74*100))","v":{"$error":"#VALUE!"}},{"$error":"#VALUE!"},{"$f":"IF(Caluations!$J63<0,0,Caluations!$J63)","v":1.3727060514858938},null,"VC",{"$f":"IF(AND($E74=\"\",Caluations!$F63<8),$N74*$F74,0)","v":0},null,"VE",null,null,null,null,null,null,null,null,null,null,null,null,null,null,null,null,null,null,null,null,null,null,null,null,null,null,null,null,null,null,null,null,null,null,null,null,null,null,null,null,null,null,null,null,null,null,null,null,null,null,null,null,null,null,null,null,null,null,null,null,null,null,null,null,null,null,null,null,null,null,null,null,null,null,null,null,null,null,null,null,null,null,null,null,null,null,null,null,null,null,null,null,null,null,null,null,null,null,null,null,null,null,null,null,null,null,null,null,null,null,null,null,null,null,null,null,null,null,null,null,null,null,null,null,null,null,null,null,null,null,null,null,null,null,null,null,null,null,null,null,null,null,null,null,null,null,null,null,null,null,null,null,null,null,null,null,null,null,null,null,null,null,null,null,null,null,null,null,null,null,null,null,null,null,null,null,null,null,null,null,null,null,null,null,null,null,null,null,null,null,null,null,null,null,null,null,null,null,null,null,null,null,null,null,null,null,null,null,null,null,null,null,null,null,null,null,null,null,null,null,null,null,null,null,null,null,null,null,null,null,null,null,null,"Perrington"]
["2014-07-02",null,null,null,null,null,0,0,0,{"$f":"IF(AND(Caluations!$F64>7,Caluations!$F64<>FALSE),\"\",IF($E76=\"\",(Caluations!$H64/$H75)*100,$I75/$H75*100))","v":{"$error":"#VALUE!"}},{"$error":"#VALUE!"},{"$f":"IF(Caluations!$J64<0,0,Caluations!$J64)","v":1.5071060514858936},null,"VC",{"$f":"IF(AND($E75=\"\",Caluations!$F64<8),$N75*$F75,0)","v":0},null,"VE",null,null,null,null,null,null,null,null,null,null,null,null,null,null,null,null,null,null,null,null,null,null,null,null,null,null,null,null,null,null,null,null,null,null,null,null,null,null,null,null,null,null,null,null,null,null,null,null,null,null,null,null,null,null,null,null,null,null,null,null,null,null,null,null,null,null,null,null,null,null,null,null,null,null,null,null,null,null,null,null,null,null,null,null,null,null,null,null,null,null,null,null,null,null,null,null,null,null,null,null,null,null,null,null,null,null,null,null,null,null,null,null,null,null,null,null,null,null,null,null,null,null,null,null,null,null,null,null,null,null,null,null,null,null,null,null,null,null,null,null,null,null,null,null,null,null,null,null,null,null,null,null,null,null,null,null,null,null,null,null,null,null,null,null,null,null,null,null,null,null,null,null,null,null,null,null,null,null,null,null,null,null,null,null,null,null,null,null,null,null,null,null,null,null,null,null,null,null,null,null,null,null,null,null,null,null,null,null,null,null,null,null,null,null,null,null,null,null,null,null,null,null,null,null,null,null,null,null,null,null,null,null,null,"Pipestone"]
["2014-07-03",null,null,null,null,null,0,0,0,{"$f":"IF(AND(Caluations!$F65>7,Caluations!$F65<>FALSE),\"\",IF($E77=\"\",(Caluations!$H65/$H76)*100,$I76/$H76*100))","v":{"$error":"#VALUE!"}},{"$error":"#VALUE!"},{"$f":"IF(Caluations!$J65<0,0,Caluations!$J65)","v":1.7243060514858937},null,"VC",{"$f":"IF(AND($E76=\"\",Caluations!$F65<8),$N76*$F76,0)","v":0},null,"VE",null,null,null,null,null,null,null,null,null,null,null,null,null,null,null,null,null,null,null,null,null,null,null,null,null,null,null,null,null,null,null,null,null,null,null,null,null,null,null,null,null,null,null,null,null,null,null,null,null,null,null,null,null,null,null,null,null,null,null,null,null,null,null,null,null,null,null,null,null,null,null,null,null,null,null,null,null,null,null,null,null,null,null,null,null,null,null,null,null,null,null,null,null,null,null,null,null,null,null,null,null,null,null,null,null,null,null,null,null,null,null,null,null,null,null,null,null,null,null,null,null,null,null,null,null,null,null,null,null,null,null,null,null,null,null,null,null,null,null,null,null,null,null,null,null,null,null,null,null,null,null,null,null,null,null,null,null,null,null,null,null,null,null,null,null,null,null,null,null,null,null,null,null,null,null,null,null,null,null,null,null,null,null,null,null,null,null,null,null,null,null,null,null,null,null,null,null,null,null,null,null,null,null,null,null,null,null,null,null,null,null,null,null,null,null,null,null,null,null,null,null,null,null,null,null,null,null,null,null,null,null,null,null,"Pipestone-Kingsville"]
["2014-07-04",null,null,null,null,null,0,0,0,{"$f":"IF(AND(Caluations!$F66>7,Caluations!$F66<>FALSE),\"\",IF($E78=\"\",(Caluations!$H66/$H77)*100,$I77/$H77*100))","v":{"$error":"#VALUE!"}},{"$error":"#VALUE!"},{"$f":"IF(Caluations!$J66<0,0,Caluations!$J66)","v":1.9415060514858937},null,"VC",{"$f":"IF(AND($E77=\"\",Caluations!$F66<8),$N77*$F77,0)","v":0},null,"VE",null,null,null,null,null,null,null,null,null,null,null,null,null,null,null,null,null,null,null,null,null,null,null,null,null,null,null,null,null,null,null,null,null,null,null,null,null,null,null,null,null,null,null,null,null,null,null,null,null,null,null,null,null,null,null,null,null,null,null,null,null,null,null,null,null,null,null,null,null,null,null,null,null,null,null,null,null,null,null,null,null,null,null,null,null,null,null,null,null,null,null,null,null,null,null,null,null,null,null,null,null,null,null,null,null,null,null,null,null,null,null,null,null,null,null,null,null,null,null,null,null,null,null,null,null,null,null,null,null,null,null,null,null,null,null,null,null,null,null,null,null,null,null,null,null,null,null,null,null,null,null,null,null,null,null,null,null,null,null,null,null,null,null,null,null,null,null,null,null,null,null,null,null,null,null,null,null,null,null,null,null,null,null,null,null,null,null,null,null,null,null,null,null,null,null,null,null,null,null,null,null,null,null,null,null,null,null,null,null,null,null,null,null,null,null,null,null,null,null,null,null,null,null,null,null,null,null,null,null,null,null,null,null,"Plainfield"]
["2014-07-05",null,null,null,null,null,0,0,0,{"$f":"IF(AND(Caluations!$F67>7,Caluations!$F67<>FALSE),\"\",IF($E79=\"\",(Caluations!$H67/$H78)*100,$I78/$H78*100))","v":{"$error":"#VALUE!"}},{"$error":"#VALUE!"},{"$f":"IF(Caluations!$J67<0,0,Caluations!$J67)","v":2.1431060514858937},null,"VC",{"$f":"IF(AND($E78=\"\",Caluations!$F67<8),$N78*$F78,0)","v":0},null,"VE",null,null,null,null,null,null,null,null,null,null,null,null,null,null,null,null,null,null,null,null,null,null,null,null,null,null,null,null,null,null,null,null,null,null,null,null,null,null,null,null,null,null,null,null,null,null,null,null,null,null,null,null,null,null,null,null,null,null,null,null,null,null,null,null,null,null,null,null,null,null,null,null,null,null,null,null,null,null,null,null,null,null,null,null,null,null,null,null,null,null,null,null,null,null,null,null,null,null,null,null,null,null,null,null,null,null,null,null,null,null,null,null,null,null,null,null,null,null,null,null,null,null,null,null,null,null,null,null,null,null,null,null,null,null,null,null,null,null,null,null,null,null,null,null,null,null,null,null,null,null,null,null,null,null,null,null,null,null,null,null,null,null,null,null,null,null,null,null,null,null,null,null,null,null,null,null,null,null,null,null,null,null,null,null,null,null,null,null,null,null,null,null,null,null,null,null,null,null,null,null,null,null,null,null,null,null,null,null,null,null,null,null,null,null,null,null,null,null,null,null,null,null,null,null,null,null,null,null,null,null,null,null,null,"Poseyville"]
["2014-07-06",null,null,null,null,null,0,0,0,{"$f":"IF(AND(Caluations!$F68>7,Caluations!$F68<>FALSE),\"\",IF($E80=\"\",(Caluations!$H68/$H79)*100,$I79/$H79*100))","v":{"$error":"#VALUE!"}},{"$error":"#VALUE!"},{"$f":"IF(Caluations!$J68<0,0,Caluations!$J68)","v":2.3279853531449168},null,"VC",{"$f":"IF(AND($E79=\"\",Caluations!$F68<8),$N79*$F79,0)","v":0},null,"VE",null,null,null,null,null,null,null,null,null,null,null,null,null,null,null,null,null,null,null,null,null,null,null,null,null,null,null,null,null,null,null,null,null,null,null,null,null,null,null,null,null,null,null,null,null,null,null,null,null,null,null,null,null,null,null,null,null,null,null,null,null,null,null,null,null,null,null,null,null,null,null,null,null,null,null,null,null,null,null,null,null,null,null,null,null,null,null,null,null,null,null,null,null,null,null,null,null,null,null,null,null,null,null,null,null,null,null,null,null,null,null,null,null,null,null,null,null,null,null,null,null,null,null,null,null,null,null,null,null,null,null,null,null,null,null,null,null,null,null,null,null,null,null,null,null,null,null,null,null,null,null,null,null,null,null,null,null,null,null,null,null,null,null,null,null,null,null,null,null,null,null,null,null,null,null,null,null,null,null,null,null,null,null,null,null,null,null,null,null,null,null,null,null,null,null,null,null,null,null,null,null,null,null,null,null,null,null,null,null,null,null,null,null,null,null,null,null,null,null,null,null,null,null,null,null,null,null,null,null,null,null,null,null,"Remus"]
["2014-07-07",null,null,null,null,null,0,0,0,{"$f":"IF(AND(Caluations!$F69>7,Caluations!$F69<>FALSE),\"\",IF($E81=\"\",(Caluations!$H69/$H80)*100,$I80/$H80*100))","v":{"$error":"#DIV/0!"}},{"$error":"#DIV/0!"},{"$f":"IF(Caluations!$J69<0,0,Caluations!$J69)","v":2.419887747884137},null,"VC",{"$f":"IF(AND($E80=\"\",Caluations!$F69<8),$N80*$F80,0)","v":0},null,"VE",null,null,null,null,null,null,null,null,null,null,null,null,null,null,null,null,null,null,null,null,null,null,null,null,null,null,null,null,null,null,null,null,null,null,null,null,null,null,null,null,null,null,null,null,null,null,null,null,null,null,null,null,null,null,null,null,null,null,null,null,null,null,null,null,null,null,null,null,null,null,null,null,null,null,null,null,null,null,null,null,null,null,null,null,null,null,null,null,null,null,null,null,null,null,null,null,null,null,null,null,null,null,null,null,null,null,null,null,null,null,null,null,null,null,null,null,null,null,null,null,null,null,null,null,null,null,null,null,null,null,null,null,null,null,null,null,null,null,null,null,null,null,null,null,null,null,null,null,null,null,null,null,null,null,null,null,null,null,null,null,null,null,null,null,null,null,null,null,null,null,null,null,null,null,null,null,null,null,null,null,null,null,null,null,null,null,null,null,null,null,null,null,null,null,null,null,null,null,null,null,null,null,null,null,null,null,null,null,null,null,null,null,null,null,null,null,null,null,null,null,null,null,null,null,null,null,null,null,null,null,null,null,null,"Rifle"]
["2014-07-08",null,null,null,null,null,0,0,0,{"$f":"IF(AND(Caluations!$F70>7,Caluations!$F70<>FALSE),\"\",IF($E82=\"\",(Caluations!$H70/$H81)*100,$I81/$H81*100))","v":{"$error":"#DIV/0!"}},{"$error":"#DIV/0!"},{"$f":"IF(Caluations!$J70<0,0,Caluations!$J70)","v":2.6466877478841369},null,"VC",{"$f":"IF(AND($E81=\"\",Caluations!$F70<8),$N81*$F81,0)","v":{"$error":"#VALUE!"}},null,"VE",null,null,null,null,null,null,null,null,null,null,null,null,null,null,null,null,null,null,null,null,null,null,null,null,null,null,null,null,null,null,null,null,null,null,null,null,null,null,null,null,null,null,null,null,null,null,null,null,null,null,null,null,null,null,null,null,null,null,null,null,null,null,null,null,null,null,null,null,null,null,null,null,null,null,null,null,null,null,null,null,null,null,null,null,null,null,null,null,null,null,null,null,null,null,null,null,null,null,null,null,null,null,null,null,null,null,null,null,null,null,null,null,null,null,null,null,null,null,null,null,null,null,null,null,null,null,null,null,null,null,null,null,null,null,null,null,null,null,null,null,null,null,null,null,null,null,null,null,null,null,null,null,null,null,null,null,null,null,null,null,null,null,null,null,null,null,null,null,null,null,null,null,null,null,null,null,null,null,null,null,null,null,null,null,null,null,null,null,null,null,null,null,null,null,null,null,null,null,null,null,null,null,null,null,null,null,null,null,null,null,null,null,null,null,null,null,null,null,null,null,null,null,null,null,null,null,null,null,null,null,null,null,null,"Riverdale"]
["2014-07-09",null,null,null,null,null,0,0,0,{"$f":"IF(AND(Caluations!$F71>7,Caluations!$F71<>FALSE),\"\",IF($E83=\"\",(Caluations!$H71/$H82)*100,$I82/$H82*100))","v":{"$error":"#DIV/0!"}},{"$error":"#DIV/0!"},{"$f":"IF(Caluations!$J71<0,0,Caluations!$J71)","v":2.8494877478841367},null,"VC",{"$f":"IF(AND($E82=\"\",Caluations!$F71<8),$N82*$F82,0)","v":{"$error":"#VALUE!"}},null,"VE",null,null,null,null,null,null,null,null,null,null,null,null,null,null,null,null,null,null,null,null,null,null,null,null,null,null,null,null,null,null,null,null,null,null,null,null,null,null,null,null,null,null,null,null,null,null,null,null,null,null,null,null,null,null,null,null,null,null,null,null,null,null,null,null,null,null,null,null,null,null,null,null,null,null,null,null,null,null,null,null,null,null,null,null,null,null,null,null,null,null,null,null,null,null,null,null,null,null,null,null,null,null,null,null,null,null,null,null,null,null,null,null,null,null,null,null,null,null,null,null,null,null,null,null,null,null,null,null,null,null,null,null,null,null,null,null,null,null,null,null,null,null,null,null,null,null,null,null,null,null,null,null,null,null,null,null,null,null,null,null,null,null,null,null,null,null,null,null,null,null,null,null,null,null,null,null,null,null,null,null,null,null,null,null,null,null,null,null,null,null,null,null,null,null,null,null,null,null,null,null,null,null,null,null,null,null,null,null,null,null,null,null,null,null,null,null,null,null,null,null,null,null,null,null,null,null,null,null,null,null,null,null,null,"Ronald"]
["2014-07-10",null,null,null,null,null,0,0,0,{"$f":"IF(AND(Caluations!$F72>7,Caluations!$F72<>FALSE),\"\",IF($E84=\"\",(Caluations!$H72/$H83)*100,$I83/$H83*100))","v":{"$error":"#DIV/0!"}},{"$error":"#DIV/0!"},{"$f":"IF(Caluations!$J72<0,0,Caluations!$J72)","v":3.0354877478841367},null,"VC",{"$f":"IF(AND($E83=\"\",Caluations!$F72<8),$N83*$F83,0)","v":{"$error":"#VALUE!"}},null,"VE",null,null,null,null,null,null,null,null,null,null,null,null,null,null,null,null,null,null,null,null,null,null,null,null,null,null,null,null,null,null,null,null,null,null,null,null,null,null,null,null,null,null,null,null,null,null,null,null,null,null,null,null,null,null,null,null,null,null,null,null,null,null,null,null,null,null,null,null,null,null,null,null,null,null,null,null,null,null,null,null,null,null,null,null,null,null,null,null,null,null,null,null,null,null,null,null,null,null,null,null,null,null,null,null,null,null,null,null,null,null,null,null,null,null,null,null,null,null,null,null,null,null,null,null,null,null,null,null,null,null,null,null,null,null,null,null,null,null,null,null,null,null,null,null,null,null,null,null,null,null,null,null,null,null,null,null,null,null,null,null,null,null,null,null,null,null,null,null,null,null,null,null,null,null,null,null,null,null,null,null,null,null,null,null,null,null,null,null,null,null,null,null,null,null,null,null,null,null,null,null,null,null,null,null,null,null,null,null,null,null,null,null,null,null,null,null,null,null,null,null,null,null,null,null,null,null,null,null,null,null,null,null,null,"Roscommon"]
[{"$f":"1+A83","v":"2014-07-11"},null,null,null,null,null,0,0,0,{"$f":"IF(AND(Caluations!$F73>7,Caluations!$F73<>FALSE),\"\",IF($E85=\"\",(Caluations!$H73/$H84)*100,$I84/$H84*100))","v":{"$error":"#DIV/0!"}},{"$f":"IF(OR($J84<103,$E84=\"\"),0,$C84+$D84+$I83-$G84-($H84*1.03))","v":{"$error":"#DIV/0!"}},{"$f":"IF(Caluations!$J73<0,0,Caluations!$J73)","v":3.1998877478841368},null,"VC",{"$f":"IF(AND($E84=\"\",Caluations!$F73<8),$N84*$F84,0)","v":{"$error":"#VALUE!"}},null,{"$f":"+VLOOKUP(P84,$T$19:$U$40,2)","v":"VE"},null,null,null,null,null,null,null,null,null,null,null,null,null,null,null,null,null,null,null,null,null,null,null,null,null,null,null,null,null,null,null,null,null,null,null,null,null,null,null,null,null,null,null,null,null,null,null,null,null,null,null,null,null,null,null,null,null,null,null,null,null,null,null,null,null,null,null,null,null,null,null,null,null,null,null,null,null,null,null,null,null,null,null,null,null,null,null,null,null,null,null,null,null,null,null,null,null,null,null,null,null,null,null,null,null,null,null,null,null,null,null,null,null,null,null,null,null,null,null,null,null,null,null,null,null,null,null,null,null,null,null,null,null,null,null,null,null,null,null,null,null,null,null,null,null,null,null,null,null,null,null,null,null,null,null,null,null,null,null,null,null,null,null,null,null,null,null,null,null,null,null,null,null,null,null,null,null,null,null,null,null,null,null,null,null,null,null,null,null,null,null,null,null,null,null,null,null,null,null,null,null,null,null,null,null,null,null,null,null,null,null,null,null,null,null,null,null,null,null,null,null,null,null,null,null,null,null,null,null,null,null,null,null,"Rousseau"]
["2014-07-12",null,null,null,null,null,{"$f":"$F85*$E85","v":0},{"$f":"IF($B85<=6,$B85*$B$12,IF($B85<=12,6*$B$12+($B85-6)*$C$12,IF($B85<=18,6*$B$12+6*$C$12+($B85-12)*$D$12,IF($B85<=24,6*$B$12+6*$C$12+6*$D$12+($B85-18)*$E$12,IF($B85<=30,6*$B$12+6*$C$12+6*$D$12+6*$E$12+($B85-24)*$F$12,IF($B85<=36,6*$B$12+6*$C$12+6*$D$12+6*$E$12+6*$F$12+($B85-30)*$G$12,IF($B85<=42,6*$B$12+6*$C$12+6*$D$12+6*$E$12+6*$F$12+6*$G$12+($B85-36)*$H$12,IF($B85<=48,6*$B$12+6*$C$12+6*$D$12+6*$E$12+6*$F$12+6*$G$12+6*$H$12+(F85-42)*$I$12,\"rootdepth>48in\"))))))))","v":0},{"$f":"MAX(IF(($I84+$C85+$D85-$G85)+(($H85-$H84)*$B$13/100)>($H85*1.03),($H85*1.03),($I84+$C85+$D85-$G85)+(($H85-$H84)*$B$13/100)),0)","v":0},{"$f":"IF(AND(Caluations!$F74>7,Caluations!$F74<>FALSE),\"\",IF($E86=\"\",(Caluations!$H74/$H85)*100,$I85/$H85*100))","v":{"$error":"#DIV/0!"}},{"$error":"#DIV/0!"},{"$f":"IF(Caluations!$J74<0,0,Caluations!$J74)","v":3.1998877478841368},null,"VC",{"$f":"IF(AND($E85=\"\",Caluations!$F74<8),$N85*$F85,0)","v":{"$error":"#VALUE!"}},null,"VE",null,null,null,null,null,null,null,null,null,null,null,null,null,null,null,null,null,null,null,null,null,null,null,null,null,null,null,null,null,null,null,null,null,null,null,null,null,null,null,null,null,null,null,null,null,null,null,null,null,null,null,null,null,null,null,null,null,null,null,null,null,null,null,null,null,null,null,null,null,null,null,null,null,null,null,null,null,null,null,null,null,null,null,null,null,null,null,null,null,null,null,null,null,null,null,null,null,null,null,null,null,null,null,null,null,null,null,null,null,null,null,null,null,null,null,null,null,null,null,null,null,null,null,null,null,null,null,null,null,null,null,null,null,null,null,null,null,null,null,null,null,null,null,null,null,null,null,null,null,null,null,null,null,null,null,null,null,null,null,null,null,null,null,null,null,null,null,null,null,null,null,null,null,null,null,null,null,null,null,null,null,null,null,null,null,null,null,null,null,null,null,null,null,null,null,null,null,null,null,null,null,null,null,null,null,null,null,null,null,null,null,null,null,null,null,null,null,null,null,null,null,null,null,null,null,null,null,null,null,null,null,null,null,"Sandy Loam"]
["2014-07-13",null,null,null,null,null,0,0,0,{"$f":"IF(AND(Caluations!$F75>7,Caluations!$F75<>FALSE),\"\",IF($E87=\"\",(Caluations!$H75/$H86)*100,$I86/$H86*100))","v":{"$error":"#VALUE!"}},{"$error":"#VALUE!"},{"$f":"IF(Caluations!$J75<0,0,Caluations!$J75)","v":""},null,"VC",{"$f":"IF(AND($E86=\"\",Caluations!$F75<8),$N86*$F86,0)","v":{"$error":"#VALUE!"}},null,"VE",null,null,null,null,null,null,null,null,null,null,null,null,null,null,null,null,null,null,null,null,null,null,null,null,null,null,null,null,null,null,null,null,null,null,null,null,null,null,null,null,null,null,null,null,null,null,null,null,null,null,null,null,null,null,null,null,null,null,null,null,null,null,null,null,null,null,null,null,null,null,null,null,null,null,null,null,null,null,null,null,null,null,null,null,null,null,null,null,null,null,null,null,null,null,null,null,null,null,null,null,null,null,null,null,null,null,null,null,null,null,null,null,null,null,null,null,null,null,null,null,null,null,null,null,null,null,null,null,null,null,null,null,null,null,null,null,null,null,null,null,null,null,null,null,null,null,null,null,null,null,null,null,null,null,null,null,null,null,null,null,null,null,null,null,null,null,null,null,null,null,null,null,null,null,null,null,null,null,null,null,null,null,null,null,null,null,null,null,null,null,null,null,null,null,null,null,null,null,null,null,null,null,null,null,null,null,null,null,null,null,null,null,null,null,null,null,null,null,null,null,null,null,null,null,null,null,null,null,null,null,null,null,null,"Sandy Loam / Coarse Loam"]
["2014-07-14",null,null,null,null,null,0,0,0,{"$f":"IF(AND(Caluations!$F76>7,Caluations!$F76<>FALSE),\"\",IF($E88=\"\",(Caluations!$H76/$H87)*100,$I87/$H87*100))","v":{"$error":"#VALUE!"}},{"$error":"#VALUE!"},{"$f":"IF(Caluations!$J76<0,0,Caluations!$J76)","v":""},null,"VC",{"$f":"IF(AND($E87=\"\",Caluations!$F76<8),$N87*$F87,0)","v":{"$error":"#VALUE!"}},null,"VE",null,null,null,null,null,null,null,null,null,null,null,null,null,null,null,null,null,null,null,null,null,null,null,null,null,null,null,null,null,null,null,null,null,null,null,null,null,null,null,null,null,null,null,null,null,null,null,null,null,null,null,null,null,null,null,null,null,null,null,null,null,null,null,null,null,null,null,null,null,null,null,null,null,null,null,null,null,null,null,null,null,null,null,null,null,null,null,null,null,null,null,null,null,null,null,null,null,null,null,null,null,null,null,null,null,null,null,null,null,null,null,null,null,null,null,null,null,null,null,null,null,null,null,null,null,null,null,null,null,null,null,null,null,null,null,null,null,null,null,null,null,null,null,null,null,null,null,null,null,null,null,null,null,null,null,null,null,null,null,null,null,null,null,null,null,null,null,null,null,null,null,null,null,null,null,null,null,null,null,null,null,null,null,null,null,null,null,null,null,null,null,null,null,null,null,null,null,null,null,null,null,null,null,null,null,null,null,null,null,null,null,null,null,null,null,null,null,null,null,null,null,null,null,null,null,null,null,null,null,null,null,null,null,"Saugatauk"]
["2014-07-15",null,null,null,null,null,0,0,0,{"$f":"IF(AND(Caluations!$F77>7,Caluations!$F77<>FALSE),\"\",IF($E89=\"\",(Caluations!$H77/$H88)*100,$I88/$H88*100))","v":""},0,{"$f":"IF(Caluations!$J77<0,0,Caluations!$J77)","v":""},null,"VC",{"$f":"IF(AND($E88=\"\",Caluations!$F77<8),$N88*$F88,0)","v":0},null,"VE",null,null,null,null,null,null,null,null,null,null,null,null,null,null,null,null,null,null,null,null,null,null,null,null,null,null,null,null,null,null,null,null,null,null,null,null,null,null,null,null,null,null,null,null,null,null,null,null,null,null,null,null,null,null,null,null,null,null,null,null,null,null,null,null,null,null,null,null,null,null,null,null,null,null,null,null,null,null,null,null,null,null,null,null,null,null,null,null,null,null,null,null,null,null,null,null,null,null,null,null,null,null,null,null,null,null,null,null,null,null,null,null,null,null,null,null,null,null,null,null,null,null,null,null,null,null,null,null,null,null,null,null,null,null,null,null,null,null,null,null,null,null,null,null,null,null,null,null,null,null,null,null,null,null,null,null,null,null,null,null,null,null,null,null,null,null,null,null,null,null,null,null,null,null,null,null,null,null,null,null,null,null,null,null,null,null,null,null,null,null,null,null,null,null,null,null,null,null,null,null,null,null,null,null,null,null,null,null,null,null,null,null,null,null,null,null,null,null,null,null,null,null,null,null,null,null,null,null,null,null,null,null,null,"Schoolcraft"]
["2014-07-16",null,null,null,null,null,0,0,0,{"$f":"IF(AND(Caluations!$F78>7,Caluations!$F78<>FALSE),\"\",IF($E90=\"\",(Caluations!$H78/$H89)*100,$I89/$H89*100))","v":""},0,{"$f":"IF(Caluations!$J78<0,0,Caluations!$J78)","v":""},null,"VC",{"$f":"IF(AND($E89=\"\",Caluations!$F78<8),$N89*$F89,0)","v":0},null,"VE",null,null,null,null,null,null,null,null,null,null,null,null,null,null,null,null,null,null,null,null,null,null,null,null,null,null,null,null,null,null,null,null,null,null,null,null,null,null,null,null,null,null,null,null,null,null,null,null,null,null,null,null,null,null,null,null,null,null,null,null,null,null,null,null,null,null,null,null,null,null,null,null,null,null,null,null,null,null,null,null,null,null,null,null,null,null,null,null,null,null,null,null,null,null,null,null,null,null,null,null,null,null,null,null,null,null,null,null,null,null,null,null,null,null,null,null,null,null,null,null,null,null,null,null,null,null,null,null,null,null,null,null,null,null,null,null,null,null,null,null,null,null,null,null,null,null,null,null,null,null,null,null,null,null,null,null,null,null,null,null,null,null,null,null,null,null,null,null,null,null,null,null,null,null,null,null,null,null,null,null,null,null,null,null,null,null,null,null,null,null,null,null,null,null,null,null,null,null,null,null,null,null,null,null,null,null,null,null,null,null,null,null,null,null,null,null,null,null,null,null,null,null,null,null,null,null,null,null,null,null,null,null,null,"Shebeon"]
["2014-07-17",null,null,null,null,null,0,0,0,{"$f":"IF(AND(Caluations!$F79>7,Caluations!$F79<>FALSE),\"\",IF($E91=\"\",(Caluations!$H79/$H90)*100,$I90/$H90*100))","v":""},0,{"$f":"IF(Caluations!$J79<0,0,Caluations!$J79)","v":""},null,"VC",{"$f":"IF(AND($E90=\"\",Caluations!$F79<8),$N90*$F90,0)","v":0},null,"VE",null,null,null,null,null,null,null,null,null,null,null,null,null,null,null,null,null,null,null,null,null,null,null,null,null,null,null,null,null,null,null,null,null,null,null,null,null,null,null,null,null,null,null,null,null,null,null,null,null,null,null,null,null,null,null,null,null,null,null,null,null,null,null,null,null,null,null,null,null,null,null,null,null,null,null,null,null,null,null,null,null,null,null,null,null,null,null,null,null,null,null,null,null,null,null,null,null,null,null,null,null,null,null,null,null,null,null,null,null,null,null,null,null,null,null,null,null,null,null,null,null,null,null,null,null,null,null,null,null,null,null,null,null,null,null,null,null,null,null,null,null,null,null,null,null,null,null,null,null,null,null,null,null,null,null,null,null,null,null,null,null,null,null,null,null,null,null,null,null,null,null,null,null,null,null,null,null,null,null,null,null,null,null,null,null,null,null,null,null,null,null,null,null,null,null,null,null,null,null,null,null,null,null,null,null,null,null,null,null,null,null,null,null,null,null,null,null,null,null,null,null,null,null,null,null,null,null,null,null,null,null,null,null,"Sims"]
["2014-07-18",null,null,null,null,null,0,0,0,{"$f":"IF(AND(Caluations!$F80>7,Caluations!$F80<>FALSE),\"\",IF($E92=\"\",(Caluations!$H80/$H91)*100,$I91/$H91*100))","v":""},0,{"$f":"IF(Caluations!$J80<0,0,Caluations!$J80)","v":""},null,"VC",{"$f":"IF(AND($E91=\"\",Caluations!$F80<8),$N91*$F91,0)","v":0},null,"VE",null,null,null,null,null,null,null,null,null,null,null,null,null,null,null,null,null,null,null,null,null,null,null,null,null,null,null,null,null,null,null,null,null,null,null,null,null,null,null,null,null,null,null,null,null,null,null,null,null,null,null,null,null,null,null,null,null,null,null,null,null,null,null,null,null,null,null,null,null,null,null,null,null,null,null,null,null,null,null,null,null,null,null,null,null,null,null,null,null,null,null,null,null,null,null,null,null,null,null,null,null,null,null,null,null,null,null,null,null,null,null,null,null,null,null,null,null,null,null,null,null,null,null,null,null,null,null,null,null,null,null,null,null,null,null,null,null,null,null,null,null,null,null,null,null,null,null,null,null,null,null,null,null,null,null,null,null,null,null,null,null,null,null,null,null,null,null,null,null,null,null,null,null,null,null,null,null,null,null,null,null,null,null,null,null,null,null,null,null,null,null,null,null,null,null,null,null,null,null,null,null,null,null,null,null,null,null,null,null,null,null,null,null,null,null,null,null,null,null,null,null,null,null,null,null,null,null,null,null,null,null,null,null,"Sparta"]
["2014-07-19",null,null,null,null,null,0,0,0,{"$f":"IF(AND(Caluations!$F81>7,Caluations!$F81<>FALSE),\"\",IF($E93=\"\",(Caluations!$H81/$H92)*100,$I92/$H92*100))","v":""},0,{"$f":"IF(Caluations!$J81<0,0,Caluations!$J81)","v":""},null,"VC",{"$f":"IF(AND($E92=\"\",Caluations!$F81<8),$N92*$F92,0)","v":0},null,"VE",null,null,null,null,null,null,null,null,null,null,null,null,null,null,null,null,null,null,null,null,null,null,null,null,null,null,null,null,null,null,null,null,null,null,null,null,null,null,null,null,null,null,null,null,null,null,null,null,null,null,null,null,null,null,null,null,null,null,null,null,null,null,null,null,null,null,null,null,null,null,null,null,null,null,null,null,null,null,null,null,null,null,null,null,null,null,null,null,null,null,null,null,null,null,null,null,null,null,null,null,null,null,null,null,null,null,null,null,null,null,null,null,null,null,null,null,null,null,null,null,null,null,null,null,null,null,null,null,null,null,null,null,null,null,null,null,null,null,null,null,null,null,null,null,null,null,null,null,null,null,null,null,null,null,null,null,null,null,null,null,null,null,null,null,null,null,null,null,null,null,null,null,null,null,null,null,null,null,null,null,null,null,null,null,null,null,null,null,null,null,null,null,null,null,null,null,null,null,null,null,null,null,null,null,null,null,null,null,null,null,null,null,null,null,null,null,null,null,null,null,null,null,null,null,null,null,null,null,null,null,null,null,null,"Spinks"]
["2014-07-20",null,null,null,null,null,0,0,0,{"$f":"IF(AND(Caluations!$F82>7,Caluations!$F82<>FALSE),\"\",IF($E94=\"\",(Caluations!$H82/$H93)*100,$I93/$H93*100))","v":""},0,{"$f":"IF(Caluations!$J82<0,0,Caluations!$J82)","v":""},null,"VC",{"$f":"IF(AND($E93=\"\",Caluations!$F82<8),$N93*$F93,0)","v":0},null,"VE",null,null,null,null,null,null,null,null,null,null,null,null,null,null,null,null,null,null,null,null,null,null,null,null,null,null,null,null,null,null,null,null,null,null,null,null,null,null,null,null,null,null,null,null,null,null,null,null,null,null,null,null,null,null,null,null,null,null,null,null,null,null,null,null,null,null,null,null,null,null,null,null,null,null,null,null,null,null,null,null,null,null,null,null,null,null,null,null,null,null,null,null,null,null,null,null,null,null,null,null,null,null,null,null,null,null,null,null,null,null,null,null,null,null,null,null,null,null,null,null,null,null,null,null,null,null,null,null,null,null,null,null,null,null,null,null,null,null,null,null,null,null,null,null,null,null,null,null,null,null,null,null,null,null,null,null,null,null,null,null,null,null,null,null,null,null,null,null,null,null,null,null,null,null,null,null,null,null,null,null,null,null,null,null,null,null,null,null,null,null,null,null,null,null,null,null,null,null,null,null,null,null,null,null,null,null,null,null,null,null,null,null,null,null,null,null,null,null,null,null,null,null,null,null,null,null,null,null,null,null,null,null,null,"Tappan"]
["2014-07-21",null,null,null,null,null,0,0,0,{"$f":"IF(AND(Caluations!$F83>7,Caluations!$F83<>FALSE),\"\",IF($E95=\"\",(Caluations!$H83/$H94)*100,$I94/$H94*100))","v":""},0,{"$f":"IF(Caluations!$J83<0,0,Caluations!$J83)","v":""},null,"VC",{"$f":"IF(AND($E94=\"\",Caluations!$F83<8),$N94*$F94,0)","v":0},null,"VE",null,null,null,null,null,null,null,null,null,null,null,null,null,null,null,null,null,null,null,null,null,null,null,null,null,null,null,null,null,null,null,null,null,null,null,null,null,null,null,null,null,null,null,null,null,null,null,null,null,null,null,null,null,null,null,null,null,null,null,null,null,null,null,null,null,null,null,null,null,null,null,null,null,null,null,null,null,null,null,null,null,null,null,null,null,null,null,null,null,null,null,null,null,null,null,null,null,null,null,null,null,null,null,null,null,null,null,null,null,null,null,null,null,null,null,null,null,null,null,null,null,null,null,null,null,null,null,null,null,null,null,null,null,null,null,null,null,null,null,null,null,null,null,null,null,null,null,null,null,null,null,null,null,null,null,null,null,null,null,null,null,null,null,null,null,null,null,null,null,null,null,null,null,null,null,null,null,null,null,null,null,null,null,null,null,null,null,null,null,null,null,null,null,null,null,null,null,null,null,null,null,null,null,null,null,null,null,null,null,null,null,null,null,null,null,null,null,null,null,null,null,null,null,null,null,null,null,null,null,null,null,null,null,"Tewas"]
["2014-07-22",null,null,null,null,null,0,0,0,{"$f":"IF(AND(Caluations!$F84>7,Caluations!$F84<>FALSE),\"\",IF($E96=\"\",(Caluations!$H84/$H95)*100,$I95/$H95*100))","v":""},0,{"$f":"IF(Caluations!$J84<0,0,Caluations!$J84)","v":""},null,"VC",{"$f":"IF(AND($E95=\"\",Caluations!$F84<8),$N95*$F95,0)","v":0},null,"VE",null,null,null,null,null,null,null,null,null,null,null,null,null,null,null,null,null,null,null,null,null,null,null,null,null,null,null,null,null,null,null,null,null,null,null,null,null,null,null,null,null,null,null,null,null,null,null,null,null,null,null,null,null,null,null,null,null,null,null,null,null,null,null,null,null,null,null,null,null,null,null,null,null,null,null,null,null,null,null,null,null,null,null,null,null,null,null,null,null,null,null,null,null,null,null,null,null,null,null,null,null,null,null,null,null,null,null,null,null,null,null,null,null,null,null,null,null,null,null,null,null,null,null,null,null,null,null,null,null,null,null,null,null,null,null,null,null,null,null,null,null,null,null,null,null,null,null,null,null,null,null,null,null,null,null,null,null,null,null,null,null,null,null,null,null,null,null,null,null,null,null,null,null,null,null,null,null,null,null,null,null,null,null,null,null,null,null,null,null,null,null,null,null,null,null,null,null,null,null,null,null,null,null,null,null,null,null,null,null,null,null,null,null,null,null,null,null,null,null,null,null,null,null,null,null,null,null,null,null,null,null,null,null,"Thetford"]
["2014-07-23",null,null,null,null,null,0,0,0,{"$f":"IF(AND(Caluations!$F85>7,Caluations!$F85<>FALSE),\"\",IF($E97=\"\",(Caluations!$H85/$H96)*100,$I96/$H96*100))","v":""},0,{"$f":"IF(Caluations!$J85<0,0,Caluations!$J85)","v":""},null,"VC",{"$f":"IF(AND($E96=\"\",Caluations!$F85<8),$N96*$F96,0)","v":0},null,"VE",null,null,null,null,null,null,null,null,null,null,null,null,null,null,null,null,null,null,null,null,null,null,null,null,null,null,null,null,null,null,null,null,null,null,null,null,null,null,null,null,null,null,null,null,null,null,null,null,null,null,null,null,null,null,null,null,null,null,null,null,null,null,null,null,null,null,null,null,null,null,null,null,null,null,null,null,null,null,null,null,null,null,null,null,null,null,null,null,null,null,null,null,null,null,null,null,null,null,null,null,null,null,null,null,null,null,null,null,null,null,null,null,null,null,null,null,null,null,null,null,null,null,null,null,null,null,null,null,null,null,null,null,null,null,null,null,null,null,null,null,null,null,null,null,null,null,null,null,null,null,null,null,null,null,null,null,null,null,null,null,null,null,null,null,null,null,null,null,null,null,null,null,null,null,null,null,null,null,null,null,null,null,null,null,null,null,null,null,null,null,null,null,null,null,null,null,null,null,null,null,null,null,null,null,null,null,null,null,null,null,null,null,null,null,null,null,null,null,null,null,null,null,null,null,null,null,null,null,null,null,null,null,null,"Tustin"]
["2014-07-24",null,null,null,null,null,0,0,0,{"$f":"IF(AND(Caluations!$F86>7,Caluations!$F86<>FALSE),\"\",IF($E98=\"\",(Caluations!$H86/$H97)*100,$I97/$H97*100))","v":""},0,{"$f":"IF(Caluations!$J86<0,0,Caluations!$J86)","v":""},null,"VC",{"$f":"IF(AND($E97=\"\",Caluations!$F86<8),$N97*$F97,0)","v":0},null,"VE",null,null,null,null,null,null,null,null,null,null,null,null,null,null,null,null,null,null,null,null,null,null,null,null,null,null,null,null,null,null,null,null,null,null,null,null,null,null,null,null,null,null,null,null,null,null,null,null,null,null,null,null,null,null,null,null,null,null,null,null,null,null,null,null,null,null,null,null,null,null,null,null,null,null,null,null,null,null,null,null,null,null,null,null,null,null,null,null,null,null,null,null,null,null,null,null,null,null,null,null,null,null,null,null,null,null,null,null,null,null,null,null,null,null,null,null,null,null,null,null,null,null,null,null,null,null,null,null,null,null,null,null,null,null,null,null,null,null,null,null,null,null,null,null,null,null,null,null,null,null,null,null,null,null,null,null,null,null,null,null,null,null,null,null,null,null,null,null,null,null,null,null,null,null,null,null,null,null,null,null,null,null,null,null,null,null,null,null,null,null,null,null,null,null,null,null,null,null,null,null,null,null,null,null,null,null,null,null,null,null,null,null,null,null,null,null,null,null,null,null,null,null,null,null,null,null,null,null,null,null,null,null,null,"Vestaburg"]
["2014-07-25",null,null,null,null,null,0,0,0,{"$f":"IF(AND(Caluations!$F87>7,Caluations!$F87<>FALSE),\"\",IF($E99=\"\",(Caluations!$H87/$H98)*100,$I98/$H98*100))","v":""},0,{"$f":"IF(Caluations!$J87<0,0,Caluations!$J87)","v":""},null,"VC",{"$f":"IF(AND($E98=\"\",Caluations!$F87<8),$N98*$F98,0)","v":0},null,"VE",null,null,null,null,null,null,null,null,null,null,null,null,null,null,null,null,null,null,null,null,null,null,null,null,null,null,null,null,null,null,null,null,null,null,null,null,null,null,null,null,null,null,null,null,null,null,null,null,null,null,null,null,null,null,null,null,null,null,null,null,null,null,null,null,null,null,null,null,null,null,null,null,null,null,null,null,null,null,null,null,null,null,null,null,null,null,null,null,null,null,null,null,null,null,null,null,null,null,null,null,null,null,null,null,null,null,null,null,null,null,null,null,null,null,null,null,null,null,null,null,null,null,null,null,null,null,null,null,null,null,null,null,null,null,null,null,null,null,null,null,null,null,null,null,null,null,null,null,null,null,null,null,null,null,null,null,null,null,null,null,null,null,null,null,null,null,null,null,null,null,null,null,null,null,null,null,null,null,null,null,null,null,null,null,null,null,null,null,null,null,null,null,null,null,null,null,null,null,null,null,null,null,null,null,null,null,null,null,null,null,null,null,null,null,null,null,null,null,null,null,null,null,null,null,null,null,null,null,null,null,null,null,null,"Washtenaw"]
["2014-07-26",null,null,null,null,null,0,0,0,{"$f":"IF(AND(Caluations!$F88>7,Caluations!$F88<>FALSE),\"\",IF($E100=\"\",(Caluations!$H88/$H99)*100,$I99/$H99*100))","v":""},0,{"$f":"IF(Caluations!$J88<0,0,Caluations!$J88)","v":""},null,"VC",{"$f":"IF(AND($E99=\"\",Caluations!$F88<8),$N99*$F99,0)","v":0},null,"VE",null,null,null,null,null,null,null,null,null,null,null,null,null,null,null,null,null,null,null,null,null,null,null,null,null,null,null,null,null,null,null,null,null,null,null,null,null,null,null,null,null,null,null,null,null,null,null,null,null,null,null,null,null,null,null,null,null,null,null,null,null,null,null,null,null,null,null,null,null,null,null,null,null,null,null,null,null,null,null,null,null,null,null,null,null,null,null,null,null,null,null,null,null,null,null,null,null,null,null,null,null,null,null,null,null,null,null,null,null,null,null,null,null,null,null,null,null,null,null,null,null,null,null,null,null,null,null,null,null,null,null,null,null,null,null,null,null,null,null,null,null,null,null,null,null,null,null,null,null,null,null,null,null,null,null,null,null,null,null,null,null,null,null,null,null,null,null,null,null,null,null,null,null,null,null,null,null,null,null,null,null,null,null,null,null,null,null,null,null,null,null,null,null,null,null,null,null,null,null,null,null,null,null,null,null,null,null,null,null,null,null,null,null,null,null,null,null,null,null,null,null,null,null,null,null,null,null,null,null,null,null,null,null,"Wauseon"]
["2014-07-27",null,null,null,null,null,0,0,0,{"$f":"IF(AND(Caluations!$F89>7,Caluations!$F89<>FALSE),\"\",IF($E101=\"\",(Caluations!$H89/$H100)*100,$I100/$H100*100))","v":""},0,{"$f":"IF(Caluations!$J89<0,0,Caluations!$J89)","v":""},null,"VC",{"$f":"IF(AND($E100=\"\",Caluations!$F89<8),$N100*$F100,0)","v":0},null,"VE",null,null,null,null,null,null,null,null,null,null,null,null,null,null,null,null,null,null,null,null,null,null,null,null,null,null,null,null,null,null,null,null,null,null,null,null,null,null,null,null,null,null,null,null,null,null,null,null,null,null,null,null,null,null,null,null,null,null,null,null,null,null,null,null,null,null,null,null,null,null,null,null,null,null,null,null,null,null,null,null,null,null,null,null,null,null,null,null,null,null,null,null,null,null,null,null,null,null,null,null,null,null,null,null,null,null,null,null,null,null,null,null,null,null,null,null,null,null,null,null,null,null,null,null,null,null,null,null,null,null,null,null,null,null,null,null,null,null,null,null,null,null,null,null,null,null,null,null,null,null,null,null,null,null,null,null,null,null,null,null,null,null,null,null,null,null,null,null,null,null,null,null,null,null,null,null,null,null,null,null,null,null,null,null,null,null,null,null,null,null,null,null,null,null,null,null,null,null,null,null,null,null,null,null,null,null,null,null,null,null,null,null,null,null,null,null,null,null,null,null,null,null,null,null,null,null,null,null,null,null,null,null,null,"Wixom"]
["2014-07-28",null,null,null,null,null,0,0,0,{"$f":"IF(AND(Caluations!$F90>7,Caluations!$F90<>FALSE),\"\",IF($E102=\"\",(Caluations!$H90/$H101)*100,$I101/$H101*100))","v":""},0,{"$f":"IF(Caluations!$J90<0,0,Caluations!$J90)","v":""},null,"VC",{"$f":"IF(AND($E101=\"\",Caluations!$F90<8),$N101*$F101,0)","v":0},null,"VE",null,null,null,null,null,null,null,null,null,null,null,null,null,null,null,null,null,null,null,null,null,null,null,null,null,null,null,null,null,null,null,null,null,null,null,null,null,null,null,null,null,null,null,null,null,null,null,null,null,null,null,null,null,null,null,null,null,null,null,null,null,null,null,null,null,null,null,null,null,null,null,null,null,null,null,null,null,null,null,null,null,null,null,null,null,null,null,null,null,null,null,null,null,null,null,null,null,null,null,null,null,null,null,null,null,null,null,null,null,null,null,null,null,null,null,null,null,null,null,null,null,null,null,null,null,null,null,null,null,null,null,null,null,null,null,null,null,null,null,null,null,null,null,null,null,null,null,null,null,null,null,null,null,null,null,null,null,null,null,null,null,null,null,null,null,null,null,null,null,null,null,null,null,null,null,null,null,null,null,null,null,null,null,null,null,null,null,null,null,null,null,null,null,null,null,null,null,null,null,null,null,null,null,null,null,null,null,null,null,null,null,null,null,null,null,null,null,null,null,null,null,null,null,null,null,null,null,null,null,null,null,null,null,"Ziegenfuss"]
["2014-07-29",null,null,null,null,null,0,0,{"$f":"MAX(IF(($I101+$C102+$D102-$G102)+(($H102-$H101)*$B$13/100)>($H102*1.03),($H102*1.03),($I101+$C102+$D102-$G102)+(($H102-$H101)*$B$13/100)),0)","v":0},{"$f":"IF(AND(Caluations!$F91>7,Caluations!$F91<>FALSE),\"\",IF($E103=\"\",(Caluations!$H91/$H102)*100,$I102/$H102*100))","v":""},0,{"$f":"IF(Caluations!$J91<0,0,Caluations!$J91)","v":""},null,"VC",{"$f":"IF(AND($E102=\"\",Caluations!$F91<8),$N102*$F102,0)","v":0},null,"VE"]
["2014-07-30",null,null,null,null,null,0,0,0,{"$f":"IF(AND(Caluations!$F92>7,Caluations!$F92<>FALSE),\"\",IF($E104=\"\",(Caluations!$H92/$H103)*100,$I103/$H103*100))","v":""},0,{"$f":"IF(Caluations!$J92<0,0,Caluations!$J92)","v":""},null,"VC",{"$f":"IF(AND($E103=\"\",Caluations!$F92<8),$N103*$F103,0)","v":0},null,"VE"]
["2014-07-31",null,null,null,null,null,0,0,0,{"$f":"IF(AND(Caluations!$F93>7,Caluations!$F93<>FALSE),\"\",IF($E105=\"\",(Caluations!$H93/$H104)*100,$I104/$H104*100))","v":""},0,{"$f":"IF(Caluations!$J93<0,0,Caluations!$J93)","v":""},null,"VC",{"$f":"IF(AND($E104=\"\",Caluations!$F93<8),$N104*$F104,0)","v":0},null,"VE"]
["2014-08-01",null,null,null,null,null,0,0,0,{"$f":"IF(AND(Caluations!$F94>7,Caluations!$F94<>FALSE),\"\",IF($E106=\"\",(Caluations!$H94/$H105)*100,$I105/$H105*100))","v":""},0,{"$f":"IF(Caluations!$J94<0,0,Caluations!$J94)","v":""},null,"VC",{"$f":"IF(AND($E105=\"\",Caluations!$F94<8),$N105*$F105,0)","v":0},null,"VE"]
["2014-08-02",null,null,null,null,null,0,0,0,{"$f":"IF(AND(Caluations!$F95>7,Caluations!$F95<>FALSE),\"\",IF($E107=\"\",(Caluations!$H95/$H106)*100,$I106/$H106*100))","v":""},0,{"$f":"IF(Caluations!$J95<0,0,Caluations!$J95)","v":""},null,"VC",{"$f":"IF(AND($E106=\"\",Caluations!$F95<8),$N106*$F106,0)","v":0},null,"VE"]
["2014-08-03",null,null,null,null,null,0,0,0,{"$f":"IF(AND(Caluations!$F96>7,Caluations!$F96<>FALSE),\"\",IF($E108=\"\",(Caluations!$H96/$H107)*100,$I107/$H107*100))","v":""},0,{"$f":"IF(Caluations!$J96<0,0,Caluations!$J96)","v":""},null,"VC",{"$f":"IF(AND($E107=\"\",Caluations!$F96<8),$N107*$F107,0)","v":0},null,"VE"]
["2014-08-04",null,null,null,null,null,0,0,0,{"$f":"IF(AND(Caluations!$F97>7,Caluations!$F97<>FALSE),\"\",IF($E109=\"\",(Caluations!$H97/$H108)*100,$I108/$H108*100))","v":""},0,{"$f":"IF(Caluations!$J97<0,0,Caluations!$J97)","v":""},null,"VC",{"$f":"IF(AND($E108=\"\",Caluations!$F97<8),$N108*$F108,0)","v":0},null,"VE"]
["2014-08-05",null,null,null,null,null,0,0,0,{"$f":"IF(AND(Caluations!$F98>7,Caluations!$F98<>FALSE),\"\",IF($E110=\"\",(Caluations!$H98/$H109)*100,$I109/$H109*100))","v":""},0,{"$f":"IF(Caluations!$J98<0,0,Caluations!$J98)","v":""},null,"VC",{"$f":"IF(AND($E109=\"\",Caluations!$F98<8),$N109*$F109,0)","v":0},null,"VE"]
["2014-08-06",null,null,null,null,null,0,0,0,{"$f":"IF(AND(Caluations!$F99>7,Caluations!$F99<>FALSE),\"\",IF($E111=\"\",(Caluations!$H99/$H110)*100,$I110/$H110*100))","v":""},0,{"$f":"IF(Caluations!$J99<0,0,Caluations!$J99)","v":""},null,"VC",{"$f":"IF(AND($E110=\"\",Caluations!$F99<8),$N110*$F110,0)","v":0},null,"VE"]
["2014-08-07",null,null,null,null,null,0,0,0,{"$f":"IF(AND(Caluations!$F100>7,Caluations!$F100<>FALSE),\"\",IF($E112=\"\",(Caluations!$H100/$H111)*100,$I111/$H111*100))","v":""},0,{"$f":"IF(Caluations!$J100<0,0,Caluations!$J100)","v":""},null,"VC",{"$f":"IF(AND($E111=\"\",Caluations!$F100<8),$N111*$F111,0)","v":0},null,"VE"]
["2014-08-08",null,null,null,null,null,0,0,0,{"$f":"IF(AND(Caluations!$F101>7,Caluations!$F101<>FALSE),\"\",IF($E113=\"\",(Caluations!$H101/$H112)*100,$I112/$H112*100))","v":""},0,{"$f":"IF(Caluations!$J101<0,0,Caluations!$J101)","v":""},null,"VC",{"$f":"IF(AND($E112=\"\",Caluations!$F101<8),$N112*$F112,0)","v":0},null,"VE"]
["2014-08-09",null,null,null,null,null,0,0,0,{"$f":"IF(AND(Caluations!$F102>7,Caluations!$F102<>FALSE),\"\",IF($E114=\"\",(Caluations!$H102/$H113)*100,$I113/$H113*100))","v":""},0,{"$f":"IF(Caluations!$J102<0,0,Caluations!$J102)","v":""},null,"VC",{"$f":"IF(AND($E113=\"\",Caluations!$F102<8),$N113*$F113,0)","v":0},null,"VE"]
["2014-08-10",null,null,null,null,null,0,0,0,{"$f":"IF(AND(Caluations!$F103>7,Caluations!$F103<>FALSE),\"\",IF($E115=\"\",(Caluations!$H103/$H114)*100,$I114/$H114*100))","v":""},0,{"$f":"IF(Caluations!$J103<0,0,Caluations!$J103)","v":""},null,"VC",{"$f":"IF(AND($E114=\"\",Caluations!$F103<8),$N114*$F114,0)","v":0},null,"VE"]
["2014-08-11",null,null,null,null,null,0,0,0,{"$f":"IF(AND(Caluations!$F104>7,Caluations!$F104<>FALSE),\"\",IF($E116=\"\",(Caluations!$H104/$H115)*100,$I115/$H115*100))","v":""},0,{"$f":"IF(Caluations!$J104<0,0,Caluations!$J104)","v":""},null,"VC",{"$f":"IF(AND($E115=\"\",Caluations!$F104<8),$N115*$F115,0)","v":0},null,"VE"]
[{"$f":"1+A115","v":"2014-08-12"},null,null,null,null,null,0,0,0,{"$f":"IF(AND(Caluations!$F105>7,Caluations!$F105<>FALSE),\"\",IF($E117=\"\",(Caluations!$H105/$H116)*100,$I116/$H116*100))","v":""},0,{"$f":"IF(Caluations!$J105<0,0,Caluations!$J105)","v":""},null,"VC",{"$f":"IF(AND($E116=\"\",Caluations!$F105<8),$N116*$F116,0)","v":0},null,"VE"]
["2014-08-13",null,null,null,null,null,0,0,0,{"$f":"IF(AND(Caluations!$F106>7,Caluations!$F106<>FALSE),\"\",IF($E118=\"\",(Caluations!$H106/$H117)*100,$I117/$H117*100))","v":""},0,{"$f":"IF(Caluations!$J106<0,0,Caluations!$J106)","v":""},null,"VC",{"$f":"IF(AND($E117=\"\",Caluations!$F106<8),$N117*$F117,0)","v":0},null,"VE"]
["2014-08-14",null,null,null,null,null,0,0,0,{"$f":"IF(AND(Caluations!$F107>7,Caluations!$F107<>FALSE),\"\",IF($E119=\"\",(Caluations!$H107/$H118)*100,$I118/$H118*100))","v":""},0,{"$f":"IF(Caluations!$J107<0,0,Caluations!$J107)","v":""},null,"VC",{"$f":"IF(AND($E118=\"\",Caluations!$F107<8),$N118*$F118,0)","v":0},null,"VE"]
["2014-08-15",null,null,null,null,null,0,0,0,{"$f":"IF(AND(Caluations!$F108>7,Caluations!$F108<>FALSE),\"\",IF($E120=\"\",(Caluations!$H108/$H119)*100,$I119/$H119*100))","v":""},0,{"$f":"IF(Caluations!$J108<0,0,Caluations!$J108)","v":""},null,"VC",{"$f":"IF(AND($E119=\"\",Caluations!$F108<8),$N119*$F119,0)","v":0},null,"VE"]
["2014-08-16",null,null,null,null,null,0,0,0,{"$f":"IF(AND(Caluations!$F109>7,Caluations!$F109<>FALSE),\"\",IF($E121=\"\",(Caluations!$H109/$H120)*100,$I120/$H120*100))","v":""},0,{"$f":"IF(Caluations!$J109<0,0,Caluations!$J109)","v":""},null,"VC",{"$f":"IF(AND($E120=\"\",Caluations!$F109<8),$N120*$F120,0)","v":0},null,"VE"]
["2014-08-17",null,null,null,null,null,0,0,0,{"$f":"IF(AND(Caluations!$F110>7,Caluations!$F110<>FALSE),\"\",IF($E122=\"\",(Caluations!$H110/$H121)*100,$I121/$H121*100))","v":""},0,{"$f":"IF(Caluations!$J110<0,0,Caluations!$J110)","v":""},null,"VC",{"$f":"IF(AND($E121=\"\",Caluations!$F110<8),$N121*$F121,0)","v":0},null,"VE"]
["2014-08-18",null,null,null,null,null,0,0,0,{"$f":"IF(AND(Caluations!$F111>7,Caluations!$F111<>FALSE),\"\",IF($E123=\"\",(Caluations!$H111/$H122)*100,$I122/$H122*100))","v":""},0,{"$f":"IF(Caluations!$J111<0,0,Caluations!$J111)","v":""},null,"VC",{"$f":"IF(AND($E122=\"\",Caluations!$F111<8),$N122*$F122,0)","v":0},null,"VE"]
["2014-08-19",null,null,null,null,null,0,0,0,{"$f":"IF(AND(Caluations!$F112>7,Caluations!$F112<>FALSE),\"\",IF($E124=\"\",(Caluations!$H112/$H123)*100,$I123/$H123*100))","v":""},0,{"$f":"IF(Caluations!$J112<0,0,Caluations!$J112)","v":""},null,"VC",{"$f":"IF(AND($E123=\"\",Caluations!$F112<8),$N123*$F123,0)","v":0},null,"VE"]
["2014-08-20",null,null,null,null,null,0,0,0,{"$f":"IF(AND(Caluations!$F113>7,Caluations!$F113<>FALSE),\"\",IF($E125=\"\",(Caluations!$H113/$H124)*100,$I124/$H124*100))","v":""},0,{"$f":"IF(Caluations!$J113<0,0,Caluations!$J113)","v":""},null,"VC",{"$f":"IF(AND($E124=\"\",Caluations!$F113<8),$N124*$F124,0)","v":0},null,"VE"]
["2014-08-21",null,null,null,null,null,0,0,0,{"$f":"IF(AND(Caluations!$F114>7,Caluations!$F114<>FALSE),\"\",IF($E126=\"\",(Caluations!$H114/$H125)*100,$I125/$H125*100))","v":""},0,{"$f":"IF(Caluations!$J114<0,0,Caluations!$J114)","v":""},null,"VC",{"$f":"IF(AND($E125=\"\",Caluations!$F114<8),$N125*$F125,0)","v":0},null,"VE"]
["2014-08-22",null,null,null,null,null,0,0,0,{"$f":"IF(AND(Caluations!$F115>7,Caluations!$F115<>FALSE),\"\",IF($E127=\"\",(Caluations!$H115/$H126)*100,$I126/$H126*100))","v":""},0,{"$f":"IF(Caluations!$J115<0,0,Caluations!$J115)","v":""},null,"VC",{"$f":"IF(AND($E126=\"\",Caluations!$F115<8),$N126*$F126,0)","v":0},null,"VE"]
["2014-08-23",null,null,null,null,null,0,0,0,{"$f":"IF(AND(Caluations!$F116>7,Caluations!$F116<>FALSE),\"\",IF($E128=\"\",(Caluations!$H116/$H127)*100,$I127/$H127*100))","v":""},0,{"$f":"IF(Caluations!$J116<0,0,Caluations!$J116)","v":""},null,"VC",{"$f":"IF(AND($E127=\"\",Caluations!$F116<8),$N127*$F127,0)","v":0},null,"VE"]
["2014-08-24",null,null,null,null,null,0,0,0,{"$f":"IF(AND(Caluations!$F117>7,Caluations!$F117<>FALSE),\"\",IF($E129=\"\",(Caluations!$H117/$H128)*100,$I128/$H128*100))","v":""},0,{"$f":"IF(Caluations!$J117<0,0,Caluations!$J117)","v":""},null,"VC",{"$f":"IF(AND($E128=\"\",Caluations!$F117<8),$N128*$F128,0)","v":0},null,"VE"]
["2014-08-25",null,null,null,null,null,0,0,0,{"$f":"IF(AND(Caluations!$F118>7,Caluations!$F118<>FALSE),\"\",IF($E130=\"\",(Caluations!$H118/$H129)*100,$I129/$H129*100))","v":""},0,{"$f":"IF(Caluations!$J118<0,0,Caluations!$J118)","v":""},null,"VC",{"$f":"IF(AND($E129=\"\",Caluations!$F118<8),$N129*$F129,0)","v":0},null,"VE"]
["2014-08-26",null,null,null,null,null,0,0,0,{"$f":"IF(AND(Caluations!$F119>7,Caluations!$F119<>FALSE),\"\",IF($E131=\"\",(Caluations!$H119/$H130)*100,$I130/$H130*100))","v":""},0,{"$f":"IF(Caluations!$J119<0,0,Caluations!$J119)","v":""},null,"VC",0.2,null,"VE"]
["2014-08-27",null,null,null,null,null,0,0,0,{"$f":"IF(AND(Caluations!$F120>7,Caluations!$F120<>FALSE),\"\",IF($E132=\"\",(Caluations!$H120/$H131)*100,$I131/$H131*100))","v":""},0,{"$f":"IF(Caluations!$J120<0,0,Caluations!$J120)","v":""},null,"VC",0.3,null,"VE"]
["2014-08-28",null,null,null,null,null,0,0,0,{"$f":"IF(AND(Caluations!$F121>7,Caluations!$F121<>FALSE),\"\",IF($E133=\"\",(Caluations!$H121/$H132)*100,$I132/$H132*100))","v":""},0,{"$f":"IF(Caluations!$J121<0,0,Caluations!$J121)","v":""},null,"VC",0.15,null,"VE"]
["2014-08-29",null,null,null,null,null,0,0,0,{"$f":"IF(AND(Caluations!$F122>7,Caluations!$F122<>FALSE),\"\",IF($E134=\"\",(Caluations!$H122/$H133)*100,$I133/$H133*100))","v":""},0,{"$f":"IF(Caluations!$J122<0,0,Caluations!$J122)","v":""},null,"VC",0.05,null,"VE"]
["2014-08-30",null,null,null,null,null,0,0,0,{"$f":"IF(AND(Caluations!$F123>7,Caluations!$F123<>FALSE),\"\",IF($E135=\"\",(Caluations!$H123/$H134)*100,$I134/$H134*100))","v":""},0,{"$f":"IF(Caluations!$J123<0,0,Caluations!$J123)","v":""},null,"VC",{"$f":"IF(AND($E134=\"\",Caluations!$F123<8),$N134*$F134,0)","v":0},null,"VE"]
["2014-08-31",null,null,null,null,null,0,0,0,{"$f":"IF(AND(Caluations!$F124>7,Caluations!$F124<>FALSE),\"\",IF($E136=\"\",(Caluations!$H124/$H135)*100,$I135/$H135*100))","v":""},0,{"$f":"IF(Caluations!$J124<0,0,Caluations!$J124)","v":""},null,"VC",{"$f":"IF(AND($E135=\"\",Caluations!$F124<8),$N135*$F135,0)","v":0},null,"VE"]
["2014-09-01",null,null,null,null,null,0,0,0,{"$f":"IF(AND(Caluations!$F125>7,Caluations!$F125<>FALSE),\"\",IF($E137=\"\",(Caluations!$H125/$H136)*100,$I136/$H136*100))","v":""},0,{"$f":"IF(Caluations!$J125<0,0,Caluations!$J125)","v":""},null,"VC",{"$f":"IF(AND($E136=\"\",Caluations!$F125<8),$N136*$F136,0)","v":0},null,"VE"]
["2014-09-02",null,null,null,null,null,0,0,0,{"$f":"IF(AND(Caluations!$F126>7,Caluations!$F126<>FALSE),\"\",IF($E138=\"\",(Caluations!$H126/$H137)*100,$I137/$H137*100))","v":""},0,{"$f":"IF(Caluations!$J126<0,0,Caluations!$J126)","v":""},null,"VC",{"$f":"IF(AND($E137=\"\",Caluations!$F126<8),$N137*$F137,0)","v":0},null,"VE"]
["2014-09-03",null,null,null,null,null,0,0,0,{"$f":"IF(AND(Caluations!$F127>7,Caluations!$F127<>FALSE),\"\",IF($E139=\"\",(Caluations!$H127/$H138)*100,$I138/$H138*100))","v":""},0,{"$f":"IF(Caluations!$J127<0,0,Caluations!$J127)","v":""},null,"VC",{"$f":"IF(AND($E138=\"\",Caluations!$F127<8),$N138*$F138,0)","v":0},null,"VE"]
["2014-09-04",null,null,null,null,null,0,0,0,{"$f":"IF(AND(Caluations!$F128>7,Caluations!$F128<>FALSE),\"\",IF($E140=\"\",(Caluations!$H128/$H139)*100,$I139/$H139*100))","v":""},0,{"$f":"IF(Caluations!$J128<0,0,Caluations!$J128)","v":""},null,"VC",{"$f":"IF(AND($E139=\"\",Caluations!$F128<8),$N139*$F139,0)","v":0},null,"VE"]
["2014-09-05",null,null,null,null,null,0,0,0,{"$f":"IF(AND(Caluations!$F129>7,Caluations!$F129<>FALSE),\"\",IF($E141=\"\",(Caluations!$H129/$H140)*100,$I140/$H140*100))","v":""},0,{"$f":"IF(Caluations!$J129<0,0,Caluations!$J129)","v":""},null,"VC",{"$f":"IF(AND($E140=\"\",Caluations!$F129<8),$N140*$F140,0)","v":0},null,"VE"]
["2014-09-06",null,null,null,null,null,0,0,0,{"$f":"IF(AND(Caluations!$F130>7,Caluations!$F130<>FALSE),\"\",IF($E142=\"\",(Caluations!$H130/$H141)*100,$I141/$H141*100))","v":""},0,{"$f":"IF(Caluations!$J130<0,0,Caluations!$J130)","v":""},null,"VC",{"$f":"IF(AND($E141=\"\",Caluations!$F130<8),$N141*$F141,0)","v":0},null,"VE"]
["2014-09-07",null,null,null,null,null,0,0,0,{"$f":"IF(AND(Caluations!$F131>7,Caluations!$F131<>FALSE),\"\",IF($E143=\"\",(Caluations!$H131/$H142)*100,$I142/$H142*100))","v":""},0,{"$f":"IF(Caluations!$J131<0,0,Caluations!$J131)","v":""},null,"VC",{"$f":"IF(AND($E142=\"\",Caluations!$F131<8),$N142*$F142,0)","v":0},null,"VE"]
["2014-09-08",null,null,null,null,null,0,0,0,{"$f":"IF(AND(Caluations!$F132>7,Caluations!$F132<>FALSE),\"\",IF($E144=\"\",(Caluations!$H132/$H143)*100,$I143/$H143*100))","v":""},0,{"$f":"IF(Caluations!$J132<0,0,Caluations!$J132)","v":""},null,"VC",{"$f":"IF(AND($E143=\"\",Caluations!$F132<8),$N143*$F143,0)","v":0},null,"VE"]
["2014-09-09",null,null,null,null,null,0,0,0,{"$f":"IF(AND(Caluations!$F133>7,Caluations!$F133<>FALSE),\"\",IF($E145=\"\",(Caluations!$H133/$H144)*100,$I144/$H144*100))","v":""},0,{"$f":"IF(Caluations!$J133<0,0,Caluations!$J133)","v":""},null,"VC",{"$f":"IF(AND($E144=\"\",Caluations!$F133<8),$N144*$F144,0)","v":0},null,"VE"]
["2014-09-10",null,null,null,null,null,0,0,0,{"$f":"IF(AND(Caluations!$F134>7,Caluations!$F134<>FALSE),\"\",IF($E146=\"\",(Caluations!$H134/$H145)*100,$I145/$H145*100))","v":""},0,{"$f":"IF(Caluations!$J134<0,0,Caluations!$J134)","v":""},null,"VC",{"$f":"IF(AND($E145=\"\",Caluations!$F134<8),$N145*$F145,0)","v":0},null,"VE"]
["2014-09-11",null,null,null,null,null,0,0,0,{"$f":"IF(AND(Caluations!$F135>7,Caluations!$F135<>FALSE),\"\",IF($E147=\"\",(Caluations!$H135/$H146)*100,$I146/$H146*100))","v":""},0,{"$f":"IF(Caluations!$J135<0,0,Caluations!$J135)","v":""},null,"VC",{"$f":"IF(AND($E146=\"\",Caluations!$F135<8),$N146*$F146,0)","v":0}]
["2014-09-12",null,null,null,null,null,0,0,0,{"$f":"IF(AND(Caluations!$F136>7,Caluations!$F136<>FALSE),\"\",IF($E148=\"\",(Caluations!$H136/$H147)*100,$I147/$H147*100))","v":""},0,{"$f":"IF(Caluations!$J136<0,0,Caluations!$J136)","v":""},null,"VC",{"$f":"IF(AND($E147=\"\",Caluations!$F136<8),$N147*$F147,0)","v":0}]
[{"$f":"1+A147","v":"2014-09-13"},null,null,null,null,null,0,0,0,{"$f":"IF(AND(Caluations!$F137>7,Caluations!$F137<>FALSE),\"\",IF($E149=\"\",(Caluations!$H137/$H148)*100,$I148/$H148*100))","v":""},{"$f":"IF(OR($J148<103,$E148=\"\"),0,$C148+$D148+$I147-$G148-($H148*1.03))","v":0},{"$f":"IF(Caluations!$J137<0,0,Caluations!$J137)","v":""},null,"VC",{"$f":"IF(AND($E148=\"\",Caluations!$F137<8),$N148*$F148,0)","v":0}]
["2014-09-14",null,null,null,null,null,{"$f":"$F149*$E149","v":0},{"$f":"IF($B149<=6,$B149*$B$12,IF($B149<=12,6*$B$12+($B149-6)*$C$12,IF($B149<=18,6*$B$12+6*$C$12+($B149-12)*$D$12,IF($B149<=24,6*$B$12+6*$C$12+6*$D$12+($B149-18)*$E$12,IF($B149<=30,6*$B$12+6*$C$12+6*$D$12+6*$E$12+($B149-24)*$F$12,IF($B149<=36,6*$B$12+6*$C$12+6*$D$12+6*$E$12+6*$F$12+($B149-30)*$G$12,IF($B149<=42,6*$B$12+6*$C$12+6*$D$12+6*$E$12+6*$F$12+6*$G$12+($B149-36)*$H$12,IF($B149<=48,6*$B$12+6*$C$12+6*$D$12+6*$E$12+6*$F$12+6*$G$12+6*$H$12+(F149-42)*$I$12,\"rootdepth>48in\"))))))))","v":0},{"$f":"MAX(IF(($I148+$C149+$D149-$G149)+(($H149-$H148)*$B$13/100)>($H149*1.03),($H149*1.03),($I148+$C149+$D149-$G149)+(($H149-$H148)*$B$13/100)),0)","v":0},{"$f":"IF(AND(Caluations!$F138>7,Caluations!$F138<>FALSE),\"\",IF($E150=\"\",(Caluations!$H138/$H149)*100,$I149/$H149*100))","v":""},0,{"$f":"IF(Caluations!$J138<0,0,Caluations!$J138)","v":""},null,"VC",{"$f":"IF(AND($E149=\"\",Caluations!$F138<8),$N149*$F149,0)","v":0}]
["2014-09-15",null,null,null,null,null,null,null,null,null,0,{"$f":"IF(Caluations!$J139<0,0,Caluations!$J139)","v":""},null,"VC",{"$f":"IF(AND($E150=\"\",Caluations!$F139<8),$N150*$F150,0)","v":0}]
["2014-09-16",null,null,null,null,null,null,null,null,null,0,{"$f":"IF(Caluations!$J140<0,0,Caluations!$J140)","v":""},null,"VC",{"$f":"IF(AND($E151=\"\",Caluations!$F140<8),$N151*$F151,0)","v":0}]
["2014-09-17",null,null,null,null,null,null,null,null,null,0,{"$f":"IF(Caluations!$J141<0,0,Caluations!$J141)","v":""},null,"VC",{"$f":"IF(AND($E152=\"\",Caluations!$F141<8),$N152*$F152,0)","v":0}]
["2014-09-18",null,null,null,null,null,null,null,null,null,0,{"$f":"IF(Caluations!$J142<0,0,Caluations!$J142)","v":""},null,"VC",{"$f":"IF(AND($E153=\"\",Caluations!$F142<8),$N153*$F153,0)","v":0}]
["2014-09-19",null,null,null,null,null,null,null,null,null,0,{"$f":"IF(Caluations!$J143<0,0,Caluations!$J143)","v":""},null,"VC",{"$f":"IF(AND($E154=\"\",Caluations!$F143<8),$N154*$F154,0)","v":0}]
[null,null,null,null,null,null,null,null,null,null,0,{"$f":"IF(Caluations!$J144<0,0,Caluations!$J144)","v":""},null,"VC",{"$f":"IF(AND($E155=\"\",Caluations!$F144<8),$N155*$F155,0)","v":0}]
[null,null,null,null,null,null,null,null,null,null,0,{"$f":"IF(Caluations!$J145<0,0,Caluations!$J145)","v":""},null,"VC",{"$f":"IF(AND($E156=\"\",Caluations!$F145<8),$N156*$F156,0)","v":0}]
[null,null,null,null,null,null,null,null,null,null,0,{"$f":"IF(Caluations!$J146<0,0,Caluations!$J146)","v":""},null,"VC",{"$f":"IF(AND($E157=\"\",Caluations!$F146<8),$N157*$F157,0)","v":0}]
[null,null,null,null,null,null,null,null,null,null,0,{"$f":"IF(Caluations!$J147<0,0,Caluations!$J147)","v":""},null,"VC"]
["Summary:","Rainfall (inches)",null,"Irrigation added (inches)",null,null,"Estimated Actual ET (inches)","Capacity of root zone (inches)","Soil Water in root zone (inches)","% capacity filled","Drainage (inches)","Additional capacity of root zone (inches)"]
[null,{"$f":"SUM(C19:C157)","v":0},null,{"$f":"SUM(D19:D157)","v":0},null,null,{"$f":"SUM(G19:G157)","v":0},null,null,{"$f":"AVERAGE(J19:J157)","v":{"$error":"#VALUE!"}},{"$f":"SUM(K19:K157)","v":{"$error":"#VALUE!"}}]

{"sheet":"Busy_Screen","index":1,"n_rows":0,"n_cols":0,"rows_kept":0,"cut":false,"hidden":true,"merged":[]}

{"sheet":"Menu","index":2,"n_rows":35,"n_cols":19,"rows_kept":35,"cut":false,"hidden":false,"merged":[]}
[]
[]
[]
[]
[null,null,null,null,null,null,null,null,null,null,null,null,null,null,null,null,null,null,"  "]
[]
[]
[]
[]
[]
[]
[]
[]
[]
[]
[]
[]
[]
[]
[]
[]
[]
[]
[]
[]
[]
[]
[]
[]
[]
[]
[]
[]
[null,null,"Filename:",{"$f":"LEFT(CELL(\"filename\",A1),LEN(CELL(\"filename\",A1))-(FIND(\"\",CELL(\"filename\",A1),1))-3)","v":"C:\\Users\\DONG\\Desktop\\[MSU Irrigation Scheduler.xlsm]"}]
[null,null,"Field ID:",{"$f":"+ScheduleSetup!$C$2","v":"Home S"}]

{"sheet":"ScheduleSetup","index":3,"n_rows":94,"n_cols":254,"rows_kept":94,"cut":false,"hidden":false,"merged":[[4,10,4,14],[13,0,13,4],[13,6,13,10],[4,0,4,4],[1,0,1,1],[1,2,1,4],[1,11,1,13],[1,14,1,15],[2,0,2,1],[2,2,2,4]]}
[]
["Field Identifier",null,"Home S",null,null,null,null,null,null,null,null,"User fills out the data in",null,null,"light yellow",null,null,null,null,null,null,null,null,null,null,null,null,null,null,null,null,null,null,null,null,null,null,null,null,null,null,null,null,null,null,null,null,null,null,null,null,null,null,null,null,null,null,null,null,null,null,null,null,null,null,null,null,null,null,null,null,null,null,null,null,null,null,null,null,null,null,null,null,null,null,null,null,null,null,null,null,null,null,null,"Adrian",null,null,"Alfalfa",null,"Bainbridge / Watervliet"]
[null,null,null,null,null,null,null,null,null,null,null,null,null,null,null,null,null,null,null,null,null,null,null,null,null,null,null,null,null,null,null,null,null,null,null,null,null,null,null,null,null,null,null,null,null,null,null,null,null,null,null,null,null,null,null,null,null,null,null,null,null,null,null,null,null,null,null,null,null,null,null,null,null,null,null,null,null,null,null,null,null,null,null,null,null,null,null,null,null,null,null,null,null,null,"Alcona-Richter",null,null,"Alfalfa1",null,"Benton Harbor (SWMREC)"]
[null,null,null,null,null,null,null,null,null,null,null,null,null,null,null,null,null,null,null,null,null,null,null,null,null,null,null,null,null,null,null,null,null,null,null,null,null,null,null,null,null,null,null,null,null,null,null,null,null,null,null,null,null,null,null,null,null,null,null,null,null,null,null,null,null,null,null,null,null,null,null,null,null,null,null,null,null,null,null,null,null,null,null,null,null,null,null,null,null,null,null,null,null,null,"Algansee",null,null,"Apple",null,"Berrien Springs",null,null,null,null,null,null,null,null,null,null,null,null,null,null,null,null,null,null,null,null,null,null,null,null,null,null,null,null,null,null,null,null,null,null,null,null,null,null,null,null,null,null,null,null,null,null,null,null,null,null,null,null,null,null,null,null,null,null,null,null,null,null,null,null,null,null,null,null,null,null,null,null,null,null,null,null,null,null,null,null,null,null,null,null,null,null,null,null,null,null,null,null,null,null,null,null,null,null,null,null,null,null,null,null,null,null,null,null,null,null,null,null,null,null,null,null,null,null,null,null,null,null,null,null,null,null,null,null,null,null,null,null,null,null,null,null,null,null,null,null,null,null,null,null,null,null,null,null,null,null,"Adrian",null,null,"Alfalfa"]
["Available water (AW) holding capacity of soil - (inches water/inch soil).  See Table 1 or Soil Survey.",null,null,null,null,null,null,null,null,null,"Select Soil Type (ie. Bronson or Oshtemo)",null,null,null,null,null,null,null,null,null,null,null,null,null,null,null,null,null,null,null,null,null,null,null,null,null,null,null,null,null,null,null,null,null,null,null,null,null,null,null,null,null,null,null,null,null,null,null,null,null,null,null,null,null,null,null,null,null,null,null,null,null,null,null,null,null,null,null,null,null,null,null,null,null,null,null,null,null,null,null,null,null,null,null,"Arkona",null,null,"Blueberries12",null,"Cassopolis",null,null,null,null,null,null,null,null,null,null,null,null,null,null,null,null,null,null,null,null,null,null,null,null,null,null,null,null,null,null,null,null,null,null,null,null,null,null,null,null,null,null,null,null,null,null,null,null,null,null,null,null,null,null,null,null,null,null,null,null,null,null,null,null,null,null,null,null,null,null,null,null,null,null,null,null,null,null,null,null,null,null,null,null,null,null,null,null,null,null,null,null,null,null,null,null,null,null,null,null,null,null,null,null,null,null,null,null,null,null,null,null,null,null,null,null,null,null,null,null,null,null,null,null,null,null,null,null,null,null,null,null,null,null,null,null,null,null,null,null,null,null,null,null,null,null,null,null,null,null,"Alcona-Richter",null,null,"Alfalfa1"]
["Depth Range (in)","0 - 6","6 - 12","12 - 18","18 - 24","24 - 30","30 - 36","36 - 42","42 - 48",null,"Crop Being Grown (and anticipated rooting depth)",null,null,null,null,"Corn36",null,null,null,null,null,null,null,null,null,null,null,null,null,null,null,null,null,null,null,null,null,null,null,null,null,null,null,null,null,null,null,null,null,null,null,null,null,null,null,null,null,null,null,null,null,null,null,null,null,null,null,null,null,null,null,null,null,null,null,null,null,null,null,null,null,null,null,null,null,null,null,null,null,null,null,null,null,null,"Au Gres",null,null,"Blueberries18",null,"Dowagiac",null,null,null,null,null,null,null,null,null,null,null,null,null,null,null,null,null,null,null,null,null,null,null,null,null,null,null,null,null,null,null,null,null,null,null,null,null,null,null,null,null,null,null,null,null,null,null,null,null,null,null,null,null,null,null,null,null,null,null,null,null,null,null,null,null,null,null,null,null,null,null,null,null,null,null,null,null,null,null,null,null,null,null,null,null,null,null,null,null,null,null,null,null,null,null,null,null,null,null,null,null,null,null,null,null,null,null,null,null,null,null,null,null,null,null,null,null,null,null,null,null,null,null,null,null,null,null,null,null,null,null,null,null,null,null,null,null,null,null,null,null,null,null,null,null,null,null,null,null,null,"Algansee",null,null,"Apple"]
["AW (in/in)",null,0.13500000000000001,0.13500000000000001,0.14499999999999999,0.14499999999999999,0.09,0.09,0.09,null,"Length of Growing Season (days):",null,null,null,null,150,null,null,null,null,null,null,null,null,null,null,null,null,null,null,null,null,null,null,null,null,null,null,null,null,null,null,null,null,null,null,null,null,null,null,null,null,null,null,null,null,null,null,null,null,null,null,null,null,null,null,null,null,null,null,null,null,null,null,null,null,null,null,null,null,null,null,null,null,null,null,null,null,null,null,null,null,null,null,"Aubbeenaubbee",null,null,"Blueberries24",null,"Fennville",null,null,null,null,null,null,null,null,null,null,null,null,null,null,null,null,null,null,null,null,null,null,null,null,null,null,null,null,null,null,null,null,null,null,null,null,null,null,null,null,null,null,null,null,null,null,null,null,null,null,null,null,null,null,null,null,null,null,null,null,null,null,null,null,null,null,null,null,null,null,null,null,null,null,null,null,null,null,null,null,null,null,null,null,null,null,null,null,null,null,null,null,null,null,null,null,null,null,null,null,null,null,null,null,null,null,null,null,null,null,null,null,null,null,null,null,null,null,null,null,null,null,null,null,null,null,null,null,null,null,null,null,null,null,null,null,null,null,null,null,null,null,null,null,null,null,null,null,null,null,"Arkona",null,null,"Blueberries12"]
["Initial Capacity filled (%)",85,85,85,85,85,85,85,85,null,"Emergence Date (mm/dd/yyyy):  Earliest 4-15",null,null,null,null,"2020-05-28",null,null,null,null,null,null,null,null,null,null,null,null,null,null,null,null,null,null,null,null,null,null,null,null,null,null,null,null,null,null,null,null,null,null,null,null,null,null,null,null,null,null,null,null,null,null,null,null,null,null,null,null,null,null,null,null,null,null,null,null,null,null,null,null,null,null,null,null,null,null,null,null,null,null,null,null,null,null,"Belleville",null,null,"Broccoli",null,"Grand Junction",null,null,null,null,null,null,null,null,null,null,null,null,null,null,null,null,null,null,null,null,null,null,null,null,null,null,null,null,null,null,null,null,null,null,null,null,null,null,null,null,null,null,null,null,null,null,null,null,null,null,null,null,null,null,null,null,null,null,null,null,null,null,null,null,null,null,null,null,null,null,null,null,null,null,null,null,null,null,null,null,null,null,null,null,null,null,null,null,null,null,null,null,null,null,null,null,null,null,null,null,null,null,null,null,null,null,null,null,null,null,null,null,null,null,null,null,null,null,null,null,null,null,null,null,null,null,null,null,null,null,null,null,null,null,null,null,null,null,null,null,null,null,null,null,null,null,null,null,null,null,"Au Gres",null,null,"Blueberries18"]
[null,{"$f":"+B7*6","v":0},0.81,0.81,0.86999999999999988,0.86999999999999988,0.54,null,{"$f":"SUM(B9:G9)","v":3.9000000000000004},null,"Closest MSU Enviroweather Station to Field:",null,null,null,null,"Coldwater",null,null,null,null,null,null,null,null,null,null,null,null,null,null,null,null,null,null,null,null,null,null,null,null,null,null,null,null,null,null,null,null,null,null,null,null,null,null,null,null,null,null,null,null,null,null,null,null,null,null,null,null,null,null,null,null,null,null,null,null,null,null,null,null,null,null,null,null,null,null,null,null,null,null,null,null,null,null,"Benona ",null,null,"Carrot12",null,"Hartford"]
["Do you plan to download weather data from the Internet?",null,null,null,null,"Yes",null,null,null,null,"Irrigated Acres in the Field (for Water Use Reporting)",null,null,null,null,138,null,null,null,null,null,null,null,null,null,null,null,null,null,null,null,null,null,null,null,null,null,null,null,null,null,null,null,null,null,null,null,null,null,null,null,"Yes",null,null,null,null,null,null,null,null,null,null,null,null,null,null,null,null,null,null,null,null,null,null,null,null,null,null,null,null,null,null,null,null,null,null,null,null,null,null,null,null,null,null,"Blount Loam",null,null,"Carrot18",null,"Keeler"]
[null,null,null,null,null,null,null,null,null,null,"Enter the RM of the Corn Hybrid Planted",null,null,null,null,101,null,null,null,null,null,null,null,null,null,null,null,null,null,null,null,null,null,null,null,null,null,null,null,null,null,null,null,null,null,null,null,null,null,null,null,"No",null,null,null,null,null,null,null,null,null,null,null,null,null,null,null,null,null,null,null,null,null,null,null,null,null,null,null,null,null,null,null,null,null,null,null,null,null,null,null,null,null,null,"Blue Lake",null,null,"Carrot24",null,"Lawrence / Teapot Dome"]
[null,null,null,null,null,null,null,null,null,null,"Enter the GDD's to Blacklayer if Available",null,null,null,null,null,null,null,null,null,null,null,null,null,null,null,null,null,null,null,null,null,null,null,null,null,null,null,null,null,null,null,null,null,null,null,null,null,null,null,null,null,null,null,null,null,null,null,null,null,null,null,null,null,null,null,null,null,null,null,null,null,null,null,null,null,null,null,null,null,null,null,null,null,null,null,null,null,null,null,null,null,null,null,"Brady",null,null,"Carrot36",null,"Lawton"]
[null,null,null,null,null,null,null,null,null,null,null,null,null,null,null,null,null,null,null,null,null,null,null,null,null,null,null,null,null,null,null,null,null,null,null,null,null,null,null,null,null,null,null,null,null,null,null,null,null,null,null,null,null,null,null,null,null,null,null,null,null,null,null,null,null,null,null,null,null,null,null,null,null,null,null,null,null,null,null,null,null,null,null,null,null,null,null,null,null,null,null,null,null,null,"Brevert",null,null,"Cauliflower12",null,"Scottdale ",null,null,null,null,null,null,null,null,null,null,null,null,null,null,null,null,null,null,null,null,null,null,null,null,null,null,null,null,null,null,null,null,null,null,null,null,null,null,null,null,null,null,null,null,null,null,null,null,null,null,null,null,null,null,null,null,null,null,null,null,null,null,null,null,null,null,null,null,null,null,null,null,null,null,null,null,null,null,null,null,null,null,null,null,null,null,null,null,null,null,null,null,null,null,null,null,null,null,null,null,null,null,null,null,null,null,null,null,null,null,null,null,null,null,null,null,null,null,null,null,null,null,null,null,null,null,null,null,null,null,null,null,null,null,null,null,null,null,null,null,null,null,null,null,null,null,null,null,null,null,"Aubbeenaubbee",null,null,"Blueberries24"]
["Irrigation increment/amount per application (inches)",null,null,null,null,1,"Irrigate at this % of Available Soil Water in Root Zone",null,null,null,null,50,null,50,null,"Soybeans - 40 of avail until R-3",null,null,null,null,null,null,null,null,null,null,null,null,null,null,null,null,null,null,null,null,null,null,null,null,null,null,null,null,null,null,null,null,null,null,null,null,null,null,null,null,null,null,null,null,null,null,null,null,null,null,null,null,null,null,null,null,null,null,null,null,null,null,null,null,null,null,null,null,null,null,null,null,null,null,null,null,null,null,"Bronson",null,null,"Cauliflower18",null,"South Haven ",null,null,null,null,null,null,null,null,null,null,null,null,null,null,null,null,null,null,null,null,null,null,null,null,null,null,null,null,null,null,null,null,null,null,null,null,null,null,null,null,null,null,null,null,null,null,null,null,null,null,null,null,null,null,null,null,null,null,null,null,null,null,null,null,null,null,null,null,null,null,null,null,null,null,null,null,null,null,null,null,null,null,null,null,null,null,null,null,null,null,null,null,null,null,null,null,null,null,null,null,null,null,null,null,null,null,null,null,null,null,null,null,null,null,null,null,null,null,null,null,null,null,null,null,null,null,null,null,null,null,null,null,null,null,null,null,null,null,null,null,null,null,null,null,null,null,null,null,null,null,"Belleville",null,null,"Broccoli"]
[null,null,null,null,null,null,null,null,null,null,null,null,null,null,null,null,null,null,null,null,null,null,null,null,null,null,null,null,null,null,null,null,null,null,null,null,null,null,null,null,null,null,null,null,null,null,null,null,null,null,null,null,null,null,null,null,null,null,null,null,null,null,null,null,null,null,null,null,null,null,null,null,null,null,null,null,null,null,null,null,null,null,null,null,null,null,null,null,null,null,null,null,null,null,"Capac",null,null,"Celery",null,"Albion",null,null,null,null,null,null,null,null,null,null,null,null,null,null,null,null,null,null,null,null,null,null,null,null,null,null,null,null,null,null,null,null,null,null,null,null,null,null,null,null,null,null,null,null,null,null,null,null,null,null,null,null,null,null,null,null,null,null,null,null,null,null,null,null,null,null,null,null,null,null,null,null,null,null,null,null,null,null,null,null,null,null,null,null,null,null,null,null,null,null,null,null,null,null,null,null,null,null,null,null,null,null,null,null,null,null,null,null,null,null,null,null,null,null,null,null,null,null,null,null,null,null,null,null,null,null,null,null,null,null,null,null,null,null,null,null,null,null,null,null,null,null,null,null,null,null,null,null,null,null,"Benona ",null,null,"Carrot12"]
[null,null,null,null,null,null,null,null,null,null,null,null,null,null,null,null,null,null,null,null,null,null,null,null,null,null,null,null,null,null,null,null,null,null,null,null,null,null,null,null,null,null,null,null,null,null,null,null,null,null,null,null,null,null,null,null,null,null,null,null,null,null,null,null,null,null,null,null,null,null,null,null,null,null,null,null,null,null,null,null,null,null,null,null,null,null,null,null,null,null,null,null,null,null,"Carlisle",null,null,"Cherries",null,"Ceresco"]
[null,null,null,null,null,null,null,null,null,null,null,null,null,null,null,null,null,null,null,null,null,null,null,null,null,null,null,null,null,null,null,null,null,null,null,null,null,null,null,null,null,null,null,null,null,null,null,null,null,null,null,null,null,null,null,null,null,null,null,null,null,null,null,null,null,null,null,null,null,null,null,null,null,null,null,null,null,null,null,null,null,null,null,null,null,null,null,null,null,null,null,null,null,null,"Chippeny-Nahma",null,null,"Corn27",null,"Charlotte"]
[null,null,null,null,null,null,null,null,null,null,null,null,null,null,null,null,null,null,null,null,null,null,null,null,null,null,null,null,null,null,null,null,null,null,null,null,null,null,null,null,null,null,null,null,null,null,null,null,null,null,null,null,null,null,null,null,null,null,null,null,null,null,null,null,null,null,null,null,null,null,null,null,null,null,null,null,null,null,null,null,null,null,null,null,null,null,null,null,null,null,null,null,null,null,"Coloma",null,null,"Corn36",null,"Coldwater"]
[null,null,null,null,null,null,null,null,null,null,null,null,null,null,null,null,null,null,null,null,null,null,null,null,null,null,null,null,null,null,null,null,null,null,null,null,null,null,null,null,null,null,null,null,null,null,null,null,null,null,null,null,null,null,null,null,null,null,null,null,null,null,null,null,null,null,null,null,null,null,null,null,null,null,null,null,null,null,null,null,null,null,null,null,null,null,null,null,null,null,null,null,null,null,"Coral",null,null,"CucumberF12",null,"Constantine"]
[null,null,null,null,null,null,null,null,null,null,null,null,null,null,null,null,null,null,null,null,null,null,null,null,null,null,null,null,null,null,null,null,null,null,null,null,null,null,null,null,null,null,null,null,null,null,null,null,null,null,null,null,null,null,null,null,null,null,null,null,null,null,null,null,null,null,null,null,null,null,null,null,null,null,null,null,null,null,null,null,null,null,null,null,null,null,null,null,null,null,null,null,null,null,"Corunna",null,null,"CucumberF18",null,"Hastings"]
[null,"        Filename:",null,{"$f":"LEFT(CELL(\"filename\",A1),LEN(CELL(\"filename\",A1))-(FIND(\"\",CELL(\"filename\",A1),1))-12)","v":"C:\\Users\\DONG\\Desktop\\[MSU Irrigation Scheduler.xlsm]"},null,null,null,null,null,null,null,null,null,null,null,null,null,null,null,null,null,null,null,null,null,null,null,null,null,null,null,null,null,null,null,null,null,null,null,null,null,null,null,null,null,null,null,null,null,null,null,null,null,null,null,null,null,null,null,null,null,null,null,null,null,null,null,null,null,null,null,null,null,null,null,null,null,null,null,null,null,null,null,null,null,null,null,null,null,null,null,null,null,null,"Covert",null,null,"CucumberF24",null,"Kalamazoo"]
[null,null,null,null,null,null,null,null,null,null,null,null,null,null,null,null,null,null,null,null,null,null,null,null,null,null,null,null,null,null,null,null,null,null,null,null,null,null,null,null,null,null,null,null,null,null,null,null,null,null,null,null,null,null,null,null,null,null,null,null,null,null,null,null,null,null,null,null,null,null,null,null,null,null,null,null,null,null,null,null,null,null,null,null,null,null,null,null,null,null,null,null,null,null,"Croswell",null,null,"CucumberF36",null,"Leslie"]
[null,null,null,null,null,null,null,null,null,null,null,null,null,null,null,null,null,null,null,null,null,null,null,null,null,null,null,null,null,null,null,null,null,null,null,null,null,null,null,null,null,null,null,null,null,null,null,null,null,null,null,null,null,null,null,null,null,null,null,null,null,null,null,null,null,null,null,null,null,null,null,null,null,null,null,null,null,null,null,null,null,null,null,null,null,null,null,null,null,null,null,null,null,null,"Edmore",null,null,"CucumberP12",null,"Mendon"]
[null,null,null,null,null,null,null,null,null,null,null,null,null,null,null,null,null,null,null,null,null,null,null,null,null,null,null,null,null,null,null,null,null,null,null,null,null,null,null,null,null,null,null,null,null,null,null,null,null,null,null,null,null,null,null,null,null,null,null,null,null,null,null,null,null,null,null,null,null,null,null,null,null,null,null,null,null,null,null,null,null,null,null,null,null,null,null,null,null,null,null,null,null,null,"Edwards",null,null,"CucumberP18",null,"Oshtemo"]
[null,null,null,null,null,null,null,null,null,null,null,null,null,null,null,null,null,null,null,null,null,null,null,null,null,null,null,null,null,null,null,null,null,null,null,null,null,null,null,null,null,null,null,null,null,null,null,null,null,null,null,null,null,null,null,null,null,null,null,null,null,null,null,null,null,null,null,null,null,null,null,null,null,null,null,null,null,null,null,null,null,null,null,null,null,null,null,null,null,null,null,null,null,null,"Elston",null,null,"CucumberP24",null,"Commerce Township"]
[null,null,null,null,null,null,null,null,null,null,null,null,null,null,null,null,null,null,null,null,null,null,null,null,null,null,null,null,null,null,null,null,null,null,null,null,null,null,null,null,null,null,null,null,null,null,null,null,null,null,null,null,null,null,null,null,null,null,null,null,null,null,null,null,null,null,null,null,null,null,null,null,null,null,null,null,null,null,null,null,null,null,null,null,null,null,null,null,null,null,null,null,null,null,"Emmett",null,null,"CucumberP36",null,"Hudson"]
[null,null,null,null,null,null,null,null,null,null,null,null,null,null,null,null,null,null,null,null,null,null,null,null,null,null,null,null,null,null,null,null,null,null,null,null,null,null,null,null,null,null,null,null,null,null,null,null,null,null,null,null,null,null,null,null,null,null,null,null,null,null,null,null,null,null,null,null,null,null,null,null,null,null,null,null,null,null,null,null,null,null,null,null,null,null,null,null,null,null,null,null,null,null,"Epoufette",null,null,"DryBeans18",null,"Petersburg "]
[null,null,null,null,null,null,null,null,null,null,null,null,null,null,null,null,null,null,null,null,null,null,null,null,null,null,null,null,null,null,null,null,null,null,null,null,null,null,null,null,null,null,null,null,null,null,null,null,null,null,null,null,null,null,null,null,null,null,null,null,null,null,null,null,null,null,null,null,null,null,null,null,null,null,null,null,null,null,null,null,null,null,null,null,null,null,null,null,null,null,null,null,null,null,"Fern",null,null,"DryBeans21",null,"Romeo "]
[null,null,null,null,null,null,null,null,null,null,null,null,null,null,null,null,null,null,null,null,null,null,null,null,null,null,null,null,null,null,null,null,null,null,null,null,null,null,null,null,null,null,null,null,null,null,null,null,null,null,null,null,null,null,null,null,null,null,null,null,null,null,null,null,null,null,null,null,null,null,null,null,null,null,null,null,null,null,null,null,null,null,null,null,null,null,null,null,null,null,null,null,null,null,"Fox",null,null,"DryBeans24",null,"Belding"]
[null,null,null,null,null,null,null,null,null,null,null,null,null,null,null,null,null,null,null,null,null,null,null,null,null,null,null,null,null,null,null,null,null,null,null,null,null,null,null,null,null,null,null,null,null,null,null,null,null,null,null,null,null,null,null,null,null,null,null,null,null,null,null,null,null,null,null,null,null,null,null,null,null,null,null,null,null,null,null,null,null,null,null,null,null,null,null,null,null,null,null,null,null,null,"Gilford",null,null,"DryOnion12",null,"Clarksville"]
[null,null,null,null,null,null,null,null,null,null,null,null,null,null,null,null,null,null,null,null,null,null,null,null,null,null,null,null,null,null,null,null,null,null,null,null,null,null,null,null,null,null,null,null,null,null,null,null,null,null,null,null,null,null,null,null,null,null,null,null,null,null,null,null,null,null,null,null,null,null,null,null,null,null,null,null,null,null,null,null,null,null,null,null,null,null,null,null,null,null,null,null,null,null,"Gladwin",null,null,"DryOnion15",null,"Entrican"]
[null,null,null,null,null,null,null,null,null,null,null,null,null,null,null,null,null,null,null,null,null,null,null,null,null,null,null,null,null,null,null,null,null,null,null,null,null,null,null,null,null,null,null,null,null,null,null,null,null,null,null,null,null,null,null,null,null,null,null,null,null,null,null,null,null,null,null,null,null,null,null,null,null,null,null,null,null,null,null,null,null,null,null,null,null,null,null,null,null,null,null,null,null,null,"Glendora",null,null,"DryOnion18",null,"Fremont"]
[null,null,null,null,null,null,null,null,null,null,null,null,null,null,null,null,null,null,null,null,null,null,null,null,null,null,null,null,null,null,null,null,null,null,null,null,null,null,null,null,null,null,null,null,null,null,null,null,null,null,null,null,null,null,null,null,null,null,null,null,null,null,null,null,null,null,null,null,null,null,null,null,null,null,null,null,null,null,null,null,null,null,null,null,null,null,null,null,null,null,null,null,null,null,"Granby",null,null,"Grapes",null,"Hart"]
[null,null,null,null,null,null,null,null,null,null,null,null,null,null,null,null,null,null,null,null,null,null,null,null,null,null,null,null,null,null,null,null,null,null,null,null,null,null,null,null,null,null,null,null,null,null,null,null,null,null,null,null,null,null,null,null,null,null,null,null,null,null,null,null,null,null,null,null,null,null,null,null,null,null,null,null,null,null,null,null,null,null,null,null,null,null,null,null,null,null,null,null,null,null,"Grayling",null,null,"Grass12",null,"Hudsonville"]
[null,null,null,null,null,null,null,null,null,null,null,null,null,null,null,null,null,null,null,null,null,null,null,null,null,null,null,null,null,null,null,null,null,null,null,null,null,null,null,null,null,null,null,null,null,null,null,null,null,null,null,null,null,null,null,null,null,null,null,null,null,null,null,null,null,null,null,null,null,null,null,null,null,null,null,null,null,null,null,null,null,null,null,null,null,null,null,null,null,null,null,null,null,null,"Greenwood",null,null,"Grass18",null,"Kent City"]
[null,null,null,null,null,null,null,null,null,null,null,null,null,null,null,null,null,null,null,null,null,null,null,null,null,null,null,null,null,null,null,null,null,null,null,null,null,null,null,null,null,null,null,null,null,null,null,null,null,null,null,null,null,null,null,null,null,null,null,null,null,null,null,null,null,null,null,null,null,null,null,null,null,null,null,null,null,null,null,null,null,null,null,null,null,null,null,null,null,null,null,null,null,null,"Hillsdale",null,null,"Grass24",null,"Ludington"]
[null,null,null,null,null,null,null,null,null,null,null,null,null,null,null,null,null,null,null,null,null,null,null,null,null,null,null,null,null,null,null,null,null,null,null,null,null,null,null,null,null,null,null,null,null,null,null,null,null,null,null,null,null,null,null,null,null,null,null,null,null,null,null,null,null,null,null,null,null,null,null,null,null,null,null,null,null,null,null,null,null,null,null,null,null,null,null,null,null,null,null,null,null,null,"Houghton",null,null,"GreenBeans",null,"Mecosta"]
[null,null,null,null,null,null,null,null,null,null,null,null,null,null,null,null,null,null,null,null,null,null,null,null,null,null,null,null,null,null,null,null,null,null,null,null,null,null,null,null,null,null,null,null,null,null,null,null,null,null,null,null,null,null,null,null,null,null,null,null,null,null,null,null,null,null,null,null,null,null,null,null,null,null,null,null,null,null,null,null,null,null,null,null,null,null,null,null,null,null,null,null,null,null,"Iosca",null,null,"GreenOnion12",null,"Sparta "]
[null,null,null,null,null,null,null,null,null,null,null,null,null,null,null,null,null,null,null,null,null,null,null,null,null,null,null,null,null,null,null,null,null,null,null,null,null,null,null,null,null,null,null,null,null,null,null,null,null,null,null,null,null,null,null,null,null,null,null,null,null,null,null,null,null,null,null,null,null,null,null,null,null,null,null,null,null,null,null,null,null,null,null,null,null,null,null,null,null,null,null,null,null,null,"Isabella",null,null,"GreenOnion18",null,"Standale / Walker"]
[null,null,null,null,null,null,null,null,null,null,null,null,null,null,null,null,null,null,null,null,null,null,null,null,null,null,null,null,null,null,null,null,null,null,null,null,null,null,null,null,null,null,null,null,null,null,null,null,null,null,null,null,null,null,null,null,null,null,null,null,null,null,null,null,null,null,null,null,null,null,null,null,null,null,null,null,null,null,null,null,null,null,null,null,null,null,null,null,null,null,null,null,null,null,"Island lake",null,null,"GreenOnion24",null,"West Olive"]
[null,null,null,null,null,null,null,null,null,null,null,null,null,null,null,null,null,null,null,null,null,null,null,null,null,null,null,null,null,null,null,null,null,null,null,null,null,null,null,null,null,null,null,null,null,null,null,null,null,null,null,null,null,null,null,null,null,null,null,null,null,null,null,null,null,null,null,null,null,null,null,null,null,null,null,null,null,null,null,null,null,null,null,null,null,null,null,null,null,null,null,null,null,null,"Ithaca",null,null,"MuskMelon12",null,"East Lansing (HTRC)"]
[null,null,null,null,null,null,null,null,null,null,null,null,null,null,null,null,null,null,null,null,null,null,null,null,null,null,null,null,null,null,null,null,null,null,null,null,null,null,null,null,null,null,null,null,null,null,null,null,null,null,null,null,null,null,null,null,null,null,null,null,null,null,null,null,null,null,null,null,null,null,null,null,null,null,null,null,null,null,null,null,null,null,null,null,null,null,null,null,null,null,null,null,null,null,"Kalamazoo",null,null,"MuskMelon15",null,"East Lansing (MSU Hort)"]
[null,null,null,null,null,null,null,null,null,null,null,null,null,null,null,null,null,null,null,null,null,null,null,null,null,null,null,null,null,null,null,null,null,null,null,null,null,null,null,null,null,null,null,null,null,null,null,null,null,null,null,null,null,null,null,null,null,null,null,null,null,null,null,null,null,null,null,null,null,null,null,null,null,null,null,null,null,null,null,null,null,null,null,null,null,null,null,null,null,null,null,null,null,null,"Kawkawlin",null,null,"MuskMelon18",null,"Emmett"]
[null,null,null,null,null,null,null,null,null,null,null,null,null,null,null,null,null,null,null,null,null,null,null,null,null,null,null,null,null,null,null,null,null,null,null,null,null,null,null,null,null,null,null,null,null,null,null,null,null,null,null,null,null,null,null,null,null,null,null,null,null,null,null,null,null,null,null,null,null,null,null,null,null,null,null,null,null,null,null,null,null,null,null,null,null,null,null,null,null,null,null,null,null,null,"Kerston",null,null,"MuskMelon36",null,"Fairgrove"]
[null,null,null,null,null,null,null,null,null,null,null,null,null,null,null,null,null,null,null,null,null,null,null,null,null,null,null,null,null,null,null,null,null,null,null,null,null,null,null,null,null,null,null,null,null,null,null,null,null,null,null,null,null,null,null,null,null,null,null,null,null,null,null,null,null,null,null,null,null,null,null,null,null,null,null,null,null,null,null,null,null,null,null,null,null,null,null,null,null,null,null,null,null,null,"Kilmanagh",null,null,"Peaches",null,"Flint"]
[null,null,null,null,null,null,null,null,null,null,null,null,null,null,null,null,null,null,null,null,null,null,null,null,null,null,null,null,null,null,null,null,null,null,null,null,null,null,null,null,null,null,null,null,null,null,null,null,null,null,null,null,null,null,null,null,null,null,null,null,null,null,null,null,null,null,null,null,null,null,null,null,null,null,null,null,null,null,null,null,null,null,null,null,null,null,null,null,null,null,null,null,null,null,"Lapeer",null,null,"Pears",null,"Freeland"]
[null,null,null,null,null,null,null,null,null,null,null,null,null,null,null,null,null,null,null,null,null,null,null,null,null,null,null,null,null,null,null,null,null,null,null,null,null,null,null,null,null,null,null,null,null,null,null,null,null,null,null,null,null,null,null,null,null,null,null,null,null,null,null,null,null,null,null,null,null,null,null,null,null,null,null,null,null,null,null,null,null,null,null,null,null,null,null,null,null,null,null,null,null,null,"Leoni",null,null,"Peas",null,"Ithaca"]
[null,null,null,null,null,null,null,null,null,null,null,null,null,null,null,null,null,null,null,null,null,null,null,null,null,null,null,null,null,null,null,null,null,null,null,null,null,null,null,null,null,null,null,null,null,null,null,null,null,null,null,null,null,null,null,null,null,null,null,null,null,null,null,null,null,null,null,null,null,null,null,null,null,null,null,null,null,null,null,null,null,null,null,null,null,null,null,null,null,null,null,null,null,null,"Locke",null,null,"Plums",null,"Kinde"]
[null,null,null,null,null,null,null,null,null,null,null,null,null,null,null,null,null,null,null,null,null,null,null,null,null,null,null,null,null,null,null,null,null,null,null,null,null,null,null,null,null,null,null,null,null,null,null,null,null,null,null,null,null,null,null,null,null,null,null,null,null,null,null,null,null,null,null,null,null,null,null,null,null,null,null,null,null,null,null,null,null,null,null,null,null,null,null,null,null,null,null,null,null,null,"Londo",null,null,"Potatoes12",null,"Lapeer"]
[null,null,null,null,null,null,null,null,null,null,null,null,null,null,null,null,null,null,null,null,null,null,null,null,null,null,null,null,null,null,null,null,null,null,null,null,null,null,null,null,null,null,null,null,null,null,null,null,null,null,null,null,null,null,null,null,null,null,null,null,null,null,null,null,null,null,null,null,null,null,null,null,null,null,null,null,null,null,null,null,null,null,null,null,null,null,null,null,null,null,null,null,null,null,"Loxley",null,null,"Potatoes18",null,"Linwood"]
[null,null,null,null,null,null,null,null,null,null,null,null,null,null,null,null,null,null,null,null,null,null,null,null,null,null,null,null,null,null,null,null,null,null,null,null,null,null,null,null,null,null,null,null,null,null,null,null,null,null,null,null,null,null,null,null,null,null,null,null,null,null,null,null,null,null,null,null,null,null,null,null,null,null,null,null,null,null,null,null,null,null,null,null,null,null,null,null,null,null,null,null,null,null,"Mancelona",null,null,"Potatoes24",null,"Munger"]
[null,null,null,null,null,null,null,null,null,null,null,null,null,null,null,null,null,null,null,null,null,null,null,null,null,null,null,null,null,null,null,null,null,null,null,null,null,null,null,null,null,null,null,null,null,null,null,null,null,null,null,null,null,null,null,null,null,null,null,null,null,null,null,null,null,null,null,null,null,null,null,null,null,null,null,null,null,null,null,null,null,null,null,null,null,null,null,null,null,null,null,null,null,null,"Marlette",null,null,"Soybeans24",null,"Pigeon "]
[null,null,null,null,null,null,null,null,null,null,null,null,null,null,null,null,null,null,null,null,null,null,null,null,null,null,null,null,null,null,null,null,null,null,null,null,null,null,null,null,null,null,null,null,null,null,null,null,null,null,null,null,null,null,null,null,null,null,null,null,null,null,null,null,null,null,null,null,null,null,null,null,null,null,null,null,null,null,null,null,null,null,null,null,null,null,null,null,null,null,null,null,null,null,"Matea",null,null,"Squash",null,"Richville / Frankenmuth "]
[null,null,null,null,null,null,null,null,null,null,null,null,null,null,null,null,null,null,null,null,null,null,null,null,null,null,null,null,null,null,null,null,null,null,null,null,null,null,null,null,null,null,null,null,null,null,null,null,null,null,null,null,null,null,null,null,null,null,null,null,null,null,null,null,null,null,null,null,null,null,null,null,null,null,null,null,null,null,null,null,null,null,null,null,null,null,null,null,null,null,null,null,null,null,"McBride",null,null,"Strawberries",null,"Sandusky "]
[null,null,null,null,null,null,null,null,null,null,null,null,null,null,null,null,null,null,null,null,null,null,null,null,null,null,null,null,null,null,null,null,null,null,null,null,null,null,null,null,null,null,null,null,null,null,null,null,null,null,null,null,null,null,null,null,null,null,null,null,null,null,null,null,null,null,null,null,null,null,null,null,null,null,null,null,null,null,null,null,null,null,null,null,null,null,null,null,null,null,null,null,null,null,"McBride",null,null,"TomatoesS12",null,"Verona"]
[null,null,null,null,null,null,null,null,null,null,null,null,null,null,null,null,null,null,null,null,null,null,null,null,null,null,null,null,null,null,null,null,null,null,null,null,null,null,null,null,null,null,null,null,null,null,null,null,null,null,null,null,null,null,null,null,null,null,null,null,null,null,null,null,null,null,null,null,null,null,null,null,null,null,null,null,null,null,null,null,null,null,null,null,null,null,null,null,null,null,null,null,null,null,"Mecosta",null,null,"TomatoesS18",null,"Arlene"]
[null,null,null,null,null,null,null,null,null,null,null,null,null,null,null,null,null,null,null,null,null,null,null,null,null,null,null,null,null,null,null,null,null,null,null,null,null,null,null,null,null,null,null,null,null,null,null,null,null,null,null,null,null,null,null,null,null,null,null,null,null,null,null,null,null,null,null,null,null,null,null,null,null,null,null,null,null,null,null,null,null,null,null,null,null,null,null,null,null,null,null,null,null,null,"Melita",null,null,"TomatoesS24",null,"Gaylord"]
[null,null,null,null,null,null,null,null,null,null,null,null,null,null,null,null,null,null,null,null,null,null,null,null,null,null,null,null,null,null,null,null,null,null,null,null,null,null,null,null,null,null,null,null,null,null,null,null,null,null,null,null,null,null,null,null,null,null,null,null,null,null,null,null,null,null,null,null,null,null,null,null,null,null,null,null,null,null,null,null,null,null,null,null,null,null,null,null,null,null,null,null,null,null,"Montcalm",null,null,"TomatoesT12",null,"Kalkaska"]
[null,null,null,null,null,null,null,null,null,null,null,null,null,null,null,null,null,null,null,null,null,null,null,null,null,null,null,null,null,null,null,null,null,null,null,null,null,null,null,null,null,null,null,null,null,null,null,null,null,null,null,null,null,null,null,null,null,null,null,null,null,null,null,null,null,null,null,null,null,null,null,null,null,null,null,null,null,null,null,null,null,null,null,null,null,null,null,null,null,null,null,null,null,null,"Nadeau",null,null,"TomatoesT18",null,"McBain"]
[null,null,null,null,null,null,null,null,null,null,null,null,null,null,null,null,null,null,null,null,null,null,null,null,null,null,null,null,null,null,null,null,null,null,null,null,null,null,null,null,null,null,null,null,null,null,null,null,null,null,null,null,null,null,null,null,null,null,null,null,null,null,null,null,null,null,null,null,null,null,null,null,null,null,null,null,null,null,null,null,null,null,null,null,null,null,null,null,null,null,null,null,null,null,"Nester",null,null,"TomatoesT24",null,"Bear Lake"]
[null,null,null,null,null,null,null,null,null,null,null,null,null,null,null,null,null,null,null,null,null,null,null,null,null,null,null,null,null,null,null,null,null,null,null,null,null,null,null,null,null,null,null,null,null,null,null,null,null,null,null,null,null,null,null,null,null,null,null,null,null,null,null,null,null,null,null,null,null,null,null,null,null,null,null,null,null,null,null,null,null,null,null,null,null,null,null,null,null,null,null,null,null,null,"Newago",null,null,"Wheat",null,"Benzonia"]
[null,null,null,null,null,null,null,null,null,null,null,null,null,null,null,null,null,null,null,null,null,null,null,null,null,null,null,null,null,null,null,null,null,null,null,null,null,null,null,null,null,null,null,null,null,null,null,null,null,null,null,null,null,null,null,null,null,null,null,null,null,null,null,null,null,null,null,null,null,null,null,null,null,null,null,null,null,null,null,null,null,null,null,null,null,null,null,null,null,null,null,null,null,null,"Nottawa",null,null,null,null,"East Leland"]
[null,null,null,null,null,null,null,null,null,null,null,null,null,null,null,null,null,null,null,null,null,null,null,null,null,null,null,null,null,null,null,null,null,null,null,null,null,null,null,null,null,null,null,null,null,null,null,null,null,null,null,null,null,null,null,null,null,null,null,null,null,null,null,null,null,null,null,null,null,null,null,null,null,null,null,null,null,null,null,null,null,null,null,null,null,null,null,null,null,null,null,null,null,null,"Oshtemo",null,null,null,null,"Eastport"]
[null,null,null,null,null,null,null,null,null,null,null,null,null,null,null,null,null,null,null,null,null,null,null,null,null,null,null,null,null,null,null,null,null,null,null,null,null,null,null,null,null,null,null,null,null,null,null,null,null,null,null,null,null,null,null,null,null,null,null,null,null,null,null,null,null,null,null,null,null,null,null,null,null,null,null,null,null,null,null,null,null,null,null,null,null,null,null,null,null,null,null,null,null,null,"Palms",null,null,null,null,"Elk Rapids"]
[null,null,null,null,null,null,null,null,null,null,null,null,null,null,null,null,null,null,null,null,null,null,null,null,null,null,null,null,null,null,null,null,null,null,null,null,null,null,null,null,null,null,null,null,null,null,null,null,null,null,null,null,null,null,null,null,null,null,null,null,null,null,null,null,null,null,null,null,null,null,null,null,null,null,null,null,null,null,null,null,null,null,null,null,null,null,null,null,null,null,null,null,null,null,"Palo",null,null,null,null,"Kewadin"]
[null,null,null,null,null,null,null,null,null,null,null,null,null,null,null,null,null,null,null,null,null,null,null,null,null,null,null,null,null,null,null,null,null,null,null,null,null,null,null,null,null,null,null,null,null,null,null,null,null,null,null,null,null,null,null,null,null,null,null,null,null,null,null,null,null,null,null,null,null,null,null,null,null,null,null,null,null,null,null,null,null,null,null,null,null,null,null,null,null,null,null,null,null,null,"Parkhill",null,null,null,null,"Northport "]
[null,null,null,null,null,null,null,null,null,null,null,null,null,null,null,null,null,null,null,null,null,null,null,null,null,null,null,null,null,null,null,null,null,null,null,null,null,null,null,null,null,null,null,null,null,null,null,null,null,null,null,null,null,null,null,null,null,null,null,null,null,null,null,null,null,null,null,null,null,null,null,null,null,null,null,null,null,null,null,null,null,null,null,null,null,null,null,null,null,null,null,null,null,null,"Perrington",null,null,null,null,"Old Mission "]
[null,null,null,null,null,null,null,null,null,null,null,null,null,null,null,null,null,null,null,null,null,null,null,null,null,null,null,null,null,null,null,null,null,null,null,null,null,null,null,null,null,null,null,null,null,null,null,null,null,null,null,null,null,null,null,null,null,null,null,null,null,null,null,null,null,null,null,null,null,null,null,null,null,null,null,null,null,null,null,null,null,null,null,null,null,null,null,null,null,null,null,null,null,null,"Pipestone",null,null,null,null,"Traverse City (NWMHRS) "]
[null,null,null,null,null,null,null,null,null,null,null,null,null,null,null,null,null,null,null,null,null,null,null,null,null,null,null,null,null,null,null,null,null,null,null,null,null,null,null,null,null,null,null,null,null,null,null,null,null,null,null,null,null,null,null,null,null,null,null,null,null,null,null,null,null,null,null,null,null,null,null,null,null,null,null,null,null,null,null,null,null,null,null,null,null,null,null,null,null,null,null,null,null,null,"Pipestone-Kingsville",null,null,null,null,"Hawks"]
[null,null,null,null,null,null,null,null,null,null,null,null,null,null,null,null,null,null,null,null,null,null,null,null,null,null,null,null,null,null,null,null,null,null,null,null,null,null,null,null,null,null,null,null,null,null,null,null,null,null,null,null,null,null,null,null,null,null,null,null,null,null,null,null,null,null,null,null,null,null,null,null,null,null,null,null,null,null,null,null,null,null,null,null,null,null,null,null,null,null,null,null,null,null,"Plainfield",null,null,null,null,"Chatham"]
[null,null,null,null,null,null,null,null,null,null,null,null,null,null,null,null,null,null,null,null,null,null,null,null,null,null,null,null,null,null,null,null,null,null,null,null,null,null,null,null,null,null,null,null,null,null,null,null,null,null,null,null,null,null,null,null,null,null,null,null,null,null,null,null,null,null,null,null,null,null,null,null,null,null,null,null,null,null,null,null,null,null,null,null,null,null,null,null,null,null,null,null,null,null,"Poseyville",null,null,null,null,"Escanaba"]
[null,null,null,null,null,null,null,null,null,null,null,null,null,null,null,null,null,null,null,null,null,null,null,null,null,null,null,null,null,null,null,null,null,null,null,null,null,null,null,null,null,null,null,null,null,null,null,null,null,null,null,null,null,null,null,null,null,null,null,null,null,null,null,null,null,null,null,null,null,null,null,null,null,null,null,null,null,null,null,null,null,null,null,null,null,null,null,null,null,null,null,null,null,null,"Remus",null,null,null,null,"McMillan / Newberry"]
[null,null,null,null,null,null,null,null,null,null,null,null,null,null,null,null,null,null,null,null,null,null,null,null,null,null,null,null,null,null,null,null,null,null,null,null,null,null,null,null,null,null,null,null,null,null,null,null,null,null,null,null,null,null,null,null,null,null,null,null,null,null,null,null,null,null,null,null,null,null,null,null,null,null,null,null,null,null,null,null,null,null,null,null,null,null,null,null,null,null,null,null,null,null,"Rifle",null,null,null,null,"Stephenson "]
[null,null,null,null,null,null,null,null,null,null,null,null,null,null,null,null,null,null,null,null,null,null,null,null,null,null,null,null,null,null,null,null,null,null,null,null,null,null,null,null,null,null,null,null,null,null,null,null,null,null,null,null,null,null,null,null,null,null,null,null,null,null,null,null,null,null,null,null,null,null,null,null,null,null,null,null,null,null,null,null,null,null,null,null,null,null,null,null,null,null,null,null,null,null,"Riverdale",null,null,null,null,"Casco / Luxemburg"]
[null,null,null,null,null,null,null,null,null,null,null,null,null,null,null,null,null,null,null,null,null,null,null,null,null,null,null,null,null,null,null,null,null,null,null,null,null,null,null,null,null,null,null,null,null,null,null,null,null,null,null,null,null,null,null,null,null,null,null,null,null,null,null,null,null,null,null,null,null,null,null,null,null,null,null,null,null,null,null,null,null,null,null,null,null,null,null,null,null,null,null,null,null,null,"Ronald",null,null,null,null,"Egg Harbor"]
[null,null,null,null,null,null,null,null,null,null,null,null,null,null,null,null,null,null,null,null,null,null,null,null,null,null,null,null,null,null,null,null,null,null,null,null,null,null,null,null,null,null,null,null,null,null,null,null,null,null,null,null,null,null,null,null,null,null,null,null,null,null,null,null,null,null,null,null,null,null,null,null,null,null,null,null,null,null,null,null,null,null,null,null,null,null,null,null,null,null,null,null,null,null,"Roscommon",null,null,null,null,"Nasewaupee / S. Door County"]
[null,null,null,null,null,null,null,null,null,null,null,null,null,null,null,null,null,null,null,null,null,null,null,null,null,null,null,null,null,null,null,null,null,null,null,null,null,null,null,null,null,null,null,null,null,null,null,null,null,null,null,null,null,null,null,null,null,null,null,null,null,null,null,null,null,null,null,null,null,null,null,null,null,null,null,null,null,null,null,null,null,null,null,null,null,null,null,null,null,null,null,null,null,null,"Rousseau",null,null,null,null,"Sister Bay / Liberty Grove"]
[null,null,null,null,null,null,null,null,null,null,null,null,null,null,null,null,null,null,null,null,null,null,null,null,null,null,null,null,null,null,null,null,null,null,null,null,null,null,null,null,null,null,null,null,null,null,null,null,null,null,null,null,null,null,null,null,null,null,null,null,null,null,null,null,null,null,null,null,null,null,null,null,null,null,null,null,null,null,null,null,null,null,null,null,null,null,null,null,null,null,null,null,null,null,"Sandy Loam",null,null,null,null,"Sturgeon Bay"]
[null,null,null,null,null,null,null,null,null,null,null,null,null,null,null,null,null,null,null,null,null,null,null,null,null,null,null,null,null,null,null,null,null,null,null,null,null,null,null,null,null,null,null,null,null,null,null,null,null,null,null,null,null,null,null,null,null,null,null,null,null,null,null,null,null,null,null,null,null,null,null,null,null,null,null,null,null,null,null,null,null,null,null,null,null,null,null,null,null,null,null,null,null,null,"Sandy Loam / Coarse Loam",null,null,null,null,"West Jacksonport"]
[null,null,null,null,null,null,null,null,null,null,null,null,null,null,null,null,null,null,null,null,null,null,null,null,null,null,null,null,null,null,null,null,null,null,null,null,null,null,null,null,null,null,null,null,null,null,null,null,null,null,null,null,null,null,null,null,null,null,null,null,null,null,null,null,null,null,null,null,null,null,null,null,null,null,null,null,null,null,null,null,null,null,null,null,null,null,null,null,null,null,null,null,null,null,"Saugatauk"]
[null,null,null,null,null,null,null,null,null,null,null,null,null,null,null,null,null,null,null,null,null,null,null,null,null,null,null,null,null,null,null,null,null,null,null,null,null,null,null,null,null,null,null,null,null,null,null,null,null,null,null,null,null,null,null,null,null,null,null,null,null,null,null,null,null,null,null,null,null,null,null,null,null,null,null,null,null,null,null,null,null,null,null,null,null,null,null,null,null,null,null,null,null,null,"Schoolcraft"]
[null,null,null,null,null,null,null,null,null,null,null,null,null,null,null,null,null,null,null,null,null,null,null,null,null,null,null,null,null,null,null,null,null,null,null,null,null,null,null,null,null,null,null,null,null,null,null,null,null,null,null,null,null,null,null,null,null,null,null,null,null,null,null,null,null,null,null,null,null,null,null,null,null,null,null,null,null,null,null,null,null,null,null,null,null,null,null,null,null,null,null,null,null,null,"Shebeon"]
[null,null,null,null,null,null,null,null,null,null,null,null,null,null,null,null,null,null,null,null,null,null,null,null,null,null,null,null,null,null,null,null,null,null,null,null,null,null,null,null,null,null,null,null,null,null,null,null,null,null,null,null,null,null,null,null,null,null,null,null,null,null,null,null,null,null,null,null,null,null,null,null,null,null,null,null,null,null,null,null,null,null,null,null,null,null,null,null,null,null,null,null,null,null,"Sims"]
[null,null,null,null,null,null,null,null,null,null,null,null,null,null,null,null,null,null,null,null,null,null,null,null,null,null,null,null,null,null,null,null,null,null,null,null,null,null,null,null,null,null,null,null,null,null,null,null,null,null,null,null,null,null,null,null,null,null,null,null,null,null,null,null,null,null,null,null,null,null,null,null,null,null,null,null,null,null,null,null,null,null,null,null,null,null,null,null,null,null,null,null,null,null,"Sparta"]
[null,null,null,null,null,null,null,null,null,null,null,null,null,null,null,null,null,null,null,null,null,null,null,null,null,null,null,null,null,null,null,null,null,null,null,null,null,null,null,null,null,null,null,null,null,null,null,null,null,null,null,null,null,null,null,null,null,null,null,null,null,null,null,null,null,null,null,null,null,null,null,null,null,null,null,null,null,null,null,null,null,null,null,null,null,null,null,null,null,null,null,null,null,null,"Spinks"]
[null,null,null,null,null,null,null,null,null,null,null,null,null,null,null,null,null,null,null,null,null,null,null,null,null,null,null,null,null,null,null,null,null,null,null,null,null,null,null,null,null,null,null,null,null,null,null,null,null,null,null,null,null,null,null,null,null,null,null,null,null,null,null,null,null,null,null,null,null,null,null,null,null,null,null,null,null,null,null,null,null,null,null,null,null,null,null,null,null,null,null,null,null,null,"Tappan"]
[null,null,null,null,null,null,null,null,null,null,null,null,null,null,null,null,null,null,null,null,null,null,null,null,null,null,null,null,null,null,null,null,null,null,null,null,null,null,null,null,null,null,null,null,null,null,null,null,null,null,null,null,null,null,null,null,null,null,null,null,null,null,null,null,null,null,null,null,null,null,null,null,null,null,null,null,null,null,null,null,null,null,null,null,null,null,null,null,null,null,null,null,null,null,"Tewas"]
[null,null,null,null,null,null,null,null,null,null,null,null,null,null,null,null,null,null,null,null,null,null,null,null,null,null,null,null,null,null,null,null,null,null,null,null,null,null,null,null,null,null,null,null,null,null,null,null,null,null,null,null,null,null,null,null,null,null,null,null,null,null,null,null,null,null,null,null,null,null,null,null,null,null,null,null,null,null,null,null,null,null,null,null,null,null,null,null,null,null,null,null,null,null,"Thetford"]
[null,null,null,null,null,null,null,null,null,null,null,null,null,null,null,null,null,null,null,null,null,null,null,null,null,null,null,null,null,null,null,null,null,null,null,null,null,null,null,null,null,null,null,null,null,null,null,null,null,null,null,null,null,null,null,null,null,null,null,null,null,null,null,null,null,null,null,null,null,null,null,null,null,null,null,null,null,null,null,null,null,null,null,null,null,null,null,null,null,null,null,null,null,null,"Tustin"]
[null,null,null,null,null,null,null,null,null,null,null,null,null,null,null,null,null,null,null,null,null,null,null,null,null,null,null,null,null,null,null,null,null,null,null,null,null,null,null,null,null,null,null,null,null,null,null,null,null,null,null,null,null,null,null,null,null,null,null,null,null,null,null,null,null,null,null,null,null,null,null,null,null,null,null,null,null,null,null,null,null,null,null,null,null,null,null,null,null,null,null,null,null,null,"Vestaburg"]
[null,null,null,null,null,null,null,null,null,null,null,null,null,null,null,null,null,null,null,null,null,null,null,null,null,null,null,null,null,null,null,null,null,null,null,null,null,null,null,null,null,null,null,null,null,null,null,null,null,null,null,null,null,null,null,null,null,null,null,null,null,null,null,null,null,null,null,null,null,null,null,null,null,null,null,null,null,null,null,null,null,null,null,null,null,null,null,null,null,null,null,null,null,null,"Washtenaw"]
[null,null,null,null,null,null,null,null,null,null,null,null,null,null,null,null,null,null,null,null,null,null,null,null,null,null,null,null,null,null,null,null,null,null,null,null,null,null,null,null,null,null,null,null,null,null,null,null,null,null,null,null,null,null,null,null,null,null,null,null,null,null,null,null,null,null,null,null,null,null,null,null,null,null,null,null,null,null,null,null,null,null,null,null,null,null,null,null,null,null,null,null,null,null,"Wauseon"]
[null,null,null,null,null,null,null,null,null,null,null,null,null,null,null,null,null,null,null,null,null,null,null,null,null,null,null,null,null,null,null,null,null,null,null,null,null,null,null,null,null,null,null,null,null,null,null,null,null,null,null,null,null,null,null,null,null,null,null,null,null,null,null,null,null,null,null,null,null,null,null,null,null,null,null,null,null,null,null,null,null,null,null,null,null,null,null,null,null,null,null,null,null,null,"Wixom"]
[null,null,null,null,null,null,null,null,null,null,null,null,null,null,null,null,null,null,null,null,null,null,null,null,null,null,null,null,null,null,null,null,null,null,null,null,null,null,null,null,null,null,null,null,null,null,null,null,null,null,null,null,null,null,null,null,null,null,null,null,null,null,null,null,null,null,null,null,null,null,null,null,null,null,null,null,null,null,null,null,null,null,null,null,null,null,null,null,null,null,null,null,null,null,"Ziegenfuss"]

{"sheet":"Calculations2","index":4,"n_rows":342,"n_cols":254,"rows_kept":342,"cut":false,"hidden":false,"merged":[[9,10,9,14],[14,0,14,4],[14,6,14,10],[16,1,16,5],[16,6,16,11],[202,0,203,0],[3,0,3,7],[4,0,4,7],[5,0,5,7],[6,0,6,7],[7,0,7,7],[9,0,9,4],[0,0,0,1],[0,2,0,4],[0,6,0,8],[0,9,0,10],[1,0,1,1],[1,2,1,4]]}
[" "]
["Crop",null,null,null,null,null,0.67]
[]
["     Estimates of Potential ET can be found at the MSU AgWeather site: http://www.agweather.geo.msu.edu/mawn/irrigation/"]
["     The Table of Crop Coefficients contains estimated values of Root Depth and Canopy Cover Coeff, as a function of the percentage of the growing season."]
["     To use the Table, first determine the length of the growing season and rooting depth for the variety of your crop, then extrapolate data from emergence date."]
["     For example, 120 day Corn36 (a corn variety with an effective rooting depth of 36 inches) and has an emergence date of May 15th, 10% of the growing season is May 27th."]
["10% of 120 = 12            15 + 12 = 27"]
[null,null,null,null,null,null,null,null,null,null,null,null,null,null,null,null,null,null,null,null,null,null,null,null,null,null,null,null,null,null,null,null,null,null,null,null,null,null,null,null,null,null,null,null,null,null,null,null,null,null,null,null,null,null,null,null,null,null,null,null,null,null,null,null,null,null,null,null,null,null,null,null,null,null,null,null,null,null,null,null,null,null,null,null,null,null,null,null,null,null,null,null,null,null,null,null,null,null,null,null,null,null,null,null,null,null,null,null,null,null,null,null,null,null,null,null,null,null,null,null,null,null,null,null,null,null,null,null,null,null,null,null,null,null,null,null,null,null,null,null,null,null,null,null,null,null,null,null,null,null,null,null,null,null,null,null,null,null,null,null,null,null,null,null,null,null,null,null,null,null,null,null,null,null,null,null,null,null,null,null,null,null,null,null,null,null,null,null,null,null,null,null,null,null,null,null,null,null,null,null,null,null,null,null,null,null,null,null,null,null,null,null,null,null,null,null,null,null,null,null,null,null,null,null,null,null,null,null,null,null,null,null,null,null,null,null,null,null,null,null,null,null,null,null,null,null,null,null,null,null,"Adrian",null,null,"Alfalfa"]
["Available water (AW) holding capacity of soil - (inches water/inch soil).  See Table 1 or Soil Survey.",null,null,null,null,null,null,null,null,null,"Soil Type (Bronson or Oshtema)",null,null,null,null,"Kalamazoo",null,null,null,null,null,null,null,null,null,null,null,null,null,null,null,null,null,null,null,null,null,null,null,null,null,null,null,null,null,null,null,null,null,null,null,null,null,null,null,null,null,null,null,null,null,null,null,null,null,null,null,null,null,null,null,null,null,null,null,null,null,null,null,null,null,null,null,null,null,null,null,null,null,null,null,null,null,null,null,null,null,null,null,null,null,null,null,null,null,null,null,null,null,null,null,null,null,null,null,null,null,null,null,null,null,null,null,null,null,null,null,null,null,null,null,null,null,null,null,null,null,null,null,null,null,null,null,null,null,null,null,null,null,null,null,null,null,null,null,null,null,null,null,null,null,null,null,null,null,null,null,null,null,null,null,null,null,null,null,null,null,null,null,null,null,null,null,null,null,null,null,null,null,null,null,null,null,null,null,null,null,null,null,null,null,null,null,null,null,null,null,null,null,null,null,null,null,null,null,null,null,null,null,null,null,null,null,null,null,null,null,null,null,null,null,null,null,null,null,null,null,null,null,null,null,null,null,null,null,null,null,null,null,null,"Alcona-Richter",null,null,"Alfalfa1"]
["Depth Range (in)","0 - 6","6 - 12","12 - 18","18 - 24","24 - 30","30 - 36","36 - 42","42 - 48",null,"Crop (Corn24 or Corn36):",null,null,null,null,null,null,null,null,null,null,null,null,null,null,null,null,null,null,null,null,null,null,null,null,null,null,null,null,null,null,null,null,null,null,null,null,null,null,null,null,null,null,null,null,null,null,null,null,null,null,null,null,null,null,null,null,null,null,null,null,null,null,null,null,null,null,null,null,null,null,null,null,null,null,null,null,null,null,null,null,null,null,null,null,null,null,null,null,null,null,null,null,null,null,null,null,null,null,null,null,null,null,null,null,null,null,null,null,null,null,null,null,null,null,null,null,null,null,null,null,null,null,null,null,null,null,null,null,null,null,null,null,null,null,null,null,null,null,null,null,null,null,null,null,null,null,null,null,null,null,null,null,null,null,null,null,null,null,null,null,null,null,null,null,null,null,null,null,null,null,null,null,null,null,null,null,null,null,null,null,null,null,null,null,null,null,null,null,null,null,null,null,null,null,null,null,null,null,null,null,null,null,null,null,null,null,null,null,null,null,null,null,null,null,null,null,null,null,null,null,null,null,null,null,null,null,null,null,null,null,null,null,null,null,null,null,null,null,null,"Algansee",null,null,"Apple"]
["AW (in/in)",{"$f":"+ScheduleSetup!B7","v":0},{"$f":"+ScheduleSetup!C7","v":0.13500000000000001},{"$f":"+ScheduleSetup!D7","v":0.13500000000000001},{"$f":"+ScheduleSetup!E7","v":0.14499999999999999},{"$f":"+ScheduleSetup!F7","v":0.14499999999999999},{"$f":"+ScheduleSetup!G7","v":0.09},{"$f":"+ScheduleSetup!H7","v":0.09},{"$f":"+ScheduleSetup!I7","v":0.09},null,"Length of Growing Season (days):",null,null,null,null,{"$f":"+ScheduleSetup!P7","v":150},null,null,null,null,null,null,null,null,null,null,null,null,null,null,null,null,null,null,null,null,null,null,null,null,null,null,null,null,null,null,null,null,null,null,null,null,null,null,null,null,null,null,null,null,null,null,null,null,null,null,null,null,null,null,null,null,null,null,null,null,null,null,null,null,null,null,null,null,null,null,null,null,null,null,null,null,null,null,null,null,null,null,null,null,null,null,null,null,null,null,null,null,null,null,null,null,null,null,null,null,null,null,null,null,null,null,null,null,null,null,null,null,null,null,null,null,null,null,null,null,null,null,null,null,null,null,null,null,null,null,null,null,null,null,null,null,null,null,null,null,null,null,null,null,null,null,null,null,null,null,null,null,null,null,null,null,null,null,null,null,null,null,null,null,null,null,null,null,null,null,null,null,null,null,null,null,null,null,null,null,null,null,null,null,null,null,null,null,null,null,null,null,null,null,null,null,null,null,null,null,null,null,null,null,null,null,null,null,null,null,null,null,null,null,null,null,null,null,null,null,null,null,null,null,null,null,null,null,null,null,null,null,null,null,"Arkona",null,null,"Blueberries12"]
["Capacity filled (%)",75,70,70,{"$f":"+ScheduleSetup!E8","v":85},{"$f":"+ScheduleSetup!F8","v":85},{"$f":"+ScheduleSetup!G8","v":85},{"$f":"+ScheduleSetup!H8","v":85},{"$f":"+ScheduleSetup!I8","v":85},null,"Emergence Date (mm/dd/yyyy):",null,null,null,null,null,null,"Irrigated",null,"Yield Goal",null,null,null,null,null,null,null,null,null,null,null,null,null,null,null,null,null,null,null,null,null,null,null,null,null,null,null,null,null,null,null,null,null,null,null,null,null,null,null,null,null,null,null,null,null,null,null,null,null,null,null,null,null,null,null,null,null,null,null,null,null,null,null,null,null,null,null,null,null,null,null,null,null,null,null,null,null,null,null,null,null,null,null,null,null,null,null,null,null,null,null,null,null,null,null,null,null,null,null,null,null,null,null,null,null,null,null,null,null,null,null,null,null,null,null,null,null,null,null,null,null,null,null,null,null,null,null,null,null,null,null,null,null,null,null,null,null,null,null,null,null,null,null,null,null,null,null,null,null,null,null,null,null,null,null,null,null,null,null,null,null,null,null,null,null,null,null,null,null,null,null,null,null,null,null,null,null,null,null,null,null,null,null,null,null,null,null,null,null,null,null,null,null,null,null,null,null,null,null,null,null,null,null,null,null,null,null,null,null,null,null,null,null,null,null,null,null,null,null,null,null,null,null,null,null,null,null,null,null,null,"Au Gres",null,null,"Blueberries18"]
[null,null,null,null,null,null,null,null,null,null,null,null,null,null,null,null,null,"Acres in Field",null,"If Corn Sch.",null,null,null,null,null,null,null,null,null,null,null,null,null,null,null,null,null,null,null,null,null,null,null,null,null,null,null,null,null,null,null,null,null,null,null,null,null,null,null,null,null,null,null,null,null,null,null,null,null,null,null,null,null,null,null,null,null,null,null,null,null,null,null,null,null,null,null,null,null,null,null,null,null,null,null,null,null,null,null,null,null,null,null,null,null,null,null,null,null,null,null,null,null,null,null,null,null,null,null,null,null,null,null,null,null,null,null,null,null,null,null,null,null,null,null,null,null,null,null,null,null,null,null,null,null,null,null,null,null,null,null,null,null,null,null,null,null,null,null,null,null,null,null,null,null,null,null,null,null,null,null,null,null,null,null,null,null,null,null,null,null,null,null,null,null,null,null,null,null,null,null,null,null,null,null,null,null,null,null,null,null,null,null,null,null,null,null,null,null,null,null,null,null,null,null,null,null,null,null,null,null,null,null,null,null,null,null,null,null,null,null,null,null,null,null,null,null,null,null,null,null,null,null,null,null,null,null,null,null,null,"Aubbeenaubbee",null,null,"Blueberries24"]
["Irrigation increment/amount per application (inches)",null,null,null,null,1,"Irrigate at this % of Available Soil Water in Root Zone",null,null,null,null,{"$f":"+ScheduleSetup!L14","v":50},null,{"$f":"+ScheduleSetup!N14","v":50},null,"Soybeans - 40 of avail until R-3",null,127,null,220,null,null,null,null,null,null,null,null,null,null,null,null,null,null,null,null,null,null,null,null,null,null,null,null,null,null,null,null,null,null,null,null,null,null,null,null,null,null,null,null,null,null,null,null,null,null,null,null,null,null,null,null,null,null,null,null,null,null,null,null,null,null,null,null,null,null,null,null,null,null,null,null,null,null,null,null,null,null,null,null,null,null,null,null,null,null,null,null,null,null,null,null,null,null,null,null,null,null,null,null,null,null,null,null,null,null,null,null,null,null,null,null,null,null,null,null,null,null,null,null,null,null,null,null,null,null,null,null,null,null,null,null,null,null,null,null,null,null,null,null,null,null,null,null,null,null,null,null,null,null,null,null,null,null,null,null,null,null,null,null,null,null,null,null,null,null,null,null,null,null,null,null,null,null,null,null,null,null,null,null,null,null,null,null,null,null,null,null,null,null,null,null,null,null,null,null,null,null,null,null,null,null,null,null,null,null,null,null,null,null,null,null,null,null,null,null,null,null,null,null,null,null,null,null,null,null,null,null,null,null,"Belleville",null,null,"Broccoli"]
[null,null,null,null,null,null,null,null,null,null,null,null,null,null,null,null,null,null,null,null,null,null,null,null,null,null,null,null,null,null,null,null,null,null,null,null,null,null,null,null,null,null,null,null,null,null,null,null,null,null,null,null,null,null,null,null,null,null,null,null,null,null,null,null,null,null,null,null,null,null,null,null,null,null,null,null,null,null,null,null,null,null,null,null,null,null,null,null,null,null,null,null,null,null,null,null,null,null,null,null,null,null,null,null,null,null,null,null,null,null,null,null,null,null,null,null,null,null,null,null,null,null,null,null,null,null,null,null,null,null,null,null,null,null,null,null,null,null,null,null,null,null,null,null,null,null,null,null,null,null,null,null,null,null,null,null,null,null,null,null,null,null,null,null,null,null,null,null,null,null,null,null,null,null,null,null,null,null,null,null,null,null,null,null,null,null,null,null,null,null,null,null,null,null,null,null,null,null,null,null,null,null,null,null,null,null,null,null,null,null,null,null,null,null,null,null,null,null,null,null,null,null,null,null,null,null,null,null,null,null,null,null,null,null,null,null,null,null,null,null,null,null,null,null,null,null,null,null,null,null,"Benona ",null,null,"Carrot12"]
[null,{"$f":"+ScheduleSetup!$C$2","v":"Home S"},null,null,null,null,{"$f":"LEFT(CELL(\"filename\",A1),LEN(CELL(\"filename\",A1))-(FIND(\"\",CELL(\"filename\",A1),1))-12)","v":"C:\\Users\\DONG\\Desktop\\[MSU Irrigation Scheduler.xlsm]"},null,null,null,null,null,null,null,null,null,null,null,null,null,null,null,null,null,null,null,null,null,null,null,null,null,null,null,null,null,null,null,null,null,null,null,null,null,null,null,null,null,null,null,null,null,null,null,null,null,null,null,null,null,null,null,null,null,null,null,null," ",null,null,null,null,null,null,null,null,null,null,null,null,null,null,null,null,null,null,null,null,null,null,null,null,null,null,null,null,null,null,null,null,null,null,null,null,null,null,null,null,null,null,null,null,null,null,null,null,null,null,null,null,null,null,null,null,null,null,null,null,null,null,null,null,null,null,null,null,null,null,null,null,null,null,null,null,null,null,null,null,null,null,null,null,null,null,null,null,null,null,null,null,null,null,null,null,null,null,null,null,null,null,null,null,null,null,null,null,null,null,null,null,null,null,null,null,null,null,null,null,null,null,null,null,null,null,null,null,null,null,null,null,null,null,null,null,null,null,null,null,null,null,null,null,null,null,null,null,null,null,null,null,null,null,null,null,null,null,null,null,null,null,null,null,null,null,null,null,null,null,null,null,null,null,null,null,null,null,null,null,null,null,"Blount Loam",null,null,"Carrot18"]
["Date","Root Depth (inches)","Rainfall (inches)","Irrigation added (inches)","Et","% Canopy Cover (Kc)","ET modified for crop & deficit (inches)","Capacity of root zone (inches)","Available Water in root zone (inches)","% capacity filled","Drainage (inches)","Additional capacity of root zone (inches)",null,"Grower Entered Growth Stage","Proj ET","Actual and Estimated Cumulative GDD's ","Estimated  Growth Stage","Outlook ET's","User Supplied Percent Capacity Filled","Non-Internet Daily GDD Values From Text",null,null,null,null,null,null,null,null,null,null,null,null,null,null,null,null,null,null,null,"Et for Crop","Et factor for deficit","Et modified for crop and soil moisture deficit","Yield Reduction","Estimated Corn Yield Potential:","Soybean Growth Stage","Corn Growth Stages",null,"Available water in root zone",null,"Use user supplied % Capacity if entered",null,"Updatable GDD's Per Growth Stage Varies by Corn RM","Corn Growth Stages","Manually Entered GDD Values","Weather Station GDD Values","Cumulative GDD Values","Display for Schedule for Corn","Display Corn Growth Stage","Display Soybean Growth Stage","Base  GDD's (From GDD_Base )",null,null,null,null,"Stress Base","Stress Index (below critical level)",null,"Some Crop Other than Soy if not 50","Stress Crop Stage","Stress Base",null,null,null,null,null,null,null,null,null,null,null,null,null,null,null,null,null,null,null,null,null,null,null,null,null,null,null,null,null,null,null,null,null,null,null,null,null,null,null,null,null,null,null,null,null,null,null,null,null,null,null,null,null,null,null,null,null,null,null,null,null,"Available Water in Root Zone Calculations",null,null,null,null,null,null,null,null,null,null,null,null,null,null,null,null,null,null,null,null,null,null,null,null,null,null,null,null,null,null,null,null,null,null,null,null,null,null,null,null,null,null,null,null,null,null,null,null,null,null,null,null,null,null,null,null,null,null,null,null,null,null,null,null,null,null,null,null,null,null,null,null,null,null,null,null,null,null,null,null,null,null,null,null,null,null,null,null,null,null,null,null,null,null,null,null,null,null,null,null,null,null,null,null,null,null,null,null,null,null,null,null,null,null,null,null,null,null,"Blue Lake",null,null,"Carrot24"]
[{"$f":"+ScheduleSetup!$P$8","v":"2020-05-28"},6,0.38,null,7.0000000000000007E-2,0.15,{"$f":"$AP19","v":0},{"$f":"IF($B19<=6,$B19*$B$12,IF($B19<=12,6*$B$12+($B19-6)*$C$12,IF($B19<=18,6*$B$12+6*$C$12+($B19-12)*$D$12,IF($B19<=24,6*$B$12+6*$C$12+6*$D$12+($B19-18)*$E$12,IF($B19<=30,6*$B$12+6*$C$12+6*$D$12+6*$E$12+($B19-24)*$F$12,IF($B19<=36,6*$B$12+6*$C$12+6*$D$12+6*$E$12+6*$F$12+($B19-30)*$G$12,IF($B19<=42,6*$B$12+6*$C$12+6*$D$12+6*$E$12+6*$F$12+6*$G$12+($B19-36)*$H$12,IF($B19<=48,6*$B$12+6*$C$12+6*$D$12+6*$E$12+6*$F$12+6*$G$12+6*$H$12+(F19-42)*$I$12,\"rootdepth>48in\"))))))))","v":0},{"$f":"$H19*$J$19/100","v":0},{"$f":"ScheduleSetup!B8","v":85},0,0.16,null,"VE",null,{"$f":"+(IF(BD19=0,BJ19,BD19))","v":20.329999999999998},{"$f":"IF(LEFT(ScheduleSetup!$P$6,4)=\"Corn\",BF19,BG19)","v":"VE"},null,null,null,null,0,null,null,null,null,null,null,null,null,null,null,null,null,null,null,null,null,null," "," ",null," ",{"$f":"$T$15","v":220},"VE","VE",{"$f":"AV19","v":0},{"$f":"$H19*$J$19/100","v":0},null,null,null,0,"VE",{"$f":"+T19","v":0},20.329999999999998,{"$f":"+BC19","v":20.329999999999998},{"$f":"IF( LEN((BC19))=0, BK19,BF19)","v":"VE"},{"$f":"VLOOKUP(BD19,$AZ$19:$BA$43,2,TRUE)","v":"VE"},"VE",8,15,{"$f":"+BI19","v":15},{"$f":"VLOOKUP(BJ19,$AZ$19:$BA$43,2,TRUE)","v":"VE"},1,null,{"$f":"+IF((BR19-J19)>0,BR19-J19,0)","v":0},null,{"$f":"+ScheduleSetup!N14","v":50},{"$f":"IF(LEFT(ScheduleSetup!$P$6,4)=\"Soyb\",BG19,BF19)","v":"VE"},{"$f":"IF($BP$19=50,50,IF($BQ$20=\"VC\"=AND(OR(BQ19=\"R3\",BQ19=\"R4\",BQ19=\"R5\",BQ19=\"R6\")),60,40))","v":50},null,null,null,null,null,null,null,null,null,null,null,null,null,null,null,null,null,null,null,null,null,null,null,null,null,null,null,null,null,null,null,null,null,null,null,null,null,null,null,null,null,null,null,null,null,null,null,null,null,null,null,null,null,null,null,null,null,null,null,null,null,null,null,null,null,null,null,null,null,null,null,null,null,null,null,null,null,null,null,null,null,null,null,null,null,null,null,null,null,null,null,null,null,null,null,null,null,null,null,null,null,null,null,null,null,null,null,null,null,null,null,null,null,null,null,null,null,null,null,null,null,null,null,null,null,null,null,null,null,null,null,null,null,null,null,null,null,null,null,null,null,null,null,null,null,null,null,null,null,null,null,null,null,null,null,null,null,null,null,null,null,null,null,null,null,null,null,null,null,null,null,null,null,null,null,null,null,{"$f":"+VLOOKUP(IM19,$T$19:$U$40,2)","v":{"$error":"#N/A"}},null,null,"Brady",null,null,"Carrot36"]
[{"$f":"1+A19","v":"2020-05-29"},6.9333333333333336,0.06,null,0.125,0.16666666666666666,1.1666666666666667E-2,{"$f":"IF($B20<=6,$B20*$B$12,IF($B20<=12,6*$B$12+($B20-6)*$C$12,IF($B20<=18,6*$B$12+6*$C$12+($B20-12)*$D$12,IF($B20<=24,6*$B$12+6*$C$12+6*$D$12+($B20-18)*$E$12,IF($B20<=30,6*$B$12+6*$C$12+6*$D$12+6*$E$12+($B20-24)*$F$12,IF($B20<=36,6*$B$12+6*$C$12+6*$D$12+6*$E$12+6*$F$12+($B20-30)*$G$12,IF($B20<=42,6*$B$12+6*$C$12+6*$D$12+6*$E$12+6*$F$12+6*$G$12+($B20-36)*$H$12,IF($B20<=48,6*$B$12+6*$C$12+6*$D$12+6*$E$12+6*$F$12+6*$G$12+6*$H$12+(F20-42)*$I$12,\"rootdepth>48in\"))))))))","v":0.12600000000000003},{"$f":"IF($S20=\"\",$AV20,($S20/100)*$H20)","v":0.12978000000000003},{"$f":"+IF(S20=\"\",(AX20),S20)","v":103},{"$f":"IF(IF(OR($J20<103,$E19=\"\"),0,$C20+$D20+$I19-$G20-($H20*1.03))>0, IF(OR($J20<103,$E19=\"\"),0,$C20+$D20+$I19-$G20-($H20*1.03)),0)","v":0},{"$f":"IF(Caluations!$J9<0,0,Caluations!$J9)","v":0},null,"VE",{"$f":"IF(AND($E20=\"\",Caluations!$F9<8),$R20*$F20,0)","v":0},35.034999999999997,{"$f":"IF(LEFT(ScheduleSetup!$P$6,4)=\"Corn\",BF20,BG20)","v":"VE"},null,null,null,null,null,null,null,null,null,null,null,null,null,null,null,null,null,null,null,null,null,null,{"$f":"+$F20*$E19","v":1.1666666666666667E-2},{"$f":"IF($J19<50,($H19-($H19-$I19))/($H19*0.5),1)","v":1},{"$f":"+AN20*AO20","v":1.1666666666666667E-2},null,{"$f":"AR19-AQ20","v":220},"VC","V1",{"$f":"IF((OR($E19<>\"\" )), Calculations2!$AV20,\"\")","v":0.12978000000000003},{"$f":"MAX(IF(($I19+$C20+$D20-$G20)+(($H20-$H19)*$B$13/100)>($H20*1.03),($H20*1.03),($I19+$C20+$D20-$G20-O20)+(($H20-$H19)*$B$13/100)),0)","v":0.12978000000000003},null,{"$f":"IF(AND(Caluations!$F9>5,Caluations!$F9<>FALSE),\"\",IF($E20=\"\",($I20/$H20)*100,$I20/$H20*100))","v":103},null,64.095744680851055,"V1",{"$f":"+T20","v":0},14.705,{"$f":"+IF(BC20=\"\",BD19+BI20,BD19+BC20)","v":35.034999999999997},{"$f":"IF( LEN((BC20))=0, BK20,BF20)","v":"VE"},{"$f":"VLOOKUP(BD20,$AZ$19:$BA$43,2,TRUE)","v":"VE"},"VC",9,15,{"$f":"+BJ19+BI20","v":30},"VE",2,null,{"$f":"+IF((BR20-J20)>0,BR20-J20,0)","v":0},null,null,{"$f":"IF(LEFT(ScheduleSetup!$P$6,4)=\"Soyb\",BG20,BF20)","v":"VE"},{"$f":"IF($BP$19=50,50,IF($BQ$20=\"VC\"=AND(OR(BQ20=\"R3\",BQ20=\"R4\",BQ20=\"R5\",BQ20=\"R6\")),60,40))","v":50},null,null,null,null,null,null,null,null,null,null,null,null,null,null,null,null,null,null,null,null,null,null,null,null,null,null,null,null,null,null,null,null,null,null,null,null,null,null,null,null,null,null,null,null,null,null,null,null,null,null,null,null,null,null,null,null,null,null,null,null,null,"IF($B20 < 6, $B$12, IF($B20 > 6))",null,null,null,null,null,null,null,null,null,null,null,null,null,null,null,null,null,null,null,null,null,null,null,null,null,null,null,null,null,null,null,null,null,null,null,null,null,null,null,null,null,null,null,null,null,null,null,null,null,null,null,null,null,null,null,null,null,null,null,null,null,null,null,null,null,null,null,null,null,null,null,null,null,null,null,null,null,null,null,null,null,null,null,null,null,null,null,null,null,null,null,null,null,null,null,null,null,null,null,null,null,null,null,null,null,null,null,null,null,null,null,null,null,null,null,{"$f":"+VLOOKUP(IM20,$T$19:$U$40,2)","v":{"$error":"#N/A"}},null,null,"Brevert",null,null,"Cauliflower12"]
["2020-05-30",7.8666666666666671,0,null,0.14599999999999999,0.18333333333333332,2.2916666666666665E-2,{"$f":"IF($B21<=6,$B21*$B$12,IF($B21<=12,6*$B$12+($B21-6)*$C$12,IF($B21<=18,6*$B$12+6*$C$12+($B21-12)*$D$12,IF($B21<=24,6*$B$12+6*$C$12+6*$D$12+($B21-18)*$E$12,IF($B21<=30,6*$B$12+6*$C$12+6*$D$12+6*$E$12+($B21-24)*$F$12,IF($B21<=36,6*$B$12+6*$C$12+6*$D$12+6*$E$12+6*$F$12+($B21-30)*$G$12,IF($B21<=42,6*$B$12+6*$C$12+6*$D$12+6*$E$12+6*$F$12+6*$G$12+($B21-36)*$H$12,IF($B21<=48,6*$B$12+6*$C$12+6*$D$12+6*$E$12+6*$F$12+6*$G$12+6*$H$12+(F21-42)*$I$12,\"rootdepth>48in\"))))))))","v":0.25200000000000006},{"$f":"IF($S21=\"\",$AV21,($S21/100)*$H21)","v":0.20136333333333339},{"$f":"+IF(S21=\"\",(AX21),S21)","v":79.906084656084658},0,{"$f":"IF(Caluations!$J10<0,0,Caluations!$J10)","v":5.0636666666666663E-2},null,"VE",{"$f":"IF(AND($E21=\"\",Caluations!$F10<8),$R21*$F21,0)","v":0},44.519999999999996,{"$f":"IF(LEFT(ScheduleSetup!$P$6,4)=\"Corn\",BF21,BG21)","v":"VE"},null,null,null,null,null,null,null,null,null,null,null,null,null,null,null,null,null,null,null,null,null,null,2.2916666666666665E-2,{"$f":"IF($J20<50,($H20-($H20-$I20))/($H20*0.5),1)","v":1},{"$f":"+AN21*AO21","v":2.2916666666666665E-2},{"$f":"IF(AO21<1,(AQ19-((1.25*(AP21/AN21)))-1)*(-$T$15))*0.008","v":0},{"$f":"AR20-AQ21","v":220},"V1","V2",{"$f":"IF((OR($E20<>\"\" )), Calculations2!$AV21,\"\")","v":0.20136333333333339},0.20136333333333339,null,{"$f":"IF(AND(Caluations!$F10>5,Caluations!$F10<>FALSE),\"\",IF($E21=\"\",($I21/$H21)*100,$I21/$H21*100))","v":79.906084656084658},null,125.5,"V2",{"$f":"+T21","v":0},9.4849999999999994,44.519999999999996,"VE","VE","VC",9,16,{"$f":"+BJ20+BI21","v":46},"VE",3,null,0,null,null,{"$f":"IF(LEFT(ScheduleSetup!$P$6,4)=\"Soyb\",BG21,BF21)","v":"VE"},50,null,null,null,null,null,null,null,null,null,null,null,null,null,null,null,null,null,null,null,null,null,null,null,null,null,null,null,null,null,null,null,null,null,null,null,null,null,null,null,null,null,null,null,null,null,null,null,null,null,null,null,null,null,null,null,null,null,null,null,null,null,null,null,null,null,null,null,null,null,null,null,null,null,null,null,null,null,null,null,null,null,null,null,null,null,null,null,null,null,null,null,null,null,null,null,null,null,null,null,null,null,null,null,null,null,null,null,null,null,null,null,null,null,null,null,null,null,null,null,null,null,null,null,null,null,null,null,null,null,null,null,null,null,null,null,null,null,null,null,null,null,null,null,null,null,null,null,null,null,null,null,null,null,null,null,null,null,null,null,null,null,null,null,null,null,null,null,null,null,null,null,null,null,null,null,null,null,{"$error":"#N/A"},null,null,"Bronson",null,null,"Cauliflower18"]
["2020-05-31",8.8000000000000007,0,null,0.161,0.19999999999999998,2.9199999999999997E-2,0.37800000000000011,0.26666333333333342,70.545855379188708,0,{"$f":"IF(Caluations!$J11<0,0,Caluations!$J11)","v":0.11133666666666669},null,"VE",{"$f":"IF(AND($E22=\"\",Caluations!$F11<8),$R22*$F22,0)","v":0},53.125,{"$f":"IF(LEFT(ScheduleSetup!$P$6,4)=\"Corn\",BF22,BG22)","v":"VE"},null,null,null,null,null,null,null,null,null,null,null,null,null,null,null,null,null,null,null,null,null,null,2.9199999999999997E-2,1,2.9199999999999997E-2,{"$f":"IF(AO22<1,(AQ20-((1.25*(AP22/AN22)))-1)*(-$T$15))*0.008","v":0},220,"V2","V3",{"$f":"IF((OR($E21<>\"\" )), Calculations2!$AV22,\"\")","v":0.26666333333333342},0.26666333333333342,null,{"$f":"IF(AND(Caluations!$F11>5,Caluations!$F11<>FALSE),\"\",IF($E22=\"\",($I22/$H22)*100,$I22/$H22*100))","v":70.545855379188708},null,186.90425531914889,"V3",0,8.6050000000000004,53.125,"VE","VE","VC",10,16,62,"VE",4,null,0,null,null,{"$f":"IF(LEFT(ScheduleSetup!$P$6,4)=\"Soyb\",BG22,BF22)","v":"VE"},50,null,null,null,null,null,null,null,null,null,null,null,null,null,null,null,null,null,null,null,null,null,null,null,null,null,null,null,null,null,null,null,null,null,null,null,null,null,null,null,null,null,null,null,null,null,null,null,null,null,null,null,null,null,null,null,null,null,null,null,null,null,null,null,null,null,null,null,null,null,null,null,null,null,null,null,null,null,null,null,null,null,null,null,null,null,null,null,null,null,null,null,null,null,null,null,null,null,null,null,null,null,null,null,null,null,null,null,null,null,null,null,null,null,null,null,null,null,null,null,null,null,null,null,null,null,null,null,null,null,null,null,null,null,null,null,null,null,null,null,null,null,null,null,null,null,null,null,null,null,null,null,null,null,null,null,null,null,null,null,null,null,null,null,null,null,null,null,null,null,null,null,null,null,null,null,null,null,{"$error":"#N/A"},null,null,"Capac",null,null,"Celery"]
["2020-06-01",9.4600000000000009,0,null,0.16800000000000001,0.2,3.2199999999999999E-2,0.46710000000000013,0.30128833333333344,64.501891101120393,0,{"$f":"IF(Caluations!$J12<0,0,Caluations!$J12)","v":0.16581166666666669},null,"V1",{"$f":"IF(AND($E23=\"\",Caluations!$F12<8),$R23*$F23,0)","v":0},64.555000000000007,{"$f":"IF(LEFT(ScheduleSetup!$P$6,4)=\"Corn\",BF23,BG23)","v":"V1"},null,null,null,null,null,null,null,null,null,null,null,null,null,null,null,null,null,null,null,null,null,null,3.2199999999999999E-2,1,3.2199999999999999E-2,0,220,"V3","V4",{"$f":"IF((OR($E22<>\"\" )), Calculations2!$AV23,\"\")","v":0.30128833333333344},0.30128833333333344,null,{"$f":"IF(AND(Caluations!$F12>5,Caluations!$F12<>FALSE),\"\",IF($E23=\"\",($I23/$H23)*100,$I23/$H23*100))","v":64.501891101120393},null,248.30851063829789,"V4",0,11.43,64.555000000000007,"V1","V1","VC",10,16,78,"V1",5,null,0,null,null,{"$f":"IF(LEFT(ScheduleSetup!$P$6,4)=\"Soyb\",BG23,BF23)","v":"V1"},50,null,null,null,null,null,null,null,null,null,null,null,null,null,null,null,null,null,null,null,null,null,null,null,null,null,null,null,null,null,null,null,null,null,null,null,null,null,null,null,null,null,null,null,null,null,null,null,null,null,null,null,null,null,null,null,null,null,null,null,null,null,null,null,null,null,null,null,null,null,null,null,null,null,null,null,null,null,null,null,null,null,null,null,null,null,null,null,null,null,null,null,null,null,null,null,null,null,null,null,null,null,null,null,null,null,null,null,null,null,null,null,null,null,null,null,null,null,null,null,null,null,null,null,null,null,null,null,null,null,null,null,null,null,null,null,null,null,null,null,null,null,null,null,null,null,null,null,null,null,null,null,null,null,null,null,null,null,null,null,null,null,null,null,null,null,null,null,null,null,null,null,null,null,null,null,null,null,{"$error":"#N/A"},null,null,"Carlisle",null,null,"Cherries"]
["2020-06-02",10.905000000000001,0,null,0.246,0.22500000000000001,3.78E-2,0.66217500000000018,0.40979458333333346,61.886145404663928,0,{"$f":"IF(Caluations!$J13<0,0,Caluations!$J13)","v":0.25238041666666672},null,"V1",{"$f":"IF(AND($E24=\"\",Caluations!$F13<8),$R24*$F24,0)","v":0},87.75500000000001,{"$f":"IF(LEFT(ScheduleSetup!$P$6,4)=\"Corn\",BF24,BG24)","v":"V1"},null,null,null,null,null,null,null,null,null,null,null,null,null,null,null,null,null,null,null,null,null,null,3.78E-2,1,3.78E-2,0,220,"V4","V5",{"$f":"IF((OR($E23<>\"\" )), Calculations2!$AV24,\"\")","v":0.40979458333333346},0.40979458333333346,null,{"$f":"IF(AND(Caluations!$F13>5,Caluations!$F13<>FALSE),\"\",IF($E24=\"\",($I24/$H24)*100,$I24/$H24*100))","v":61.886145404663928},null,309.71276595744683,"V5",0,23.2,87.75500000000001,"V1","V1","VC",10,16,94,"V1",6,null,0,null,null,{"$f":"IF(LEFT(ScheduleSetup!$P$6,4)=\"Soyb\",BG24,BF24)","v":"V1"},50,null,null,null,null,null,null,null,null,null,null,null,null,null,null,null,null,null,null,null,null,null,null,null,null,null,null,null,null,null,null,null,null,null,null,null,null,null,null,null,null,null,null,null,null,null,null,null,null,null,null,null,null,null,null,null,null,null,null,null,null,null,null,null,null,null,null,null,null,null,null,null,null,null,null,null,null,null,null,null,null,null,null,null,null,null,null,null,null,null,null,null,null,null,null,null,null,null,null,null,null,null,null,null,null,null,null,null,null,null,null,null,null,null,null,null,null,null,null,null,null,null,null,null,null,null,null,null,null,null,null,null,null,null,null,null,null,null,null,null,null,null,null,null,null,null,null,null,null,null,null,null,null,null,null,null,null,null,null,null,null,null,null,null,null,null,null,null,null,null,null,null,null,null,null,null,null,null,{"$error":"#N/A"},null,null,"Chippeny-Nahma",null,null,"Corn18"]
["2020-06-03",12.350000000000001,0,null,0.14399999999999999,0.25,6.1499999999999999E-2,0.85725000000000029,0.49460083333333354,57.696218528239527,0,{"$f":"IF(Caluations!$J14<0,0,Caluations!$J14)","v":0.36264916666666674},null,"V1",{"$f":"IF(AND($E25=\"\",Caluations!$F14<8),$R25*$F25,0)","v":0},108.50000000000001,{"$f":"IF(LEFT(ScheduleSetup!$P$6,4)=\"Corn\",BF25,BG25)","v":"V1"},null,null,null,null,null,null,null,null,null,null,null,null,null,null,null,null,null,null,null,null,null,null,6.1499999999999999E-2,1,6.1499999999999999E-2,0,220,"V5","V6",{"$f":"IF((OR($E24<>\"\" )), Calculations2!$AV25,\"\")","v":0.49460083333333354},0.49460083333333354,null,{"$f":"IF(AND(Caluations!$F14>5,Caluations!$F14<>FALSE),\"\",IF($E25=\"\",($I25/$H25)*100,$I25/$H25*100))","v":57.696218528239527},null,371.11702127659572,"V6",0,20.745000000000001,108.50000000000001,"V1","V1","V1",11,17,111,"V1",7,null,0,null,null,{"$f":"IF(LEFT(ScheduleSetup!$P$6,4)=\"Soyb\",BG25,BF25)","v":"V1"},50,null,null,null,null,null,null,null,null,null,null,null,null,null,null,null,null,null,null,null,null,null,null,null,null,null,null,null,null,null,null,null,null,null,null,null,null,null,null,null,null,null,null,null,null,null,null,null,null,null,null,null,null,null,null,null,null,null,null,null,null,null,null,null,null,null,null,null,null,null,null,null,null,null,null,null,null,null,null,null,null,null,null,null,null,null,null,null,null,null,null,null,null,null,null,null,null,null,null,null,null,null,null,null,null,null,null,null,null,null,null,null,null,null,null,null,null,null,null,null,null,null,null,null,null,null,null,null,null,null,null,null,null,null,null,null,null,null,null,null,null,null,null,null,null,null,null,null,null,null,null,null,null,null,null,null,null,null,null,null,null,null,null,null,null,null,null,null,null,null,null,null,null,null,null,null,null,null,{"$error":"#N/A"},null,null,"Coloma",null,null,"Corn24"]
["2020-06-04",12.92,0,null,0.13600000000000001,0.25,{"$f":"$AP26","v":3.5999999999999997E-2},0.93420000000000003,0.5163133333333334,55.267965460643694,0,{"$f":"IF(Caluations!$J15<0,0,Caluations!$J15)","v":0.41788666666666663},null,"V2",{"$f":"IF(AND($E26=\"\",Caluations!$F15<8),$R26*$F26,0)","v":0},129.02000000000001,{"$f":"IF(LEFT(ScheduleSetup!$P$6,4)=\"Corn\",BF26,BG26)","v":"V2"},null,null,null,null,null,null,null,null,null,null,null,null,null,null,null,null,null,null,null,null,null,null,3.5999999999999997E-2,1,3.5999999999999997E-2,0,220,"V6","V7",{"$f":"IF((OR($E25<>\"\" )), Calculations2!$AV26,\"\")","v":0.5163133333333334},0.5163133333333334,null,{"$f":"IF(AND(Caluations!$F15>5,Caluations!$F15<>FALSE),\"\",IF($E26=\"\",($I26/$H26)*100,$I26/$H26*100))","v":55.267965460643694},null,432.52127659574467,"V7",0,20.52,129.02000000000001,"V2","V2","V1",11,17,128,"V2",1,null,0,null,null,{"$f":"IF(LEFT(ScheduleSetup!$P$6,4)=\"Soyb\",BG26,BF26)","v":"V2"},50,null,null,null,null,null,null,null,null,null,null,null,null,null,null,null,null,null,null,null,null,null,null,null,null,null,null,null,null,null,null,null,null,null,null,null,null,null,null,null,null,null,null,null,null,null,null,null,null,null,null,null,null,null,null,null,null,null,null,null,null,null,null,null,null,null,null,null,null,null,null,null,null,null,null,null,null,null,null,null,null,null,null,null,null,null,null,null,null,null,null,null,null,null,null,null,null,null,null,null,null,null,null,null,null,null,null,null,null,null,null,null,null,null,null,null,null,null,null,null,null,null,null,null,null,null,null,null,null,null,null,null,null,null,null,null,null,null,null,null,null,null,null,null,null,null,null,null,null,null,null,null,null,null,null,null,null,null,null,null,null,null,null,null,null,null,null,null,null,null,null,null,null,null,null,null,null,null,{"$error":"#N/A"},null,null,"Coral",null,null,"Corn27"]
["2020-06-05",13.785,0,null,0.16200000000000001,0.27500000000000002,{"$f":"$AP27","v":3.7400000000000003E-2},1.050975,0.56649458333333336,53.901813395497832,0,{"$f":"IF(Caluations!$J16<0,0,Caluations!$J16)","v":0.48448041666666664},null,"V2",{"$f":"IF(AND($E27=\"\",Caluations!$F16<8),$R27*$F27,0)","v":0},151.44,{"$f":"IF(LEFT(ScheduleSetup!$P$6,4)=\"Corn\",BF27,BG27)","v":"V2"},null,null,null,null,null,null,null,null,null,null,null,null,null,null,null,null,null,null,null,null,null,null,3.7400000000000003E-2,1,3.7400000000000003E-2,0,220,"R1","V8",{"$f":"IF((OR($E26<>\"\" )), Calculations2!$AV27,\"\")","v":0.56649458333333336},0.56649458333333336,null,{"$f":"IF(AND(Caluations!$F16>5,Caluations!$F16<>FALSE),\"\",IF($E27=\"\",($I27/$H27)*100,$I27/$H27*100))","v":53.901813395497832},null,493.92553191489355,"V8",0,22.42,151.44,"V2","V2","V1",12,17,145,"V2",2,null,0,null,null,{"$f":"IF(LEFT(ScheduleSetup!$P$6,4)=\"Soyb\",BG27,BF27)","v":"V2"},50,null,null,null,null,null,null,null,null,null,null,null,null,null,null,null,null,null,null,null,null,null,null,null,null,null,null,null,null,null,null,null,null,null,null,null,null,null,null,null,null,null,null,null,null,null,null,null,null,null,null,null,null,null,null,null,null,null,null,null,null,null,null,null,null,null,null,null,null,null,null,null,null,null,null,null,null,null,null,null,null,null,null,null,null,null,null,null,null,null,null,null,null,null,null,null,null,null,null,null,null,null,null,null,null,null,null,null,null,null,null,null,null,null,null,null,null,null,null,null,null,null,null,null,null,null,null,null,null,null,null,null,null,null,null,null,null,null,null,null,null,null,null,null,null,null,null,null,null,null,null,null,null,null,null,null,null,null,null,null,null,null,null,null,null,null,null,null,null,null,null,null,null,null,null,null,null,null,{"$error":"#N/A"},null,null,"Corunna",null,null,"Corn36"]
["2020-06-06",14.65,0,null,0.21099999999999999,0.30000000000000004,4.8600000000000011E-2,1.1677500000000001,0.60547583333333344,51.849782344965398,0,{"$f":"IF(Caluations!$J17<0,0,Caluations!$J17)","v":0.56227416666666663},null,"V2",{"$f":"IF(AND($E28=\"\",Caluations!$F17<8),$R28*$F28,0)","v":0},173.45,{"$f":"IF(LEFT(ScheduleSetup!$P$6,4)=\"Corn\",BF28,BG28)","v":"V2"},null,null,null,null,null,null,null,null,null,null,null,null,null,null,null,null,null,null,null,null,null,null,4.8600000000000011E-2,1,4.8600000000000011E-2,0,220,"R2","V9",{"$f":"IF((OR($E27<>\"\" )), Calculations2!$AV28,\"\")","v":0.60547583333333344},0.60547583333333344,null,{"$f":"IF(AND(Caluations!$F17>5,Caluations!$F17<>FALSE),\"\",IF($E28=\"\",($I28/$H28)*100,$I28/$H28*100))","v":51.849782344965398},null,555.32978723404256,"V9",0,22.01,173.45,"V2","V2","V1",12,18,163,"V2",3,null,0,null,null,{"$f":"IF(LEFT(ScheduleSetup!$P$6,4)=\"Soyb\",BG28,BF28)","v":"V2"},50,null,null,null,null,null,null,null,null,null,null,null,null,null,null,null,null,null,null,null,null,null,null,null,null,null,null,null,null,null,null,null,null,null,null,null,null,null,null,null,null,null,null,null,null,null,null,null,null,null,null,null,null,null,null,null,null,null,null,null,null,null,null,null,null,null,null,null,null,null,null,null,null,null,null,null,null,null,null,null,null,null,null,null,null,null,null,null,null,null,null,null,null,null,null,null,null,null,null,null,null,null,null,null,null,null,null,null,null,null,null,null,null,null,null,null,null,null,null,null,null,null,null,null,null,null,null,null,null,null,null,null,null,null,null,null,null,null,null,null,null,null,null,null,null,null,null,null,null,null,null,null,null,null,null,null,null,null,null,null,null,null,null,null,null,null,null,null,null,null,null,null,null,null,null,null,null,null,{"$error":"#N/A"},null,null,"Covert",null,null,"CucumberF12"]
["2020-06-07",15.23,0,null,0.192,0.3,6.3299999999999995E-2,1.2460500000000001,0.60090083333333344,48.224455947460648,0,{"$f":"IF(Caluations!$J18<0,0,Caluations!$J18)","v":0.64514916666666666},null,"V3",{"$f":"IF(AND($E29=\"\",Caluations!$F18<8),$R29*$F29,0)","v":0},190.57999999999998,{"$f":"IF(LEFT(ScheduleSetup!$P$6,4)=\"Corn\",BF29,BG29)","v":"V3"},null,null,null,null,null,null,null,null,null,null,null,null,null,null,null,null,null,null,null,null,null,null,6.3299999999999995E-2,1,6.3299999999999995E-2,0,220,"R3","V10",{"$f":"IF((OR($E28<>\"\" )), Calculations2!$AV29,\"\")","v":0.60090083333333344},0.60090083333333344,null,{"$f":"IF(AND(Caluations!$F18>5,Caluations!$F18<>FALSE),\"\",IF($E29=\"\",($I29/$H29)*100,$I29/$H29*100))","v":48.224455947460648},null,616.73404255319144,"V10",0,17.13,190.57999999999998,"V3","V3","V1",12,18,181,"V2",4,null,1.7755440525393524,null,null,{"$f":"IF(LEFT(ScheduleSetup!$P$6,4)=\"Soyb\",BG29,BF29)","v":"V3"},50,null,null,null,null,null,null,null,null,null,null,null,null,null,null,null,null,null,null,null,null,null,null,null,null,null,null,null,null,null,null,null,null,null,null,null,null,null,null,null,null,null,null,null,null,null,null,null,null,null,null,null,null,null,null,null,null,null,null,null,null,null,null,null,null,null,null,null,null,null,null,null,null,null,null,null,null,null,null,null,null,null,null,null,null,null,null,null,null,null,null,null,null,null,null,null,null,null,null,null,null,null,null,null,null,null,null,null,null,null,null,null,null,null,null,null,null,null,null,null,null,null,null,null,null,null,null,null,null,null,null,null,null,null,null,null,null,null,null,null,null,null,null,null,null,null,null,null,null,null,null,null,null,null,null,null,null,null,null,null,null,null,null,null,null,null,null,null,null,null,null,null,null,null,null,null,null,null,{"$error":"#N/A"},null,null,"Croswell",null,null,"CucumberF18"]
["2020-06-08",16.094999999999999,0,null,0.22700000000000001,0.33499999999999996,6.2035940130813365E-2,1.362825,0.6264461432025199,45.966734041606216,0,{"$f":"IF(Caluations!$J19<0,0,Caluations!$J19)","v":0.73637885679748005},null,"V3",{"$f":"IF(AND($E30=\"\",Caluations!$F19<8),$R30*$F30,0)","v":0},212.7,{"$f":"IF(LEFT(ScheduleSetup!$P$6,4)=\"Corn\",BF30,BG30)","v":"V3"},null,null,null,null,null,null,null,null,null,null,null,null,null,null,null,null,null,null,null,null,null,null,6.4319999999999988E-2,0.96448911894921296,6.2035940130813365E-2,3.8818760616882684,216.11812393831173,"R4","V11",{"$f":"IF((OR($E29<>\"\" )), Calculations2!$AV30,\"\")","v":0.6264461432025199},0.6264461432025199,null,{"$f":"IF(AND(Caluations!$F19>5,Caluations!$F19<>FALSE),\"\",IF($E30=\"\",($I30/$H30)*100,$I30/$H30*100))","v":45.966734041606216},null,678.13829787234033,"V11",0,22.12,212.7,"V3","V3","V1",13,18,199,"V3",5,null,4.033265958393784,null,null,{"$f":"IF(LEFT(ScheduleSetup!$P$6,4)=\"Soyb\",BG30,BF30)","v":"V3"},50,null,null,null,null,null,null,null,null,null,null,null,null,null,null,null,null,null,null,null,null,null,null,null,null,null,null,null,null,null,null,null,null,null,null,null,null,null,null,null,null,null,null,null,null,null,null,null,null,null,null,null,null,null,null,null,null,null,null,null,null,null,null,null,null,null,null,null,null,null,null,null,null,null,null,null,null,null,null,null,null,null,null,null,null,null,null,null,null,null,null,null,null,null,null,null,null,null,null,null,null,null,null,null,null,null,null,null,null,null,null,null,null,null,null,null,null,null,null,null,null,null,null,null,null,null,null,null,null,null,null,null,null,null,null,null,null,null,null,null,null,null,null,null,null,null,null,null,null,null,null,null,null,null,null,null,null,null,null,null,null,null,null,null,null,null,null,null,null,null,null,null,null,null,null,null,null,null,{"$error":"#N/A"},null,null,"Edmore",null,null,"CucumberF24"]
["2020-06-09",16.96,0.25,null,0.218,0.37,7.7214919843090118E-2,{"$f":"IF($B31<=6,$B31*$B$12,IF($B31<=12,6*$B$12+($B31-6)*$C$12,IF($B31<=18,6*$B$12+6*$C$12+($B31-12)*$D$12,IF($B31<=24,6*$B$12+6*$C$12+6*$D$12+($B31-18)*$E$12,IF($B31<=30,6*$B$12+6*$C$12+6*$D$12+6*$E$12+($B31-24)*$F$12,IF($B31<=36,6*$B$12+6*$C$12+6*$D$12+6*$E$12+6*$F$12+($B31-30)*$G$12,IF($B31<=42,6*$B$12+6*$C$12+6*$D$12+6*$E$12+6*$F$12+6*$G$12+($B31-36)*$H$12,IF($B31<=48,6*$B$12+6*$C$12+6*$D$12+6*$E$12+6*$F$12+6*$G$12+6*$H$12+(F31-42)*$I$12,\"rootdepth>48in\"))))))))","v":1.4796000000000002},0.88681247335943003,59.935960621751136,0,{"$f":"IF(Caluations!$J20<0,0,Caluations!$J20)","v":0.59278752664057022},null,"V3",{"$f":"IF(AND($E31=\"\",Caluations!$F20<8),$R31*$F31,0)","v":0},235.97499999999999,{"$f":"IF(LEFT(ScheduleSetup!$P$6,4)=\"Corn\",BF31,BG31)","v":"V3"},null,null,null,null,null,null,null,null,null,null,null,null,null,null,null,null,null,null,null,null,null,null,8.3989999999999995E-2,0.91933468083212433,7.7214919843090118E-2,3.7825362978306738,212.33558764048107,"R5","V12",{"$f":"IF((OR($E30<>\"\" )), Calculations2!$AV31,\"\")","v":0.88681247335943003},0.88681247335943003,null,{"$f":"IF(AND(Caluations!$F20>5,Caluations!$F20<>FALSE),\"\",IF($E31=\"\",($I31/$H31)*100,$I31/$H31*100))","v":59.935960621751136},null,726.23829787234047,"V12",0,23.274999999999999,235.97499999999999,"V3","V3","V2",13,19,218,"V3",1,null,0,null,null,{"$f":"IF(LEFT(ScheduleSetup!$P$6,4)=\"Soyb\",BG31,BF31)","v":"V3"},50,null,null,null,null,null,null,null,null,null,null,null,null,null,null,null,null,null,null,null,null,null,null,null,null,null,null,null,null,null,null,null,null,null,null,null,null,null,null,null,null,null,null,null,null,null,null,null,null,null,null,null,null,null,null,null,null,null,null,null,null,null,null,null,null,null,null,null,null,null,null,null,null,null,null,null,null,null,null,null,null,null,null,null,null,null,null,null,null,null,null,null,null,null,null,null,null,null,null,null,null,null,null,null,null,null,null,null,null,null,null,null,null,null,null,null,null,null,null,null,null,null,null,null,null,null,null,null,null,null,null,null,null,null,null,null,null,null,null,null,null,null,null,null,null,null,null,null,null,null,null,null,null,null,null,null,null,null,null,null,null,null,null,null,null,null,null,null,null,null,null,null,null,null,null,null,null,null,{"$error":"#N/A"},null,null,"Edwards",null,null,"CucumberF36"]
["2020-06-10",17.54,0.56999999999999995,null,0.158,0.37,8.0659999999999996E-2,1.5579000000000001,1.4348774733594301,92.103310440941655,0,{"$f":"IF(Caluations!$J21<0,0,Caluations!$J21)","v":0.12302252664057001},null,"V4",{"$f":"IF(AND($E32=\"\",Caluations!$F21<8),$R32*$F32,0)","v":0},259.69,{"$f":"IF(LEFT(ScheduleSetup!$P$6,4)=\"Corn\",BF32,BG32)","v":"V4"},null,null,null,null,null,null,null,null,null,null,null,null,null,null,null,null,null,null,null,null,null,null,8.0659999999999996E-2,1,8.0659999999999996E-2,0,212.33558764048107,"R6","V13",{"$f":"IF((OR($E31<>\"\" )), Calculations2!$AV32,\"\")","v":1.4348774733594301},1.4348774733594301,null,{"$f":"IF(AND(Caluations!$F21>5,Caluations!$F21<>FALSE),\"\",IF($E32=\"\",($I32/$H32)*100,$I32/$H32*100))","v":92.103310440941655},null,774.33829787234049,"V13",0,23.715,259.69,"V4","V4","V2",13,19,237,"V3",2,null,0,null,null,{"$f":"IF(LEFT(ScheduleSetup!$P$6,4)=\"Soyb\",BG32,BF32)","v":"V4"},50,null,null,null,null,null,null,null,null,null,null,null,null,null,null,null,null,null,null,null,null,null,null,null,null,null,null,null,null,null,null,null,null,null,null,null,null,null,null,null,null,null,null,null,null,null,null,null,null,null,null,null,null,null,null,null,null,null,null,null,null,null,null,null,null,null,null,null,null,null,null,null,null,null,null,null,null,null,null,null,null,null,null,null,null,null,null,null,null,null,null,null,null,null,null,null,null,null,null,null,null,null,null,null,null,null,null,null,null,null,null,null,null,null,null,null,null,null,null,null,null,null,null,null,null,null,null,null,null,null,null,null,null,null,null,null,null,null,null,null,null,null,null,null,null,null,null,null,null,null,null,null,null,null,null,null,null,null,null,null,null,null,null,null,null,null,null,null,null,null,null,null,null,null,null,null,null,null,{"$error":"#N/A"},null,null,"Elston",null,null,"CucumberP12"]
["2020-06-11",18.116666666666667,0.02,null,0.19700000000000001,0.39666666666666667,6.2673333333333331E-2,1.6369166666666668,1.4514666400260967,88.670771675982081,0,{"$f":"IF(Caluations!$J22<0,0,Caluations!$J22)","v":0.18545002664057009},null,"V4",{"$f":"IF(AND($E33=\"\",Caluations!$F22<8),$R33*$F33,0)","v":0},277.065,{"$f":"IF(LEFT(ScheduleSetup!$P$6,4)=\"Corn\",BF33,BG33)","v":"V4"},null,null,null,null,null,null,null,null,null,null,null,null,null,null,null,null,null,null,null,null,null,null,6.2673333333333331E-2,1,6.2673333333333331E-2,0,212.33558764048107,"R7","V14",{"$f":"IF((OR($E32<>\"\" )), Calculations2!$AV33,\"\")","v":1.4514666400260967},1.4514666400260967,null,{"$f":"IF(AND(Caluations!$F22>5,Caluations!$F22<>FALSE),\"\",IF($E33=\"\",($I33/$H33)*100,$I33/$H33*100))","v":88.670771675982081},null,822.4382978723404,"V14",0,17.375,277.065,"V4","V4","V2",14,19,256,"V4",3,null,0,null,null,{"$f":"IF(LEFT(ScheduleSetup!$P$6,4)=\"Soyb\",BG33,BF33)","v":"V4"},50,null,null,null,null,null,null,null,null,null,null,null,null,null,null,null,null,null,null,null,null,null,null,null,null,null,null,null,null,null,null,null,null,null,null,null,null,null,null,null,null,null,null,null,null,null,null,null,null,null,null,null,null,null,null,null,null,null,null,null,null,null,null,null,null,null,null,null,null,null,null,null,null,null,null,null,null,null,null,null,null,null,null,null,null,null,null,null,null,null,null,null,null,null,null,null,null,null,null,null,null,null,null,null,null,null,null,null,null,null,null,null,null,null,null,null,null,null,null,null,null,null,null,null,null,null,null,null,null,null,null,null,null,null,null,null,null,null,null,null,null,null,null,null,null,null,null,null,null,null,null,null,null,null,null,null,null,null,null,null,null,null,null,null,null,null,null,null,null,null,null,null,null,null,null,null,null,null,{"$error":"#N/A"},null,null,"Emmett",null,null,"CucumberP18"]
["2020-06-12",18.693333333333335,0.13,null,0.183,0.42333333333333334,8.3396666666666674E-2,1.7205333333333337,1.5607824733594302,90.715038361715159,0,{"$f":"IF(Caluations!$J23<0,0,Caluations!$J23)","v":0.15975085997390348},null,"V4",{"$f":"IF(AND($E34=\"\",Caluations!$F23<8),$R34*$F34,0)","v":0},293.685,{"$f":"IF(LEFT(ScheduleSetup!$P$6,4)=\"Corn\",BF34,BG34)","v":"V4"},null,null,null,null,null,null,null,null,null,null,null,null,null,null,null,null,null,null,null,null,null,null,8.3396666666666674E-2,1,8.3396666666666674E-2,0,212.33558764048107,"R8","V15",{"$f":"IF((OR($E33<>\"\" )), Calculations2!$AV34,\"\")","v":1.5607824733594302},1.5607824733594302,null,{"$f":"IF(AND(Caluations!$F23>5,Caluations!$F23<>FALSE),\"\",IF($E34=\"\",($I34/$H34)*100,$I34/$H34*100))","v":90.715038361715159},null,870.53829787234042,"V15",0,16.62,293.685,"V4","V4","V2",14,19,275,"V4",4,null,0,null,null,{"$f":"IF(LEFT(ScheduleSetup!$P$6,4)=\"Soyb\",BG34,BF34)","v":"V4"},50,null,null,null,null,null,null,null,null,null,null,null,null,null,null,null,null,null,null,null,null,null,null,null,null,null,null,null,null,null,null,null,null,null,null,null,null,null,null,null,null,null,null,null,null,null,null,null,null,null,null,null,null,null,null,null,null,null,null,null,null,null,null,null,null,null,null,null,null,null,null,null,null,null,null,null,null,null,null,null,null,null,null,null,null,null,null,null,null,null,null,null,null,null,null,null,null,null,null,null,null,null,null,null,null,null,null,null,null,null,null,null,null,null,null,null,null,null,null,null,null,null,null,null,null,null,null,null,null,null,null,null,null,null,null,null,null,null,null,null,null,null,null,null,null,null,null,null,null,null,null,null,null,null,null,null,null,null,null,null,null,null,null,null,null,null,null,null,null,null,null,null,null,null,null,null,null,null,{"$error":"#N/A"},null,null,"Epoufette",null,null,"CucumberP24"]
["2020-06-13",19.270000000000003,0.04,null,0.183,0.45,8.2350000000000007E-2,1.8041500000000006,1.5811449733594305,87.639330064541753,0,{"$f":"IF(Caluations!$J24<0,0,Caluations!$J24)","v":0.22300502664057009},null,"V4",{"$f":"IF(AND($E35=\"\",Caluations!$F24<8),$R35*$F35,0)","v":0},304.47000000000003,{"$f":"IF(LEFT(ScheduleSetup!$P$6,4)=\"Corn\",BF35,BG35)","v":"V4"},null,null,null,null,null,null,null,null,null,null,null,null,null,null,null,null,null,null,null,null,null,null,8.2350000000000007E-2,1,8.2350000000000007E-2,0,212.33558764048107,null,"V16",{"$f":"IF((OR($E34<>\"\" )), Calculations2!$AV35,\"\")","v":1.5811449733594305},{"$f":"MAX(IF(($I34+$C35+$D35-$G35)+(($H35-$H34)*$B$13/100)>($H35*1.03),($H35*1.03),($I34+$C35+$D35-$G35-O35)+(($H35-$H34)*$B$13/100)),0)","v":1.5811449733594305},null,{"$f":"IF(AND(Caluations!$F24>5,Caluations!$F24<>FALSE),\"\",IF($E35=\"\",($I35/$H35)*100,$I35/$H35*100))","v":87.639330064541753},null,918.63829787234044,"V16",0,10.785,304.47000000000003,"V4","V4","V2",14,20,295,"V4",5,null,0,null,null,{"$f":"IF(LEFT(ScheduleSetup!$P$6,4)=\"Soyb\",BG35,BF35)","v":"V4"},50,null,null,null,null,null,null,null,null,null,null,null,null,null,null,null,null,null,null,null,null,null,null,null,null,null,null,null,null,null,null,null,null,null,null,null,null,null,null,null,null,null,null,null,null,null,null,null,null,null,null,null,null,null,null,null,null,null,null,null,null,null,null,null,null,null,null,null,null,null,null,null,null,null,null,null,null,null,null,null,null,null,null,null,null,null,null,null,null,null,null,null,null,null,null,null,null,null,null,null,null,null,null,null,null,null,null,null,null,null,null,null,null,null,null,null,null,null,null,null,null,null,null,null,null,null,null,null,null,null,null,null,null,null,null,null,null,null,null,null,null,null,null,null,null,null,null,null,null,null,null,null,null,null,null,null,null,null,null,null,null,null,null,null,null,null,null,null,null,null,null,null,null,null,null,null,null,null,{"$error":"#N/A"},null,null,"Fern",null,null,"CucumberP36"]
["2020-06-14",19.850000000000001,0,null,0.193,0.45,8.2350000000000007E-2,1.8882500000000002,1.5618699733594303,82.715211087484718,0,{"$f":"IF(Caluations!$J25<0,0,Caluations!$J25)","v":0.32638002664056986},null,"V5",{"$f":"IF(AND($E36=\"\",Caluations!$F25<8),$R36*$F36,0)","v":0},315.34000000000003,{"$f":"IF(LEFT(ScheduleSetup!$P$6,4)=\"Corn\",BF36,BG36)","v":"V5"},null,null,null,null,null,null,null,null,null,null,null,null,null,null,null,null,null,null,null,null,null,null,8.2350000000000007E-2,1,8.2350000000000007E-2,0,212.33558764048107,null,"V17",{"$f":"IF((OR($E35<>\"\" )), Calculations2!$AV36,\"\")","v":1.5618699733594303},1.5618699733594303,null,{"$f":"IF(AND(Caluations!$F25>5,Caluations!$F25<>FALSE),\"\",IF($E36=\"\",($I36/$H36)*100,$I36/$H36*100))","v":82.715211087484718},null,966.73829787234058,"V17",0,10.87,315.34000000000003,"V5","V5","V2",15,20,315,"V5",1,null,0,null,null,{"$f":"IF(LEFT(ScheduleSetup!$P$6,4)=\"Soyb\",BG36,BF36)","v":"V5"},50,null,null,null,null,null,null,null,null,null,null,null,null,null,null,null,null,null,null,null,null,null,null,null,null,null,null,null,null,null,null,null,null,null,null,null,null,null,null,null,null,null,null,null,null,null,null,null,null,null,null,null,null,null,null,null,null,null,null,null,null,null,null,null,null,null,null,null,null,null,null,null,null,null,null,null,null,null,null,null,null,null,null,null,null,null,null,null,null,null,null,null,null,null,null,null,null,null,null,null,null,null,null,null,null,null,null,null,null,null,null,null,null,null,null,null,null,null,null,null,null,null,null,null,null,null,null,null,null,null,null,null,null,null,null,null,null,null,null,null,null,null,null,null,null,null,null,null,null,null,null,null,null,null,null,null,null,null,null,null,null,null,null,null,null,null,null,null,null,null,null,null,null,null,null,null,null,null,{"$error":"#N/A"},null,null,"Fox",null,null,"DryBeans18"]
["2020-06-15",20.233333333333334,0,null,0.188,0.48000000000000004,9.2640000000000014E-2,1.9438333333333335,1.5109174733594304,77.728756239017244,0,{"$f":"IF(Caluations!$J26<0,0,Caluations!$J26)","v":0.43291585997390314},null,"V5",{"$f":"IF(AND($E37=\"\",Caluations!$F26<8),$R37*$F37,0)","v":0},329.58500000000004,{"$f":"IF(LEFT(ScheduleSetup!$P$6,4)=\"Corn\",BF37,BG37)","v":"V5"},null,null,null,null,null,null,null,null,null,null,null,null,null,null,null,null,null,null,null,null,null,null,9.2640000000000014E-2,1,9.2640000000000014E-2,0,212.33558764048107,null,"V18",{"$f":"IF((OR($E36<>\"\" )), Calculations2!$AV37,\"\")","v":1.5109174733594304},1.5109174733594304,null,{"$f":"IF(AND(Caluations!$F26>5,Caluations!$F26<>FALSE),\"\",IF($E37=\"\",($I37/$H37)*100,$I37/$H37*100))","v":77.728756239017244},null,1014.8382978723405,"V18",0,14.244999999999999,{"$f":"+IF(BC37=\"\",BD36+BI37,BD36+BC37)","v":329.58500000000004},"V5","V5","V3",15,20,335,"V5",2,null,0,null,null,{"$f":"IF(LEFT(ScheduleSetup!$P$6,4)=\"Soyb\",BG37,BF37)","v":"V5"},50,null,null,null,null,null,null,null,null,null,null,null,null,null,null,null,null,null,null,null,null,null,null,null,null,null,null,null,null,null,null,null,null,null,null,null,null,null,null,null,null,null,null,null,null,null,null,null,null,null,null,null,null,null,null,null,null,null,null,null,null,null,null,null,null,null,null,null,null,null,null,null,null,null,null,null,null,null,null,null,null,null,null,null,null,null,null,null,null,null,null,null,null,null,null,null,null,null,null,null,null,null,null,null,null,null,null,null,null,null,null,null,null,null,null,null,null,null,null,null,null,null,null,null,null,null,null,null,null,null,null,null,null,null,null,null,null,null,null,null,null,null,null,null,null,null,null,null,null,null,null,null,null,null,null,null,null,null,null,null,null,null,null,null,null,null,null,null,null,null,null,null,null,null,null,null,null,null,{"$error":"#N/A"},null,null,"Gilford",null,null,"DryBeans21"]
["2020-06-16",20.616666666666667,0,null,0.193,0.51,9.5880000000000007E-2,{"$f":"IF($B38<=6,$B38*$B$12,IF($B38<=12,6*$B$12+($B38-6)*$C$12,IF($B38<=18,6*$B$12+6*$C$12+($B38-12)*$D$12,IF($B38<=24,6*$B$12+6*$C$12+6*$D$12+($B38-18)*$E$12,IF($B38<=30,6*$B$12+6*$C$12+6*$D$12+6*$E$12+($B38-24)*$F$12,IF($B38<=36,6*$B$12+6*$C$12+6*$D$12+6*$E$12+6*$F$12+($B38-30)*$G$12,IF($B38<=42,6*$B$12+6*$C$12+6*$D$12+6*$E$12+6*$F$12+6*$G$12+($B38-36)*$H$12,IF($B38<=48,6*$B$12+6*$C$12+6*$D$12+6*$E$12+6*$F$12+6*$G$12+6*$H$12+(F38-42)*$I$12,\"rootdepth>48in\"))))))))","v":1.9994166666666668},1.4567249733594305,72.857498771779959,0,{"$f":"IF(Caluations!$J27<0,0,Caluations!$J27)","v":0.54269169330723632},null,"V5",{"$f":"IF(AND($E38=\"\",Caluations!$F27<8),$R38*$F38,0)","v":0},348.73,{"$f":"IF(LEFT(ScheduleSetup!$P$6,4)=\"Corn\",BF38,BG38)","v":"V5"},null,null,null,null,null,null,null,null,null,null,null,null,null,null,null,null,null,null,null,null,null,null,9.5880000000000007E-2,1,9.5880000000000007E-2,0,212.33558764048107,null,"R1",{"$f":"IF((OR($E37<>\"\" )), Calculations2!$AV38,\"\")","v":1.4567249733594305},1.4567249733594305,null,{"$f":"IF(AND(Caluations!$F27>5,Caluations!$F27<>FALSE),\"\",IF($E38=\"\",($I38/$H38)*100,$I38/$H38*100))","v":72.857498771779959},null,1061.9148936170213,"R1",0,19.145,{"$f":"+IF(BC38=\"\",BD37+BI38,BD37+BC38)","v":348.73},"V5","V5","V3",15,20,355,"V5",3,null,0,null,null,{"$f":"IF(LEFT(ScheduleSetup!$P$6,4)=\"Soyb\",BG38,BF38)","v":"V5"},50,null,null,null,null,null,null,null,null,null,null,null,null,null,null,null,null,null,null,null,null,null,null,null,null,null,null,null,null,null,null,null,null,null,null,null,null,null,null,null,null,null,null,null,null,null,null,null,null,null,null,null,null,null,null,null,null,null,null,null,null,null,null,null,null,null,null,null,null,null,null,null,null,null,null,null,null,null,null,null,null,null,null,null,null,null,null,null,null,null,null,null,null,null,null,null,null,null,null,null,null,null,null,null,null,null,null,null,null,null,null,null,null,null,null,null,null,null,null,null,null,null,null,null,null,null,null,null,null,null,null,null,null,null,null,null,null,null,null,null,null,null,null,null,null,null,null,null,null,null,null,null,null,null,null,null,null,null,null,null,null,null,null,null,null,null,null,null,null,null,null,null,null,null,null,null,null,null,{"$error":"#N/A"},null,null,"Gladwin",null,null,"DryBeans24"]
["2020-06-17",21,0,null,0.20899999999999999,0.54,0.10422000000000001,2.0550000000000002,1.3941924733594306,67.8439159785611,0,{"$f":"IF(Caluations!$J28<0,0,Caluations!$J28)","v":0.66080752664056952},null,"V5",{"$f":"IF(AND($E39=\"\",Caluations!$F28<8),$R39*$F39,0)","v":0},369.16500000000002,{"$f":"IF(LEFT(ScheduleSetup!$P$6,4)=\"Corn\",BF39,BG39)","v":"V5"},null,null,null,null,null,null,null,null,null,null,null,null,null,null,null,null,null,null,null,null,null,null,0.10422000000000001,1,0.10422000000000001,0,212.33558764048107,null,"R2",{"$f":"IF((OR($E38<>\"\" )), Calculations2!$AV39,\"\")","v":1.3941924733594306},1.3941924733594306,null,{"$f":"IF(AND(Caluations!$F28>5,Caluations!$F28<>FALSE),\"\",IF($E39=\"\",($I39/$H39)*100,$I39/$H39*100))","v":67.8439159785611},null,1343.3510638297873,"R2",0,20.434999999999999,369.16500000000002,"V5","V5","V3",15,20,375,"V6",4,null,0,null,null,{"$f":"IF(LEFT(ScheduleSetup!$P$6,4)=\"Soyb\",BG39,BF39)","v":"V5"},50,null,null,null,null,null,null,null,null,null,null,null,null,null,null,null,null,null,null,null,null,null,null,null,null,null,null,null,null,null,null,null,null,null,null,null,null,null,null,null,null,null,null,null,null,null,null,null,null,null,null,null,null,null,null,null,null,null,null,null,null,null,null,null,null,null,null,null,null,null,null,null,null,null,null,null,null,null,null,null,null,null,null,null,null,null,null,null,null,null,null,null,null,null,null,null,null,null,null,null,null,null,null,null,null,null,null,null,null,null,null,null,null,null,null,null,null,null,null,null,null,null,null,null,null,null,null,null,null,null,null,null,null,null,null,null,null,null,null,null,null,null,null,null,null,null,null,null,null,null,null,null,null,null,null,null,null,null,null,null,null,null,null,null,null,null,null,null,null,null,null,null,null,null,null,null,null,null,{"$error":"#N/A"},null,null,"Glendora",null,null,"DryOnion12"]
["2020-06-18",21.58,0,null,0.17399999999999999,0.55000000000000004,0.11495000000000001,2.1391,1.3423174733594303,62.751506397991228,0,{"$f":"IF(Caluations!$J29<0,0,Caluations!$J29)","v":0.7967825266405697},null,"V6",{"$f":"IF(AND($E40=\"\",Caluations!$F29<8),$R40*$F40,0)","v":0},389.47,{"$f":"IF(LEFT(ScheduleSetup!$P$6,4)=\"Corn\",BF40,BG40)","v":"V6"},null,null,null,null,null,null,null,null,null,null,null,null,null,null,null,null,null,null,null,null,null,null,0.11495000000000001,1,0.11495000000000001,0,212.33558764048107,null,"R3",{"$f":"IF((OR($E39<>\"\" )), Calculations2!$AV40,\"\")","v":1.3423174733594303},1.3423174733594303,null,{"$f":"IF(AND(Caluations!$F29>5,Caluations!$F29<>FALSE),\"\",IF($E40=\"\",($I40/$H40)*100,$I40/$H40*100))","v":62.751506397991228},null,1573.6170212765958,"R3",0,20.305,389.47,"V6","V6","V3",16,20.5,395.5,"V6",1,null,0,null,null,{"$f":"IF(LEFT(ScheduleSetup!$P$6,4)=\"Soyb\",BG40,BF40)","v":"V6"},50,null,null,null,null,null,null,null,null,null,null,null,null,null,null,null,null,null,null,null,null,null,null,null,null,null,null,null,null,null,null,null,null,null,null,null,null,null,null,null,null,null,null,null,null,null,null,null,null,null,null,null,null,null,null,null,null,null,null,null,null,null,null,null,null,null,null,null,null,null,null,null,null,null,null,null,null,null,null,null,null,null,null,null,null,null,null,null,null,null,null,null,null,null,null,null,null,null,null,null,null,null,null,null,null,null,null,null,null,null,null,null,null,null,null,null,null,null,null,null,null,null,null,null,null,null,null,null,null,null,null,null,null,null,null,null,null,null,null,null,null,null,null,null,null,null,null,null,null,null,null,null,null,null,null,null,null,null,null,null,null,null,null,null,null,null,null,null,null,null,null,null,null,null,null,null,null,null,{"$error":"#N/A"},null,null,"Granby",null,null,"DryOnion15"]
["2020-06-19",22.73,0,null,0.184,0.64,0.11136,2.30585,1.3560199733594303,58.807813750219239,0,{"$f":"IF(Caluations!$J30<0,0,Caluations!$J30)","v":0.9498300266405697},null,"V6",{"$f":"IF(AND($E41=\"\",Caluations!$F30<8),$R41*$F41,0)","v":0},411.63500000000005,{"$f":"IF(LEFT(ScheduleSetup!$P$6,4)=\"Corn\",BF41,BG41)","v":"V6"},null,null,null,null,null,null,null,null,null,null,null,null,null,null,null,null,null,null,null,null,null,null,0.11136,1,0.11136,0,212.33558764048107,null,"R4",{"$f":"IF((OR($E40<>\"\" )), Calculations2!$AV41,\"\")","v":1.3560199733594303},1.3560199733594303,null,{"$f":"IF(AND(Caluations!$F30>5,Caluations!$F30<>FALSE),\"\",IF($E41=\"\",($I41/$H41)*100,$I41/$H41*100))","v":58.807813750219239},null,1803.8829787234042,"R4",0,22.164999999999999,411.63500000000005,"V6","V6","V3",16,20.5,416,"V6",2,null,0,null,null,{"$f":"IF(LEFT(ScheduleSetup!$P$6,4)=\"Soyb\",BG41,BF41)","v":"V6"},50,null,null,null,null,null,null,null,null,null,null,null,null,null,null,null,null,null,null,null,null,null,null,null,null,null,null,null,null,null,null,null,null,null,null,null,null,null,null,null,null,null,null,null,null,null,null,null,null,null,null,null,null,null,null,null,null,null,null,null,null,null,null,null,null,null,null,null,null,null,null,null,null,null,null,null,null,null,null,null,null,null,null,null,null,null,null,null,null,null,null,null,null,null,null,null,null,null,null,null,null,null,null,null,null,null,null,null,null,null,null,null,null,null,null,null,null,null,null,null,null,null,null,null,null,null,null,null,null,null,null,null,null,null,null,null,null,null,null,null,null,null,null,null,null,null,null,null,null,null,null,null,null,null,null,null,null,null,null,null,null,null,null,null,null,null,null,null,null,null,null,null,null,null,null,null,null,null,{"$error":"#N/A"},null,null,"Grayling",null,null,"DryOnion18"]
["2020-06-20",23.306999999999999,0,null,0.193,0.64,0.11776,2.3895149999999998,1.3010087233594301,54.446560216589148,0,{"$f":"IF(Caluations!$J31<0,0,Caluations!$J31)","v":1.0885062766405698},null,"V7",{"$f":"IF(AND($E42=\"\",Caluations!$F31<8),$R42*$F42,0)","v":0},436.02500000000003,{"$f":"IF(LEFT(ScheduleSetup!$P$6,4)=\"Corn\",BF42,BG42)","v":"V7"},null,null,null,null,null,null,null,null,null,null,null,null,null,null,null,null,null,null,null,null,null,null,0.11776,1,0.11776,0,212.33558764048107,null,"R5",{"$f":"IF((OR($E41<>\"\" )), Calculations2!$AV42,\"\")","v":1.3010087233594301},1.3010087233594301,null,{"$f":"IF(AND(Caluations!$F31>5,Caluations!$F31<>FALSE),\"\",IF($E42=\"\",($I42/$H42)*100,$I42/$H42*100))","v":54.446560216589148},null,2034.1489361702124,"R5",0,24.39,436.02500000000003,"V7","V7","V3",16,20.5,436.5,"V7",3,null,0,null,null,{"$f":"IF(LEFT(ScheduleSetup!$P$6,4)=\"Soyb\",BG42,BF42)","v":"V7"},50,null,null,null,null,null,null,null,null,null,null,null,null,null,null,null,null,null,null,null,null,null,null,null,null,null,null,null,null,null,null,null,null,null,null,null,null,null,null,null,null,null,null,null,null,null,null,null,null,null,null,null,null,null,null,null,null,null,null,null,null,null,null,null,null,null,null,null,null,null,null,null,null,null,null,null,null,null,null,null,null,null,null,null,null,null,null,null,null,null,null,null,null,null,null,null,null,null,null,null,null,null,null,null,null,null,null,null,null,null,null,null,null,null,null,null,null,null,null,null,null,null,null,null,null,null,null,null,null,null,null,null,null,null,null,null,null,null,null,null,null,null,null,null,null,null,null,null,null,null,null,null,null,null,null,null,null,null,null,null,null,null,null,null,null,null,null,null,null,null,null,null,null,null,null,null,null,null,{"$error":"#N/A"},null,null,"Greenwood",null,null,"Grapes"]
["2020-06-21",23.883499999999998,1,null,9.4E-2,0.69,0.13316999999999998,2.4731074999999998,2.2305330983594303,90.191514051024086,0,{"$f":"IF(Caluations!$J32<0,0,Caluations!$J32)","v":0.24257440164056954},null,"V7",{"$f":"IF(AND($E43=\"\",Caluations!$F32<8),$R43*$F43,0)","v":0},459.83000000000004,{"$f":"IF(LEFT(ScheduleSetup!$P$6,4)=\"Corn\",BF43,BG43)","v":"V7"},null,null,null,null,null,null,null,null,null,null,null,null,null,null,null,null,null,null,null,null,null,null,0.13316999999999998,1,0.13316999999999998,0,212.33558764048107,null,"R6",{"$f":"IF((OR($E42<>\"\" )), Calculations2!$AV43,\"\")","v":2.2305330983594303},2.2305330983594303,null,{"$f":"IF(AND(Caluations!$F32>5,Caluations!$F32<>FALSE),\"\",IF($E43=\"\",($I43/$H43)*100,$I43/$H43*100))","v":90.191514051024086},null,2290,"R6",0,23.805,459.83000000000004,"V7","V7","V4",16,21,457.5,"V7",4,null,0,null,null,{"$f":"IF(LEFT(ScheduleSetup!$P$6,4)=\"Soyb\",BG43,BF43)","v":"V7"},50,null,null,null,null,null,null,null,null,null,null,null,null,null,null,null,null,null,null,null,null,null,null,null,null,null,null,null,null,null,null,null,null,null,null,null,null,null,null,null,null,null,null,null,null,null,null,null,null,null,null,null,null,null,null,null,null,null,null,null,null,null,null,null,null,null,null,null,null,null,null,null,null,null,null,null,null,null,null,null,null,null,null,null,null,null,null,null,null,null,null,null,null,null,null,null,null,null,null,null,null,null,null,null,null,null,null,null,null,null,null,null,null,null,null,null,null,null,null,null,null,null,null,null,null,null,null,null,null,null,null,null,null,null,null,null,null,null,null,null,null,null,null,null,null,null,null,null,null,null,null,null,null,null,null,null,null,null,null,null,null,null,null,null,null,null,null,null,null,null,null,null,null,null,null,null,null,null,{"$error":"#N/A"},null,null,"Hillsdale",null,null,"Grass12"]
["2020-06-22",24.46,0.23,null,0.157,0.74,6.9559999999999997E-2,2.5567000000000002,2.4536674733594306,95.970097131436233,0,{"$f":"IF(Caluations!$J33<0,0,Caluations!$J33)","v":0.10303252664056961},null,"V7",{"$f":"IF(AND($E44=\"\",Caluations!$F33<8),$R44*$F44,0)","v":0},484.07500000000005,{"$f":"IF(LEFT(ScheduleSetup!$P$6,4)=\"Corn\",BF44,BG44)","v":"V7"},null,null,null,null,null,null,null,null,null,null,null,null,null,null,null,null,null,null,null,null,null,null,6.9559999999999997E-2,1,6.9559999999999997E-2,0,212.33558764048107,null,null,{"$f":"IF((OR($E43<>\"\" )), Calculations2!$AV44,\"\")","v":2.4536674733594306},2.4536674733594306,null,{"$f":"IF(AND(Caluations!$F33>5,Caluations!$F33<>FALSE),\"\",IF($E44=\"\",($I44/$H44)*100,$I44/$H44*100))","v":95.970097131436233},null,null,null,0,24.245000000000001,484.07500000000005,"V7","V7","V4",17,21,478.5,"V7",1,null,0,null,null,{"$f":"IF(LEFT(ScheduleSetup!$P$6,4)=\"Soyb\",BG44,BF44)","v":"V7"},50,null,null,null,null,null,null,null,null,null,null,null,null,null,null,null,null,null,null,null,null,null,null,null,null,null,null,null,null,null,null,null,null,null,null,null,null,null,null,null,null,null,null,null,null,null,null,null,null,null,null,null,null,null,null,null,null,null,null,null,null,null,null,null,null,null,null,null,null,null,null,null,null,null,null,null,null,null,null,null,null,null,null,null,null,null,null,null,null,null,null,null,null,null,null,null,null,null,null,null,null,null,null,null,null,null,null,null,null,null,null,null,null,null,null,null,null,null,null,null,null,null,null,null,null,null,null,null,null,null,null,null,null,null,null,null,null,null,null,null,null,null,null,null,null,null,null,null,null,null,null,null,null,null,null,null,null,null,null,null,null,null,null,null,null,null,null,null,null,null,null,null,null,null,null,null,null,null,{"$error":"#N/A"},null,null,"Houghton",null,null,"Grass18"]
["2020-06-23",25.038,0.43,null,0.106,0.74,0.11618000000000001,2.6405100000000004,2.7197253000000003,103,4.7762173359430449E-2,{"$f":"IF(Caluations!$J34<0,0,Caluations!$J34)","v":0},null,"V8",{"$f":"IF(AND($E45=\"\",Caluations!$F34<8),$R45*$F45,0)","v":0},499.72500000000002,{"$f":"IF(LEFT(ScheduleSetup!$P$6,4)=\"Corn\",BF45,BG45)","v":"V8"},null,null,null,null,null,null,null,null,null,null,null,null,null,null,null,null,null,null,null,null,null,null,0.11618000000000001,1,0.11618000000000001,0,212.33558764048107,null,null,{"$f":"IF((OR($E44<>\"\" )), Calculations2!$AV45,\"\")","v":2.7197253000000003},2.7197253000000003,null,{"$f":"IF(AND(Caluations!$F34>5,Caluations!$F34<>FALSE),\"\",IF($E45=\"\",($I45/$H45)*100,$I45/$H45*100))","v":103},null,null,null,0,15.65,499.72500000000002,"V8","V8","V4",17,21,499.5,"V8",2,null,0,null,null,{"$f":"IF(LEFT(ScheduleSetup!$P$6,4)=\"Soyb\",BG45,BF45)","v":"V8"},50,null,null,null,null,null,null,null,null,null,null,null,null,null,null,null,null,null,null,null,null,null,null,null,null,null,null,null,null,null,null,null,null,null,null,null,null,null,null,null,null,null,null,null,null,null,null,null,null,null,null,null,null,null,null,null,null,null,null,null,null,null,null,null,null,null,null,null,null,null,null,null,null,null,null,null,null,null,null,null,null,null,null,null,null,null,null,null,null,null,null,null,null,null,null,null,null,null,null,null,null,null,null,null,null,null,null,null,null,null,null,null,null,null,null,null,null,null,null,null,null,null,null,null,null,null,null,null,null,null,null,null,null,null,null,null,null,null,null,null,null,null,null,null,null,null,null,null,null,null,null,null,null,null,null,null,null,null,null,null,null,null,null,null,null,null,null,null,null,null,null,null,null,null,null,null,null,null,{"$error":"#N/A"},null,null,"Iosca",null,null,"Grass24"]
["2020-06-24",25.422000000000001,0,null,0.16200000000000001,0.77666666666666662,8.2326666666666659E-2,2.6961900000000001,2.6791586333333335,99.368317267452724,0,{"$f":"IF(Caluations!$J35<0,0,Caluations!$J35)","v":1.7031366666666603E-2},null,"V8",{"$f":"IF(AND($E46=\"\",Caluations!$F35<8),$R46*$F46,0)","v":0},515.28499999999997,{"$f":"IF(LEFT(ScheduleSetup!$P$6,4)=\"Corn\",BF46,BG46)","v":"V8"},null,null,null,null,null,null,null,null,null,null,null,null,null,null,null,null,null,null,null,null,null,null,8.2326666666666659E-2,1,8.2326666666666659E-2,0,212.33558764048107,null,null,{"$f":"IF((OR($E45<>\"\" )), Calculations2!$AV46,\"\")","v":2.6791586333333335},2.6791586333333335,null,{"$f":"IF(AND(Caluations!$F35>5,Caluations!$F35<>FALSE),\"\",IF($E46=\"\",($I46/$H46)*100,$I46/$H46*100))","v":99.368317267452724},null,null,null,0,15.56,515.28499999999997,"V8","V8","V4",17,21,520.5,"V8",3,null,0,null,null,{"$f":"IF(LEFT(ScheduleSetup!$P$6,4)=\"Soyb\",BG46,BF46)","v":"V8"},50,null,null,null,null,null,null,null,null,null,null,null,null,null,null,null,null,null,null,null,null,null,null,null,null,null,null,null,null,null,null,null,null,null,null,null,null,null,null,null,null,null,null,null,null,null,null,null,null,null,null,null,null,null,null,null,null,null,null,null,null,null,null,null,null,null,null,null,null,null,null,null,null,null,null,null,null,null,null,null,null,null,null,null,null,null,null,null,null,null,null,null,null,null,null,null,null,null,null,null,null,null,null,null,null,null,null,null,null,null,null,null,null,null,null,null,null,null,null,null,null,null,null,null,null,null,null,null,null,null,null,null,null,null,null,null,null,null,null,null,null,null,null,null,null,null,null,null,null,null,null,null,null,null,null,null,null,null,null,null,null,null,null,null,null,null,null,null,null,null,null,null,null,null,null,null,null,null,{"$error":"#N/A"},null,null,"Isabella",null,null,"GreenBeans"]
["2020-06-25",25.806000000000001,0,0.4,0.17499999999999999,0.81333333333333324,0.13175999999999999,2.7518700000000003,2.8344261000000004,103,0.11297253333333312,{"$f":"IF(Caluations!$J36<0,0,Caluations!$J36)","v":0},null,"V8",{"$f":"IF(AND($E47=\"\",Caluations!$F36<8),$R47*$F47,0)","v":0},531.64,{"$f":"IF(LEFT(ScheduleSetup!$P$6,4)=\"Corn\",BF47,BG47)","v":"V8"},null,null,null,null,null,null,null,null,null,null,null,null,null,null,null,null,null,null,null,null,null,null,0.13175999999999999,1,0.13175999999999999,0,212.33558764048107,null,null,{"$f":"IF((OR($E46<>\"\" )), Calculations2!$AV47,\"\")","v":2.8344261000000004},2.8344261000000004,null,{"$f":"IF(AND(Caluations!$F36>5,Caluations!$F36<>FALSE),\"\",IF($E47=\"\",($I47/$H47)*100,$I47/$H47*100))","v":103},null,null,null,0,16.355,531.64,"V8","V8","V4",18,21,541.5,"V8",1,null,0,null,null,{"$f":"IF(LEFT(ScheduleSetup!$P$6,4)=\"Soyb\",BG47,BF47)","v":"V8"},50,null,null,null,null,null,null,null,null,null,null,null,null,null,null,null,null,null,null,null,null,null,null,null,null,null,null,null,null,null,null,null,null,null,null,null,null,null,null,null,null,null,null,null,null,null,null,null,null,null,null,null,null,null,null,null,null,null,null,null,null,null,null,null,null,null,null,null,null,null,null,null,null,null,null,null,null,null,null,null,null,null,null,null,null,null,null,null,null,null,null,null,null,null,null,null,null,null,null,null,null,null,null,null,null,null,null,null,null,null,null,null,null,null,null,null,null,null,null,null,null,null,null,null,null,null,null,null,null,null,null,null,null,null,null,null,null,null,null,null,null,null,null,null,null,null,null,null,null,null,null,null,null,null,null,null,null,null,null,null,null,null,null,null,null,null,null,null,null,null,null,null,null,null,null,null,null,null,{"$error":"#N/A"},null,null,"Island lake",null,null,"GreenOnion12"]
["2020-06-26",26.19,0.8,null,9.4E-2,0.84999999999999987,0.14874999999999997,2.8075500000000004,2.8917765000000006,103,0.59389959999999986,{"$f":"IF(Caluations!$J37<0,0,Caluations!$J37)","v":0},null,"V8",{"$f":"IF(AND($E48=\"\",Caluations!$F37<8),$R48*$F48,0)","v":0},550.14499999999998,{"$f":"IF(LEFT(ScheduleSetup!$P$6,4)=\"Corn\",BF48,BG48)","v":"V8"},null,null,null,null,null,null,null,null,null,null,null,null,null,null,null,null,null,null,null,null,null,null,0.14874999999999997,1,0.14874999999999997,0,212.33558764048107,null,null,{"$f":"IF((OR($E47<>\"\" )), Calculations2!$AV48,\"\")","v":2.8917765000000006},2.8917765000000006,null,{"$f":"IF(AND(Caluations!$F37>5,Caluations!$F37<>FALSE),\"\",IF($E48=\"\",($I48/$H48)*100,$I48/$H48*100))","v":103},null,null,null,0,18.504999999999999,550.14499999999998,"V8","V8","V4",18,21,562.5,"V9",2,null,0,null,null,{"$f":"IF(LEFT(ScheduleSetup!$P$6,4)=\"Soyb\",BG48,BF48)","v":"V8"},50,null,null,null,null,null,null,null,null,null,null,null,null,null,null,null,null,null,null,null,null,null,null,null,null,null,null,null,null,null,null,null,null,null,null,null,null,null,null,null,null,null,null,null,null,null,null,null,null,null,null,null,null,null,null,null,null,null,null,null,null,null,null,null,null,null,null,null,null,null,null,null,null,null,null,null,null,null,null,null,null,null,null,null,null,null,null,null,null,null,null,null,null,null,null,null,null,null,null,null,null,null,null,null,null,null,null,null,null,null,null,null,null,null,null,null,null,null,null,null,null,null,null,null,null,null,null,null,null,null,null,null,null,null,null,null,null,null,null,null,null,null,null,null,null,null,null,null,null,null,null,null,null,null,null,null,null,null,null,null,null,null,null,null,null,null,null,null,null,null,null,null,null,null,null,null,null,null,{"$error":"#N/A"},null,null,"Ithaca",null,null,"GreenOnion18"]
["2020-06-27",26.77,0.11,null,0.14699999999999999,0.85,7.9899999999999999E-2,2.8916500000000003,2.9783995000000005,103,0,{"$f":"IF(Caluations!$J38<0,0,Caluations!$J38)","v":0},null,"V9",{"$f":"IF(AND($E49=\"\",Caluations!$F38<8),$R49*$F49,0)","v":0},575.96500000000003,{"$f":"IF(LEFT(ScheduleSetup!$P$6,4)=\"Corn\",BF49,BG49)","v":"V9"},null,null,null,null,null,null,null,null,null,null,null,null,null,null,null,null,null,null,null,null,null,null,7.9899999999999999E-2,1,7.9899999999999999E-2,0,212.33558764048107,null,null,{"$f":"IF((OR($E48<>\"\" )), Calculations2!$AV49,\"\")","v":2.9783995000000005},2.9783995000000005,null,{"$f":"IF(AND(Caluations!$F38>5,Caluations!$F38<>FALSE),\"\",IF($E49=\"\",($I49/$H49)*100,$I49/$H49*100))","v":103},null,null,null,0,25.82,575.96500000000003,"V9","V9","V5",18,21,583.5,"V9",3,null,0,null,null,{"$f":"IF(LEFT(ScheduleSetup!$P$6,4)=\"Soyb\",BG49,BF49)","v":"V9"},50,null,null,null,19.16,null,null,null,null,null,null,null,null,null,null,null,null,null,null,null,null,null,null,null,null,null,null,null,null,null,null,null,null,null,null,null,null,null,null,null,null,null,null,null,null,null,null,null,null,null,null,null,null,null,null,null,null,null,null,null,null,null,null,null,null,null,null,null,null,null,null,null,null,null,null,null,null,null,null,null,null,null,null,null,null,null,null,null,null,null,null,null,null,null,null,null,null,null,null,null,null,null,null,null,null,null,null,null,null,null,null,null,null,null,null,null,null,null,null,null,null,null,null,null,null,null,null,null,null,null,null,null,null,null,null,null,null,null,null,null,null,null,null,null,null,null,null,null,null,null,null,null,null,null,null,null,null,null,null,null,null,null,null,null,null,null,null,null,null,null,null,null,null,null,null,null,null,null,{"$error":"#N/A"},null,null,"Kalamazoo",null,null,"GreenOnion24"]
["2020-06-28",27.922999999999998,0,null,0.19500000000000001,0.99,0.14552999999999999,3.0588350000000002,2.9582582500000005,96.711926272584179,0,{"$f":"IF(Caluations!$J39<0,0,Caluations!$J39)","v":0.10057674999999966},null,"V9",{"$f":"IF(AND($E50=\"\",Caluations!$F39<8),$R50*$F50,0)","v":0},601.255,{"$f":"IF(LEFT(ScheduleSetup!$P$6,4)=\"Corn\",BF50,BG50)","v":"V9"},null,null,null,null,null,null,null,null,null,null,null,null,null,null,null,null,null,null,null,null,null,null,0.14552999999999999,1,0.14552999999999999,0,212.33558764048107,null,null,{"$f":"IF((OR($E49<>\"\" )), Calculations2!$AV50,\"\")","v":2.9582582500000005},2.9582582500000005,null,{"$f":"IF(AND(Caluations!$F39>5,Caluations!$F39<>FALSE),\"\",IF($E50=\"\",($I50/$H50)*100,$I50/$H50*100))","v":96.711926272584179},null,null,null,0,25.29,601.255,"V9","V9","V5",19,22,605.5,"V9",4,null,0,null,null,{"$f":"IF(LEFT(ScheduleSetup!$P$6,4)=\"Soyb\",BG50,BF50)","v":"V9"},50,null,null,null,null,17.48,null,null,null,null,null,null,null,null,null,null,null,null,null,null,null,null,null,null,null,null,null,null,null,null,null,null,null,null,null,null,null,null,null,null,null,null,null,null,null,null,null,null,null,null,null,null,null,null,null,null,null,null,null,null,null,null,null,null,null,null,null,null,null,null,null,null,null,null,null,null,null,null,null,null,null,null,null,null,null,null,null,null,null,null,null,null,null,null,null,null,null,null,null,null,null,null,null,null,null,null,null,null,null,null,null,null,null,null,null,null,null,null,null,null,null,null,null,null,null,null,null,null,null,null,null,null,null,null,null,null,null,null,null,null,null,null,null,null,null,null,null,null,null,null,null,null,null,null,null,null,null,null,null,null,null,null,null,null,null,null,null,null,null,null,null,null,null,null,null,null,null,null,{"$error":"#N/A"},null,null,"Kawkawlin",null,null,"MuskMelon12"]
["2020-06-29",28.5,0,null,0.187,1,0.19500000000000001,3.1425000000000001,2.8260070000000006,89.928623707239481,0,{"$f":"IF(Caluations!$J40<0,0,Caluations!$J40)","v":0.31649299999999947},null,"V10",{"$f":"IF(AND($E51=\"\",Caluations!$F40<8),$R51*$F51,0)","v":0},626.66999999999996,{"$f":"IF(LEFT(ScheduleSetup!$P$6,4)=\"Corn\",BF51,BG51)","v":"V10"},null,null,null,null,null,null,null,null,null,null,null,null,null,null,null,null,null,null,null,null,null,null,0.19500000000000001,1,0.19500000000000001,0,212.33558764048107,null,null,{"$f":"IF((OR($E50<>\"\" )), Calculations2!$AV51,\"\")","v":2.8260070000000006},2.8260070000000006,null,{"$f":"IF(AND(Caluations!$F40>5,Caluations!$F40<>FALSE),\"\",IF($E51=\"\",($I51/$H51)*100,$I51/$H51*100))","v":89.928623707239481},null,null,null,0,25.414999999999999,626.66999999999996,"V10","V10","V5",19,22,627.5,"V10",1,null,0,null,null,{"$f":"IF(LEFT(ScheduleSetup!$P$6,4)=\"Soyb\",BG51,BF51)","v":"V10"},50,null,null,null,null,null,7.7750000000000004,null,null,null,null,null,null,null,null,null,null,null,null,null,null,null,null,null,null,null,null,null,null,null,null,null,null,null,null,null,null,null,null,null,null,null,null,null,null,null,null,null,null,null,null,null,null,null,null,null,null,null,null,null,null,null,null,null,null,null,null,null,null,null,null,null,null,null,null,null,null,null,null,null,null,null,null,null,null,null,null,null,null,null,null,null,null,null,null,null,null,null,null,null,null,null,null,null,null,null,null,null,null,null,null,null,null,null,null,null,null,null,null,null,null,null,null,null,null,null,null,null,null,null,null,null,null,null,null,null,null,null,null,null,null,null,null,null,null,null,null,null,null,null,null,null,null,null,null,null,null,null,null,null,null,null,null,null,null,null,null,null,null,null,null,null,null,null,null,null,null,null,{"$error":"#N/A"},null,null,"Kerston",null,null,"MuskMelon15"]
[{"$f":"1+A51","v":"2020-06-30"},29.074999999999999,0,null,0.20100000000000001,1.0249999999999999,0.19167499999999998,3.2258750000000003,2.6968632500000007,83.600984229085157,{"$f":"IF(IF(OR($J52<103,$E51=\"\"),0,$C52+$D52+$I51-$G52-($H52*1.03))>0, IF(OR($J52<103,$E51=\"\"),0,$C52+$D52+$I51-$G52-($H52*1.03)),0)","v":0},{"$f":"IF(Caluations!$J41<0,0,Caluations!$J41)","v":0.52901174999999956},null,"V10",{"$f":"IF(AND($E52=\"\",Caluations!$F41<8),$R52*$F52,0)","v":0},652.89499999999998,{"$f":"IF(LEFT(ScheduleSetup!$P$6,4)=\"Corn\",BF52,BG52)","v":"V10"},null,null,null,null,null,null,null,null,null,null,null,null,null,null,null,null,null,null,null,null,null,null,{"$f":"+$F52*$E51","v":0.19167499999999998},1,0.19167499999999998,0,212.33558764048107,null,null,{"$f":"IF((OR($E51<>\"\" )), Calculations2!$AV52,\"\")","v":2.6968632500000007},2.6968632500000007,null,{"$f":"IF(AND(Caluations!$F41>5,Caluations!$F41<>FALSE),\"\",IF($E52=\"\",($I52/$H52)*100,$I52/$H52*100))","v":83.600984229085157},null,null,null,0,26.225000000000001,652.89499999999998,"V10","V10","V5",19,22,649.5,"V10",2,null,0,null,null,{"$f":"IF(LEFT(ScheduleSetup!$P$6,4)=\"Soyb\",BG52,BF52)","v":"V10"},50,null,null,null,null,null,null,13.295,null,null,null,null,null,null,null,null,null,null,null,null,null,null,null,null,null,null,null,null,null,null,null,null,null,null,null,null,null,null,null,null,null,null,null,null,null,null,null,null,null,null,null,null,null,null,null,null,null,null,null,null,null,null,null,null,null,null,null,null,null,null,null,null,null,null,null,null,null,null,null,null,null,null,null,null,null,null,null,null,null,null,null,null,null,null,null,null,null,null,null,null,null,null,null,null,null,null,null,null,null,null,null,null,null,null,null,null,null,null,null,null,null,null,null,null,null,null,null,null,null,null,null,null,null,null,null,null,null,null,null,null,null,null,null,null,null,null,null,null,null,null,null,null,null,null,null,null,null,null,null,null,null,null,null,null,null,null,null,null,null,null,null,null,null,null,null,null,null,null,{"$error":"#N/A"},null,null,"Kilmanagh",null,null,"MuskMelon18"]
["2020-07-01",29.65,0,null,0.19900000000000001,1.0499999999999998,0.21104999999999999,3.30925,2.5483445000000002,77.00670846868627,0,{"$f":"IF(Caluations!$J42<0,0,Caluations!$J42)","v":0.76090549999999979},null,"V10",{"$f":"IF(AND($E53=\"\",Caluations!$F42<8),$R53*$F53,0)","v":0},675.95499999999993,{"$f":"IF(LEFT(ScheduleSetup!$P$6,4)=\"Corn\",BF53,BG53)","v":"V10"},null,null,null,null,null,null,null,null,null,null,null,null,null,null,null,null,null,null,null,null,null,null,0.21104999999999999,1,0.21104999999999999,0,212.33558764048107,null,null,{"$f":"IF((OR($E52<>\"\" )), Calculations2!$AV53,\"\")","v":2.5483445000000002},2.5483445000000002,null,{"$f":"IF(AND(Caluations!$F42>5,Caluations!$F42<>FALSE),\"\",IF($E53=\"\",($I53/$H53)*100,$I53/$H53*100))","v":77.00670846868627},null,null,null,0,23.06,675.95499999999993,"V10","V10","V5",19,22,671.5,"V10",3,null,0,null,null,{"$f":"IF(LEFT(ScheduleSetup!$P$6,4)=\"Soyb\",BG53,BF53)","v":"V10"},50,null,null,null,null,null,null,null,17.835000000000001,null,null,null,null,null,null,null,null,null,null,null,null,null,null,null,null,null,null,null,null,null,null,null,null,null,null,null,null,null,null,null,null,null,null,null,null,null,null,null,null,null,null,null,null,null,null,null,null,null,null,null,null,null,null,null,null,null,null,null,null,null,null,null,null,null,null,null,null,null,null,null,null,null,null,null,null,null,null,null,null,null,null,null,null,null,null,null,null,null,null,null,null,null,null,null,null,null,null,null,null,null,null,null,null,null,null,null,null,null,null,null,null,null,null,null,null,null,null,null,null,null,null,null,null,null,null,null,null,null,null,null,null,null,null,null,null,null,null,null,null,null,null,null,null,null,null,null,null,null,null,null,null,null,null,null,null,null,null,null,null,null,null,null,null,null,null,null,null,null,{"$error":"#N/A"},null,null,"Lapeer",null,null,"MuskMelon36"]
["2020-07-02",30.23,0,null,0.193,1.05,0.20895000000000002,3.3807000000000005,2.3929820000000004,70.783624693110895,0,{"$f":"IF(Caluations!$J43<0,0,Caluations!$J43)","v":0.9877180000000001},null,"V11",{"$f":"IF(AND($E54=\"\",Caluations!$F43<8),$R54*$F54,0)","v":0},699.84999999999991,{"$f":"IF(LEFT(ScheduleSetup!$P$6,4)=\"Corn\",BF54,BG54)","v":"V11"},null,null,null,null,null,null,null,null,null,null,null,null,null,null,null,null,null,null,null,null,null,null,0.20895000000000002,1,0.20895000000000002,0,212.33558764048107,null,null,{"$f":"IF((OR($E53<>\"\" )), Calculations2!$AV54,\"\")","v":2.3929820000000004},2.3929820000000004,null,{"$f":"IF(AND(Caluations!$F43>5,Caluations!$F43<>FALSE),\"\",IF($E54=\"\",($I54/$H54)*100,$I54/$H54*100))","v":70.783624693110895},null,null,null,0,23.895,699.84999999999991,"V11","V11","V5",20,22,693.5,"V11",1,null,0,null,null,{"$f":"IF(LEFT(ScheduleSetup!$P$6,4)=\"Soyb\",BG54,BF54)","v":"V11"},50,null,null,null,null,null,null,null,null,26.78,null,null,null,null,null,null,null,null,null,null,null,null,null,null,null,null,null,null,null,null,null,null,null,null,null,null,null,null,null,null,null,null,null,null,null,null,null,null,null,null,null,null,null,null,null,null,null,null,null,null,null,null,null,null,null,null,null,null,null,null,null,null,null,null,null,null,null,null,null,null,null,null,null,null,null,null,null,null,null,null,null,null,null,null,null,null,null,null,null,null,null,null,null,null,null,null,null,null,null,null,null,null,null,null,null,null,null,null,null,null,null,null,null,null,null,null,null,null,null,null,null,null,null,null,null,null,null,null,null,null,null,null,null,null,null,null,null,null,null,null,null,null,null,null,null,null,null,null,null,null,null,null,null,null,null,null,null,null,null,null,null,null,null,null,null,null,null,null,{"$error":"#N/A"},null,null,"Leoni",null,null,"Peaches"]
["2020-07-03",31.38,0,null,0.19600000000000001,1.1000000000000001,0.21230000000000002,3.4842000000000004,2.2583070000000003,64.81565352161185,0,{"$f":"IF(Caluations!$J44<0,0,Caluations!$J44)","v":1.2258930000000001},null,"V11",{"$f":"IF(AND($E55=\"\",Caluations!$F44<8),$R55*$F55,0)","v":0},724.45499999999993,{"$f":"IF(LEFT(ScheduleSetup!$P$6,4)=\"Corn\",BF55,BG55)","v":"V11"},null,null,null,null,null,null,null,null,null,null,null,null,null,null,null,null,null,null,null,null,null,null,0.21230000000000002,1,0.21230000000000002,0,212.33558764048107,null,null,{"$f":"IF((OR($E54<>\"\" )), Calculations2!$AV55,\"\")","v":2.2583070000000003},2.2583070000000003,null,{"$f":"IF(AND(Caluations!$F44>5,Caluations!$F44<>FALSE),\"\",IF($E55=\"\",($I55/$H55)*100,$I55/$H55*100))","v":64.81565352161185},null,null,null,0,24.605,724.45499999999993,"V11","V11","V6",20,22,715.5,"V11",2,null,0,null,null,{"$f":"IF(LEFT(ScheduleSetup!$P$6,4)=\"Soyb\",BG55,BF55)","v":"V11"},50,null,null,null,null,null,null,null,null,null,26.774999999999999,null,null,null,null,null,null,null,null,null,null,null,null,null,null,null,null,null,null,null,null,null,null,null,null,null,null,null,null,null,null,null,null,null,null,null,null,null,null,null,null,null,null,null,null,null,null,null,null,null,null,null,null,null,null,null,null,null,null,null,null,null,null,null,null,null,null,null,null,null,null,null,null,null,null,null,null,null,null,null,null,null,null,null,null,null,null,null,null,null,null,null,null,null,null,null,null,null,null,null,null,null,null,null,null,null,null,null,null,null,null,null,null,null,null,null,null,null,null,null,null,null,null,null,null,null,null,null,null,null,null,null,null,null,null,null,null,null,null,null,null,null,null,null,null,null,null,null,null,null,null,null,null,null,null,null,null,null,null,null,null,null,null,null,null,null,null,null,{"$error":"#N/A"},null,null,"Locke",null,null,"Pears"]
["2020-07-04",31.96,0,null,0.17699999999999999,1.1000000000000001,0.21560000000000001,3.5364000000000004,2.0818570000000003,58.869386947177929,0,{"$f":"IF(Caluations!$J45<0,0,Caluations!$J45)","v":1.4545430000000001},null,"V12",{"$f":"IF(AND($E56=\"\",Caluations!$F45<8),$R56*$F56,0)","v":0},750.24999999999989,{"$f":"IF(LEFT(ScheduleSetup!$P$6,4)=\"Corn\",BF56,BG56)","v":"V12"},null,null,null,null,null,null,null,null,null,null,null,null,null,null,null,null,null,null,null,null,null,null,0.21560000000000001,1,0.21560000000000001,0,212.33558764048107,null,null,{"$f":"IF((OR($E55<>\"\" )), Calculations2!$AV56,\"\")","v":2.0818570000000003},2.0818570000000003,null,{"$f":"IF(AND(Caluations!$F45>5,Caluations!$F45<>FALSE),\"\",IF($E56=\"\",($I56/$H56)*100,$I56/$H56*100))","v":58.869386947177929},null,null,null,0,25.795000000000002,750.24999999999989,"V12","V12","V6",20,22,737.5,"V12",3,null,0,null,null,{"$f":"IF(LEFT(ScheduleSetup!$P$6,4)=\"Soyb\",BG56,BF56)","v":"V12"},50,null,null,null,null,null,null,null,null,null,null,22.045000000000002,null,null,null,null,null,null,null,null,null,null,null,null,null,null,null,null,null,null,null,null,null,null,null,null,null,null,null,null,null,null,null,null,null,null,null,null,null,null,null,null,null,null,null,null,null,null,null,null,null,null,null,null,null,null,null,null,null,null,null,null,null,null,null,null,null,null,null,null,null,null,null,null,null,null,null,null,null,null,null,null,null,null,null,null,null,null,null,null,null,null,null,null,null,null,null,null,null,null,null,null,null,null,null,null,null,null,null,null,null,null,null,null,null,null,null,null,null,null,null,null,null,null,null,null,null,null,null,null,null,null,null,null,null,null,null,null,null,null,null,null,null,null,null,null,null,null,null,null,null,null,null,null,null,null,null,null,null,null,null,null,null,null,null,null,null,null,{"$error":"#N/A"},null,null,"Londo",null,null,"Peas"]
["2020-07-05",33.69,0,null,0.19600000000000001,1.1499999999999999,0.20354999999999998,3.6920999999999999,1.995082,54.036510387042604,0,{"$f":"IF(Caluations!$J46<0,0,Caluations!$J46)","v":1.6970179999999999},null,"V13",{"$f":"IF(AND($E57=\"\",Caluations!$F46<8),$R57*$F57,0)","v":0},775.1099999999999,{"$f":"IF(LEFT(ScheduleSetup!$P$6,4)=\"Corn\",BF57,BG57)","v":"V13"},null,null,null,null,null,null,null,null,null,null,null,null,null,null,null,null,null,null,null,null,null,null,0.20354999999999998,1,0.20354999999999998,0,212.33558764048107,null,null,{"$f":"IF((OR($E56<>\"\" )), Calculations2!$AV57,\"\")","v":1.995082},1.995082,null,{"$f":"IF(AND(Caluations!$F46>5,Caluations!$F46<>FALSE),\"\",IF($E57=\"\",($I57/$H57)*100,$I57/$H57*100))","v":54.036510387042604},null,null,null,0,24.86,775.1099999999999,"V13","V13","V6",20,22,759.5,"V12",1,null,0,null,null,{"$f":"IF(LEFT(ScheduleSetup!$P$6,4)=\"Soyb\",BG57,BF57)","v":"V13"},50,null,null,null,null,null,null,null,null,null,null,null,20.36,null,null,null,null,null,null,null,null,null,null,null,null,null,null,null,null,null,null,null,null,null,null,null,null,null,null,null,null,null,null,null,null,null,null,null,null,null,null,null,null,null,null,null,null,null,null,null,null,null,null,null,null,null,null,null,null,null,null,null,null,null,null,null,null,null,null,null,null,null,null,null,null,null,null,null,null,null,null,null,null,null,null,null,null,null,null,null,null,null,null,null,null,null,null,null,null,null,null,null,null,null,null,null,null,null,null,null,null,null,null,null,null,null,null,null,null,null,null,null,null,null,null,null,null,null,null,null,null,null,null,null,null,null,null,null,null,null,null,null,null,null,null,null,null,null,null,null,null,null,null,null,null,null,null,null,null,null,null,null,null,null,null,null,null,null,{"$error":"#N/A"},null,null,"Loxley",null,null,"Plums"]
["2020-07-06",34.85,0,0.6,0.20599999999999999,1.2,0.23519999999999999,3.7965000000000004,2.4381820000000007,64.22183590148822,0,{"$f":"IF(Caluations!$J47<0,0,Caluations!$J47)","v":1.3583179999999997},null,"V13",{"$f":"IF(AND($E58=\"\",Caluations!$F47<8),$R58*$F58,0)","v":0},800.69499999999994,{"$f":"IF(LEFT(ScheduleSetup!$P$6,4)=\"Corn\",BF58,BG58)","v":"V13"},null,null,null,null,null,null,null,null,null,null,null,null,null,null,null,null,null,null,null,null,null,null,0.23519999999999999,1,0.23519999999999999,0,212.33558764048107,null,null,{"$f":"IF((OR($E57<>\"\" )), Calculations2!$AV58,\"\")","v":2.4381820000000007},2.4381820000000007,null,{"$f":"IF(AND(Caluations!$F47>5,Caluations!$F47<>FALSE),\"\",IF($E58=\"\",($I58/$H58)*100,$I58/$H58*100))","v":64.22183590148822},null,null,null,0,25.585000000000001,800.69499999999994,"V13","V13","V6",20,22,781.5,"V13",2,null,0,null,null,{"$f":"IF(LEFT(ScheduleSetup!$P$6,4)=\"Soyb\",BG58,BF58)","v":"V13"},50,null,null,null,null,null,null,null,null,null,null,null,null,17.84,null,null,null,null,null,null,null,null,null,null,null,null,null,null,null,null,null,null,null,null,null,null,null,null,null,null,null,null,null,null,null,null,null,null,null,null,null,null,null,null,null,null,null,null,null,null,null,null,null,null,null,null,null,null,null,null,null,null,null,null,null,null,null,null,null,null,null,null,null,null,null,null,null,null,null,null,null,null,null,null,null,null,null,null,null,null,null,null,null,null,null,null,null,null,null,null,null,null,null,null,null,null,null,null,null,null,null,null,null,null,null,null,null,null,null,null,null,null,null,null,null,null,null,null,null,null,null,null,null,null,null,null,null,null,null,null,null,null,null,null,null,null,null,null,null,null,null,null,null,null,null,null,null,null,null,null,null,null,null,null,null,null,null,null,{"$error":"#N/A"},null,null,"Mancelona",null,null,"Potatoes12"]
["2020-07-07",35.42,0,null,0.17799999999999999,1.2,0.24719999999999998,3.8478000000000003,2.2294570000000009,57.941083216383404,0,{"$f":"IF(Caluations!$J48<0,0,Caluations!$J48)","v":1.6183429999999994},null,"V14",{"$f":"IF(AND($E59=\"\",Caluations!$F48<8),$R59*$F59,0)","v":0},825.93999999999994,{"$f":"IF(LEFT(ScheduleSetup!$P$6,4)=\"Corn\",BF59,BG59)","v":"V14"},null,null,null,null,null,null,null,null,null,null,null,null,null,null,null,null,null,null,null,null,null,null,0.24719999999999998,1,0.24719999999999998,0,212.33558764048107,null,null,{"$f":"IF((OR($E58<>\"\" )), Calculations2!$AV59,\"\")","v":2.2294570000000009},{"$f":"MAX(IF(($I58+$C59+$D59-$G59)+(($H59-$H58)*$B$13/100)>($H59*1.03),($H59*1.03),($I58+$C59+$D59-$G59-O59)+(($H59-$H58)*$B$13/100)),0)","v":2.2294570000000009},null,{"$f":"IF(AND(Caluations!$F48>5,Caluations!$F48<>FALSE),\"\",IF($E59=\"\",($I59/$H59)*100,$I59/$H59*100))","v":57.941083216383404},null,null,null,0,25.245000000000001,825.93999999999994,"V14","V14","V6",20.5,22,803.5,"V13",3,null,0,null,null,{"$f":"IF(LEFT(ScheduleSetup!$P$6,4)=\"Soyb\",BG59,BF59)","v":"V14"},50,null,null,null,null,null,null,null,null,null,null,null,null,null,19.27,null,null,null,null,null,null,null,null,null,null,null,null,null,null,null,null,null,null,null,null,null,null,null,null,null,null,null,null,null,null,null,null,null,null,null,null,null,null,null,null,null,null,null,null,null,null,null,null,null,null,null,null,null,null,null,null,null,null,null,null,null,null,null,null,null,null,null,null,null,null,null,null,null,null,null,null,null,null,null,null,null,null,null,null,null,null,null,null,null,null,null,null,null,null,null,null,null,null,null,null,null,null,null,null,null,null,null,null,null,null,null,null,null,null,null,null,null,null,null,null,null,null,null,null,null,null,null,null,null,null,null,null,null,null,null,null,null,null,null,null,null,null,null,null,null,null,null,null,null,null,null,null,null,null,null,null,null,null,null,null,null,null,null,{"$error":"#N/A"},null,null,"Marlette",null,null,"Potatoes18"]
["2020-07-08",36,0,null,0.187,1.2,0.21359999999999998,3.9000000000000004,2.0550070000000007,52.692487179487188,0,{"$f":"IF(Caluations!$J49<0,0,Caluations!$J49)","v":1.8449929999999997},null,"V14",{"$f":"IF(AND($E60=\"\",Caluations!$F49<8),$R60*$F60,0)","v":0},852.84999999999991,{"$f":"IF(LEFT(ScheduleSetup!$P$6,4)=\"Corn\",BF60,BG60)","v":"V14"},null,null,null,null,null,null,null,null,null,null,null,null,null,null,null,null,null,null,null,null,null,null,0.21359999999999998,1,0.21359999999999998,0,212.33558764048107,null,null,{"$f":"IF((OR($E59<>\"\" )), Calculations2!$AV60,\"\")","v":2.0550070000000007},{"$f":"MAX(IF(($I59+$C60+$D60-$G60)+(($H60-$H59)*$B$13/100)>($H60*1.03),($H60*1.03),($I59+$C60+$D60-$G60-O60)+(($H60-$H59)*$B$13/100)),0)","v":2.0550070000000007},null,{"$f":"IF(AND(Caluations!$F49>5,Caluations!$F49<>FALSE),\"\",IF($E60=\"\",($I60/$H60)*100,$I60/$H60*100))","v":52.692487179487188},null,null,null,0,26.91,852.84999999999991,"V14","V14","V6",20.5,22.5,826,"V14",4,null,0,null,null,{"$f":"IF(LEFT(ScheduleSetup!$P$6,4)=\"Soyb\",BG60,BF60)","v":"V14"},50,null,null,null,null,null,null,null,null,null,null,null,null,null,null,22.22,null,null,null,null,null,null,null,null,null,null,null,null,null,null,null,null,null,null,null,null,null,null,null,null,null,null,null,null,null,null,null,null,null,null,null,null,null,null,null,null,null,null,null,null,null,null,null,null,null,null,null,null,null,null,null,null,null,null,null,null,null,null,null,null,null,null,null,null,null,null,null,null,null,null,null,null,null,null,null,null,null,null,null,null,null,null,null,null,null,null,null,null,null,null,null,null,null,null,null,null,null,null,null,null,null,null,null,null,null,null,null,null,null,null,null,null,null,null,null,null,null,null,null,null,null,null,null,null,null,null,null,null,null,null,null,null,null,null,null,null,null,null,null,null,null,null,null,null,null,null,null,null,null,null,null,null,null,null,null,null,null,null,{"$error":"#N/A"},null,null,"Matea",null,null,"Potatoes24"]
["2020-07-09",36,0,null,0.21,1.2,0.22439999999999999,3.9000000000000004,1.8306070000000008,46.93864102564104,0,{"$f":"IF(Caluations!$J50<0,0,Caluations!$J50)","v":2.0693929999999998},null,"V15",{"$f":"IF(AND($E61=\"\",Caluations!$F50<8),$R61*$F61,0)","v":0},879.92,{"$f":"IF(LEFT(ScheduleSetup!$P$6,4)=\"Corn\",BF61,BG61)","v":"V15"},null,null,null,null,null,null,null,null,null,null,null,null,null,null,null,null,null,null,null,null,null,null,0.22439999999999999,1,0.22439999999999999,0,212.33558764048107,null,null,{"$f":"IF((OR($E60<>\"\" )), Calculations2!$AV61,\"\")","v":1.8306070000000008},1.8306070000000008,null,{"$f":"IF(AND(Caluations!$F50>5,Caluations!$F50<>FALSE),\"\",IF($E61=\"\",($I61/$H61)*100,$I61/$H61*100))","v":46.93864102564104},null,null,null,0,27.07,879.92,"V15","V15","R1",20.5,22.5,848.5,"V14",1,null,3.06135897435896,null,null,{"$f":"IF(LEFT(ScheduleSetup!$P$6,4)=\"Soyb\",BG61,BF61)","v":"V15"},50,null,null,null,null,null,null,null,null,null,null,null,null,null,null,null,22.344999999999999,null,null,null,null,null,null,null,null,null,null,null,null,null,null,null,null,null,null,null,null,null,null,null,null,null,null,null,null,null,null,null,null,null,null,null,null,null,null,null,null,null,null,null,null,null,null,null,null,null,null,null,null,null,null,null,null,null,null,null,null,null,null,null,null,null,null,null,null,null,null,null,null,null,null,null,null,null,null,null,null,null,null,null,null,null,null,null,null,null,null,null,null,null,null,null,null,null,null,null,null,null,null,null,null,null,null,null,null,null,null,null,null,null,null,null,null,null,null,null,null,null,null,null,null,null,null,null,null,null,null,null,null,null,null,null,null,null,null,null,null,null,null,null,null,null,null,null,null,null,null,null,null,null,null,null,null,null,null,null,null,null,{"$error":"#N/A"},null,null,"McBride",null,null,"Soybeans12"]
["2020-07-10",36,1,null,6.8000000000000005E-2,1.2,0.23657075076923081,3.9000000000000004,2.5940362492307698,66.513749980276131,0,{"$f":"IF(Caluations!$J51<0,0,Caluations!$J51)","v":1.3059637507692305},null,"V15",{"$f":"IF(AND($E62=\"\",Caluations!$F51<8),$R62*$F62,0)","v":0},904.3,{"$f":"IF(LEFT(ScheduleSetup!$P$6,4)=\"Corn\",BF62,BG62)","v":"V15"},null,null,null,null,null,null,null,null,null,null,null,null,null,null,null,null,null,null,null,null,null,null,0.252,0.93877282051282074,0.23657075076923081,3.825300205128205,208.51028743535286,null,null,{"$f":"IF((OR($E61<>\"\" )), Calculations2!$AV62,\"\")","v":2.5940362492307698},2.5940362492307698,null,{"$f":"IF(AND(Caluations!$F51>5,Caluations!$F51<>FALSE),\"\",IF($E62=\"\",($I62/$H62)*100,$I62/$H62*100))","v":66.513749980276131},null,null,null,0,24.38,904.3,"V15","V15","R1",21,22.5,871,"V15",2,null,0,null,null,{"$f":"IF(LEFT(ScheduleSetup!$P$6,4)=\"Soyb\",BG62,BF62)","v":"V15"},50,null,null,null,null,null,null,null,null,null,null,null,null,null,null,null,null,22.17,null,null,null,null,null,null,null,null,null,null,null,null,null,null,null,null,null,null,null,null,null,null,null,null,null,null,null,null,null,null,null,null,null,null,null,null,null,null,null,null,null,null,null,null,null,null,null,null,null,null,null,null,null,null,null,null,null,null,null,null,null,null,null,null,null,null,null,null,null,null,null,null,null,null,null,null,null,null,null,null,null,null,null,null,null,null,null,null,null,null,null,null,null,null,null,null,null,null,null,null,null,null,null,null,null,null,null,null,null,null,null,null,null,null,null,null,null,null,null,null,null,null,null,null,null,null,null,null,null,null,null,null,null,null,null,null,null,null,null,null,null,null,null,null,null,null,null,null,null,null,null,null,null,null,null,null,null,null,null,null,{"$error":"#N/A"},null,null,"McBride",null,null,"Soybeans18"]
["2020-07-11",36,0,null,0.18099999999999999,1.2,8.1600000000000006E-2,3.9000000000000004,2.5124362492307699,64.421442287968461,0,{"$f":"IF(Caluations!$J52<0,0,Caluations!$J52)","v":1.3875637507692304},null,"V16",{"$f":"IF(AND($E63=\"\",Caluations!$F52<8),$R63*$F63,0)","v":0},928.01499999999999,{"$f":"IF(LEFT(ScheduleSetup!$P$6,4)=\"Corn\",BF63,BG63)","v":"V16"},null,null,null,null,null,null,null,null,null,null,null,null,null,null,null,null,null,null,null,null,null,null,8.1600000000000006E-2,1,8.1600000000000006E-2,0,208.51028743535286,null,null,{"$f":"IF((OR($E62<>\"\" )), Calculations2!$AV63,\"\")","v":2.5124362492307699},2.5124362492307699,null,{"$f":"IF(AND(Caluations!$F52>5,Caluations!$F52<>FALSE),\"\",IF($E63=\"\",($I63/$H63)*100,$I63/$H63*100))","v":64.421442287968461},null,null,null,0,23.715,928.01499999999999,"V16","V16","R1",21,22.5,893.5,"V15",3,null,0,null,null,{"$f":"IF(LEFT(ScheduleSetup!$P$6,4)=\"Soyb\",BG63,BF63)","v":"V16"},50,null,null,null,null,null,null,null,null,null,null,null,null,null,null,null,null,null,21.364999999999998,null,null,null,null,null,null,null,null,null,null,null,null,null,null,null,null,null,null,null,null,null,null,null,null,null,null,null,null,null,null,null,null,null,null,null,null,null,null,null,null,null,null,null,null,null,null,null,null,null,null,null,null,null,null,null,null,null,null,null,null,null,null,null,null,null,null,null,null,null,null,null,null,null,null,null,null,null,null,null,null,null,null,null,null,null,null,null,null,null,null,null,null,null,null,null,null,null,null,null,null,null,null,null,null,null,null,null,null,null,null,null,null,null,null,null,null,null,null,null,null,null,null,null,null,null,null,null,null,null,null,null,null,null,null,null,null,null,null,null,null,null,null,null,null,null,null,null,null,null,null,null,null,null,null,null,null,null,null,null,{"$error":"#N/A"},null,null,"Mecosta",null,null,"Soybeans24"]
["2020-07-12",36,0,null,0.17199999999999999,1.2,0.21719999999999998,3.9000000000000004,2.2952362492307699,58.852211518737683,0,{"$f":"IF(Caluations!$J53<0,0,Caluations!$J53)","v":1.6047637507692305},null,"V16",{"$f":"IF(AND($E64=\"\",Caluations!$F53<8),$R64*$F64,0)","v":0},950.375,{"$f":"IF(LEFT(ScheduleSetup!$P$6,4)=\"Corn\",BF64,BG64)","v":"V16"},null,null,null,null,null,null,null,null,null,null,null,null,null,null,null,null,null,null,null,null,null,null,0.21719999999999998,1,0.21719999999999998,0,208.51028743535286,null,null,{"$f":"IF((OR($E63<>\"\" )), Calculations2!$AV64,\"\")","v":2.2952362492307699},2.2952362492307699,null,{"$f":"IF(AND(Caluations!$F53>5,Caluations!$F53<>FALSE),\"\",IF($E64=\"\",($I64/$H64)*100,$I64/$H64*100))","v":58.852211518737683},null,null,null,0,22.36,950.375,"V16","V16","R1",21,22.5,916,"V15",1,null,0,null,null,{"$f":"IF(LEFT(ScheduleSetup!$P$6,4)=\"Soyb\",BG64,BF64)","v":"V16"},50,null,null,null,null,null,null,null,null,null,null,null,null,null,null,null,null,null,null,22.58,null,null,null,null,null,null,null,null,null,null,null,null,null,null,null,null,null,null,null,null,null,null,null,null,null,null,null,null,null,null,null,null,null,null,null,null,null,null,null,null,null,null,null,null,null,null,null,null,null,null,null,null,null,null,null,null,null,null,null,null,null,null,null,null,null,null,null,null,null,null,null,null,null,null,null,null,null,null,null,null,null,null,null,null,null,null,null,null,null,null,null,null,null,null,null,null,null,null,null,null,null,null,null,null,null,null,null,null,null,null,null,null,null,null,null,null,null,null,null,null,null,null,null,null,null,null,null,null,null,null,null,null,null,null,null,null,null,null,null,null,null,null,null,null,null,null,null,null,null,null,null,null,null,null,null,null,null,null,{"$error":"#N/A"},null,null,"Melita",null,null,"Squash"]
["2020-07-13",36,0,null,0.16400000000000001,1.2,0.20639999999999997,3.9000000000000004,2.0888362492307699,53.559903826429988,0,{"$f":"IF(Caluations!$J54<0,0,Caluations!$J54)","v":1.8111637507692304},null,"V17",{"$f":"IF(AND($E65=\"\",Caluations!$F54<8),$R65*$F65,0)","v":0},970.875,{"$f":"IF(LEFT(ScheduleSetup!$P$6,4)=\"Corn\",BF65,BG65)","v":"V17"},null,null,null,null,null,null,null,null,null,null,null,null,null,null,null,null,null,null,null,null,null,null,0.20639999999999997,1,0.20639999999999997,0,208.51028743535286,null,null,{"$f":"IF((OR($E64<>\"\" )), Calculations2!$AV65,\"\")","v":2.0888362492307699},2.0888362492307699,null,{"$f":"IF(AND(Caluations!$F54>5,Caluations!$F54<>FALSE),\"\",IF($E65=\"\",($I65/$H65)*100,$I65/$H65*100))","v":53.559903826429988},null,null,null,0,20.5,970.875,"V17","V17","R1",21,22.5,938.5,"V16",2,null,0,null,null,{"$f":"IF(LEFT(ScheduleSetup!$P$6,4)=\"Soyb\",BG65,BF65)","v":"V17"},50,null,null,null,null,null,null,null,null,null,null,null,null,null,null,null,null,null,null,null,22.094999999999999,null,null,null,null,null,null,null,null,null,null,null,null,null,null,null,null,null,null,null,null,null,null,null,null,null,null,null,null,null,null,null,null,null,null,null,null,null,null,null,null,null,null,null,null,null,null,null,null,null,null,null,null,null,null,null,null,null,null,null,null,null,null,null,null,null,null,null,null,null,null,null,null,null,null,null,null,null,null,null,null,null,null,null,null,null,null,null,null,null,null,null,null,null,null,null,null,null,null,null,null,null,null,null,null,null,null,null,null,null,null,null,null,null,null,null,null,null,null,null,null,null,null,null,null,null,null,null,null,null,null,null,null,null,null,null,null,null,null,null,null,null,null,null,null,null,null,null,null,null,null,null,null,null,null,null,null,null,{"$error":"#N/A"},null,null,"Montcalm",null,null,"Strawberries"]
["2020-07-14",36,0,null,0.16200000000000001,1.2,0.1968,3.9000000000000004,1.8920362492307699,48.513749980276145,0,{"$f":"IF(Caluations!$J55<0,0,Caluations!$J55)","v":2.0079637507692305},null,"V17",{"$f":"IF(AND($E66=\"\",Caluations!$F55<8),$R66*$F66,0)","v":0},991.36,{"$f":"IF(LEFT(ScheduleSetup!$P$6,4)=\"Corn\",BF66,BG66)","v":"V17"},null,null,null,null,null,null,null,null,null,null,null,null,null,null,null,null,null,null,null,null,null,null,0.1968,1,0.1968,0,208.51028743535286,null,null,{"$f":"IF((OR($E65<>\"\" )), Calculations2!$AV66,\"\")","v":1.8920362492307699},1.8920362492307699,null,{"$f":"IF(AND(Caluations!$F55>5,Caluations!$F55<>FALSE),\"\",IF($E66=\"\",($I66/$H66)*100,$I66/$H66*100))","v":48.513749980276145},null,null,null,0,20.484999999999999,991.36,"V17","V17","R1",21,22.5,961,"V16",1,null,1.4862500197238546,null,null,{"$f":"IF(LEFT(ScheduleSetup!$P$6,4)=\"Soyb\",BG66,BF66)","v":"V17"},50,null,null,null,null,null,null,null,null,null,null,null,null,null,null,null,null,null,null,null,null,24.684999999999999,null,null,null,null,null,null,null,null,null,null,null,null,null,null,null,null,null,null,null,null,null,null,null,null,null,null,null,null,null,null,null,null,null,null,null,null,null,null,null,null,null,null,null,null,null,null,null,null,null,null,null,null,null,null,null,null,null,null,null,null,null,null,null,null,null,null,null,null,null,null,null,null,null,null,null,null,null,null,null,null,null,null,null,null,null,null,null,null,null,null,null,null,null,null,null,null,null,null,null,null,null,null,null,null,null,null,null,null,null,null,null,null,null,null,null,null,null,null,null,null,null,null,null,null,null,null,null,null,null,null,null,null,null,null,null,null,null,null,null,null,null,null,null,null,null,null,null,null,null,null,null,null,null,null,null,null,{"$error":"#N/A"},null,null,"Nadeau",null,null,"TomatoesS12"]
["2020-07-15",36,0,null,0.16,1.2,0.18862145992331364,3.9000000000000004,1.7034147893074563,43.677302289934772,0,{"$f":"IF(Caluations!$J56<0,0,Caluations!$J56)","v":2.1965852106925441},null,"V18",{"$f":"IF(AND($E67=\"\",Caluations!$F56<8),$R67*$F67,0)","v":0},1014.9300000000001,{"$f":"IF(LEFT(ScheduleSetup!$P$6,4)=\"Corn\",BF67,BG67)","v":"V18"},null,null,null,null,null,null,null,null,null,null,null,null,null,null,null,null,null,null,null,null,null,null,0.19439999999999999,0.97027499960552288,0.18862145992331364,3.8946049991321501,204.61568243622071,null,null,{"$f":"IF((OR($E66<>\"\" )), Calculations2!$AV67,\"\")","v":1.7034147893074563},1.7034147893074563,null,{"$f":"IF(AND(Caluations!$F56>5,Caluations!$F56<>FALSE),\"\",IF($E67=\"\",($I67/$H67)*100,$I67/$H67*100))","v":43.677302289934772},null,null,null,0,23.57,1014.9300000000001,"V18","V18","R1",21,22.5,983.5,"V17",2,null,6.3226977100652277,null,null,{"$f":"IF(LEFT(ScheduleSetup!$P$6,4)=\"Soyb\",BG67,BF67)","v":"V18"},50,null,null,null,null,null,null,null,null,null,null,null,null,null,null,null,null,null,null,null,null,null,27.98,null,null,null,null,null,null,null,null,null,null,null,null,null,null,null,null,null,null,null,null,null,null,null,null,null,null,null,null,null,null,null,null,null,null,null,null,null,null,null,null,null,null,null,null,null,null,null,null,null,null,null,null,null,null,null,null,null,null,null,null,null,null,null,null,null,null,null,null,null,null,null,null,null,null,null,null,null,null,null,null,null,null,null,null,null,null,null,null,null,null,null,null,null,null,null,null,null,null,null,null,null,null,null,null,null,null,null,null,null,null,null,null,null,null,null,null,null,null,null,null,null,null,null,null,null,null,null,null,null,null,null,null,null,null,null,null,null,null,null,null,null,null,null,null,null,null,null,null,null,null,null,null,null,null,null,{"$error":"#N/A"},null,null,"Nester",null,null,"TomatoesS18"]
["2020-07-16",36,1.8,null,7.1999999999999995E-2,1.2,0.16772084079334953,3.9000000000000004,3.3356939485141064,85.53061406446426,0,{"$f":"IF(Caluations!$J57<0,0,Caluations!$J57)","v":0.56430605148589397},null,"V18",{"$f":"IF(AND($E68=\"\",Caluations!$F57<8),$R68*$F68,0)","v":0},1039.0250000000001,{"$f":"IF(LEFT(ScheduleSetup!$P$6,4)=\"Corn\",BF68,BG68)","v":"V18"},null,null,null,null,null,null,null,null,null,null,null,null,null,null,null,null,null,null,null,null,null,null,0.192,0.87354604579869544,0.16772084079334953,3.68180130075713,200.93388113546357,null,null,{"$f":"IF((OR($E67<>\"\" )), Calculations2!$AV68,\"\")","v":3.3356939485141064},3.3356939485141064,null,{"$f":"IF(AND(Caluations!$F57>5,Caluations!$F57<>FALSE),\"\",IF($E68=\"\",($I68/$H68)*100,$I68/$H68*100))","v":85.53061406446426},null,null,null,0,24.094999999999999,1039.0250000000001,"V18","V18","R1",21,22.5,1006,"V17",1,null,0,null,null,{"$f":"IF(LEFT(ScheduleSetup!$P$6,4)=\"Soyb\",BG68,BF68)","v":"V18"},50,null,null,null,null,null,null,null,null,null,null,null,null,null,null,null,null,null,null,null,null,null,null,25.635000000000002,null,null,null,null,null,null,null,null,null,null,null,null,null,null,null,null,null,null,null,null,null,null,null,null,null,null,null,null,null,null,null,null,null,null,null,null,null,null,null,null,null,null,null,null,null,null,null,null,null,null,null,null,null,null,null,null,null,null,null,null,null,null,null,null,null,null,null,null,null,null,null,null,null,null,null,null,null,null,null,null,null,null,null,null,null,null,null,null,null,null,null,null,null,null,null,null,null,null,null,null,null,null,null,null,null,null,null,null,null,null,null,null,null,null,null,null,null,null,null,null,null,null,null,null,null,null,null,null,null,null,null,null,null,null,null,null,null,null,null,null,null,null,null,null,null,null,null,null,null,null,null,null,null,null,{"$error":"#N/A"},null,null,"Newago",null,null,"TomatoesS24"]
["2020-07-17",36,0,null,0.18099999999999999,1.2,8.6399999999999991E-2,3.9000000000000004,3.2492939485141066,83.315229449079652,0,{"$f":"IF(Caluations!$J58<0,0,Caluations!$J58)","v":0.65070605148589378},null,"V18",{"$f":"IF(AND($E69=\"\",Caluations!$F58<8),$R69*$F69,0)","v":0},1061.0050000000001,{"$f":"IF(LEFT(ScheduleSetup!$P$6,4)=\"Corn\",BF69,BG69)","v":"V18"},null,null,null,null,null,null,null,null,null,null,null,null,null,null,null,null,null,null,null,null,null,null,8.6399999999999991E-2,1,8.6399999999999991E-2,0,200.93388113546357,null,null,{"$f":"IF((OR($E68<>\"\" )), Calculations2!$AV69,\"\")","v":3.2492939485141066},3.2492939485141066,null,{"$f":"IF(AND(Caluations!$F58>5,Caluations!$F58<>FALSE),\"\",IF($E69=\"\",($I69/$H69)*100,$I69/$H69*100))","v":83.315229449079652},null,null,null,0,21.98,1061.0050000000001,"V18","V18","R1",22,22.5,1028.5,"V18",2,null,0,null,null,{"$f":"IF(LEFT(ScheduleSetup!$P$6,4)=\"Soyb\",BG69,BF69)","v":"V18"},50,null,null,null,null,null,null,null,null,null,null,null,null,null,null,null,null,null,null,null,null,null,null,null,21.745000000000001,null,null,null,null,null,null,null,null,null,null,null,null,null,null,null,null,null,null,null,null,null,null,null,null,null,null,null,null,null,null,null,null,null,null,null,null,null,null,null,null,null,null,null,null,null,null,null,null,null,null,null,null,null,null,null,null,null,null,null,null,null,null,null,null,null,null,null,null,null,null,null,null,null,null,null,null,null,null,null,null,null,null,null,null,null,null,null,null,null,null,null,null,null,null,null,null,null,null,null,null,null,null,null,null,null,null,null,null,null,null,null,null,null,null,null,null,null,null,null,null,null,null,null,null,null,null,null,null,null,null,null,null,null,null,null,null,null,null,null,null,null,null,null,null,null,null,null,null,null,null,null,null,null,{"$error":"#N/A"},null,null,"Nottawa",null,null,"TomatoesT12"]
["2020-07-18",36,0,null,0.154,1.2,0.21719999999999998,3.9000000000000004,3.0320939485141065,77.745998679848881,0,{"$f":"IF(Caluations!$J59<0,0,Caluations!$J59)","v":0.86790605148589384},null,"R1",{"$f":"IF(AND($E70=\"\",Caluations!$F59<8),$R70*$F70,0)","v":0},1085.325,{"$f":"IF(LEFT(ScheduleSetup!$P$6,4)=\"Corn\",BF70,BG70)","v":"R1"},null,null,null,null,null,null,null,null,null,null,null,null,null,null,null,null,null,null,null,null,null,null,0.21719999999999998,1,0.21719999999999998,0,200.93388113546357,null,null,{"$f":"IF((OR($E69<>\"\" )), Calculations2!$AV70,\"\")","v":3.0320939485141065},3.0320939485141065,null,{"$f":"IF(AND(Caluations!$F59>5,Caluations!$F59<>FALSE),\"\",IF($E70=\"\",($I70/$H70)*100,$I70/$H70*100))","v":77.745998679848881},null,null,null,0,24.32,1085.325,"R1","R1","R1",22,22.5,1051,"V18",3,null,0,null,null,{"$f":"IF(LEFT(ScheduleSetup!$P$6,4)=\"Soyb\",BG70,BF70)","v":"R1"},50,null,null,null,null,null,null,null,null,null,null,null,null,null,null,null,null,null,null,null,null,null,null,null,null,13.63,null,null,null,null,null,null,null,null,null,null,null,null,null,null,null,null,null,null,null,null,null,null,null,null,null,null,null,null,null,null,null,null,null,null,null,null,null,null,null,null,null,null,null,null,null,null,null,null,null,null,null,null,null,null,null,null,null,null,null,null,null,null,null,null,null,null,null,null,null,null,null,null,null,null,null,null,null,null,null,null,null,null,null,null,null,null,null,null,null,null,null,null,null,null,null,null,null,null,null,null,null,null,null,null,null,null,null,null,null,null,null,null,null,null,null,null,null,null,null,null,null,null,null,null,null,null,null,null,null,null,null,null,null,null,null,null,null,null,null,null,null,null,null,null,null,null,null,null,null,null,null,null,{"$error":"#N/A"},null,null,"Oshtemo",null,null,"TomatoesT18"]
["2020-07-19",36,0.1,null,6.7000000000000004E-2,1.2,0.18479999999999999,3.9000000000000004,2.9472939485141065,75.571639705489901,0,{"$f":"IF(Caluations!$J60<0,0,Caluations!$J60)","v":0.95270605148589382},null,"R1",{"$f":"IF(AND($E71=\"\",Caluations!$F60<8),$R71*$F71,0)","v":0},1110.31,{"$f":"IF(LEFT(ScheduleSetup!$P$6,4)=\"Corn\",BF71,BG71)","v":"R1"},null,null,null,null,null,null,null,null,null,null,null,null,null,null,null,null,null,null,null,null,null,null,0.18479999999999999,1,0.18479999999999999,0,200.93388113546357,null,null,{"$f":"IF((OR($E70<>\"\" )), Calculations2!$AV71,\"\")","v":2.9472939485141065},2.9472939485141065,null,{"$f":"IF(AND(Caluations!$F60>5,Caluations!$F60<>FALSE),\"\",IF($E71=\"\",($I71/$H71)*100,$I71/$H71*100))","v":75.571639705489901},null,null,null,0,24.984999999999999,1110.31,"R1","R1","R1",22,22.5,1073.5,"R1",1,null,0,null,null,{"$f":"IF(LEFT(ScheduleSetup!$P$6,4)=\"Soyb\",BG71,BF71)","v":"R1"},50,null,null,null,null,null,null,null,null,null,null,null,null,null,null,null,null,null,null,null,null,null,null,null,null,null,10.395,null,null,null,null,null,null,null,null,null,null,null,null,null,null,null,null,null,null,null,null,null,null,null,null,null,null,null,null,null,null,null,null,null,null,null,null,null,null,null,null,null,null,null,null,null,null,null,null,null,null,null,null,null,null,null,null,null,null,null,null,null,null,null,null,null,null,null,null,null,null,null,null,null,null,null,null,null,null,null,null,null,null,null,null,null,null,null,null,null,null,null,null,null,null,null,null,null,null,null,null,null,null,null,null,null,null,null,null,null,null,null,null,null,null,null,null,null,null,null,null,null,null,null,null,null,null,null,null,null,null,null,null,null,null,null,null,null,null,null,null,null,null,null,null,null,null,null,null,null,null,null,{"$error":"#N/A"},null,null,"Palms",null,null,"TomatoesT24"]
["2020-07-20",36,0,null,0.16700000000000001,1.2,8.0399999999999999E-2,3.9000000000000004,2.8668939485141065,73.510101243951439,0,{"$f":"IF(Caluations!$J61<0,0,Caluations!$J61)","v":1.0331060514858939},null,"R1",{"$f":"IF(AND($E72=\"\",Caluations!$F61<8),$R72*$F72,0)","v":0},1134.06,{"$f":"IF(LEFT(ScheduleSetup!$P$6,4)=\"Corn\",BF72,BG72)","v":"R1"},null,null,null,null,null,null,null,null,null,null,null,null,null,null,null,null,null,null,null,null,null,null,8.0399999999999999E-2,1,8.0399999999999999E-2,0,200.93388113546357,null,null,{"$f":"IF((OR($E71<>\"\" )), Calculations2!$AV72,\"\")","v":2.8668939485141065},2.8668939485141065,0.20699999999999999,{"$f":"IF(AND(Caluations!$F61>5,Caluations!$F61<>FALSE),\"\",IF($E72=\"\",($I72/$H72)*100,$I72/$H72*100))","v":73.510101243951439},null,null,null,0,23.75,1134.06,"R1","R1","R2",22,22.5,1096,"R1",2,null,0,null,null,{"$f":"IF(LEFT(ScheduleSetup!$P$6,4)=\"Soyb\",BG72,BF72)","v":"R1"},50,null,null,null,null,null,null,null,null,null,null,null,null,null,null,null,null,null,null,null,null,null,null,null,null,null,null,13.78,null,null,null,null,null,null,null,null,null,null,null,null,null,null,null,null,null,null,null,null,null,null,null,null,null,null,null,null,null,null,null,null,null,null,null,null,null,null,null,null,null,null,null,null,null,null,null,null,null,null,null,null,null,null,null,null,null,null,null,null,null,null,null,null,null,null,null,null,null,null,null,null,null,null,null,null,null,null,null,null,null,null,null,null,null,null,null,null,null,null,null,null,null,null,null,null,null,null,null,null,null,null,null,null,null,null,null,null,null,null,null,null,null,null,null,null,null,null,null,null,null,null,null,null,null,null,null,null,null,null,null,null,null,null,null,null,null,null,null,null,null,null,null,null,null,null,null,null,null,null,{"$error":"#N/A"},null,null,"Palo",null,null,"Wheat"]
["2020-07-21",36,0,null,0.11600000000000001,1.2,0.20039999999999999,3.9000000000000004,2.6664939485141064,68.371639705489912,0,{"$f":"IF(Caluations!$J62<0,0,Caluations!$J62)","v":1.233506051485894},null,"R1",{"$f":"IF(AND($E73=\"\",Caluations!$F62<8),$R73*$F73,0)","v":0},1156.8049999999998,{"$f":"IF(LEFT(ScheduleSetup!$P$6,4)=\"Corn\",BF73,BG73)","v":"R1"},null,null,null,null,null,null,null,null,null,null,null,null,null,null,null,null,null,null,null,null,null,null,0.20039999999999999,1,0.20039999999999999,0,200.93388113546357,null,null,{"$f":"IF((OR($E72<>\"\" )), Calculations2!$AV73,\"\")","v":2.6664939485141064},2.6664939485141064,null,{"$f":"IF(AND(Caluations!$F62>5,Caluations!$F62<>FALSE),\"\",IF($E73=\"\",($I73/$H73)*100,$I73/$H73*100))","v":68.371639705489912},null,null,null,0,22.745000000000001,1156.8049999999998,"R1","R1","R2",22,22.5,1118.5,"R1",1,null,0,null,null,{"$f":"IF(LEFT(ScheduleSetup!$P$6,4)=\"Soyb\",BG73,BF73)","v":"R1"},50,null,null,null,null,null,null,null,null,null,null,null,null,null,null,null,null,null,null,null,null,null,null,null,null,null,null,null,13.815,null,null,null,null,null,null,null,null,null,null,null,null,null,null,null,null,null,null,null,null,null,null,null,null,null,null,null,null,null,null,null,null,null,null,null,null,null,null,null,null,null,null,null,null,null,null,null,null,null,null,null,null,null,null,null,null,null,null,null,null,null,null,null,null,null,null,null,null,null,null,null,null,null,null,null,null,null,null,null,null,null,null,null,null,null,null,null,null,null,null,null,null,null,null,null,null,null,null,null,null,null,null,null,null,null,null,null,null,null,null,null,null,null,null,null,null,null,null,null,null,null,null,null,null,null,null,null,null,null,null,null,null,null,null,null,null,null,null,null,null,null,null,null,null,null,null,null,null,null,{"$error":"#N/A"},null,null,"Parkhill"]
["2020-07-22",36,0,null,0.112,1.2,0.13919999999999999,3.9000000000000004,2.5272939485141066,64.802408936259141,0,{"$f":"IF(Caluations!$J63<0,0,Caluations!$J63)","v":1.3727060514858938},null,"R1",{"$f":"IF(AND($E74=\"\",Caluations!$F63<8),$R74*$F74,0)","v":0},1182.2849999999999,{"$f":"IF(LEFT(ScheduleSetup!$P$6,4)=\"Corn\",BF74,BG74)","v":"R1"},null,null,null,null,null,null,null,null,null,null,null,null,null,null,null,null,null,null,null,null,null,null,0.13919999999999999,1,0.13919999999999999,0,200.93388113546357,null,null,{"$f":"IF((OR($E73<>\"\" )), Calculations2!$AV74,\"\")","v":2.5272939485141066},2.5272939485141066,0,{"$f":"IF(AND(Caluations!$F63>5,Caluations!$F63<>FALSE),\"\",IF($E74=\"\",($I74/$H74)*100,$I74/$H74*100))","v":64.802408936259141},null,null,null,0,25.48,1182.2849999999999,"R1","R1","R2",22,22.5,1141,"R1",2,null,0,null,null,{"$f":"IF(LEFT(ScheduleSetup!$P$6,4)=\"Soyb\",BG74,BF74)","v":"R1"},50,null,null,null,null,null,null,null,null,null,null,null,null,null,null,null,null,null,null,null,null,null,null,null,null,null,null,null,null,19.454999999999998,null,null,null,null,null,null,null,null,null,null,null,null,null,null,null,null,null,null,null,null,null,null,null,null,null,null,null,null,null,null,null,null,null,null,null,null,null,null,null,null,null,null,null,null,null,null,null,null,null,null,null,null,null,null,null,null,null,null,null,null,null,null,null,null,null,null,null,null,null,null,null,null,null,null,null,null,null,null,null,null,null,null,null,null,null,null,null,null,null,null,null,null,null,null,null,null,null,null,null,null,null,null,null,null,null,null,null,null,null,null,null,null,null,null,null,null,null,null,null,null,null,null,null,null,null,null,null,null,null,null,null,null,null,null,null,null,null,null,null,null,null,null,null,null,null,null,null,null,{"$error":"#N/A"},null,null,"Perrington"]
["2020-07-23",36,0,null,0.18099999999999999,1.2,0.13439999999999999,3.9000000000000004,2.3928939485141068,61.356255090105293,0,{"$f":"IF(Caluations!$J64<0,0,Caluations!$J64)","v":1.5071060514858936},null,"R1",{"$f":"IF(AND($E75=\"\",Caluations!$F64<8),$R75*$F75,0)","v":0},1208.7649999999999,{"$f":"IF(LEFT(ScheduleSetup!$P$6,4)=\"Corn\",BF75,BG75)","v":"R1"},null,null,null,null,null,null,null,null,null,null,null,null,null,null,null,null,null,null,null,null,null,null,0.13439999999999999,1,0.13439999999999999,0,200.93388113546357,null,null,{"$f":"IF((OR($E74<>\"\" )), Calculations2!$AV75,\"\")","v":2.3928939485141068},2.3928939485141068,null,{"$f":"IF(AND(Caluations!$F64>5,Caluations!$F64<>FALSE),\"\",IF($E75=\"\",($I75/$H75)*100,$I75/$H75*100))","v":61.356255090105293},null,null,null,0,26.48,1208.7649999999999,"R1","R1","R2",22,22.5,1163.5,"R1",1,null,0,null,null,{"$f":"IF(LEFT(ScheduleSetup!$P$6,4)=\"Soyb\",BG75,BF75)","v":"R1"},50,null,null,null,null,null,null,null,null,null,null,null,null,null,null,null,null,null,null,null,null,null,null,null,null,null,null,null,null,null,22.88,null,null,null,null,null,null,null,null,null,null,null,null,null,null,null,null,null,null,null,null,null,null,null,null,null,null,null,null,null,null,null,null,null,null,null,null,null,null,null,null,null,null,null,null,null,null,null,null,null,null,null,null,null,null,null,null,null,null,null,null,null,null,null,null,null,null,null,null,null,null,null,null,null,null,null,null,null,null,null,null,null,null,null,null,null,null,null,null,null,null,null,null,null,null,null,null,null,null,null,null,null,null,null,null,null,null,null,null,null,null,null,null,null,null,null,null,null,null,null,null,null,null,null,null,null,null,null,null,null,null,null,null,null,null,null,null,null,null,null,null,null,null,null,null,null,null,null,{"$error":"#N/A"},null,null,"Pipestone"]
["2020-07-24",36,0,null,0.18099999999999999,1.2,0.21719999999999998,3.9000000000000004,2.1756939485141067,55.787024320874522,0,{"$f":"IF(Caluations!$J65<0,0,Caluations!$J65)","v":1.7243060514858937},null,"R1",{"$f":"IF(AND($E76=\"\",Caluations!$F65<8),$R76*$F76,0)","v":0},1233.3699999999999,{"$f":"IF(LEFT(ScheduleSetup!$P$6,4)=\"Corn\",BF76,BG76)","v":"R1"},null,null,null,null,null,null,null,null,null,null,null,null,null,null,null,null,null,null,null,null,null,null,0.21719999999999998,1,0.21719999999999998,0,200.93388113546357,null,null,{"$f":"IF((OR($E75<>\"\" )), Calculations2!$AV76,\"\")","v":2.1756939485141067},2.1756939485141067,null,{"$f":"IF(AND(Caluations!$F65>5,Caluations!$F65<>FALSE),\"\",IF($E76=\"\",($I76/$H76)*100,$I76/$H76*100))","v":55.787024320874522},null,null,null,0,24.605,1233.3699999999999,"R1","R1","R2",22,22.5,1186,"R1",2,null,0,null,null,{"$f":"IF(LEFT(ScheduleSetup!$P$6,4)=\"Soyb\",BG76,BF76)","v":"R1"},50,null,null,null,null,null,null,null,null,null,null,null,null,null,null,null,null,null,null,null,null,null,null,null,null,null,null,null,null,null,null,20.364999999999998,null,null,null,null,null,null,null,null,null,null,null,null,null,null,null,null,null,null,null,null,null,null,null,null,null,null,null,null,null,null,null,null,null,null,null,null,null,null,null,null,null,null,null,null,null,null,null,null,null,null,null,null,null,null,null,null,null,null,null,null,null,null,null,null,null,null,null,null,null,null,null,null,null,null,null,null,null,null,null,null,null,null,null,null,null,null,null,null,null,null,null,null,null,null,null,null,null,null,null,null,null,null,null,null,null,null,null,null,null,null,null,null,null,null,null,null,null,null,null,null,null,null,null,null,null,null,null,null,null,null,null,null,null,null,null,null,null,null,null,null,null,null,null,null,null,null,{"$error":"#N/A"},null,null,"Pipestone-Kingsville"]
["2020-07-25",36,0,null,0.16800000000000001,1.2,0.21719999999999998,3.9000000000000004,1.9584939485141066,50.217793551643751,0,{"$f":"IF(Caluations!$J66<0,0,Caluations!$J66)","v":1.9415060514858937},null,"R1",{"$f":"IF(AND($E77=\"\",Caluations!$F66<8),$R77*$F77,0)","v":0},1256.2099999999998,{"$f":"IF(LEFT(ScheduleSetup!$P$6,4)=\"Corn\",BF77,BG77)","v":"R1"},null,null,null,null,null,null,null,null,null,null,null,null,null,null,null,null,null,null,null,null,null,null,0.21719999999999998,1,0.21719999999999998,0,200.93388113546357,null,null,{"$f":"IF((OR($E76<>\"\" )), Calculations2!$AV77,\"\")","v":1.9584939485141066},1.9584939485141066,null,{"$f":"IF(AND(Caluations!$F66>5,Caluations!$F66<>FALSE),\"\",IF($E77=\"\",($I77/$H77)*100,$I77/$H77*100))","v":50.217793551643751},null,null,null,0,22.84,1256.2099999999998,"R1","R1","R2",22,22.5,1208.5,"R1",1,null,0,null,null,{"$f":"IF(LEFT(ScheduleSetup!$P$6,4)=\"Soyb\",BG77,BF77)","v":"R1"},50,null,null,null,null,null,null,null,null,null,null,null,null,null,null,null,null,null,null,null,null,null,null,null,null,null,null,null,null,null,null,null,15.315,null,null,null,null,null,null,null,null,null,null,null,null,null,null,null,null,null,null,null,null,null,null,null,null,null,null,null,null,null,null,null,null,null,null,null,null,null,null,null,null,null,null,null,null,null,null,null,null,null,null,null,null,null,null,null,null,null,null,null,null,null,null,null,null,null,null,null,null,null,null,null,null,null,null,null,null,null,null,null,null,null,null,null,null,null,null,null,null,null,null,null,null,null,null,null,null,null,null,null,null,null,null,null,null,null,null,null,null,null,null,null,null,null,null,null,null,null,null,null,null,null,null,null,null,null,null,null,null,null,null,null,null,null,null,null,null,null,null,null,null,null,null,null,null,null,{"$error":"#N/A"},null,null,"Plainfield"]
["2020-07-26",36,0,null,0.17100000000000001,1.2,0.2016,3.9000000000000004,1.7568939485141066,45.048562782412986,0,{"$f":"IF(Caluations!$J67<0,0,Caluations!$J67)","v":2.1431060514858937},null,"R1",{"$f":"IF(AND($E78=\"\",Caluations!$F67<8),$R78*$F78,0)","v":0},1279.9249999999997,{"$f":"IF(LEFT(ScheduleSetup!$P$6,4)=\"Corn\",BF78,BG78)","v":"R1"},null,null,null,null,null,null,null,null,null,null,null,null,null,null,null,null,null,null,null,null,null,null,0.2016,1,0.2016,0,200.93388113546357,null,null,{"$f":"IF((OR($E77<>\"\" )), Calculations2!$AV78,\"\")","v":1.7568939485141066},1.7568939485141066,null,{"$f":"IF(AND(Caluations!$F67>5,Caluations!$F67<>FALSE),\"\",IF($E78=\"\",($I78/$H78)*100,$I78/$H78*100))","v":45.048562782412986},null,null,null,0,23.715,1279.9249999999997,"R1","R1","R2",22,22,1230.5,"R1",2,null,4.9514372175870136,null,null,{"$f":"IF(LEFT(ScheduleSetup!$P$6,4)=\"Soyb\",BG78,BF78)","v":"R1"},50,null,null,null,null,null,null,null,null,null,null,null,null,null,null,null,null,null,null,null,null,null,null,null,null,null,null,null,null,null,null,null,null,14.705,null,null,null,null,null,null,null,null,null,null,null,null,null,null,null,null,null,null,null,null,null,null,null,null,null,null,null,null,null,null,null,null,null,null,null,null,null,null,null,null,null,null,null,null,null,null,null,null,null,null,null,null,null,null,null,null,null,null,null,null,null,null,null,null,null,null,null,null,null,null,null,null,null,null,null,null,null,null,null,null,null,null,null,null,null,null,null,null,null,null,null,null,null,null,null,null,null,null,null,null,null,null,null,null,null,null,null,null,null,null,null,null,null,null,null,null,null,null,null,null,null,null,null,null,null,null,null,null,null,null,null,null,null,null,null,null,null,null,null,null,null,null,null,null,{"$error":"#N/A"},null,null,"Poseyville"]
["2020-07-27",36,null,null,9.5000000000000001E-2,1.2,0.18487930165902292,3.9000000000000004,1.5720146468550837,40.308067868079064,0,{"$f":"IF(Caluations!$J68<0,0,Caluations!$J68)","v":2.3279853531449168},null,"R1",{"$f":"IF(AND($E79=\"\",Caluations!$F68<8),$R79*$F79,0)","v":0},1301.9249999999997,{"$f":"IF(LEFT(ScheduleSetup!$P$6,4)=\"Corn\",BF79,BG79)","v":"R1"},null,null,null,null,null,null,null,null,null,null,null,null,null,null,null,null,null,null,null,null,null,null,0.20520000000000002,{"$f":"IF($J78<50,($H78-($H78-$I78))/($H78*0.5),1)","v":0.90097125564825975},0.18487930165902292,3.7421367624261714,197.19174437303738,null,null,{"$f":"IF((OR($E78<>\"\" )), Calculations2!$AV79,\"\")","v":1.5720146468550837},1.5720146468550837,null,{"$f":"IF(AND(Caluations!$F68>5,Caluations!$F68<>FALSE),\"\",IF($E79=\"\",($I79/$H79)*100,$I79/$H79*100))","v":40.308067868079064},null,null,null,0,null,1301.9249999999997,"R1","R1","R2",22.5,22,1252.5,"R1",3,null,9.6919321319209359,null,null,{"$f":"IF(LEFT(ScheduleSetup!$P$6,4)=\"Soyb\",BG79,BF79)","v":"R1"},50,null,null,null,null,null,null,null,null,null,null,null,null,null,null,null,null,null,null,null,null,null,null,null,null,null,null,null,null,null,null,null,null,null,15.86,null,null,null,null,null,null,null,null,null,null,null,null,null,null,null,null,null,null,null,null,null,null,null,null,null,null,null,null,null,null,null,null,null,null,null,null,null,null,null,null,null,null,null,null,null,null,null,null,null,null,null,null,null,null,null,null,null,null,null,null,null,null,null,null,null,null,null,null,null,null,null,null,null,null,null,null,null,null,null,null,null,null,null,null,null,null,null,null,null,null,null,null,null,null,null,null,null,null,null,null,null,null,null,null,null,null,null,null,null,null,null,null,null,null,null,null,null,null,null,null,null,null,null,null,null,null,null,null,null,null,null,null,null,null,null,null,null,null,null,null,null,null,null,{"$error":"#N/A"},null,null,"Remus"]
["2020-07-28",36,null,null,null,1.2,9.1902394739220253E-2,3.9000000000000004,1.4801122521158634,37.951596208099062,0,{"$f":"IF(Caluations!$J69<0,0,Caluations!$J69)","v":2.419887747884137},null,"R1",{"$f":"IF(AND($E80=\"\",Caluations!$F69<8),$R80*$F80,0)","v":0},1323.9249999999997,{"$f":"IF(LEFT(ScheduleSetup!$P$6,4)=\"Corn\",BF80,BG80)","v":"R1"},0.218,null,null,null,null,null,null,null,null,null,null,null,null,null,null,null,null,null,null,null,null,null,0.11399999999999999,0.80616135736158123,9.1902394739220253E-2,3.5335549861954787,193.65818938684191,null,null,{"$f":"IF((OR($E79<>\"\" )), Calculations2!$AV80,\"\")","v":1.4801122521158634},1.4801122521158634,null,{"$f":"IF(AND(Caluations!$F69>5,Caluations!$F69<>FALSE),\"\",IF($E80=\"\",($I80/$H80)*100,$I80/$H80*100))","v":37.951596208099062},null,null,null,0,null,1323.9249999999997,"R1","R1","R2",22.5,22,1274.5,"R1",1,null,12.048403791900938,null,null,{"$f":"IF(LEFT(ScheduleSetup!$P$6,4)=\"Soyb\",BG80,BF80)","v":"R1"},50,null,null,null,null,null,null,null,null,null,null,null,null,null,null,null,null,null,null,null,null,null,null,null,null,null,null,null,null,null,null,null,null,null,null,20.364999999999998,null,null,null,null,null,null,null,null,null,null,null,null,null,null,null,null,null,null,null,null,null,null,null,null,null,null,null,null,null,null,null,null,null,null,null,null,null,null,null,null,null,null,null,null,null,null,null,null,null,null,null,null,null,null,null,null,null,null,null,null,null,null,null,null,null,null,null,null,null,null,null,null,null,null,null,null,null,null,null,null,null,null,null,null,null,null,null,null,null,null,null,null,null,null,null,null,null,null,null,null,null,null,null,null,null,null,null,null,null,null,null,null,null,null,null,null,null,null,null,null,null,null,null,null,null,null,null,null,null,null,null,null,null,null,null,null,null,null,null,null,null,null,{"$error":"#N/A"},null,null,"Rifle"]
["2020-07-29",36,null,null,null,1.2,0,3.9000000000000004,1.2533122521158635,32.136211592714446,0,{"$f":"IF(Caluations!$J70<0,0,Caluations!$J70)","v":2.6466877478841369},null,"R2",{"$f":"IF(AND($E81=\"\",Caluations!$F70<8),$R81*$F81,0)","v":0.2268},1345.9249999999997,{"$f":"IF(LEFT(ScheduleSetup!$P$6,4)=\"Corn\",BF81,BG81)","v":"R2"},0.189,null,null,null,null,null,null,null,null,null,null,null,null,null,null,null,null,null,null,null,null,null,0,0.75903192416198118,0,{"$error":"#DIV/0!"},{"$error":"#DIV/0!"},null,null,{"$f":"IF((OR($E80<>\"\" )), Calculations2!$AV81,\"\")","v":""},1.2533122521158635,null,{"$f":"IF(AND(Caluations!$F70>5,Caluations!$F70<>FALSE),\"\",IF($E81=\"\",($I81/$H81)*100,$I81/$H81*100))","v":32.136211592714446},null,null,null,0,null,1345.9249999999997,"R1","R2","R2",22.5,22,1296.5,"R1",2,null,17.863788407285554,null,null,{"$f":"IF(LEFT(ScheduleSetup!$P$6,4)=\"Soyb\",BG81,BF81)","v":"R2"},50,null,null,null,null,null,null,null,null,null,null,null,null,null,null,null,null,null,null,null,null,null,null,null,null,null,null,null,null,null,null,null,null,null,null,null,22.155000000000001,null,null,null,null,null,null,null,null,null,null,null,null,null,null,null,null,null,null,null,null,null,null,null,null,null,null,null,null,null,null,null,null,null,null,null,null,null,null,null,null,null,null,null,null,null,null,null,null,null,null,null,null,null,null,null,null,null,null,null,null,null,null,null,null,null,null,null,null,null,null,null,null,null,null,null,null,null,null,null,null,null,null,null,null,null,null,null,null,null,null,null,null,null,null,null,null,null,null,null,null,null,null,null,null,null,null,null,null,null,null,null,null,null,null,null,null,null,null,null,null,null,null,null,null,null,null,null,null,null,null,null,null,null,null,null,null,null,null,null,null,null,{"$error":"#N/A"},null,null,"Riverdale"]
["2020-07-30",36,null,null,null,1.2,0,3.9000000000000004,1.0505122521158634,26.936211592714443,0,{"$f":"IF(Caluations!$J71<0,0,Caluations!$J71)","v":2.8494877478841367},null,"R2",{"$f":"IF(AND($E82=\"\",Caluations!$F71<8),$R82*$F82,0)","v":0.20280000000000001},1367.9249999999997,{"$f":"IF(LEFT(ScheduleSetup!$P$6,4)=\"Corn\",BF82,BG82)","v":"R2"},0.16900000000000001,null,null,null,null,null,null,null,null,null,null,null,null,null,null,null,null,null,null,null,null,null,0,0.64272423185428895,0,{"$error":"#DIV/0!"},{"$error":"#DIV/0!"},null,null,{"$f":"IF((OR($E81<>\"\" )), Calculations2!$AV82,\"\")","v":""},1.0505122521158634,null,{"$f":"IF(AND(Caluations!$F71>5,Caluations!$F71<>FALSE),\"\",IF($E82=\"\",($I82/$H82)*100,$I82/$H82*100))","v":26.936211592714443},null,null,null,0,null,1367.9249999999997,"R1","R2","R2",22.5,22,1318.5,"R1",1,null,23.063788407285557,null,null,{"$f":"IF(LEFT(ScheduleSetup!$P$6,4)=\"Soyb\",BG82,BF82)","v":"R2"},50,null,null,null,null,null,null,null,null,null,null,null,null,null,null,null,null,null,null,null,null,null,null,null,null,null,null,null,null,null,null,null,null,null,null,null,null,16.649999999999999,null,null,null,null,null,null,null,null,null,null,null,null,null,null,null,null,null,null,null,null,null,null,null,null,null,null,null,null,null,null,null,null,null,null,null,null,null,null,null,null,null,null,null,null,null,null,null,null,null,null,null,null,null,null,null,null,null,null,null,null,null,null,null,null,null,null,null,null,null,null,null,null,null,null,null,null,null,null,null,null,null,null,null,null,null,null,null,null,null,null,null,null,null,null,null,null,null,null,null,null,null,null,null,null,null,null,null,null,null,null,null,null,null,null,null,null,null,null,null,null,null,null,null,null,null,null,null,null,null,null,null,null,null,null,null,null,null,null,null,null,{"$error":"#N/A"},null,null,"Ronald"]
["2020-07-31",36,null,null,null,1.2,0,3.9000000000000004,0.86451225211586347,22.166980823483676,0,{"$f":"IF(Caluations!$J72<0,0,Caluations!$J72)","v":3.0354877478841367},null,"R2",{"$f":"IF(AND($E83=\"\",Caluations!$F72<8),$R83*$F83,0)","v":0.186},1389.9249999999997,{"$f":"IF(LEFT(ScheduleSetup!$P$6,4)=\"Corn\",BF83,BG83)","v":"R2"},0.155,null,null,null,null,null,null,null,null,null,null,null,null,null,null,null,null,null,null,null,null,null,0,0.53872423185428897,0,{"$error":"#DIV/0!"},{"$error":"#DIV/0!"},null,null,{"$f":"IF((OR($E82<>\"\" )), Calculations2!$AV83,\"\")","v":""},0.86451225211586347,null,{"$f":"IF(AND(Caluations!$F72>5,Caluations!$F72<>FALSE),\"\",IF($E83=\"\",($I83/$H83)*100,$I83/$H83*100))","v":22.166980823483676},null,null,null,0,null,1389.9249999999997,"R1","R2","R2",22.5,22,1340.5,{"$f":"VLOOKUP(BJ83,$AZ$19:$BA$43,2,TRUE)","v":"R1"},2,null,27.833019176516324,null,null,{"$f":"IF(LEFT(ScheduleSetup!$P$6,4)=\"Soyb\",BG83,BF83)","v":"R2"},50,null,null,null,null,null,null,null,null,null,null,null,null,null,null,null,null,null,null,null,null,null,null,null,null,null,null,null,null,null,null,null,null,null,null,null,null,null,9.92,null,null,null,null,null,null,null,null,null,null,null,null,null,null,null,null,null,null,null,null,null,null,null,null,null,null,null,null,null,null,null,null,null,null,null,null,null,null,null,null,null,null,null,null,null,null,null,null,null,null,null,null,null,null,null,null,null,null,null,null,null,null,null,null,null,null,null,null,null,null,null,null,null,null,null,null,null,null,null,null,null,null,null,null,null,null,null,null,null,null,null,null,null,null,null,null,null,null,null,null,null,null,null,null,null,null,null,null,null,null,null,null,null,null,null,null,null,null,null,null,null,null,null,null,null,null,null,null,null,null,null,null,null,null,null,null,null,null,null,{"$error":"#N/A"},null,null,"Roscommon"]
[{"$f":"1+A83","v":"2020-08-01"},36,null,null,null,1.2,0,3.9000000000000004,0.70011225211586348,17.951596208099062,{"$f":"IF(IF(OR($J84<103,$E83=\"\"),0,$C84+$D84+$I83-$G84-($H84*1.03))>0, IF(OR($J84<103,$E83=\"\"),0,$C84+$D84+$I83-$G84-($H84*1.03)),0)","v":0},{"$f":"IF(Caluations!$J73<0,0,Caluations!$J73)","v":3.1998877478841368},null,"R2",{"$f":"IF(AND($E84=\"\",Caluations!$F73<8),$R84*$F84,0)","v":0.16440000000000002},{"$f":"+(IF(BD84=0,BJ84,BD84))","v":1411.9249999999997},{"$f":"IF(LEFT(ScheduleSetup!$P$6,4)=\"Corn\",BF84,BG84)","v":"R2"},0.13700000000000001,null,null,null,null,null,null,null,null,null,null,null,null,null,null,null,null,null,null,null,null,null,{"$f":"+$F84*$E83","v":0},0.44333961646967363,0,{"$error":"#DIV/0!"},{"$error":"#DIV/0!"},null,null,{"$f":"IF((OR($E83<>\"\" )), Calculations2!$AV84,\"\")","v":""},0.70011225211586348,null,{"$f":"IF(AND(Caluations!$F73>5,Caluations!$F73<>FALSE),\"\",IF($E84=\"\",($I84/$H84)*100,$I84/$H84*100))","v":17.951596208099062},null,null,null,0,null,1411.9249999999997,{"$f":"IF( LEN((BC84))=0, BK84,BF84)","v":"R2"},{"$f":"VLOOKUP(BD84,$AZ$19:$BA$43,2,TRUE)","v":"R2"},"R2",22.5,22,1362.5,"R2",3,null,{"$f":"+IF((BR84-J84)>0,BR84-J84,0)","v":32.048403791900938},null,null,{"$f":"IF(LEFT(ScheduleSetup!$P$6,4)=\"Soyb\",BG84,BF84)","v":"R2"},{"$f":"IF($BP$19=50,50,IF($BQ$20=\"VC\"=AND(OR(BQ84=\"R3\",BQ84=\"R4\",BQ84=\"R5\",BQ84=\"R6\")),60,40))","v":50},null,null,null,null,null,null,null,null,null,null,null,null,null,null,null,null,null,null,null,null,null,null,null,null,null,null,null,null,null,null,null,null,null,null,null,null,null,null,10,null,null,null,null,null,null,null,null,null,null,null,null,null,null,null,null,null,null,null,null,null,null,null,null,null,null,null,null,null,null,null,null,null,null,null,null,null,null,null,null,null,null,null,null,null,null,null,null,null,null,null,null,null,null,null,null,null,null,null,null,null,null,null,null,null,null,null,null,null,null,null,null,null,null,null,null,null,null,null,null,null,null,null,null,null,null,null,null,null,null,null,null,null,null,null,null,null,null,null,null,null,null,null,null,null,null,null,null,null,null,null,null,null,null,null,null,null,null,null,null,null,null,null,null,null,null,null,null,null,null,null,null,null,null,null,null,null,null,{"$f":"+VLOOKUP(IM84,$T$19:$U$40,2)","v":{"$error":"#N/A"}},null,null,"Rousseau"]
["2020-08-02",36,null,null,null,1.2,0,{"$f":"IF($B85<=6,$B85*$B$12,IF($B85<=12,6*$B$12+($B85-6)*$C$12,IF($B85<=18,6*$B$12+6*$C$12+($B85-12)*$D$12,IF($B85<=24,6*$B$12+6*$C$12+6*$D$12+($B85-18)*$E$12,IF($B85<=30,6*$B$12+6*$C$12+6*$D$12+6*$E$12+($B85-24)*$F$12,IF($B85<=36,6*$B$12+6*$C$12+6*$D$12+6*$E$12+6*$F$12+($B85-30)*$G$12,IF($B85<=42,6*$B$12+6*$C$12+6*$D$12+6*$E$12+6*$F$12+6*$G$12+($B85-36)*$H$12,IF($B85<=48,6*$B$12+6*$C$12+6*$D$12+6*$E$12+6*$F$12+6*$G$12+6*$H$12+(F85-42)*$I$12,\"rootdepth>48in\"))))))))","v":3.9000000000000004},{"$f":"IF($S85=\"\",$AV85,($S85/100)*$H85)","v":0.70011225211586348},{"$f":"+IF(S85=\"\",(AX85),S85)","v":17.951596208099062},0,{"$f":"IF(Caluations!$J74<0,0,Caluations!$J74)","v":3.1998877478841368},null,"R2",{"$f":"IF(AND($E85=\"\",Caluations!$F74<8),$R85*$F85,0)","v":0},1433.9249999999997,{"$f":"IF(LEFT(ScheduleSetup!$P$6,4)=\"Corn\",BF85,BG85)","v":"R2"},null,null,null,null,null,null,null,null,null,null,null,null,null,null,null,null,null,null,null,null,null,null,0,0.35903192416198132,{"$f":"+AN85*AO85","v":0},{"$error":"#DIV/0!"},{"$f":"AR84-AQ85","v":{"$error":"#DIV/0!"}},null,null,{"$f":"IF((OR($E84<>\"\" )), Calculations2!$AV85,\"\")","v":""},0.70011225211586348,null,{"$f":"IF(AND(Caluations!$F74>5,Caluations!$F74<>FALSE),\"\",IF($E85=\"\",($I85/$H85)*100,$I85/$H85*100))","v":17.951596208099062},null,null,null,{"$f":"+T85","v":0},null,1433.9249999999997,"R2","R2","R2",22.5,22,{"$f":"+BJ84+BI85","v":1384.5},"R2",4,null,32.048403791900938,null,null,{"$f":"IF(LEFT(ScheduleSetup!$P$6,4)=\"Soyb\",BG85,BF85)","v":"R2"},50,null,null,null,null,null,null,null,null,null,null,null,null,null,null,null,null,null,null,null,null,null,null,null,null,null,null,null,null,null,null,null,null,null,null,null,null,null,null,null,12.455,null,null,null,null,null,null,null,null,null,null,null,null,null,null,null,null,null,null,null,null,null,null,null,null,null,null,null,null,null,null,null,null,null,null,null,null,null,null,null,null,null,null,null,null,null,null,null,null,null,null,null,null,null,null,null,null,null,null,null,null,null,null,null,null,null,null,null,null,null,null,null,null,null,null,null,null,null,null,null,null,null,null,null,null,null,null,null,null,null,null,null,null,null,null,null,null,null,null,null,null,null,null,null,null,null,null,null,null,null,null,null,null,null,null,null,null,null,null,null,null,null,null,null,null,null,null,null,null,null,null,null,null,null,null,null,null,null,{"$error":"#N/A"},null,null,"Sandy Loam"]
["2020-08-03",36,null,null,null,1.2,0,3.9000000000000004,0.70011225211586348,"",0,{"$f":"IF(Caluations!$J75<0,0,Caluations!$J75)","v":""},null,"R2",{"$f":"IF(AND($E86=\"\",Caluations!$F75<8),$R86*$F86,0)","v":0},1455.9249999999997,{"$f":"IF(LEFT(ScheduleSetup!$P$6,4)=\"Corn\",BF86,BG86)","v":"R2"},null,null,null,null,null,null,null,null,null,null,null,null,null,null,null,null,null,null,null,null,null,null,0,0.35903192416198132,0,{"$f":"IF(AO86<1,(AQ84-((1.25*(AP86/AN86)))-1)*(-$T$15))*0.008","v":{"$error":"#DIV/0!"}},{"$error":"#DIV/0!"},null,null,{"$f":"IF((OR($E85<>\"\" )), Calculations2!$AV86,\"\")","v":""},0.70011225211586348,null,{"$f":"IF(AND(Caluations!$F75>5,Caluations!$F75<>FALSE),\"\",IF($E86=\"\",($I86/$H86)*100,$I86/$H86*100))","v":""},null,null,null,0,null,1455.9249999999997,"R2","R2","R2",22.5,22,1406.5,"R2",5,null,{"$error":"#VALUE!"},null,null,{"$f":"IF(LEFT(ScheduleSetup!$P$6,4)=\"Soyb\",BG86,BF86)","v":"R2"},50,null,null,null,null,null,null,null,null,null,null,null,null,null,null,null,null,null,null,null,null,null,null,null,null,null,null,null,null,null,null,null,null,null,null,null,null,null,null,null,null,13.885,null,null,null,null,null,null,null,null,null,null,null,null,null,null,null,null,null,null,null,null,null,null,null,null,null,null,null,null,null,null,null,null,null,null,null,null,null,null,null,null,null,null,null,null,null,null,null,null,null,null,null,null,null,null,null,null,null,null,null,null,null,null,null,null,null,null,null,null,null,null,null,null,null,null,null,null,null,null,null,null,null,null,null,null,null,null,null,null,null,null,null,null,null,null,null,null,null,null,null,null,null,null,null,null,null,null,null,null,null,null,null,null,null,null,null,null,null,null,null,null,null,null,null,null,null,null,null,null,null,null,null,null,null,null,null,null,{"$error":"#N/A"},null,null,"Sandy Loam / Coarse Loam"]
["2020-08-04",36,null,null,null,1.2,0,3.9000000000000004,0.70011225211586348,"",0,{"$f":"IF(Caluations!$J76<0,0,Caluations!$J76)","v":""},null,"R2",{"$f":"IF(AND($E87=\"\",Caluations!$F76<8),$R87*$F87,0)","v":0},1476.9249999999997,{"$f":"IF(LEFT(ScheduleSetup!$P$6,4)=\"Corn\",BF87,BG87)","v":"R2"},null,null,null,null,null,null,null,null,null,null,null,null,null,null,null,null,null,null,null,null,null,null,0,1,0,0,{"$error":"#DIV/0!"},null,null,{"$f":"IF((OR($E86<>\"\" )), Calculations2!$AV87,\"\")","v":""},0.70011225211586348,null,{"$f":"IF(AND(Caluations!$F76>5,Caluations!$F76<>FALSE),\"\",IF($E87=\"\",($I87/$H87)*100,$I87/$H87*100))","v":""},null,null,null,0,null,1476.9249999999997,"R2","R2","R3",22.5,21,1427.5,"R2",6,null,{"$error":"#VALUE!"},null,null,{"$f":"IF(LEFT(ScheduleSetup!$P$6,4)=\"Soyb\",BG87,BF87)","v":"R2"},50,null,null,null,null,null,null,null,null,null,null,null,null,null,null,null,null,null,null,null,null,null,null,null,null,null,null,null,null,null,null,null,null,null,null,null,null,null,null,null,null,null,16.329999999999998,null,null,null,null,null,null,null,null,null,null,null,null,null,null,null,null,null,null,null,null,null,null,null,null,null,null,null,null,null,null,null,null,null,null,null,null,null,null,null,null,null,null,null,null,null,null,null,null,null,null,null,null,null,null,null,null,null,null,null,null,null,null,null,null,null,null,null,null,null,null,null,null,null,null,null,null,null,null,null,null,null,null,null,null,null,null,null,null,null,null,null,null,null,null,null,null,null,null,null,null,null,null,null,null,null,null,null,null,null,null,null,null,null,null,null,null,null,null,null,null,null,null,null,null,null,null,null,null,null,null,null,null,null,null,null,{"$error":"#N/A"},null,null,"Saugatauk"]
["2020-08-05",36,null,null,null,1.2,0,3.9000000000000004,0.70011225211586348,"",0,{"$f":"IF(Caluations!$J77<0,0,Caluations!$J77)","v":""},null,"R2",{"$f":"IF(AND($E88=\"\",Caluations!$F77<8),$R88*$F88,0)","v":0},1497.9249999999997,{"$f":"IF(LEFT(ScheduleSetup!$P$6,4)=\"Corn\",BF88,BG88)","v":"R2"},null,null,null,null,null,null,null,null,null,null,null,null,null,null,null,null,null,null,null,null,null,null,0,1,0,0,{"$error":"#DIV/0!"},null,null,{"$f":"IF((OR($E87<>\"\" )), Calculations2!$AV88,\"\")","v":""},0.70011225211586348,null,{"$f":"IF(AND(Caluations!$F77>5,Caluations!$F77<>FALSE),\"\",IF($E88=\"\",($I88/$H88)*100,$I88/$H88*100))","v":""},null,null,null,0,null,1497.9249999999997,"R2","R2","R3",22.5,21,1448.5,"R2",7," ",{"$error":"#VALUE!"},null,null,{"$f":"IF(LEFT(ScheduleSetup!$P$6,4)=\"Soyb\",BG88,BF88)","v":"R2"},50,null,null,null,null,null,null,null,null,null,null,null,null,null,null,null,null,null,null,null,null,null,null,null,null,null,null,null,null,null,null,null,null,null,null,null,null,null,null,null,null,null,null,19.7,null,null,null,null,null,null,null,null,null,null,null,null,null,null,null,null,null,null,null,null,null,null,null,null,null,null,null,null,null,null,null,null,null,null,null,null,null,null,null,null,null,null,null,null,null,null,null,null,null,null,null,null,null,null,null,null,null,null,null,null,null,null,null,null,null,null,null,null,null,null,null,null,null,null,null,null,null,null,null,null,null,null,null,null,null,null,null,null,null,null,null,null,null,null,null,null,null,null,null,null,null,null,null,null,null,null,null,null,null,null,null,null,null,null,null,null,null,null,null,null,null,null,null,null,null,null,null,null,null,null,null,null,null,null,{"$error":"#N/A"},null,null,"Schoolcraft"]
["2020-08-06",36,null,null,null,1.2,0,3.9000000000000004,0.70011225211586348,"",0,{"$f":"IF(Caluations!$J78<0,0,Caluations!$J78)","v":""},null,"R2",{"$f":"IF(AND($E89=\"\",Caluations!$F78<8),$R89*$F89,0)","v":0},1518.9249999999997,{"$f":"IF(LEFT(ScheduleSetup!$P$6,4)=\"Corn\",BF89,BG89)","v":"R2"},null,null,null,null,null,null,null,null,null,null,null,null,null,null,null,null,null,null,null,null,null,null,0,1,0,0,{"$error":"#DIV/0!"},null,null,{"$f":"IF((OR($E88<>\"\" )), Calculations2!$AV89,\"\")","v":""},0.70011225211586348,null,{"$f":"IF(AND(Caluations!$F78>5,Caluations!$F78<>FALSE),\"\",IF($E89=\"\",($I89/$H89)*100,$I89/$H89*100))","v":""},null,null,null,0,null,1518.9249999999997,"R2","R2","R3",22.5,21,1469.5,"R2",8,null,{"$error":"#VALUE!"},null,null,{"$f":"IF(LEFT(ScheduleSetup!$P$6,4)=\"Soyb\",BG89,BF89)","v":"R2"},50,null,null,null,null,null,null,null,null,null,null,null,null,null,null,null,null,null,null,null,null,null,null,null,null,null,null,null,null,null,null,null,null,null,null,null,null,null,null,null,null,null,null,null,23.175000000000001,null,null,null,null,null,null,null,null,null,null,null,null,null,null,null,null,null,null,null,null,null,null,null,null,null,null,null,null,null,null,null,null,null,null,null,null,null,null,null,null,null,null,null,null,null,null,null,null,null,null,null,null,null,null,null,null,null,null,null,null,null,null,null,null,null,null,null,null,null,null,null,null,null,null,null,null,null,null,null,null,null,null,null,null,null,null,null,null,null,null,null,null,null,null,null,null,null,null,null,null,null,null,null,null,null,null,null,null,null,null,null,null,null,null,null,null,null,null,null,null,null,null,null,null,null,null,null,null,null,null,null,null,null,{"$error":"#N/A"},null,null,"Shebeon"]
["2020-08-07",36,null,null,null,1.2,0,3.9000000000000004,0.70011225211586348,"",0,{"$f":"IF(Caluations!$J79<0,0,Caluations!$J79)","v":""},null,"R2",{"$f":"IF(AND($E90=\"\",Caluations!$F79<8),$R90*$F90,0)","v":0},1539.9249999999997,{"$f":"IF(LEFT(ScheduleSetup!$P$6,4)=\"Corn\",BF90,BG90)","v":"R2"},null,null,null,null,null,null,null,null,null,null,null,null,null,null,null,null,null,null,null,null,null,null,0,1,0,0,{"$error":"#DIV/0!"},null,null,{"$f":"IF((OR($E89<>\"\" )), Calculations2!$AV90,\"\")","v":""},0.70011225211586348,null,{"$f":"IF(AND(Caluations!$F79>5,Caluations!$F79<>FALSE),\"\",IF($E90=\"\",($I90/$H90)*100,$I90/$H90*100))","v":""},null,null,null,0,null,1539.9249999999997,"R2","R2","R3",22.5,21,1490.5,"R2",9," ",{"$error":"#VALUE!"},0.20599999999999999,null,{"$f":"IF(LEFT(ScheduleSetup!$P$6,4)=\"Soyb\",BG90,BF90)","v":"R2"},50,null,null,null,null,null,null,null,null,null,null,null,null,null,null,null,null,null,null,null,null,null,null,null,null,null,null,null,null,null,null,null,null,null,null,null,null,null,null,null,null,null,null,null,null,25.49,null,null,null,null,null,null,null,null,null,null,null,null,null,null,null,null,null,null,null,null,null,null,null,null,null,null,null,null,null,null,null,null,null,null,null,null,null,null,null,null,null,null,null,null,null,null,null,null,null,null,null,null,null,null,null,null,null,null,null,null,null,null,null,null,null,null,null,null,null,null,null,null,null,null,null,null,null,null,null,null,null,null,null,null,null,null,null,null,null,null,null,null,null,null,null,null,null,null,null,null,null,null,null,null,null,null,null,null,null,null,null,null,null,null,null,null,null,null,null,null,null,null,null,null,null,null,null,null,null,null,null,null,{"$error":"#N/A"},null,null,"Sims"]
["2020-08-08",36,null,null,null,1.2,{"$f":"$AP91","v":0},3.9000000000000004,0.70011225211586348,"",0,{"$f":"IF(Caluations!$J80<0,0,Caluations!$J80)","v":""},null,"R2",{"$f":"IF(AND($E91=\"\",Caluations!$F80<8),$R91*$F91,0)","v":0},1560.9249999999997,{"$f":"IF(LEFT(ScheduleSetup!$P$6,4)=\"Corn\",BF91,BG91)","v":"R2"},null,null,null,null,null,null,null,null,null,null,null,null,null,null,null,null,null,null,null,null,null,null,0,1,0,0,{"$error":"#DIV/0!"},null,null,{"$f":"IF((OR($E90<>\"\" )), Calculations2!$AV91,\"\")","v":""},0.70011225211586348,null,{"$f":"IF(AND(Caluations!$F80>5,Caluations!$F80<>FALSE),\"\",IF($E91=\"\",($I91/$H91)*100,$I91/$H91*100))","v":""},null,null,null,0,null,1560.9249999999997,"R2","R2","R3",22.5,21,1511.5,"R2",10,null,{"$error":"#VALUE!"},null,0.127,{"$f":"IF(LEFT(ScheduleSetup!$P$6,4)=\"Soyb\",BG91,BF91)","v":"R2"},50,null,null,null,null,null,null,null,null,null,null,null,null,null,null,null,null,null,null,null,null,null,null,null,null,null,null,null,null,null,null,null,null,null,null,null,null,null,null,null,null,null,null,null,null,null,17.54,null,null,null,null,null,null,null,null,null,null,null,null,null,null,null,null,null,null,null,null,null,null,null,null,null,null,null,null,null,null,null,null,null,null,null,null,null,null,null,null,null,null,null,null,null,null,null,null,null,null,null,null,null,null,null,null,null,null,null,null,null,null,null,null,null,null,null,null,null,null,null,null,null,null,null,null,null,null,null,null,null,null,null,null,null,null,null,null,null,null,null,null,null,null,null,null,null,null,null,null,null,null,null,null,null,null,null,null,null,null,null,null,null,null,null,null,null,null,null,null,null,null,null,null,null,null,null,null,null,null,null,{"$error":"#N/A"},null,null,"Sparta"]
["2020-08-09",36,null,null,null,1.2,0,3.9000000000000004,0.70011225211586348,"",0,{"$f":"IF(Caluations!$J81<0,0,Caluations!$J81)","v":""},null,"R3",{"$f":"IF(AND($E92=\"\",Caluations!$F81<8),$R92*$F92,0)","v":0},1581.9249999999997,{"$f":"IF(LEFT(ScheduleSetup!$P$6,4)=\"Corn\",BF92,BG92)","v":"R3"},null,null,null,null,null,null,null,null,null,null,null,null,null,null,null,null,null,null,null,null,null,null,0,1,0,0,{"$error":"#DIV/0!"},null,null,{"$f":"IF((OR($E91<>\"\" )), Calculations2!$AV92,\"\")","v":""},0.70011225211586348,null,{"$f":"IF(AND(Caluations!$F81>5,Caluations!$F81<>FALSE),\"\",IF($E92=\"\",($I92/$H92)*100,$I92/$H92*100))","v":""},null,null,null,0,null,1581.9249999999997,"R2","R3","R3",22.5,21,1532.5,"R2",11,null,{"$error":"#VALUE!"},0,null,{"$f":"IF(LEFT(ScheduleSetup!$P$6,4)=\"Soyb\",BG92,BF92)","v":"R3"},50,null,null,null,null,null,null,null,null,null,null,null,null,null,null,null,null,null,null,null,null,null,null,null,null,null,null,null,null,null,null,null,null,null,null,null,null,null,null,null,null,null,null,null,null,null,null,14.355,null,null,null,null,null,null,null,null,null,null,null,null,null,null,null,null,null,null,null,null,null,null,null,null,null,null,null,null,null,null,null,null,null,null,null,null,null,null,null,null,null,null,null,null,null,null,null,null,null,null,null,null,null,null,null,null,null,null,null,null,null,null,null,null,null,null,null,null,null,null,null,null,null,null,null,null,null,null,null,null,null,null,null,null,null,null,null,null,null,null,null,null,null,null,null,null,null,null,null,null,null,null,null,null,null,null,null,null,null,null,null,null,null,null,null,null,null,null,null,null,null,null,null,null,null,null,null,null,null,null,{"$error":"#N/A"},null,null,"Spinks"]
["2020-08-10",36,null,null,null,1.2,0,3.9000000000000004,0.70011225211586348,"",0,{"$f":"IF(Caluations!$J82<0,0,Caluations!$J82)","v":""},null,"R3",{"$f":"IF(AND($E93=\"\",Caluations!$F82<8),$R93*$F93,0)","v":0},1601.9249999999997,{"$f":"IF(LEFT(ScheduleSetup!$P$6,4)=\"Corn\",BF93,BG93)","v":"R3"},null,null,null,null,null,null,null,null,null,null,null,null,null,null,null,null,null,null,null,null,null,null,0,1,0,0,{"$error":"#DIV/0!"},null,null,{"$f":"IF((OR($E92<>\"\" )), Calculations2!$AV93,\"\")","v":""},0.70011225211586348,null,{"$f":"IF(AND(Caluations!$F82>5,Caluations!$F82<>FALSE),\"\",IF($E93=\"\",($I93/$H93)*100,$I93/$H93*100))","v":""},null,null,null,0,null,1601.9249999999997,"R2","R3","R3",22.5,20,1552.5,"R2",12,null,{"$error":"#VALUE!"},null,0,{"$f":"IF(LEFT(ScheduleSetup!$P$6,4)=\"Soyb\",BG93,BF93)","v":"R3"},50,null,null,null,null,null,null,null,null,null,null,null,null,null,null,null,null,null,null,null,null,null,null,null,null,null,null,null,null,null,null,null,null,null,null,null,null,null,null,null,null,null,null,null,null,null,null,null,12.914999999999999,null,null,null,null,null,null,null,null,null,null,null,null,null,null,null,null,null,null,null,null,null,null,null,null,null,null,null,null,null,null,null,null,null,null,null,null,null,null,null,null,null,null,null,null,null,null,null,null,null,null,null,null,null,null,null,null,null,null,null,null,null,null,null,null,null,null,null,null,null,null,null,null,null,null,null,null,null,null,null,null,null,null,null,null,null,null,null,null,null,null,null,null,null,null,null,null,null,null,null,null,null,null,null,null,null,null,null,null,null,null,null,null,null,null,null,null,null,null,null,null,null,null,null,null,null,null,null,null,null,{"$error":"#N/A"},null,null,"Tappan"]
["2020-08-11",36,null,null,null,1.2,0,3.9000000000000004,0.70011225211586348,"",0,{"$f":"IF(Caluations!$J83<0,0,Caluations!$J83)","v":""},null,"R3",{"$f":"IF(AND($E94=\"\",Caluations!$F83<8),$R94*$F94,0)","v":0},1621.9249999999997,{"$f":"IF(LEFT(ScheduleSetup!$P$6,4)=\"Corn\",BF94,BG94)","v":"R3"},null,null,null,null,null,null,null,null,null,null,null,null,null,null,null,null,null,null,null,null,null,null,0,1,0,0,{"$error":"#DIV/0!"},null,null,{"$f":"IF((OR($E93<>\"\" )), Calculations2!$AV94,\"\")","v":""},0.70011225211586348,null,{"$f":"IF(AND(Caluations!$F83>5,Caluations!$F83<>FALSE),\"\",IF($E94=\"\",($I94/$H94)*100,$I94/$H94*100))","v":""},null,null,null,0,null,1621.9249999999997,"R2","R3","R3",22.5,20,1572.5,"R2",13,null,{"$error":"#VALUE!"},null,null,{"$f":"IF(LEFT(ScheduleSetup!$P$6,4)=\"Soyb\",BG94,BF94)","v":"R3"},50,0.10100000000000001,null,null,null,null,null,null,null,null,null,null,null,null,null,null,null,null,null,null,null,null,null,null,null,null,null,null,null,null,null,null,null,null,null,null,null,null,null,null,null,null,null,null,null,null,null,null,null,18.489999999999998,null,null,null,null,null,null,null,null,null,null,null,null,null,null,null,null,null,null,null,null,null,null,null,null,null,null,null,null,null,null,null,null,null,null,null,null,null,null,null,null,null,null,null,null,null,null,null,null,null,null,null,null,null,null,null,null,null,null,null,null,null,null,null,null,null,null,null,null,null,null,null,null,null,null,null,null,null,null,null,null,null,null,null,null,null,null,null,null,null,null,null,null,null,null,null,null,null,null,null,null,null,null,null,null,null,null,null,null,null,null,null,null,null,null,null,null,null,null,null,null,null,null,null,null,null,null,null,null,{"$error":"#N/A"},null,null,"Tewas"]
["2020-08-12",36,null,null,null,1.2,0,3.9000000000000004,0.70011225211586348,"",0,{"$f":"IF(Caluations!$J84<0,0,Caluations!$J84)","v":""},null,"R3",{"$f":"IF(AND($E95=\"\",Caluations!$F84<8),$R95*$F95,0)","v":0},1641.9249999999997,{"$f":"IF(LEFT(ScheduleSetup!$P$6,4)=\"Corn\",BF95,BG95)","v":"R3"},null,null,null,null,null,null,null,null,null,null,null,null,null,null,null,null,null,null,null,null,null,null,0,1,0,0,{"$error":"#DIV/0!"},null,null,{"$f":"IF((OR($E94<>\"\" )), Calculations2!$AV95,\"\")","v":""},0.70011225211586348,null,{"$f":"IF(AND(Caluations!$F84>5,Caluations!$F84<>FALSE),\"\",IF($E95=\"\",($I95/$H95)*100,$I95/$H95*100))","v":""},null,null,null,0,null,1641.9249999999997,"R3","R3","R3",22.5,20,1592.5,"R3",1,null,{"$error":"#VALUE!"},null,null,{"$f":"IF(LEFT(ScheduleSetup!$P$6,4)=\"Soyb\",BG95,BF95)","v":"R3"},50,null,0.152,null,null,null,null,null,null,null,null,null,null,null,null,null,null,null,null,null,null,null,null,null,null,null,null,null,null,null,null,null,null,null,null,null,null,null,null,null,null,null,null,null,null,null,null,null,null,null,21.62,null,null,null,null,null,null,null,null,null,null,null,null,null,null,null,null,null,null,null,null,null,null,null,null,null,null,null,null,null,null,null,null,null,null,null,null,null,null,null,null,null,null,null,null,null,null,null,null,null,null,null,null,null,null,null,null,null,null,null,null,null,null,null,null,null,null,null,null,null,null,null,null,null,null,null,null,null,null,null,null,null,null,null,null,null,null,null,null,null,null,null,null,null,null,null,null,null,null,null,null,null,null,null,null,null,null,null,null,null,null,null,null,null,null,null,null,null,null,null,null,null,null,null,null,null,null,null,{"$error":"#N/A"},null,null,"Thetford"]
["2020-08-13",36,null,null,null,1.2,0,3.9000000000000004,0.70011225211586348,"",0,{"$f":"IF(Caluations!$J85<0,0,Caluations!$J85)","v":""},null,"R3",{"$f":"IF(AND($E96=\"\",Caluations!$F85<8),$R96*$F96,0)","v":0},1661.9249999999997,{"$f":"IF(LEFT(ScheduleSetup!$P$6,4)=\"Corn\",BF96,BG96)","v":"R3"},null,null,null,null,null,null,null,null,null,null,null,null,null,null,null,null,null,null,null,null,null,null,0,1,0,0,{"$error":"#DIV/0!"},null,null,{"$f":"IF((OR($E95<>\"\" )), Calculations2!$AV96,\"\")","v":""},0.70011225211586348,null,{"$f":"IF(AND(Caluations!$F85>5,Caluations!$F85<>FALSE),\"\",IF($E96=\"\",($I96/$H96)*100,$I96/$H96*100))","v":""},null,null,null,0,null,1661.9249999999997,"R3","R3","R3",22.5,20,1612.5,"R3",2,null,{"$error":"#VALUE!"},null,null,{"$f":"IF(LEFT(ScheduleSetup!$P$6,4)=\"Soyb\",BG96,BF96)","v":"R3"},50,0,null,0.105,null,null,null,null,null,null,null,null,null,null,null,null,null,null,null,null,null,null,null,null,null,null,null,null,null,null,null,null,null,null,null,null,null,null,null,null,null,null,null,null,null,null,null,null,null,null,null,8.44,null,null,null,null,null,null,null,null,null,null,null,null,null,null,null,null,null,null,null,null,null,null,null,null,null,null,null,null,null,null,null,null,null,null,null,null,null,null,null,null,null,null,null,null,null,null,null,null,null,null,null,null,null,null,null,null,null,null,null,null,null,null,null,null,null,null,null,null,null,null,null,null,null,null,null,null,null,null,null,null,null,null,null,null,null,null,null,null,null,null,null,null,null,null,null,null,null,null,null,null,null,null,null,null,null,null,null,null,null,null,null,null,null,null,null,null,null,null,null,null,null,null,null,null,null,null,{"$error":"#N/A"},null,null,"Tustin"]
["2020-08-14",36,null,null,null,1.2,0,3.9000000000000004,0.70011225211586348,"",0,{"$f":"IF(Caluations!$J86<0,0,Caluations!$J86)","v":""},null,"R3",{"$f":"IF(AND($E97=\"\",Caluations!$F86<8),$R97*$F97,0)","v":0},1681.9249999999997,{"$f":"IF(LEFT(ScheduleSetup!$P$6,4)=\"Corn\",BF97,BG97)","v":"R3"},null,null,null,null,null,null,null,null,null,null,null,null,null,null,null,null,null,null,null,null,null,null,0,1,0,0,{"$error":"#DIV/0!"},null,null,{"$f":"IF((OR($E96<>\"\" )), Calculations2!$AV97,\"\")","v":""},0.70011225211586348,null,{"$f":"IF(AND(Caluations!$F86>5,Caluations!$F86<>FALSE),\"\",IF($E97=\"\",($I97/$H97)*100,$I97/$H97*100))","v":""},null,null,null,0,null,1681.9249999999997,"R3","R3","R3",22,20,1632.5,"R3",3,null,{"$error":"#VALUE!"},null,null,{"$f":"IF(LEFT(ScheduleSetup!$P$6,4)=\"Soyb\",BG97,BF97)","v":"R3"},50,null,0,null,0.13300000000000001,null,null,null,null,null,null,null,null,null,null,null,null,null,null,null,null,null,null,null,null,null,null,null,null,null,null,null,null,null,null,null,null,null,null,null,null,null,null,null,null,null,null,null,null,null,null,null,11.44,null,null,null,null,null,null,null,null,null,null,null,null,null,null,null,null,null,null,null,null,null,null,null,null,null,null,null,null,null,null,null,null,null,null,null,null,null,null,null,null,null,null,null,null,null,null,null,null,null,null,null,null,null,null,null,null,null,null,null,null,null,null,null,null,null,null,null,null,null,null,null,null,null,null,null,null,null,null,null,null,null,null,null,null,null,null,null,null,null,null,null,null,null,null,null,null,null,null,null,null,null,null,null,null,null,null,null,null,null,null,null,null,null,null,null,null,null,null,null,null,null,null,null,null,null,{"$error":"#N/A"},null,null,"Vestaburg"]
["2020-08-15",36,null,null,null,1.2,0,3.9000000000000004,0.70011225211586348,"",0,{"$f":"IF(Caluations!$J87<0,0,Caluations!$J87)","v":""},null,"R3",{"$f":"IF(AND($E98=\"\",Caluations!$F87<8),$R98*$F98,0)","v":0},1701.9249999999997,{"$f":"IF(LEFT(ScheduleSetup!$P$6,4)=\"Corn\",BF98,BG98)","v":"R3"},null,null,null,null,null,null,null,null,null,null,null,null,null,null,null,null,null,null,null,null,null,null,0,1,0,0,{"$error":"#DIV/0!"},null,null,{"$f":"IF((OR($E97<>\"\" )), Calculations2!$AV98,\"\")","v":""},0.70011225211586348,null,{"$f":"IF(AND(Caluations!$F87>5,Caluations!$F87<>FALSE),\"\",IF($E98=\"\",($I98/$H98)*100,$I98/$H98*100))","v":""},null,null,null,0,null,1701.9249999999997,"R3","R3","R3",22,20,1652.5,"R3",4,null,{"$error":"#VALUE!"},null,null,{"$f":"IF(LEFT(ScheduleSetup!$P$6,4)=\"Soyb\",BG98,BF98)","v":"R3"},50,null,null,0,null,0.151,null,null,null,null,null,null,null,null,null,null,null,null,null,null,null,null,null,null,null,null,null,null,null,null,null,null,null,null,null,null,null,null,null,null,null,null,null,null,null,null,null,null,null,null,null,null,null,13.15,null,null,null,null,null,null,null,null,null,null,null,null,null,null,null,null,null,null,null,null,null,null,null,null,null,null,null,null,null,null,null,null,null,null,null,null,null,null,null,null,null,null,null,null,null,null,null,null,null,null,null,null,null,null,null,null,null,null,null,null,null,null,null,null,null,null,null,null,null,null,null,null,null,null,null,null,null,null,null,null,null,null,null,null,null,null,null,null,null,null,null,null,null,null,null,null,null,null,null,null,null,null,null,null,null,null,null,null,null,null,null,null,null,null,null,null,null,null,null,null,null,null,null,null,{"$error":"#N/A"},null,null,"Washtenaw"]
["2020-08-16",36,null,null,null,1.2,0,3.9000000000000004,0.70011225211586348,"",0,{"$f":"IF(Caluations!$J88<0,0,Caluations!$J88)","v":""},null,"R3",{"$f":"IF(AND($E99=\"\",Caluations!$F88<8),$R99*$F99,0)","v":0},1720.9249999999997,{"$f":"IF(LEFT(ScheduleSetup!$P$6,4)=\"Corn\",BF99,BG99)","v":"R3"},null,null,null,null,null,null,null,null,null,null,null,null,null,null,null,null,null,null,null,null,null,null,0,1,0,0,{"$error":"#DIV/0!"},null,null,{"$f":"IF((OR($E98<>\"\" )), Calculations2!$AV99,\"\")","v":""},0.70011225211586348,null,{"$f":"IF(AND(Caluations!$F88>5,Caluations!$F88<>FALSE),\"\",IF($E99=\"\",($I99/$H99)*100,$I99/$H99*100))","v":""},null,null,null,0,null,1720.9249999999997,"R3","R3","R3",22,19,1671.5,"R3",5,null,{"$error":"#VALUE!"},null,null,{"$f":"IF(LEFT(ScheduleSetup!$P$6,4)=\"Soyb\",BG99,BF99)","v":"R3"},50,null,null,null,0,null,0.17199999999999999,null,null,null,null,null,null,null,null,null,null,null,null,null,null,null,null,null,null,null,null,null,null,null,null,null,null,null,null,null,null,null,null,null,null,null,null,null,null,null,null,null,null,null,null,null,null,null,14.65,null,null,null,null,null,null,null,null,null,null,null,null,null,null,null,null,null,null,null,null,null,null,null,null,null,null,null,null,null,null,null,null,null,null,null,null,null,null,null,null,null,null,null,null,null,null,null,null,null,null,null,null,null,null,null,null,null,null,null,null,null,null,null,null,null,null,null,null,null,null,null,null,null,null,null,null,null,null,null,null,null,null,null,null,null,null,null,null,null,null,null,null,null,null,null,null,null,null,null,null,null,null,null,null,null,null,null,null,null,null,null,null,null,null,null,null,null,null,null,null,null,null,null,{"$error":"#N/A"},null,null,"Wauseon"]
["2020-08-17",36,null,null,null,1.2,0,3.9000000000000004,0.70011225211586348,"",0,{"$f":"IF(Caluations!$J89<0,0,Caluations!$J89)","v":""},null,"R3",{"$f":"IF(AND($E100=\"\",Caluations!$F89<8),$R100*$F100,0)","v":0},1739.9249999999997,{"$f":"IF(LEFT(ScheduleSetup!$P$6,4)=\"Corn\",BF100,BG100)","v":"R3"},null,null,null,null,null,null,null,null,null,null,null,null,null,null,null,null,null,null,null,null,null,null,0,1,0,0,{"$error":"#DIV/0!"},null,null,{"$f":"IF((OR($E99<>\"\" )), Calculations2!$AV100,\"\")","v":""},0.70011225211586348,null,{"$f":"IF(AND(Caluations!$F89>5,Caluations!$F89<>FALSE),\"\",IF($E100=\"\",($I100/$H100)*100,$I100/$H100*100))","v":""},null,null,null,0,null,1739.9249999999997,"R3","R3","R3",22,19,1690.5,"R3",6,null,{"$error":"#VALUE!"},null,null,{"$f":"IF(LEFT(ScheduleSetup!$P$6,4)=\"Soyb\",BG100,BF100)","v":"R3"},50,null,null,null,null,0,null,0.153,null,null,null,null,null,null,null,null,null,null,null,null,null,null,null,null,null,null,null,null,null,null,null,null,null,null,null,null,null,null,null,null,null,null,null,null,null,null,null,null,null,null,null,null,null,null,null,21.33,null,null,null,null,null,null,null,null,null,null,null,null,null,null,null,null,null,null,null,null,null,null,null,null,null,null,null,null,null,null,null,null,null,null,null,null,null,null,null,null,null,null,null,null,null,null,null,null,null,null,null,null,null,null,null,null,null,null,null,null,null,null,null,null,null,null,null,null,null,null,null,null,null,null,null,null,null,null,null,null,null,null,null,null,null,null,null,null,null,null,null,null,null,null,null,null,null,null,null,null,null,null,null,null,null,null,null,null,null,null,null,null,null,null,null,null,null,null,null,null,null,null,{"$error":"#N/A"},null,null,"Wixom"]
["2020-08-18",36,null,null,null,1.2,0,3.9000000000000004,0.70011225211586348,"",0,{"$f":"IF(Caluations!$J90<0,0,Caluations!$J90)","v":""},null,"R3",{"$f":"IF(AND($E101=\"\",Caluations!$F90<8),$R101*$F101,0)","v":0},1758.9249999999997,{"$f":"IF(LEFT(ScheduleSetup!$P$6,4)=\"Corn\",BF101,BG101)","v":"R3"},null,null,null,null,null,null,null,null,null,null,null,null,null,null,null,null,null,null,null,null,null,null,0,1,0,0,{"$error":"#DIV/0!"},null,null,{"$f":"IF((OR($E100<>\"\" )), Calculations2!$AV101,\"\")","v":""},0.70011225211586348,null,{"$f":"IF(AND(Caluations!$F90>5,Caluations!$F90<>FALSE),\"\",IF($E101=\"\",($I101/$H101)*100,$I101/$H101*100))","v":""},null,null,null,0,null,1758.9249999999997,"R3","R3","R3",22,19,1709.5,"R3",7,null,{"$error":"#VALUE!"},null,null,{"$f":"IF(LEFT(ScheduleSetup!$P$6,4)=\"Soyb\",BG101,BF101)","v":"R3"},50,null,null,null,null,null,0,null,0.182,null,null,null,null,null,null,null,null,null,null,null,null,null,null,null,null,null,null,null,null,null,null,null,null,null,null,null,null,null,null,null,null,null,null,null,null,null,null,null,null,null,null,null,null,null,null,null,20.23,null,null,null,null,null,null,null,null,null,null,null,null,null,null,null,null,null,null,null,null,null,null,null,null,null,null,null,null,null,null,null,null,null,null,null,null,null,null,null,null,null,null,null,null,null,null,null,null,null,null,null,null,null,null,null,null,null,null,null,null,null,null,null,null,null,null,null,null,null,null,null,null,null,null,null,null,null,null,null,null,null,null,null,null,null,null,null,null,null,null,null,null,null,null,null,null,null,null,null,null,null,null,null,null,null,null,null,null,null,null,null,null,null,null,null,null,null,null,null,null,null,{"$error":"#N/A"},null,null,"Ziegenfuss"]
["2020-08-19",36,null,null,null,1.2,0,3.9000000000000004,0.70011225211586348,"",0,{"$f":"IF(Caluations!$J91<0,0,Caluations!$J91)","v":""},null,"R3",{"$f":"IF(AND($E102=\"\",Caluations!$F91<8),$R102*$F102,0)","v":0},1777.9249999999997,{"$f":"IF(LEFT(ScheduleSetup!$P$6,4)=\"Corn\",BF102,BG102)","v":"R3"},null,null,null,null,null,null,null,null,null,null,null,null,null,null,null,null,null,null,null,null,null,null,0,1,0,0,{"$error":"#DIV/0!"},null,null,{"$f":"IF((OR($E101<>\"\" )), Calculations2!$AV102,\"\")","v":""},0.70011225211586348,null,{"$f":"IF(AND(Caluations!$F91>5,Caluations!$F91<>FALSE),\"\",IF($E102=\"\",($I102/$H102)*100,$I102/$H102*100))","v":""},null,null,null,0,null,{"$f":"+IF(BC102=\"\",BD101+BI102,BD101+BC102)","v":1777.9249999999997},"R3","R3","R3",22,19,1728.5,"R3",8,null,{"$error":"#VALUE!"},null,null,{"$f":"IF(LEFT(ScheduleSetup!$P$6,4)=\"Soyb\",BG102,BF102)","v":"R3"},50,null,null,null,null,null,null,0,null,0.187,null,null,null,null,null,null,null,null,null,null,null,null,null,null,null,null,null,null,null,null,null,null,null,null,null,null,null,null,null,null,null,null,null,null,null,null,null,null,null,null,null,null,null,null,null,null,null,17.62,null,null,null,null,null,null,null,null,null,null,null,null,null,null,null,null,null,null,null,null,null,null,null,null,null,null,null,null,null,null,null,null,null,null,null,null,null,null,null,null,null,null,null,null,null,null,null,null,null,null,null,null,null,null,null,null,null,null,null,null,null,null,null,null,null,null,null,null,null,null,null,null,null,null,null,null,null,null,null,null,null,null,null,null,null,null,null,null,null,null,null,null,null,null,null,null,null,null,null,null,null,null,null,null,null,null,null,null,null,null,null,null,null,null,null,null,null,null,null,null,{"$error":"#N/A"}]
["2020-08-20",36,null,null,null,1.2,0,3.9000000000000004,0.70011225211586348,"",0,{"$f":"IF(Caluations!$J92<0,0,Caluations!$J92)","v":""},null,"R3",{"$f":"IF(AND($E103=\"\",Caluations!$F92<8),$R103*$F103,0)","v":0},1796.9249999999997,{"$f":"IF(LEFT(ScheduleSetup!$P$6,4)=\"Corn\",BF103,BG103)","v":"R3"},null,null,null,null,null,null,null,null,null,null,null,null,null,null,null,null,null,null,null,null,null,null,0,1,0,0,{"$error":"#DIV/0!"},null,null,{"$f":"IF((OR($E102<>\"\" )), Calculations2!$AV103,\"\")","v":""},0.70011225211586348,null,{"$f":"IF(AND(Caluations!$F92>5,Caluations!$F92<>FALSE),\"\",IF($E103=\"\",($I103/$H103)*100,$I103/$H103*100))","v":""},null,null,null,0,null,1796.9249999999997,"R3","R3","R4",22,19,1747.5,"R3",9,null,{"$error":"#VALUE!"},null,null,{"$f":"IF(LEFT(ScheduleSetup!$P$6,4)=\"Soyb\",BG103,BF103)","v":"R3"},50,null,null,null,null,null,null,null,0.11,null,0.16200000000000001,null,null,null,null,null,null,null,null,null,null,null,null,null,null,null,null,null,null,null,null,null,null,null,null,null,null,null,null,null,null,null,null,null,null,null,null,null,null,null,null,null,null,null,null,null,null,null,21.67,null,null,null,null,null,null,null,null,null,null,null,null,null,null,null,null,null,null,null,null,null,null,null,null,null,null,null,null,null,null,null,null,null,null,null,null,null,null,null,null,null,null,null,null,null,null,null,null,null,null,null,null,null,null,null,null,null,null,null,null,null,null,null,null,null,null,null,null,null,null,null,null,null,null,null,null,null,null,null,null,null,null,null,null,null,null,null,null,null,null,null,null,null,null,null,null,null,null,null,null,null,null,null,null,null,null,null,null,null,null,null,null,null,null,null,null,null,null,null,{"$error":"#N/A"}]
["2020-08-21",36,null,null,null,1.2,0,3.9000000000000004,0.70011225211586348,"",0,{"$f":"IF(Caluations!$J93<0,0,Caluations!$J93)","v":""},null,"R4",{"$f":"IF(AND($E104=\"\",Caluations!$F93<8),$R104*$F104,0)","v":0},1815.9249999999997,{"$f":"IF(LEFT(ScheduleSetup!$P$6,4)=\"Corn\",BF104,BG104)","v":"R4"},null,null,null,null,null,null,null,null,null,null,null,null,null,null,null,null,null,null,null,null,null,null,0,1,0,0,{"$error":"#DIV/0!"},null,null,{"$f":"IF((OR($E103<>\"\" )), Calculations2!$AV104,\"\")","v":""},0.70011225211586348,null,{"$f":"IF(AND(Caluations!$F93>5,Caluations!$F93<>FALSE),\"\",IF($E104=\"\",($I104/$H104)*100,$I104/$H104*100))","v":""},null,null,null,0,null,1815.9249999999997,"R3","R4","R4",22,19,1766.5,"R3",10,null,{"$error":"#VALUE!"},null,null,{"$f":"IF(LEFT(ScheduleSetup!$P$6,4)=\"Soyb\",BG104,BF104)","v":"R4"},50,null,null,null,null,null,null,null,null,0.26,null,0.104,null,null,null,null,null,null,null,null,null,null,null,null,null,null,null,null,null,null,null,null,null,null,null,null,null,null,null,null,null,null,null,null,null,null,null,null,null,null,null,null,null,null,null,null,null,null,null,20.6,null,null,null,null,null,null,null,null,null,null,null,null,null,null,null,null,null,null,null,null,null,null,null,null,null,null,null,null,null,null,null,null,null,null,null,null,null,null,null,null,null,null,null,null,null,null,null,null,null,null,null,null,null,null,null,null,null,null,null,null,null,null,null,null,null,null,null,null,null,null,null,null,null,null,null,null,null,null,null,null,null,null,null,null,null,null,null,null,null,null,null,null,null,null,null,null,null,null,null,null,null,null,null,null,null,null,null,null,null,null,null,null,null,null,null,null,null,null,{"$error":"#N/A"}]
["2020-08-22",36,null,null,null,1.2,0,3.9000000000000004,0.70011225211586348,"",0,{"$f":"IF(Caluations!$J94<0,0,Caluations!$J94)","v":""},null,"R4",{"$f":"IF(AND($E105=\"\",Caluations!$F94<8),$R105*$F105,0)","v":0},1834.9249999999997,{"$f":"IF(LEFT(ScheduleSetup!$P$6,4)=\"Corn\",BF105,BG105)","v":"R4"},null,null,null,null,null,null,null,null,null,null,null,null,null,null,null,null,null,null,null,null,null,null,0,1,0,0,{"$error":"#DIV/0!"},null,null,{"$f":"IF((OR($E104<>\"\" )), Calculations2!$AV105,\"\")","v":""},0.70011225211586348,null,{"$f":"IF(AND(Caluations!$F94>5,Caluations!$F94<>FALSE),\"\",IF($E105=\"\",($I105/$H105)*100,$I105/$H105*100))","v":""},null,null,null,0,null,1834.9249999999997,"R3","R4","R4",22,19,1785.5,"R3",1,null,{"$error":"#VALUE!"},null,null,{"$f":"IF(LEFT(ScheduleSetup!$P$6,4)=\"Soyb\",BG105,BF105)","v":"R4"},50,null,null,null,null,null,null,null,null,null,0,null,0.17499999999999999,null,null,null,null,null,null,null,null,null,null,null,null,null,null,null,null,null,null,null,null,null,null,null,null,null,null,null,null,null,null,null,null,null,null,null,null,null,null,null,null,null,null,null,null,null,null,null,18.98,null,null,null,null,null,null,null,null,null,null,null,null,null,null,null,null,null,null,null,null,null,null,null,null,null,null,null,null,null,null,null,null,null,null,null,null,null,null,null,null,null,null,null,null,null,null,null,null,null,null,null,null,null,null,null,null,null,null,null,null,null,null,null,null,null,null,null,null,null,null,null,null,null,null,null,null,null,null,null,null,null,null,null,null,null,null,null,null,null,null,null,null,null,null,null,null,null,null,null,null,null,null,null,null,null,null,null,null,null,null,null,null,null,null,null,null,null,{"$error":"#N/A"}]
["2020-08-23",36,null,null,null,1.2,0,3.9000000000000004,0.70011225211586348,"",0,{"$f":"IF(Caluations!$J95<0,0,Caluations!$J95)","v":""},null,"R4",{"$f":"IF(AND($E106=\"\",Caluations!$F95<8),$R106*$F106,0)","v":0},1852.9249999999997,{"$f":"IF(LEFT(ScheduleSetup!$P$6,4)=\"Corn\",BF106,BG106)","v":"R4"},null,null,null,null,null,null,null,null,null,null,null,null,null,null,null,null,null,null,null,null,null,null,0,1,0,0,{"$error":"#DIV/0!"},null,null,{"$f":"IF((OR($E105<>\"\" )), Calculations2!$AV106,\"\")","v":""},0.70011225211586348,null,{"$f":"IF(AND(Caluations!$F95>5,Caluations!$F95<>FALSE),\"\",IF($E106=\"\",($I106/$H106)*100,$I106/$H106*100))","v":""},null,null,null,0,null,1852.9249999999997,"R3","R4","R4",21,18,1803.5,"R3",2,null,{"$error":"#VALUE!"},null,null,{"$f":"IF(LEFT(ScheduleSetup!$P$6,4)=\"Soyb\",BG106,BF106)","v":"R4"},50,null,null,null,null,null,null,null,null,null,null,0,null,0.187,null,null,null,null,null,null,null,null,null,null,null,null,null,null,null,null,null,null,null,null,null,null,null,null,null,null,null,null,null,null,null,null,null,null,null,null,null,null,null,null,null,null,null,null,null,null,null,17.594999999999999,null,null,null,null,null,null,null,null,null,null,null,null,null,null,null,null,null,null,null,null,null,null,null,null,null,null,null,null,null,null,null,null,null,null,null,null,null,null,null,null,null,null,null,null,null,null,null,null,null,null,null,null,null,null,null,null,null,null,null,null,null,null,null,null,null,null,null,null,null,null,null,null,null,null,null,null,null,null,null,null,null,null,null,null,null,null,null,null,null,null,null,null,null,null,null,null,null,null,null,null,null,null,null,null,null,null,null,null,null,null,null,null,null,null,null,null,{"$error":"#N/A"}]
["2020-08-24",36,null,null,null,1.2,0,3.9000000000000004,0.70011225211586348,"",0,{"$f":"IF(Caluations!$J96<0,0,Caluations!$J96)","v":""},null,"R4",{"$f":"IF(AND($E107=\"\",Caluations!$F96<8),$R107*$F107,0)","v":0},1870.9249999999997,{"$f":"IF(LEFT(ScheduleSetup!$P$6,4)=\"Corn\",BF107,BG107)","v":"R4"},null,null,null,null,null,null,null,null,null,null,null,null,null,null,null,null,null,null,null,null,null,null,0,1,0,0,{"$error":"#DIV/0!"},null,null,{"$f":"IF((OR($E106<>\"\" )), Calculations2!$AV107,\"\")","v":""},0.70011225211586348,null,{"$f":"IF(AND(Caluations!$F96>5,Caluations!$F96<>FALSE),\"\",IF($E107=\"\",($I107/$H107)*100,$I107/$H107*100))","v":""},null,null,null,0,null,1870.9249999999997,"R4","R4","R4",21,18,1821.5,"R4",3,null,{"$error":"#VALUE!"},null,null,{"$f":"IF(LEFT(ScheduleSetup!$P$6,4)=\"Soyb\",BG107,BF107)","v":"R4"},50,null,null,null,null,null,null,null,null,null,null,null,0,null,0.19,null,null,null,null,null,null,null,null,null,null,null,null,null,null,null,null,null,null,null,null,null,null,null,null,null,null,null,null,null,null,null,null,null,null,null,null,null,null,null,null,null,null,null,null,null,null,null,19.09,null,null,null,null,null,null,null,null,null,null,null,null,null,null,null,null,null,null,null,null,null,null,null,null,null,null,null,null,null,null,null,null,null,null,null,null,null,null,null,null,null,null,null,null,null,null,null,null,null,null,null,null,null,null,null,null,null,null,null,null,null,null,null,null,null,null,null,null,null,null,null,null,null,null,null,null,null,null,null,null,null,null,null,null,null,null,null,null,null,null,null,null,null,null,null,null,null,null,null,null,null,null,null,null,null,null,null,null,null,null,null,null,null,null,null,{"$error":"#N/A"}]
["2020-08-25",36,null,null,null,1.2,0,3.9000000000000004,0.70011225211586348,"",0,{"$f":"IF(Caluations!$J97<0,0,Caluations!$J97)","v":""},null,"R4",{"$f":"IF(AND($E108=\"\",Caluations!$F97<8),$R108*$F108,0)","v":0},1888.9249999999997,{"$f":"IF(LEFT(ScheduleSetup!$P$6,4)=\"Corn\",BF108,BG108)","v":"R4"},null,null,null,null,null,null,null,null,null,null,null,null,null,null,null,null,null,null,null,null,null,null,0,1,0,0,{"$error":"#DIV/0!"},null,null,{"$f":"IF((OR($E107<>\"\" )), Calculations2!$AV108,\"\")","v":""},0.70011225211586348,null,{"$f":"IF(AND(Caluations!$F97>5,Caluations!$F97<>FALSE),\"\",IF($E108=\"\",($I108/$H108)*100,$I108/$H108*100))","v":""},null,null,null,0,null,1888.9249999999997,"R4","R4","R4",21,18,1839.5,"R4",4,null,{"$error":"#VALUE!"},null,null,{"$f":"IF(LEFT(ScheduleSetup!$P$6,4)=\"Soyb\",BG108,BF108)","v":"R4"},50,null,null,null,null,null,null,null,null,null,null,null,null,0,null,0.187,null,null,null,null,null,null,null,null,null,null,null,null,null,null,null,null,null,null,null,null,null,null,null,null,null,null,null,null,null,null,null,null,null,null,null,null,null,null,null,null,null,null,null,null,null,null,null,19.454999999999998,null,null,null,null,null,null,null,null,null,null,null,null,null,null,null,null,null,null,null,null,null,null,null,null,null,null,null,null,null,null,null,null,null,null,null,null,null,null,null,null,null,null,null,null,null,null,null,null,null,null,null,null,null,null,null,null,null,null,null,null,null,null,null,null,null,null,null,null,null,null,null,null,null,null,null,null,null,null,null,null,null,null,null,null,null,null,null,null,null,null,null,null,null,null,null,null,null,null,null,null,null,null,null,null,null,null,null,null,null,null,null,null,null,null,{"$error":"#N/A"}]
["2020-08-26",36,null,null,null,1.2,0,3.9000000000000004,0.70011225211586348,"",0,{"$f":"IF(Caluations!$J98<0,0,Caluations!$J98)","v":""},null,"R4",{"$f":"IF(AND($E109=\"\",Caluations!$F98<8),$R109*$F109,0)","v":0},1906.9249999999997,{"$f":"IF(LEFT(ScheduleSetup!$P$6,4)=\"Corn\",BF109,BG109)","v":"R4"},null,null,null,null,null,null,null,null,null,null,null,null,null,null,null,null,null,null,null,null,null,null,0,1,0,0,{"$error":"#DIV/0!"},null,null,{"$f":"IF((OR($E108<>\"\" )), Calculations2!$AV109,\"\")","v":""},0.70011225211586348,null,{"$f":"IF(AND(Caluations!$F98>5,Caluations!$F98<>FALSE),\"\",IF($E109=\"\",($I109/$H109)*100,$I109/$H109*100))","v":""},null,null,null,0,null,1906.9249999999997,"R4","R4","R4",21,18,1857.5,"R4",5,null,{"$error":"#VALUE!"},null,null,{"$f":"IF(LEFT(ScheduleSetup!$P$6,4)=\"Soyb\",BG109,BF109)","v":"R4"},50,null,null,null,null,null,null,null,null,null,null,null,null,null,0,null,0.183,null,null,null,null,null,null,null,null,null,null,null,null,null,null,null,null,null,null,null,null,null,null,null,null,null,null,null,null,null,null,null,null,null,null,null,null,null,null,null,null,null,null,null,null,null,null,null,22.815000000000001,null,null,null,null,null,null,null,null,null,null,null,null,null,null,null,null,null,null,null,null,null,null,null,null,null,null,null,null,null,null,null,null,null,null,null,null,null,null,null,null,null,null,null,null,null,null,null,null,null,null,null,null,null,null,null,null,null,null,null,null,null,null,null,null,null,null,null,null,null,null,null,null,null,null,null,null,null,null,null,null,null,null,null,null,null,null,null,null,null,null,null,null,null,null,null,null,null,null,null,null,null,null,null,null,null,null,null,null,null,null,null,null,null,{"$error":"#N/A"}]
["2020-08-27",36,null,null,null,1.2,0,3.9000000000000004,0.70011225211586348,"",0,{"$f":"IF(Caluations!$J99<0,0,Caluations!$J99)","v":""},null,"R4",{"$f":"IF(AND($E110=\"\",Caluations!$F99<8),$R110*$F110,0)","v":0},1924.9249999999997,{"$f":"IF(LEFT(ScheduleSetup!$P$6,4)=\"Corn\",BF110,BG110)","v":"R4"},null,null,null,null,null,null,null,null,null,null,null,null,null,null,null,null,null,null,null,null,null,null,0,1,0,0,{"$error":"#DIV/0!"},null,null,{"$f":"IF((OR($E109<>\"\" )), Calculations2!$AV110,\"\")","v":""},0.70011225211586348,null,{"$f":"IF(AND(Caluations!$F99>5,Caluations!$F99<>FALSE),\"\",IF($E110=\"\",($I110/$H110)*100,$I110/$H110*100))","v":""},null,null,null,0,null,1924.9249999999997,"R4","R4","R4",21,18,1875.5,"R4",6,null,{"$error":"#VALUE!"},null,null,{"$f":"IF(LEFT(ScheduleSetup!$P$6,4)=\"Soyb\",BG110,BF110)","v":"R4"},50,null,null,null,null,null,null,null,null,null,null,null,null,null,null,7.0000000000000007E-2,null,8.4000000000000005E-2,null,null,null,null,null,null,null,null,null,null,null,null,null,null,null,null,null,null,null,null,null,null,null,null,null,null,null,null,null,null,null,null,null,null,null,null,null,null,null,null,null,null,null,null,null,null,null,23.36,null,null,null,null,null,null,null,null,null,null,null,null,null,null,null,null,null,null,null,null,null,null,null,null,null,null,null,null,null,null,null,null,null,null,null,null,null,null,null,null,null,null,null,null,null,null,null,null,null,null,null,null,null,null,null,null,null,null,null,null,null,null,null,null,null,null,null,null,null,null,null,null,null,null,null,null,null,null,null,null,null,null,null,null,null,null,null,null,null,null,null,null,null,null,null,null,null,null,null,null,null,null,null,null,null,null,null,null,null,null,null,null,{"$error":"#N/A"}]
["2020-08-28",36,null,null,null,1.2,0,3.9000000000000004,0.70011225211586348,"",0,{"$f":"IF(Caluations!$J100<0,0,Caluations!$J100)","v":""},null,"R4",{"$f":"IF(AND($E111=\"\",Caluations!$F100<8),$R111*$F111,0)","v":0},1941.9249999999997,{"$f":"IF(LEFT(ScheduleSetup!$P$6,4)=\"Corn\",BF111,BG111)","v":"R4"},null,null,null,null,null,null,null,null,null,null,null,null,null,null,null,null,null,null,null,null,null,null,0,1,0,0,{"$error":"#DIV/0!"},null,null,{"$f":"IF((OR($E110<>\"\" )), Calculations2!$AV111,\"\")","v":""},0.70011225211586348,null,{"$f":"IF(AND(Caluations!$F100>5,Caluations!$F100<>FALSE),\"\",IF($E111=\"\",($I111/$H111)*100,$I111/$H111*100))","v":""},null,null,null,0,null,1941.9249999999997,"R4","R4","R4",21,17,1892.5,"R4",7,null,{"$error":"#VALUE!"},null,null,{"$f":"IF(LEFT(ScheduleSetup!$P$6,4)=\"Soyb\",BG111,BF111)","v":"R4"},50,null,null,null,null,null,null,null,null,null,null,null,null,null,null,null,0.01,null,4.2999999999999997E-2,null,null,null,null,null,null,null,null,null,null,null,null,null,null,null,null,null,null,null,null,null,null,null,null,null,null,null,null,null,null,null,null,null,null,null,null,null,null,null,null,null,null,null,null,null,null,null,10.875,null,null,null,null,null,null,null,null,null,null,null,null,null,null,null,null,null,null,null,null,null,null,null,null,null,null,null,null,null,null,null,null,null,null,null,null,null,null,null,null,null,null,null,null,null,null,null,null,null,null,null,null,null,null,null,null,null,null,null,null,null,null,null,null,null,null,null,null,null,null,null,null,null,null,null,null,null,null,null,null,null,null,null,null,null,null,null,null,null,null,null,null,null,null,null,null,null,null,null,null,null,null,null,null,null,null,null,null,null,null,null,{"$error":"#N/A"}]
["2020-08-29",36,null,null,null,1.2,0,3.9000000000000004,0.70011225211586348,"",0,{"$f":"IF(Caluations!$J101<0,0,Caluations!$J101)","v":""},null,"R4",{"$f":"IF(AND($E112=\"\",Caluations!$F101<8),$R112*$F112,0)","v":0},1958.9249999999997,{"$f":"IF(LEFT(ScheduleSetup!$P$6,4)=\"Corn\",BF112,BG112)","v":"R4"},null,null,null,null,null,null,null,null,null,null,null,null,null,null,null,null,null,null,null,null,null,null,0,1,0,0,{"$error":"#DIV/0!"},null,null,{"$f":"IF((OR($E111<>\"\" )), Calculations2!$AV112,\"\")","v":""},0.70011225211586348,null,{"$f":"IF(AND(Caluations!$F101>5,Caluations!$F101<>FALSE),\"\",IF($E112=\"\",($I112/$H112)*100,$I112/$H112*100))","v":""},null,null,null,0,null,1958.9249999999997,"R4","R4","R5",20,17,1909.5,"R4",8,null,{"$error":"#VALUE!"},null,null,{"$f":"IF(LEFT(ScheduleSetup!$P$6,4)=\"Soyb\",BG112,BF112)","v":"R4"},50,null,null,null,null,null,null,null,null,null,null,null,null,null,null,null,null,0,null,0.16900000000000001,null,null,null,null,null,null,null,null,null,null,null,null,null,null,null,null,null,null,null,null,null,null,null,null,null,null,null,null,null,null,null,null,null,null,null,null,null,null,null,null,null,null,null,null,null,null,null,13.175000000000001,null,null,null,null,null,null,null,null,null,null,null,null,null,null,null,null,null,null,null,null,null,null,null,null,null,null,null,null,null,null,null,null,null,null,null,null,null,null,null,null,null,null,null,null,null,null,null,null,null,null,null,null,null,null,null,null,null,null,null,null,null,null,null,null,null,null,null,null,null,null,null,null,null,null,null,null,null,null,null,null,null,null,null,null,null,null,null,null,null,null,null,null,null,null,null,null,null,null,null,null,null,null,null,null,null,null,null,null,null,null,{"$error":"#N/A"}]
["2020-08-30",36,null,null,null,1.2,0,3.9000000000000004,0.70011225211586348,"",0,{"$f":"IF(Caluations!$J102<0,0,Caluations!$J102)","v":""},null,"R4",{"$f":"IF(AND($E113=\"\",Caluations!$F102<8),$R113*$F113,0)","v":0},1975.9249999999997,{"$f":"IF(LEFT(ScheduleSetup!$P$6,4)=\"Corn\",BF113,BG113)","v":"R4"},null,null,null,null,null,null,null,null,null,null,null,null,null,null,null,null,null,null,null,null,null,null,0,1,0,0,{"$error":"#DIV/0!"},null,null,{"$f":"IF((OR($E112<>\"\" )), Calculations2!$AV113,\"\")","v":""},0.70011225211586348,null,{"$f":"IF(AND(Caluations!$F102>5,Caluations!$F102<>FALSE),\"\",IF($E113=\"\",($I113/$H113)*100,$I113/$H113*100))","v":""},null,null,null,0,null,1975.9249999999997,"R4","R4","R5",20,17,1926.5,"R4",9,null,{"$error":"#VALUE!"},null,null,{"$f":"IF(LEFT(ScheduleSetup!$P$6,4)=\"Soyb\",BG113,BF113)","v":"R4"},50,null,null,null,null,null,null,null,null,null,null,null,null,null,null,null,null,null,0,null,0.17199999999999999,null,null,null,null,null,null,null,null,null,null,null,null,null,null,null,null,null,null,null,null,null,null,null,null,null,null,null,null,null,null,null,null,null,null,null,null,null,null,null,null,null,null,null,null,null,null,null,10.18,null,null,null,null,null,null,null,null,null,null,null,null,null,null,null,null,null,null,null,null,null,null,null,null,null,null,null,null,null,null,null,null,null,null,null,null,null,null,null,null,null,null,null,null,null,null,null,null,null,null,null,null,null,null,null,null,null,null,null,null,null,null,null,null,null,null,null,null,null,null,null,null,null,null,null,null,null,null,null,null,null,null,null,null,null,null,null,null,null,null,null,null,null,null,null,null,null,null,null,null,null,null,null,null,null,null,null,null,null,{"$error":"#N/A"}]
["2020-08-31",36,null,null,null,1.2,0,3.9000000000000004,0.70011225211586348,"",0,{"$f":"IF(Caluations!$J103<0,0,Caluations!$J103)","v":""},null,"R4",{"$f":"IF(AND($E114=\"\",Caluations!$F103<8),$R114*$F114,0)","v":0},1992.9249999999997,{"$f":"IF(LEFT(ScheduleSetup!$P$6,4)=\"Corn\",BF114,BG114)","v":"R4"},null,null,null,null,null,null,null,null,null,null,null,null,null,null,null,null,null,null,null,null,null,null,0,1,0,0,{"$error":"#DIV/0!"},null,null,{"$f":"IF((OR($E113<>\"\" )), Calculations2!$AV114,\"\")","v":""},0.70011225211586348,null,{"$f":"IF(AND(Caluations!$F103>5,Caluations!$F103<>FALSE),\"\",IF($E114=\"\",($I114/$H114)*100,$I114/$H114*100))","v":""},null,null,null,0,null,1992.9249999999997,"R4","R4","R5",20,17,1943.5,"R4",10,null,{"$error":"#VALUE!"},null,null,{"$f":"IF(LEFT(ScheduleSetup!$P$6,4)=\"Soyb\",BG114,BF114)","v":"R4"},50,null,null,null,null,null,null,null,null,null,null,null,null,null,null,null,null,null,null,0,null,0.16900000000000001,null,null,null,null,null,null,null,null,null,null,null,null,null,null,null,null,null,null,null,null,null,null,null,null,null,null,null,null,null,null,null,null,null,null,null,null,null,null,null,null,null,null,null,null,null,null,null,11.914999999999999,null,null,null,null,null,null,null,null,null,null,null,null,null,null,null,null,null,null,null,null,null,null,null,null,null,null,null,null,null,null,null,null,null,null,null,null,null,null,null,null,null,null,null,null,null,null,null,null,null,null,null,null,null,null,null,null,null,null,null,null,null,null,null,null,null,null,null,null,null,null,null,null,null,null,null,null,null,null,null,null,null,null,null,null,null,null,null,null,null,null,null,null,null,null,null,null,null,null,null,null,null,null,null,null,null,null,null,null,{"$error":"#N/A"}]
["2020-09-01",36,null,null,null,1.2,0,3.9000000000000004,0.70011225211586348,"",0,{"$f":"IF(Caluations!$J104<0,0,Caluations!$J104)","v":""},null,"R4",{"$f":"IF(AND($E115=\"\",Caluations!$F104<8),$R115*$F115,0)","v":0},2008.9249999999997,{"$f":"IF(LEFT(ScheduleSetup!$P$6,4)=\"Corn\",BF115,BG115)","v":"R4"},null,null,null,null,null,null,null,null,null,null,null,null,null,null,null,null,null,null,null,null,null,null,0,1,0,0,{"$error":"#DIV/0!"},null,null,{"$f":"IF((OR($E114<>\"\" )), Calculations2!$AV115,\"\")","v":""},0.70011225211586348,null,{"$f":"IF(AND(Caluations!$F104>5,Caluations!$F104<>FALSE),\"\",IF($E115=\"\",($I115/$H115)*100,$I115/$H115*100))","v":""},null,null,null,0,null,2008.9249999999997,"R4","R4","R5",20,16,1959.5,"R4",11,null,{"$error":"#VALUE!"},null,null,{"$f":"IF(LEFT(ScheduleSetup!$P$6,4)=\"Soyb\",BG115,BF115)","v":"R4"},50,null,null,null,null,null,null,null,null,null,null,null,null,null,null,null,null,null,null,null,0,null,0.14399999999999999,null,null,null,null,null,null,null,null,null,null,null,null,null,null,null,null,null,null,null,null,null,null,null,null,null,null,null,null,null,null,null,null,null,null,null,null,null,null,null,null,null,null,null,null,null,null,null,17.899999999999999,null,null,null,null,null,null,null,null,null,null,null,null,null,null,null,null,null,null,null,null,null,null,null,null,null,null,null,null,null,null,null,null,null,null,null,null,null,null,null,null,null,null,null,null,null,null,null,null,null,null,null,null,null,null,null,null,null,null,null,null,null,null,null,null,null,null,null,null,null,null,null,null,null,null,null,null,null,null,null,null,null,null,null,null,null,null,null,null,null,null,null,null,null,null,null,null,null,null,null,null,null,null,null,null,null,null,null,{"$error":"#N/A"}]
[{"$f":"1+A115","v":"2020-09-02"},36,null,null,null,1.2,0,3.9000000000000004,0.70011225211586348,"",{"$f":"IF(IF(OR($J116<103,$E115=\"\"),0,$C116+$D116+$I115-$G116-($H116*1.03))>0, IF(OR($J116<103,$E115=\"\"),0,$C116+$D116+$I115-$G116-($H116*1.03)),0)","v":0},{"$f":"IF(Caluations!$J105<0,0,Caluations!$J105)","v":""},null,"R4",{"$f":"IF(AND($E116=\"\",Caluations!$F105<8),$R116*$F116,0)","v":0},2024.9249999999997,{"$f":"IF(LEFT(ScheduleSetup!$P$6,4)=\"Corn\",BF116,BG116)","v":"R4"},null,null,null,null,null,null,null,null,null,null,null,null,null,null,null,null,null,null,null,null,null,null,{"$f":"+$F116*$E115","v":0},1,0,0,{"$error":"#DIV/0!"},null,null,{"$f":"IF((OR($E115<>\"\" )), Calculations2!$AV116,\"\")","v":""},0.70011225211586348,null,{"$f":"IF(AND(Caluations!$F105>5,Caluations!$F105<>FALSE),\"\",IF($E116=\"\",($I116/$H116)*100,$I116/$H116*100))","v":""},null,null,null,0,null,2024.9249999999997,"R4","R4","R5",20,16,1975.5,"R4",12,null,{"$error":"#VALUE!"},null,null,{"$f":"IF(LEFT(ScheduleSetup!$P$6,4)=\"Soyb\",BG116,BF116)","v":"R4"},50,null,null,null,null,null,null,null,null,null,null,null,null,null,null,null,null,null,null,null,null,0,null,9.1999999999999998E-2,null,null,null,null,null,null,null,null,null,null,null,null,null,null,null,null,null,null,null,null,null,null,null,null,null,null,null,null,null,null,null,null,null,null,null,null,null,null,null,null,null,null,null,null,null,null,null,22.52,null,null,null,null,null,null,null,null,null,null,null,null,null,null,null,null,null,null,null,null,null,null,null,null,null,null,null,null,null,null,null,null,null,null,null,null,null,null,null,null,null,null,null,null,null,null,null,null,null,null,null,null,null,null,null,null,null,null,null,null,null,null,null,null,null,null,null,null,null,null,null,null,null,null,null,null,null,null,null,null,null,null,null,null,null,null,null,null,null,null,null,null,null,null,null,null,null,null,null,null,null,null,null,null,null,null,{"$error":"#N/A"}]
["2020-09-03",36,null,null,null,1.1000000000000001,0,3.9000000000000004,0.70011225211586348,"",0,{"$f":"IF(Caluations!$J106<0,0,Caluations!$J106)","v":""},null,"R5",{"$f":"IF(AND($E117=\"\",Caluations!$F106<8),$R117*$F117,0)","v":0},2040.9249999999997,{"$f":"IF(LEFT(ScheduleSetup!$P$6,4)=\"Corn\",BF117,BG117)","v":"R5"},null,null,null,null,null,null,null,null,null,null,null,null,null,null,null,null,null,null,null,null,null,null,0,1,0,0,{"$error":"#DIV/0!"},null,null,{"$f":"IF((OR($E116<>\"\" )), Calculations2!$AV117,\"\")","v":""},0.70011225211586348,null,{"$f":"IF(AND(Caluations!$F106>5,Caluations!$F106<>FALSE),\"\",IF($E117=\"\",($I117/$H117)*100,$I117/$H117*100))","v":""},null,null,null,0,null,2040.9249999999997,"R4","R5","R5",20,16,1991.5,"R4",1,null,{"$error":"#VALUE!"},null,null,{"$f":"IF(LEFT(ScheduleSetup!$P$6,4)=\"Soyb\",BG117,BF117)","v":"R5"},50,null,null,null,null,null,null,null,null,null,null,null,null,null,null,null,null,null,null,null,null,null,0,null,0.11799999999999999,null,null,null,null,null,null,null,null,null,null,null,null,null,null,null,null,null,null,null,null,null,null,null,null,null,null,null,null,null,null,null,null,null,null,null,null,null,null,null,null,null,null,null,null,null,null,null,21.555,null,null,null,null,null,null,null,null,null,null,null,null,null,null,null,null,null,null,null,null,null,null,null,null,null,null,null,null,null,null,null,null,null,null,null,null,null,null,null,null,null,null,null,null,null,null,null,null,null,null,null,null,null,null,null,null,null,null,null,null,null,null,null,null,null,null,null,null,null,null,null,null,null,null,null,null,null,null,null,null,null,null,null,null,null,null,null,null,null,null,null,null,null,null,null,null,null,null,null,null,null,null,null,null,null,{"$error":"#N/A"}]
["2020-09-04",36,null,null,null,1.0780000000000001,0,3.9000000000000004,0.70011225211586348,"",0,{"$f":"IF(Caluations!$J107<0,0,Caluations!$J107)","v":""},null,"R5",{"$f":"IF(AND($E118=\"\",Caluations!$F107<8),$R118*$F118,0)","v":0},2056.9249999999997,{"$f":"IF(LEFT(ScheduleSetup!$P$6,4)=\"Corn\",BF118,BG118)","v":"R5"},null,null,null,null,null,null,null,null,null,null,null,null,null,null,null,null,null,null,null,null,null,null,0,1,0,0,{"$error":"#DIV/0!"},null,null,{"$f":"IF((OR($E117<>\"\" )), Calculations2!$AV118,\"\")","v":""},0.70011225211586348,null,{"$f":"IF(AND(Caluations!$F107>5,Caluations!$F107<>FALSE),\"\",IF($E118=\"\",($I118/$H118)*100,$I118/$H118*100))","v":""},null,null,null,0,null,2056.9249999999997,"R4","R5","R5",19,16,2007.5,"R4",2,null,{"$error":"#VALUE!"},null,null,{"$f":"IF(LEFT(ScheduleSetup!$P$6,4)=\"Soyb\",BG118,BF118)","v":"R5"},50,null,null,null,null,null,null,null,null,null,null,null,null,null,null,null,null,null,null,null,null,null,null,0.16,null,0.105,null,null,null,null,null,null,null,null,null,null,null,null,null,null,null,null,null,null,null,null,null,null,null,null,null,null,null,null,null,null,null,null,null,null,null,null,null,null,null,null,null,null,null,null,null,null,null,23.29,null,null,null,null,null,null,null,null,null,null,null,null,null,null,null,null,null,null,null,null,null,null,null,null,null,null,null,null,null,null,null,null,null,null,null,null,null,null,null,null,null,null,null,null,null,null,null,null,null,null,null,null,null,null,null,null,null,null,null,null,null,null,null,null,null,null,null,null,null,null,null,null,null,null,null,null,null,null,null,null,null,null,null,null,null,null,null,null,null,null,null,null,null,null,null,null,null,null,null,null,null,null,null,null,{"$error":"#N/A"}]
["2020-09-05",36,null,null,null,1.056,0,3.9000000000000004,0.70011225211586348,"",0,{"$f":"IF(Caluations!$J108<0,0,Caluations!$J108)","v":""},null,"R5",{"$f":"IF(AND($E119=\"\",Caluations!$F108<8),$R119*$F119,0)","v":0},2071.9249999999997,{"$f":"IF(LEFT(ScheduleSetup!$P$6,4)=\"Corn\",BF119,BG119)","v":"R5"},null,null,null,null,null,null,null,null,null,null,null,null,null,null,null,null,null,null,null,null,null,null,0,1,0,0,{"$error":"#DIV/0!"},null,null,{"$f":"IF((OR($E118<>\"\" )), Calculations2!$AV119,\"\")","v":""},0.70011225211586348,null,{"$f":"IF(AND(Caluations!$F108>5,Caluations!$F108<>FALSE),\"\",IF($E119=\"\",($I119/$H119)*100,$I119/$H119*100))","v":""},null,null,null,0,null,2071.9249999999997,"R4","R5","R5",19,15,2022.5,"R4",3,null,{"$error":"#VALUE!"},null,null,{"$f":"IF(LEFT(ScheduleSetup!$P$6,4)=\"Soyb\",BG119,BF119)","v":"R5"},50,null,null,null,null,null,null,null,null,null,null,null,null,null,null,null,null,null,null,null,null,null,null,null,0,null,0.156,null,null,null,null,null,null,null,null,null,null,null,null,null,null,null,null,null,null,null,null,null,null,null,null,null,null,null,null,null,null,null,null,null,null,null,null,null,null,null,null,null,null,null,null,null,null,null,22.39,null,null,null,null,null,null,null,null,null,null,null,null,null,null,null,null,null,null,null,null,null,null,null,null,null,null,null,null,null,null,null,null,null,null,null,null,null,null,null,null,null,null,null,null,null,null,null,null,null,null,null,null,null,null,null,null,null,null,null,null,null,null,null,null,null,null,null,null,null,null,null,null,null,null,null,null,null,null,null,null,null,null,null,null,null,null,null,null,null,null,null,null,null,null,null,null,null,null,null,null,null,null,null,{"$error":"#N/A"}]
["2020-09-06",36,null,null,null,1.034,0,3.9000000000000004,0.70011225211586348,"",0,{"$f":"IF(Caluations!$J109<0,0,Caluations!$J109)","v":""},null,"R5",{"$f":"IF(AND($E120=\"\",Caluations!$F109<8),$R120*$F120,0)","v":0},2086.9249999999997,{"$f":"IF(LEFT(ScheduleSetup!$P$6,4)=\"Corn\",BF120,BG120)","v":"R5"},null,null,null,null,null,null,null,null,null,null,null,null,null,null,null,null,null,null,null,null,null,null,0,1,0,0,{"$error":"#DIV/0!"},null,null,{"$f":"IF((OR($E119<>\"\" )), Calculations2!$AV120,\"\")","v":""},0.70011225211586348,null,{"$f":"IF(AND(Caluations!$F109>5,Caluations!$F109<>FALSE),\"\",IF($E120=\"\",($I120/$H120)*100,$I120/$H120*100))","v":""},null,null,null,0,null,2086.9249999999997,"R5","R5","R5",19,15,2037.5,"R5",4,null,{"$error":"#VALUE!"},null,null,{"$f":"IF(LEFT(ScheduleSetup!$P$6,4)=\"Soyb\",BG120,BF120)","v":"R5"},50,null,null,null,null,null,null,null,null,null,null,null,null,null,null,null,null,null,null,null,null,null,null,null,null,0.27,null,0.09,null,null,null,null,null,null,null,null,null,null,null,null,null,null,null,null,null,null,null,null,null,null,null,null,null,null,null,null,null,null,null,null,null,null,null,null,null,null,null,null,null,null,null,null,null,null,null,23.84,null,null,null,null,null,null,null,null,null,null,null,null,null,null,null,null,null,null,null,null,null,null,null,null,null,null,null,null,null,null,null,null,null,null,null,null,null,null,null,null,null,null,null,null,null,null,null,null,null,null,null,null,null,null,null,null,null,null,null,null,null,null,null,null,null,null,null,null,null,null,null,null,null,null,null,null,null,null,null,null,null,null,null,null,null,null,null,null,null,null,null,null,null,null,null,null,null,null,null,null,null,null,{"$error":"#N/A"}]
["2020-09-07",36,null,null,null,1.012,0,3.9000000000000004,0.70011225211586348,"",0,{"$f":"IF(Caluations!$J110<0,0,Caluations!$J110)","v":""},null,"R5",{"$f":"IF(AND($E121=\"\",Caluations!$F110<8),$R121*$F121,0)","v":0},2101.9249999999997,{"$f":"IF(LEFT(ScheduleSetup!$P$6,4)=\"Corn\",BF121,BG121)","v":"R5"},null,null,null,null,null,null,null,null,null,null,null,null,null,null,null,null,null,null,null,null,null,null,0,1,0,0,{"$error":"#DIV/0!"},null,null,{"$f":"IF((OR($E120<>\"\" )), Calculations2!$AV121,\"\")","v":""},0.70011225211586348,null,{"$f":"IF(AND(Caluations!$F110>5,Caluations!$F110<>FALSE),\"\",IF($E121=\"\",($I121/$H121)*100,$I121/$H121*100))","v":""},null,null,null,0,null,2101.9249999999997,"R5","R5","R5",19,15,2052.5,"R5",5,null,{"$error":"#VALUE!"},null,null,{"$f":"IF(LEFT(ScheduleSetup!$P$6,4)=\"Soyb\",BG121,BF121)","v":"R5"},50,null,null,null,null,null,null,null,null,null,null,null,null,null,null,null,null,null,null,null,null,null,null,null,null,null,0,null,8.3000000000000004E-2,null,null,null,null,null,null,null,null,null,null,null,null,null,null,null,null,null,null,null,null,null,null,null,null,null,null,null,null,null,null,null,null,null,null,null,null,null,null,null,null,null,null,null,null,null,null,null,25.82,null,null,null,null,null,null,null,null,null,null,null,null,null,null,null,null,null,null,null,null,null,null,null,null,null,null,null,null,null,null,null,null,null,null,null,null,null,null,null,null,null,null,null,null,null,null,null,null,null,null,null,null,null,null,null,null,null,null,null,null,null,null,null,null,null,null,null,null,null,null,null,null,null,null,null,null,null,null,null,null,null,null,null,null,null,null,null,null,null,null,null,null,null,null,null,null,null,null,null,null,null,{"$error":"#N/A"}]
["2020-09-08",36,null,null,null,0.99,0,3.9000000000000004,0.70011225211586348,"",0,{"$f":"IF(Caluations!$J111<0,0,Caluations!$J111)","v":""},null,"R5",{"$f":"IF(AND($E122=\"\",Caluations!$F111<8),$R122*$F122,0)","v":0},2116.9249999999997,{"$f":"IF(LEFT(ScheduleSetup!$P$6,4)=\"Corn\",BF122,BG122)","v":"R5"},null,null,null,null,null,null,null,null,null,null,null,null,null,null,null,null,null,null,null,null,null,null,0,1,0,0,{"$error":"#DIV/0!"},null,null,{"$f":"IF((OR($E121<>\"\" )), Calculations2!$AV122,\"\")","v":""},0.70011225211586348,null,{"$f":"IF(AND(Caluations!$F111>5,Caluations!$F111<>FALSE),\"\",IF($E122=\"\",($I122/$H122)*100,$I122/$H122*100))","v":""},null,null,null,0,null,2116.9249999999997,"R5","R5","R5",19,15,2067.5,"R5",6,null,{"$error":"#VALUE!"},null,null,{"$f":"IF(LEFT(ScheduleSetup!$P$6,4)=\"Soyb\",BG122,BF122)","v":"R5"},50,null,null,null,null,null,null,null,null,null,null,null,null,null,null,null,null,null,null,null,null,null,null,null,null,null,null,0,null,0.109,null,null,null,null,null,null,null,null,null,null,null,null,null,null,null,null,null,null,null,null,null,null,null,null,null,null,null,null,null,null,null,null,null,null,null,null,null,null,null,null,null,null,null,null,null,null,null,26.055,null,null,null,null,null,null,null,null,null,null,null,null,null,null,null,null,null,null,null,null,null,null,null,null,null,null,null,null,null,null,null,null,null,null,null,null,null,null,null,null,null,null,null,null,null,null,null,null,null,null,null,null,null,null,null,null,null,null,null,null,null,null,null,null,null,null,null,null,null,null,null,null,null,null,null,null,null,null,null,null,null,null,null,null,null,null,null,null,null,null,null,null,null,null,null,null,null,null,null,null,{"$error":"#N/A"}]
["2020-09-09",36,null,null,null,0.96799999999999997,0,3.9000000000000004,0.70011225211586348,"",0,{"$f":"IF(Caluations!$J112<0,0,Caluations!$J112)","v":""},null,"R5",{"$f":"IF(AND($E123=\"\",Caluations!$F112<8),$R123*$F123,0)","v":0},2130.9249999999997,{"$f":"IF(LEFT(ScheduleSetup!$P$6,4)=\"Corn\",BF123,BG123)","v":"R5"},null,null,null,null,null,null,null,null,null,null,null,null,null,null,null,null,null,null,null,null,null,null,0,1,0,0,{"$error":"#DIV/0!"},null,null,{"$f":"IF((OR($E122<>\"\" )), Calculations2!$AV123,\"\")","v":""},0.70011225211586348,null,{"$f":"IF(AND(Caluations!$F112>5,Caluations!$F112<>FALSE),\"\",IF($E123=\"\",($I123/$H123)*100,$I123/$H123*100))","v":""},null,null,null,0,null,2130.9249999999997,"R5","R5","R5",19,14,2081.5,"R5",7,null,{"$error":"#VALUE!"},null,null,{"$f":"IF(LEFT(ScheduleSetup!$P$6,4)=\"Soyb\",BG123,BF123)","v":"R5"},50,null,null,null,null,null,null,null,null,null,null,null,null,null,null,null,null,null,null,null,null,null,null,null,null,null,null,null,0,null,0.11899999999999999,null,null,null,null,null,null,null,null,null,null,null,null,null,null,null,null,null,null,null,null,null,null,null,null,null,null,null,null,null,null,null,null,null,null,null,null,null,null,null,null,null,null,null,null,null,null,null,23.78,null,null,null,null,null,null,null,null,null,null,null,null,null,null,null,null,null,null,null,null,null,null,null,null,null,null,null,null,null,null,null,null,null,null,null,null,null,null,null,null,null,null,null,null,null,null,null,null,null,null,null,null,null,null,null,null,null,null,null,null,null,null,null,null,null,null,null,null,null,null,null,null,null,null,null,null,null,null,null,null,null,null,null,null,null,null,null,null,null,null,null,null,null,null,null,null,null,null,null,{"$error":"#N/A"}]
["2020-09-10",36,null,null,null,0.94599999999999995,0,3.9000000000000004,0.70011225211586348,"",0,{"$f":"IF(Caluations!$J113<0,0,Caluations!$J113)","v":""},null,"R5",{"$f":"IF(AND($E124=\"\",Caluations!$F113<8),$R124*$F124,0)","v":0},2144.9249999999997,{"$f":"IF(LEFT(ScheduleSetup!$P$6,4)=\"Corn\",BF124,BG124)","v":"R5"},null,null,null,null,null,null,null,null,null,null,null,null,null,null,null,null,null,null,null,null,null,null,0,1,0,0,{"$error":"#DIV/0!"},null,null,{"$f":"IF((OR($E123<>\"\" )), Calculations2!$AV124,\"\")","v":""},{"$f":"MAX(IF(($I123+$C124+$D124-$G124)+(($H124-$H123)*$B$13/100)>($H124*1.03),($H124*1.03),($I123+$C124+$D124-$G124-O124)+(($H124-$H123)*$B$13/100)),0)","v":0.70011225211586348},null,{"$f":"IF(AND(Caluations!$F113>5,Caluations!$F113<>FALSE),\"\",IF($E124=\"\",($I124/$H124)*100,$I124/$H124*100))","v":""},null,null,null,0,null,2144.9249999999997,"R5","R5","R5",19,14,2095.5,"R5",8,null,{"$error":"#VALUE!"},null,null,{"$f":"IF(LEFT(ScheduleSetup!$P$6,4)=\"Soyb\",BG124,BF124)","v":"R5"},50,null,null,null,null,null,null,null,null,null,null,null,null,null,null,null,null,null,null,null,null,null,null,null,null,null,null,null,null,0.02,null,0.122,null,null,null,null,null,null,null,null,null,null,null,null,null,null,null,null,null,null,null,null,null,null,null,null,null,null,null,null,null,null,null,null,null,null,null,null,null,null,null,null,null,null,null,null,null,null,null,27.045000000000002,null,null,null,null,null,null,null,null,null,null,null,null,null,null,null,null,null,null,null,null,null,null,null,null,null,null,null,null,null,null,null,null,null,null,null,null,null,null,null,null,null,null,null,null,null,null,null,null,null,null,null,null,null,null,null,null,null,null,null,null,null,null,null,null,null,null,null,null,null,null,null,null,null,null,null,null,null,null,null,null,null,null,null,null,null,null,null,null,null,null,null,null,null,null,null,null,null,null,{"$error":"#N/A"}]
["2020-09-11",36,null,null,null,0.92399999999999993,0,3.9000000000000004,0.70011225211586348,"",0,{"$f":"IF(Caluations!$J114<0,0,Caluations!$J114)","v":""},null,"R5",{"$f":"IF(AND($E125=\"\",Caluations!$F114<8),$R125*$F125,0)","v":0},2157.9249999999997,{"$f":"IF(LEFT(ScheduleSetup!$P$6,4)=\"Corn\",BF125,BG125)","v":"R5"},null,null,null,null,null,null,null,null,null,null,null,null,null,null,null,null,null,null,null,null,null,null,0,1,0,0,{"$error":"#DIV/0!"},null,null,{"$f":"IF((OR($E124<>\"\" )), Calculations2!$AV125,\"\")","v":""},0.70011225211586348,null,{"$f":"IF(AND(Caluations!$F114>5,Caluations!$F114<>FALSE),\"\",IF($E125=\"\",($I125/$H125)*100,$I125/$H125*100))","v":""},null,null,null,0,null,2157.9249999999997,"R5","R5","R6",18,13,2108.5,"R5",9,null,{"$error":"#VALUE!"},null,null,{"$f":"IF(LEFT(ScheduleSetup!$P$6,4)=\"Soyb\",BG125,BF125)","v":"R5"},50,null,null,null,null,null,null,null,null,null,null,null,null,null,null,null,null,null,null,null,null,null,null,null,null,null,null,null,null,null,1.32,null,0.06,null,null,null,null,null,null,null,null,null,null,null,null,null,null,null,null,null,null,null,null,null,null,null,null,null,null,null,null,null,null,null,null,null,null,null,null,null,null,null,null,null,null,null,null,null,null,null,22.4,null,null,null,null,null,null,null,null,null,null,null,null,null,null,null,null,null,null,null,null,null,null,null,null,null,null,null,null,null,null,null,null,null,null,null,null,null,null,null,null,null,null,null,null,null,null,null,null,null,null,null,null,null,null,null,null,null,null,null,null,null,null,null,null,null,null,null,null,null,null,null,null,null,null,null,null,null,null,null,null,null,null,null,null,null,null,null,null,null,null,null,null,null,null,null,null,null,{"$error":"#N/A"}]
["2020-09-12",36,null,null,null,0.90199999999999991,0,3.9000000000000004,0.70011225211586348,"",0,{"$f":"IF(Caluations!$J115<0,0,Caluations!$J115)","v":""},null,"R5",{"$f":"IF(AND($E126=\"\",Caluations!$F115<8),$R126*$F126,0)","v":0},2170.9249999999997,{"$f":"IF(LEFT(ScheduleSetup!$P$6,4)=\"Corn\",BF126,BG126)","v":"R5"},null,null,null,null,null,null,null,null,null,null,null,null,null,null,null,null,null,null,null,null,null,null,0,1,0,0,{"$error":"#DIV/0!"},null,null,{"$f":"IF((OR($E125<>\"\" )), Calculations2!$AV126,\"\")","v":""},0.70011225211586348,null,{"$f":"IF(AND(Caluations!$F115>5,Caluations!$F115<>FALSE),\"\",IF($E126=\"\",($I126/$H126)*100,$I126/$H126*100))","v":""},null,null,null,0,null,2170.9249999999997,"R5","R5","R6",18,13,2121.5,"R5",10,null,{"$error":"#VALUE!"},null,null,{"$f":"IF(LEFT(ScheduleSetup!$P$6,4)=\"Soyb\",BG126,BF126)","v":"R5"},50,null,null,null,null,null,null,null,null,null,null,null,null,null,null,null,null,null,null,null,null,null,null,null,null,null,null,null,null,null,null,0,null,0.14299999999999999,null,null,null,null,null,null,null,null,null,null,null,null,null,null,null,null,null,null,null,null,null,null,null,null,null,null,null,null,null,null,null,null,null,null,null,null,null,null,null,null,null,null,null,null,null,null,null,18.739999999999998,null,null,null,null,null,null,null,null,null,null,null,null,null,null,null,null,null,null,null,null,null,null,null,null,null,null,null,null,null,null,null,null,null,null,null,null,null,null,null,null,null,null,null,null,null,null,null,null,null,null,null,null,null,null,null,null,null,null,null,null,null,null,null,null,null,null,null,null,null,null,null,null,null,null,null,null,null,null,null,null,null,null,null,null,null,null,null,null,null,null,null,null,null,null,null,null,{"$error":"#N/A"}]
["2020-09-13",36,null,null,null,0.87999999999999989,0,3.9000000000000004,0.70011225211586348,"",0,{"$f":"IF(Caluations!$J116<0,0,Caluations!$J116)","v":""},null,"R5",{"$f":"IF(AND($E127=\"\",Caluations!$F116<8),$R127*$F127,0)","v":0},2182.9249999999997,{"$f":"IF(LEFT(ScheduleSetup!$P$6,4)=\"Corn\",BF127,BG127)","v":"R5"},null,null,null,null,null,null,null,null,null,null,null,null,null,null,null,null,null,null,null,null,null,null,0,1,0,0,{"$error":"#DIV/0!"},null,null,{"$f":"IF((OR($E126<>\"\" )), Calculations2!$AV127,\"\")","v":""},0.70011225211586348,null,{"$f":"IF(AND(Caluations!$F116>5,Caluations!$F116<>FALSE),\"\",IF($E127=\"\",($I127/$H127)*100,$I127/$H127*100))","v":""},null,null,null,0,null,2182.9249999999997,"R5","R5","R6",18,12,2133.5,"R5",11,null,{"$error":"#VALUE!"},null,null,{"$f":"IF(LEFT(ScheduleSetup!$P$6,4)=\"Soyb\",BG127,BF127)","v":"R5"},50,null,null,null,null,null,null,null,null,null,null,null,null,null,null,null,null,null,null,null,null,null,null,null,null,null,null,null,null,null,null,null,0,null,0.13800000000000001,null,null,null,null,null,null,null,null,null,null,null,null,null,null,null,null,null,null,null,null,null,null,null,null,null,null,null,null,null,null,null,null,null,null,null,null,null,null,null,null,null,null,null,null,null,null,null,14.24,null,null,null,null,null,null,null,null,null,null,null,null,null,null,null,null,null,null,null,null,null,null,null,null,null,null,null,null,null,null,null,null,null,null,null,null,null,null,null,null,null,null,null,null,null,null,null,null,null,null,null,null,null,null,null,null,null,null,null,null,null,null,null,null,null,null,null,null,null,null,null,null,null,null,null,null,null,null,null,null,null,null,null,null,null,null,null,null,null,null,null,null,null,null,null,{"$error":"#N/A"}]
["2020-09-14",36,null,null,null,0.85799999999999987,0,3.9000000000000004,0.70011225211586348,"",0,{"$f":"IF(Caluations!$J117<0,0,Caluations!$J117)","v":""},null,"R5",{"$f":"IF(AND($E128=\"\",Caluations!$F117<8),$R128*$F128,0)","v":0},2194.9249999999997,{"$f":"IF(LEFT(ScheduleSetup!$P$6,4)=\"Corn\",BF128,BG128)","v":"R5"},null,null,null,null,null,null,null,null,null,null,null,null,null,null,null,null,null,null,null,null,null,null,0,1,0,0,{"$error":"#DIV/0!"},null,null,{"$f":"IF((OR($E127<>\"\" )), Calculations2!$AV128,\"\")","v":""},0.70011225211586348,null,{"$f":"IF(AND(Caluations!$F117>5,Caluations!$F117<>FALSE),\"\",IF($E128=\"\",($I128/$H128)*100,$I128/$H128*100))","v":""},null,null,null,0,null,2194.9249999999997,"R5","R5","R6",18,12,2145.5,"R5",12,null,{"$error":"#VALUE!"},null,null,{"$f":"IF(LEFT(ScheduleSetup!$P$6,4)=\"Soyb\",BG128,BF128)","v":"R5"},50,null,null,null,null,null,null,null,null,null,null,null,null,null,null,null,null,null,null,null,null,null,null,null,null,null,null,null,null,null,null,null,null,0.17,null,9.2999999999999999E-2,null,null,null,null,null,null,null,null,null,null,null,null,null,null,null,null,null,null,null,null,null,null,null,null,null,null,null,null,null,null,null,null,null,null,null,null,null,null,null,null,null,null,null,null,null,null,null,19.465,null,null,null,null,null,null,null,null,null,null,null,null,null,null,null,null,null,null,null,null,null,null,null,null,null,null,null,null,null,null,null,null,null,null,null,null,null,null,null,null,null,null,null,null,null,null,null,null,null,null,null,null,null,null,null,null,null,null,null,null,null,null,null,null,null,null,null,null,null,null,null,null,null,null,null,null,null,null,null,null,null,null,null,null,null,null,null,null,null,null,null,null,null,null,{"$error":"#N/A"}]
["2020-09-15",36,null,null,null,0.83599999999999985,0,3.9000000000000004,0.70011225211586348,"",0,{"$f":"IF(Caluations!$J118<0,0,Caluations!$J118)","v":""},null,"R5",{"$f":"IF(AND($E129=\"\",Caluations!$F118<8),$R129*$F129,0)","v":0},2205.9249999999997,{"$f":"IF(LEFT(ScheduleSetup!$P$6,4)=\"Corn\",BF129,BG129)","v":"R5"},null,null,null,null,null,null,null,null,null,null,null,null,null,null,null,null,null,null,null,null,null,null,0,1,0,0,{"$error":"#DIV/0!"},null,null,{"$f":"IF((OR($E128<>\"\" )), Calculations2!$AV129,\"\")","v":""},0.70011225211586348,null,{"$f":"IF(AND(Caluations!$F118>5,Caluations!$F118<>FALSE),\"\",IF($E129=\"\",($I129/$H129)*100,$I129/$H129*100))","v":""},null,null,null,0,null,2205.9249999999997,"R5","R5","R6",18,11,2156.5,"R5",13,null,{"$error":"#VALUE!"},null,null,{"$f":"IF(LEFT(ScheduleSetup!$P$6,4)=\"Soyb\",BG129,BF129)","v":"R5"},50,null,null,null,null,null,null,null,null,null,null,null,null,null,null,null,null,null,null,null,null,null,null,null,null,null,null,null,null,null,null,null,null,null,1.03,null,0.105,null,null,null,null,null,null,null,null,null,null,null,null,null,null,null,null,null,null,null,null,null,null,null,null,null,null,null,null,null,null,null,null,null,null,null,null,null,null,null,null,null,null,null,null,null,null,null,23.84,null,null,null,null,null,null,null,null,null,null,null,null,null,null,null,null,null,null,null,null,null,null,null,null,null,null,null,null,null,null,null,null,null,null,null,null,null,null,null,null,null,null,null,null,null,null,null,null,null,null,null,null,null,null,null,null,null,null,null,null,null,null,null,null,null,null,null,null,null,null,null,null,null,null,null,null,null,null,null,null,null,null,null,null,null,null,null,null,null,null,null,null,null,{"$error":"#N/A"}]
["2020-09-16",36,null,null,null,0.81399999999999983,0,3.9000000000000004,0.70011225211586348,"",0,{"$f":"IF(Caluations!$J119<0,0,Caluations!$J119)","v":""},null,"R5",{"$f":"IF(AND($E130=\"\",Caluations!$F119<8),$R130*$F130,0)","v":0},2216.9249999999997,{"$f":"IF(LEFT(ScheduleSetup!$P$6,4)=\"Corn\",BF130,BG130)","v":"R5"},null,null,null,null,null,null,null,null,null,null,null,null,null,null,null,null,null,null,null,null,null,null,0,1,0,0,{"$error":"#DIV/0!"},null,null,{"$f":"IF((OR($E129<>\"\" )), Calculations2!$AV130,\"\")","v":""},0.70011225211586348,null,{"$f":"IF(AND(Caluations!$F119>5,Caluations!$F119<>FALSE),\"\",IF($E130=\"\",($I130/$H130)*100,$I130/$H130*100))","v":""},null,null,null,0,null,2216.9249999999997,"R5","R5","R6",17,11,2167.5,"R5",1,null,{"$error":"#VALUE!"},null,null,{"$f":"IF(LEFT(ScheduleSetup!$P$6,4)=\"Soyb\",BG130,BF130)","v":"R5"},50,null,null,null,null,null,null,null,null,null,null,null,null,null,null,null,null,null,null,null,null,null,null,null,null,null,null,null,null,null,null,null,null,null,null,0,null,0.13,null,null,null,null,null,null,null,null,null,null,null,null,null,null,null,null,null,null,null,null,null,null,null,null,null,null,null,null,null,null,null,null,null,null,null,null,null,null,null,null,null,null,null,null,null,null,null,24.01,null,null,null,null,null,null,null,null,null,null,null,null,null,null,null,null,null,null,null,null,null,null,null,null,null,null,null,null,null,null,null,null,null,null,null,null,null,null,null,null,null,null,null,null,null,null,null,null,null,null,null,null,null,null,null,null,null,null,null,null,null,null,null,null,null,null,null,null,null,null,null,null,null,null,null,null,null,null,null,null,null,null,null,null,null,null,null,null,null,null,null,null,{"$error":"#N/A"}]
["2020-09-17",36,null,null,null,0.79199999999999982,0,3.9000000000000004,0.70011225211586348,"",0,{"$f":"IF(Caluations!$J120<0,0,Caluations!$J120)","v":""},null,"R5",{"$f":"IF(AND($E131=\"\",Caluations!$F120<8),$R131*$F131,0)","v":0},2226.9249999999997,{"$f":"IF(LEFT(ScheduleSetup!$P$6,4)=\"Corn\",BF131,BG131)","v":"R5"},null,null,null,null,null,null,null,null,null,null,null,null,null,null,null,null,null,null,null,null,null,null,0,1,0,0,{"$error":"#DIV/0!"},null,null,{"$f":"IF((OR($E130<>\"\" )), Calculations2!$AV131,\"\")","v":""},0.70011225211586348,null,{"$f":"IF(AND(Caluations!$F120>5,Caluations!$F120<>FALSE),\"\",IF($E131=\"\",($I131/$H131)*100,$I131/$H131*100))","v":""},null,null,null,0,null,2226.9249999999997,"R5","R5","R6",17,10,2177.5,"R5",2,null,{"$error":"#VALUE!"},null,null,{"$f":"IF(LEFT(ScheduleSetup!$P$6,4)=\"Soyb\",BG131,BF131)","v":"R5"},50,null,null,null,null,null,null,null,null,null,null,null,null,null,null,null,null,null,null,null,null,null,null,null,null,null,null,null,null,null,null,null,null,null,null,null,0.23,null,8.5999999999999993E-2,null,null,null,null,null,null,null,null,null,null,null,null,null,null,null,null,null,null,null,null,null,null,null,null,null,null,null,null,null,null,null,null,null,null,null,null,null,null,null,null,null,null,null,null,null,null,null,24.504999999999999,null,null,null,null,null,null,null,null,null,null,null,null,null,null,null,null,null,null,null,null,null,null,null,null,null,null,null,null,null,null,null,null,null,null,null,null,null,null,null,null,null,null,null,null,null,null,null,null,null,null,null,null,null,null,null,null,null,null,null,null,null,null,null,null,null,null,null,null,null,null,null,null,null,null,null,null,null,null,null,null,null,null,null,null,null,null,null,null,null,null,null,{"$error":"#N/A"}]
["2020-09-18",36,null,null,null,0.7699999999999998,0,3.9000000000000004,0.70011225211586348,"",0,{"$f":"IF(Caluations!$J121<0,0,Caluations!$J121)","v":""},null,"R5",{"$f":"IF(AND($E132=\"\",Caluations!$F121<8),$R132*$F132,0)","v":0},2236.9249999999997,{"$f":"IF(LEFT(ScheduleSetup!$P$6,4)=\"Corn\",BF132,BG132)","v":"R5"},null,null,null,null,null,null,null,null,null,null,null,null,null,null,null,null,null,null,null,null,null,null,0,1,0,0,{"$error":"#DIV/0!"},null,null,{"$f":"IF((OR($E131<>\"\" )), Calculations2!$AV132,\"\")","v":""},0.70011225211586348,null,{"$f":"IF(AND(Caluations!$F121>5,Caluations!$F121<>FALSE),\"\",IF($E132=\"\",($I132/$H132)*100,$I132/$H132*100))","v":""},null,null,null,0,null,2236.9249999999997,"R5","R5","R6",17,10,2187.5,"R5",3,null,{"$error":"#VALUE!"},null,null,{"$f":"IF(LEFT(ScheduleSetup!$P$6,4)=\"Soyb\",BG132,BF132)","v":"R5"},50,null,null,null,null,null,null,null,null,null,null,null,null,null,null,null,null,null,null,null,null,null,null,null,null,null,null,null,null,null,null,null,null,null,null,null,null,0,null,0.125,null,null,null,null,null,null,null,null,null,null,null,null,null,null,null,null,null,null,null,null,null,null,null,null,null,null,null,null,null,null,null,null,null,null,null,null,null,null,null,null,null,null,null,null,null,null,null,19.52,null,null,null,null,null,null,null,null,null,null,null,null,null,null,null,null,null,null,null,null,null,null,null,null,null,null,null,null,null,null,null,null,null,null,null,null,null,null,null,null,null,null,null,null,null,null,null,null,null,null,null,null,null,null,null,null,null,null,null,null,null,null,null,null,null,null,null,null,null,null,null,null,null,null,null,null,null,null,null,null,null,null,null,null,null,null,null,null,null,null,{"$error":"#N/A"}]
["2020-09-19",36,null,null,null,0.74799999999999978,0,3.9000000000000004,0.70011225211586348,"",0,{"$f":"IF(Caluations!$J122<0,0,Caluations!$J122)","v":""},null,"R5",{"$f":"IF(AND($E133=\"\",Caluations!$F122<8),$R133*$F133,0)","v":0},2246.9249999999997,{"$f":"IF(LEFT(ScheduleSetup!$P$6,4)=\"Corn\",BF133,BG133)","v":"R5"},null,null,null,null,null,null,null,null,null,null,null,null,null,null,null,null,null,null,null,null,null,null,0,1,0,0,{"$error":"#DIV/0!"},null,null,{"$f":"IF((OR($E132<>\"\" )), Calculations2!$AV133,\"\")","v":""},0.70011225211586348,null,{"$f":"IF(AND(Caluations!$F122>5,Caluations!$F122<>FALSE),\"\",IF($E133=\"\",($I133/$H133)*100,$I133/$H133*100))","v":""},null,null,null,0,null,2246.9249999999997,"R5","R5","R6",17,10,2197.5,"R5",4,null,{"$error":"#VALUE!"},null,null,{"$f":"IF(LEFT(ScheduleSetup!$P$6,4)=\"Soyb\",BG133,BF133)","v":"R5"},50,null,null,null,null,null,null,null,null,null,null,null,null,null,null,null,null,null,null,null,null,null,null,null,null,null,null,null,null,null,null,null,null,null,null,null,null,null,0,null,0.159,null,null,null,null,null,null,null,null,null,null,null,null,null,null,null,null,null,null,null,null,null,null,null,null,null,null,null,null,null,null,null,null,null,null,null,null,null,null,null,null,null,null,null,null,null,null,null,20.36,null,null,null,null,null,null,null,null,null,null,null,null,null,null,null,null,null,null,null,null,null,null,null,null,null,null,null,null,null,null,null,null,null,null,null,null,null,null,null,null,null,null,null,null,null,null,null,null,null,null,null,null,null,null,null,null,null,null,null,null,null,null,null,null,null,null,null,null,null,null,null,null,null,null,null,null,null,null,null,null,null,null,null,null,null,null,null,null,null,{"$error":"#N/A"}]
["2020-09-20",36,null,null,null,0.72599999999999976,0,3.9000000000000004,0.70011225211586348,"",0,{"$f":"IF(Caluations!$J123<0,0,Caluations!$J123)","v":""},null,"R5",{"$f":"IF(AND($E134=\"\",Caluations!$F123<8),$R134*$F134,0)","v":0},2255.9249999999997,{"$f":"IF(LEFT(ScheduleSetup!$P$6,4)=\"Corn\",BF134,BG134)","v":"R5"},null,null,null,null,null,null,null,null,null,null,null,null,null,null,null,null,null,null,null,null,null,null,0,1,0,0,{"$error":"#DIV/0!"},null,null,{"$f":"IF((OR($E133<>\"\" )), Calculations2!$AV134,\"\")","v":""},0.70011225211586348,null,{"$f":"IF(AND(Caluations!$F123>5,Caluations!$F123<>FALSE),\"\",IF($E134=\"\",($I134/$H134)*100,$I134/$H134*100))","v":""},null,null,null,0,null,2255.9249999999997,"R5","R5","R6",16,9,2206.5,"R5",5,null,{"$error":"#VALUE!"},null,null,{"$f":"IF(LEFT(ScheduleSetup!$P$6,4)=\"Soyb\",BG134,BF134)","v":"R5"},50,null,null,null,null,null,null,null,null,null,null,null,null,null,null,null,null,null,null,null,null,null,null,null,null,null,null,null,null,null,null,null,null,null,null,null,null,null,null,0.04,null,0.107,null,null,null,null,null,null,null,null,null,null,null,null,null,null,null,null,null,null,null,null,null,null,null,null,null,null,null,null,null,null,null,null,null,null,null,null,null,null,null,null,null,null,null,null,null,null,null,23.015000000000001,null,null,null,null,null,null,null,null,null,null,null,null,null,null,null,null,null,null,null,null,null,null,null,null,null,null,null,null,null,null,null,null,null,null,null,null,null,null,null,null,null,null,null,null,null,null,null,null,null,null,null,null,null,null,null,null,null,null,null,null,null,null,null,null,null,null,null,null,null,null,null,null,null,null,null,null,null,null,null,null,null,null,null,null,null,null,null,null,{"$error":"#N/A"}]
["2020-09-21",36,null,null,null,0.70399999999999974,0,3.9000000000000004,0.70011225211586348,"",0,{"$f":"IF(Caluations!$J124<0,0,Caluations!$J124)","v":""},null,"R5",{"$f":"IF(AND($E135=\"\",Caluations!$F124<8),$R135*$F135,0)","v":0},2264.9249999999997,{"$f":"IF(LEFT(ScheduleSetup!$P$6,4)=\"Corn\",BF135,BG135)","v":"R5"},null,null,null,null,null,null,null,null,null,null,null,null,null,null,null,null,null,null,null,null,null,null,0,1,0,0,{"$error":"#DIV/0!"},null,null,{"$f":"IF((OR($E134<>\"\" )), Calculations2!$AV135,\"\")","v":""},0.70011225211586348,null,{"$f":"IF(AND(Caluations!$F124>5,Caluations!$F124<>FALSE),\"\",IF($E135=\"\",($I135/$H135)*100,$I135/$H135*100))","v":""},null,null,null,0,null,2264.9249999999997,"R5","R5","R6",16,9,2215.5,"R5",6,null,{"$error":"#VALUE!"},null,null,{"$f":"IF(LEFT(ScheduleSetup!$P$6,4)=\"Soyb\",BG135,BF135)","v":"R5"},50,null,null,null,null,null,null,null,null,null,null,null,null,null,null,null,null,null,null,null,null,null,null,null,null,null,null,null,null,null,null,null,null,null,null,null,null,null,null,null,0.44,null,0.14699999999999999,null,null,null,null,null,null,null,null,null,null,null,null,null,null,null,null,null,null,null,null,null,null,null,null,null,null,null,null,null,null,null,null,null,null,null,null,null,null,null,null,null,null,null,null,null,null,null,24.94,null,null,null,null,null,null,null,null,null,null,null,null,null,null,null,null,null,null,null,null,null,null,null,null,null,null,null,null,null,null,null,null,null,null,null,null,null,null,null,null,null,null,null,null,null,null,null,null,null,null,null,null,null,null,null,null,null,null,null,null,null,null,null,null,null,null,null,null,null,null,null,null,null,null,null,null,null,null,null,null,null,null,null,null,null,null,null,{"$error":"#N/A"}]
["2020-09-22",36,null,null,null,0.68199999999999972,0,3.9000000000000004,0.70011225211586348,"",0,{"$f":"IF(Caluations!$J125<0,0,Caluations!$J125)","v":""},null,"R5",{"$f":"IF(AND($E136=\"\",Caluations!$F125<8),$R136*$F136,0)","v":0},2273.9249999999997,{"$f":"IF(LEFT(ScheduleSetup!$P$6,4)=\"Corn\",BF136,BG136)","v":"R5"},null,null,null,null,null,null,null,null,null,null,null,null,null,null,null,null,null,null,null,null,null,null,0,1,0,0,{"$error":"#DIV/0!"},null,null,{"$f":"IF((OR($E135<>\"\" )), Calculations2!$AV136,\"\")","v":""},0.70011225211586348,null,{"$f":"IF(AND(Caluations!$F125>5,Caluations!$F125<>FALSE),\"\",IF($E136=\"\",($I136/$H136)*100,$I136/$H136*100))","v":""},null,null,null,0,null,2273.9249999999997,"R5","R5","R7",16,9,2224.5,"R5",7,null,{"$error":"#VALUE!"},null,null,{"$f":"IF(LEFT(ScheduleSetup!$P$6,4)=\"Soyb\",BG136,BF136)","v":"R5"},50,null,null,null,null,null,null,null,null,null,null,null,null,null,null,null,null,null,null,null,null,null,null,null,null,null,null,null,null,null,null,null,null,null,null,null,null,null,null,null,null,0,null,0.113,null,null,null,null,null,null,null,null,null,null,null,null,null,null,null,null,null,null,null,null,null,null,null,null,null,null,null,null,null,null,null,null,null,null,null,null,null,null,null,null,null,null,null,null,null,null,null,11.71,null,null,null,null,null,null,null,null,null,null,null,null,null,null,null,null,null,null,null,null,null,null,null,null,null,null,null,null,null,null,null,null,null,null,null,null,null,null,null,null,null,null,null,null,null,null,null,null,null,null,null,null,null,null,null,null,null,null,null,null,null,null,null,null,null,null,null,null,null,null,null,null,null,null,null,null,null,null,null,null,null,null,null,null,null,null,{"$error":"#N/A"}]
["2020-09-23",36,null,null,null,0.6599999999999997,0,3.9000000000000004,0.70011225211586348,"",0,{"$f":"IF(Caluations!$J126<0,0,Caluations!$J126)","v":""},null,"R5",{"$f":"IF(AND($E137=\"\",Caluations!$F126<8),$R137*$F137,0)","v":0},2282.9249999999997,{"$f":"IF(LEFT(ScheduleSetup!$P$6,4)=\"Corn\",BF137,BG137)","v":"R5"},null,null,null,null,null,null,null,null,null,null,null,null,null,null,null,null,null,null,null,null,null,null,0,1,0,0,{"$error":"#DIV/0!"},null,null,{"$f":"IF((OR($E136<>\"\" )), Calculations2!$AV137,\"\")","v":""},0.70011225211586348,null,{"$f":"IF(AND(Caluations!$F126>5,Caluations!$F126<>FALSE),\"\",IF($E137=\"\",($I137/$H137)*100,$I137/$H137*100))","v":""},null,null,null,0,null,2282.9249999999997,"R5","R5","R7",16,9,2233.5,"R5",8,null,{"$error":"#VALUE!"},null,null,{"$f":"IF(LEFT(ScheduleSetup!$P$6,4)=\"Soyb\",BG137,BF137)","v":"R5"},50,null,null,null,null,null,null,null,null,null,null,null,null,null,null,null,null,null,null,null,null,null,null,null,null,null,null,null,null,null,null,null,null,null,null,null,null,null,null,null,null,null,0,null,0.13300000000000001,null,null,null,null,null,null,null,null,null,null,null,null,null,null,null,null,null,null,null,null,null,null,null,null,null,null,null,null,null,null,null,null,null,null,null,null,null,null,null,null,null,null,null,null,null,null,null,13.355,null,null,null,null,null,null,null,null,null,null,null,null,null,null,null,null,null,null,null,null,null,null,null,null,null,null,null,null,null,null,null,null,null,null,null,null,null,null,null,null,null,null,null,null,null,null,null,null,null,null,null,null,null,null,null,null,null,null,null,null,null,null,null,null,null,null,null,null,null,null,null,null,null,null,null,null,null,null,null,null,null,null,null,null,null,{"$error":"#N/A"}]
["2020-09-24",36,null,null,null,0.66,0,3.9000000000000004,0.70011225211586348,"",0,{"$f":"IF(Caluations!$J127<0,0,Caluations!$J127)","v":""},null,"R6",{"$f":"IF(AND($E138=\"\",Caluations!$F127<8),$R138*$F138,0)","v":0},2290.9249999999997,{"$f":"IF(LEFT(ScheduleSetup!$P$6,4)=\"Corn\",BF138,BG138)","v":"R6"},null,null,null,null,null,null,null,null,null,null,null,null,null,null,null,null,null,null,null,null,null,null,0,1,0,0,{"$error":"#DIV/0!"},null,null,{"$f":"IF((OR($E137<>\"\" )), Calculations2!$AV138,\"\")","v":""},0.70011225211586348,null,{"$f":"IF(AND(Caluations!$F127>5,Caluations!$F127<>FALSE),\"\",IF($E138=\"\",($I138/$H138)*100,$I138/$H138*100))","v":""},null,null,null,0,null,2290.9249999999997,"R5","R6","R7",15,8,2241.5,"R5",9,null,{"$error":"#VALUE!"},null,null,{"$f":"IF(LEFT(ScheduleSetup!$P$6,4)=\"Soyb\",BG138,BF138)","v":"R6"},50,null,null,null,null,null,null,null,null,null,null,null,null,null,null,null,null,null,null,null,null,null,null,null,null,null,null,null,null,null,null,null,null,null,null,null,null,null,null,null,null,null,null,0,null,0.153,null,null,null,null,null,null,null,null,null,null,null,null,null,null,null,null,null,null,null,null,null,null,null,null,null,null,null,null,null,null,null,null,null,null,null,null,null,null,null,null,null,null,null,null,null,null,null,14.77,null,null,null,null,null,null,null,null,null,null,null,null,null,null,null,null,null,null,null,null,null,null,null,null,null,null,null,null,null,null,null,null,null,null,null,null,null,null,null,null,null,null,null,null,null,null,null,null,null,null,null,null,null,null,null,null,null,null,null,null,null,null,null,null,null,null,null,null,null,null,null,null,null,null,null,null,null,null,null,null,null,null,null,null,{"$error":"#N/A"}]
["2020-09-25",36,null,null,null,0.66,0,3.9000000000000004,0.70011225211586348,"",0,{"$f":"IF(Caluations!$J128<0,0,Caluations!$J128)","v":""},null,"R6",{"$f":"IF(AND($E139=\"\",Caluations!$F128<8),$R139*$F139,0)","v":0},2298.9249999999997,{"$f":"IF(LEFT(ScheduleSetup!$P$6,4)=\"Corn\",BF139,BG139)","v":"R6"},null,null,null,null,null,null,null,null,null,null,null,null,null,null,null,null,null,null,null,null,null,null,0,1,0,0,{"$error":"#DIV/0!"},null,null,{"$f":"IF((OR($E138<>\"\" )), Calculations2!$AV139,\"\")","v":""},0.70011225211586348,null,{"$f":"IF(AND(Caluations!$F128>5,Caluations!$F128<>FALSE),\"\",IF($E139=\"\",($I139/$H139)*100,$I139/$H139*100))","v":""},null,null,null,0,null,2298.9249999999997,"R5","R6","R7",15,8,2249.5,"R5",10,null,{"$error":"#VALUE!"},null,null,{"$f":"IF(LEFT(ScheduleSetup!$P$6,4)=\"Soyb\",BG139,BF139)","v":"R6"},50,null,null,null,null,null,null,null,null,null,null,null,null,null,null,null,null,null,null,null,null,null,null,null,null,null,null,null,null,null,null,null,null,null,null,null,null,null,null,null,null,null,null,null,0,null,0.125,null,null,null,null,null,null,null,null,null,null,null,null,null,null,null,null,null,null,null,null,null,null,null,null,null,null,null,null,null,null,null,null,null,null,null,null,null,null,null,null,null,null,null,null,null,null,null,16.940000000000001,null,null,null,null,null,null,null,null,null,null,null,null,null,null,null,null,null,null,null,null,null,null,null,null,null,null,null,null,null,null,null,null,null,null,null,null,null,null,null,null,null,null,null,null,null,null,null,null,null,null,null,null,null,null,null,null,null,null,null,null,null,null,null,null,null,null,null,null,null,null,null,null,null,null,null,null,null,null,null,null,null,null,null,{"$error":"#N/A"}]
["2020-09-26",36,null,null,null,0.66,0,3.9000000000000004,0.70011225211586348,"",0,{"$f":"IF(Caluations!$J129<0,0,Caluations!$J129)","v":""},null,"R6",{"$f":"IF(AND($E140=\"\",Caluations!$F129<8),$R140*$F140,0)","v":0},2310.9249999999997,{"$f":"IF(LEFT(ScheduleSetup!$P$6,4)=\"Corn\",BF140,BG140)","v":"R6"},null,null,null,null,null,null,null,null,null,null,null,null,null,null,null,null,null,null,null,null,null,null,0,1,0,0,{"$error":"#DIV/0!"},null,null,{"$f":"IF((OR($E139<>\"\" )), Calculations2!$AV140,\"\")","v":""},0.70011225211586348,null,{"$f":"IF(AND(Caluations!$F129>5,Caluations!$F129<>FALSE),\"\",IF($E140=\"\",($I140/$H140)*100,$I140/$H140*100))","v":""},null,null,null,0,null,2310.9249999999997,"R5","R6","R7",15,12,2261.5,"R5",11,null,{"$error":"#VALUE!"},null,null,{"$f":"IF(LEFT(ScheduleSetup!$P$6,4)=\"Soyb\",BG140,BF140)","v":"R6"},50,null,null,null,null,null,null,null,null,null,null,null,null,null,null,null,null,null,null,null,null,null,null,null,null,null,null,null,null,null,null,null,null,null,null,null,null,null,null,null,null,null,null,null,null,0.83,null,5.6000000000000001E-2,null,null,null,null,null,null,null,null,null,null,null,null,null,null,null,null,null,null,null,null,null,null,null,null,null,null,null,null,null,null,null,null,null,null,null,null,null,null,null,null,null,null,null,null,null,null,null,16.760000000000002,null,null,null,null,null,null,null,null,null,null,null,null,null,null,null,null,null,null,null,null,null,null,null,null,null,null,null,null,null,null,null,null,null,null,null,null,null,null,null,null,null,null,null,null,null,null,null,null,null,null,null,null,null,null,null,null,null,null,null,null,null,null,null,null,null,null,null,null,null,null,null,null,null,null,null,null,null,null,null,null,null,null,{"$error":"#N/A"}]
["2020-09-27",36,null,null,null,0.66,0,3.9000000000000004,0.70011225211586348,"",0,{"$f":"IF(Caluations!$J130<0,0,Caluations!$J130)","v":""},null,"R6",{"$f":"IF(AND($E141=\"\",Caluations!$F130<8),$R141*$F141,0)","v":0},2321.9249999999997,{"$f":"IF(LEFT(ScheduleSetup!$P$6,4)=\"Corn\",BF141,BG141)","v":"R6"},null,null,null,null,null,null,null,null,null,null,null,null,null,null,null,null,null,null,null,null,null,null,0,1,0,0,{"$error":"#DIV/0!"},null,null,{"$f":"IF((OR($E140<>\"\" )), Calculations2!$AV141,\"\")","v":""},0.70011225211586348,null,{"$f":"IF(AND(Caluations!$F130>5,Caluations!$F130<>FALSE),\"\",IF($E141=\"\",($I141/$H141)*100,$I141/$H141*100))","v":""},null,null,null,0,null,2321.9249999999997,"R5","R6","R7",15,11,2272.5,"R5",12,null,{"$error":"#VALUE!"},null,null,{"$f":"IF(LEFT(ScheduleSetup!$P$6,4)=\"Soyb\",BG141,BF141)","v":"R6"},50,null,null,null,null,null,null,null,null,null,null,null,null,null,null,null,null,null,null,null,null,null,null,null,null,null,null,null,null,null,null,null,null,null,null,null,null,null,null,null,null,null,null,null,null,null,0.05,null,3.1E-2,null,null,null,null,null,null,null,null,null,null,null,null,null,null,null,null,null,null,null,null,null,null,null,null,null,null,null,null,null,null,null,null,null,null,null,null,null,null,null,null,null,null,null,null,null,null,null,3.31,null,null,null,null,null,null,null,null,null,null,null,null,null,null,null,null,null,null,null,null,null,null,null,null,null,null,null,null,null,null,null,null,null,null,null,null,null,null,null,null,null,null,null,null,null,null,null,null,null,null,null,null,null,null,null,null,null,null,null,null,null,null,null,null,null,null,null,null,null,null,null,null,null,null,null,null,null,null,null,null,null,{"$error":"#N/A"}]
["2020-09-28",36,null,null,null,0.66,0,3.9000000000000004,0.70011225211586348,"",0,{"$f":"IF(Caluations!$J131<0,0,Caluations!$J131)","v":""},null,"R6",{"$f":"IF(AND($E142=\"\",Caluations!$F131<8),$R142*$F142,0)","v":0},2332.9249999999997,{"$f":"IF(LEFT(ScheduleSetup!$P$6,4)=\"Corn\",BF142,BG142)","v":"R6"},null,null,null,null,null,null,null,null,null,null,null,null,null,null,null,null,null,null,null,null,null,null,0,1,0,0,{"$error":"#DIV/0!"},null,null,{"$f":"IF((OR($E141<>\"\" )), Calculations2!$AV142,\"\")","v":""},0.70011225211586348,null,{"$f":"IF(AND(Caluations!$F131>5,Caluations!$F131<>FALSE),\"\",IF($E142=\"\",($I142/$H142)*100,$I142/$H142*100))","v":""},null,null,null,0,null,2332.9249999999997,"R5","R6","R7",14,11,2283.5,"R5",13,null,{"$error":"#VALUE!"},null,null,{"$f":"IF(LEFT(ScheduleSetup!$P$6,4)=\"Soyb\",BG142,BF142)","v":"R6"},50,null,null,null,null,null,null,null,null,null,null,null,null,null,null,null,null,null,null,null,null,null,null,null,null,null,null,null,null,null,null,null,null,null,null,null,null,null,null,null,null,null,null,null,null,null,null,0.02,null,4.9000000000000002E-2,null,null,null,null,null,null,null,null,null,null,null,null,null,null,null,null,null,null,null,null,null,null,null,null,null,null,null,null,null,null,null,null,null,null,null,null,null,null,null,null,null,null,null,null,null,null,null,3.16,null,null,null,null,null,null,null,null,null,null,null,null,null,null,null,null,null,null,null,null,null,null,null,null,null,null,null,null,null,null,null,null,null,null,null,null,null,null,null,null,null,null,null,null,null,null,null,null,null,null,null,null,null,null,null,null,null,null,null,null,null,null,null,null,null,null,null,null,null,null,null,null,null,null,null,null,null,null,null,null,{"$error":"#N/A"}]
["2020-09-29",36,null,null,null,0.66,0,3.9000000000000004,0.70011225211586348,"",0,{"$f":"IF(Caluations!$J132<0,0,Caluations!$J132)","v":""},null,"R6",{"$f":"IF(AND($E143=\"\",Caluations!$F132<8),$R143*$F143,0)","v":0},2342.9249999999997,{"$f":"IF(LEFT(ScheduleSetup!$P$6,4)=\"Corn\",BF143,BG143)","v":"R6"},null,null,null,null,null,null,null,null,null,null,null,null,null,null,null,null,null,null,null,null,null,null,0,{"$f":"IF($J142<50,($H142-($H142-$I142))/($H142*0.5),1)","v":1},0,0,{"$error":"#DIV/0!"},null,null,{"$f":"IF((OR($E142<>\"\" )), Calculations2!$AV143,\"\")","v":""},0.70011225211586348,null,{"$f":"IF(AND(Caluations!$F132>5,Caluations!$F132<>FALSE),\"\",IF($E143=\"\",($I143/$H143)*100,$I143/$H143*100))","v":""},null,null,null,0,null,2342.9249999999997,"R6","R6","R7",14,10,2293.5,"R6",14,null,{"$error":"#VALUE!"},null,null,{"$f":"IF(LEFT(ScheduleSetup!$P$6,4)=\"Soyb\",BG143,BF143)","v":"R6"},50,null,null,null,null,null,null,null,null,null,null,null,null,null,null,null,null,null,null,null,null,null,null,null,null,null,null,null,null,null,null,null,null,null,null,null,null,null,null,null,null,null,null,null,null,null,null,null,0.2,null,7.0999999999999994E-2,null,null,null,null,null,null,null,null,null,null,null,null,null,null,null,null,null,null,null,null,null,null,null,null,null,null,null,null,null,null,null,null,null,null,null,null,null,null,null,null,null,null,null,null,null,null,null,4.2949999999999999,null,null,null,null,null,null,null,null,null,null,null,null,null,null,null,null,null,null,null,null,null,null,null,null,null,null,null,null,null,null,null,null,null,null,null,null,null,null,null,null,null,null,null,null,null,null,null,null,null,null,null,null,null,null,null,null,null,null,null,null,null,null,null,null,null,null,null,null,null,null,null,null,null,null,null,null,null,null,null,{"$error":"#N/A"}]
["2020-09-30",36,null,null,null,0.66,0,3.9000000000000004,0.70011225211586348,"",0,{"$f":"IF(Caluations!$J133<0,0,Caluations!$J133)","v":""},null,"R6",{"$f":"IF(AND($E144=\"\",Caluations!$F133<8),$R144*$F144,0)","v":0},2352.9249999999997,{"$f":"IF(LEFT(ScheduleSetup!$P$6,4)=\"Corn\",BF144,BG144)","v":"R6"},null,null,null,null,null,null,null,null,null,null,null,null,null,null,null,null,null,null,null,null,null,null,0,1,0,0,{"$error":"#DIV/0!"},null,null,{"$f":"IF((OR($E143<>\"\" )), Calculations2!$AV144,\"\")","v":""},0.70011225211586348,null,{"$f":"IF(AND(Caluations!$F133>5,Caluations!$F133<>FALSE),\"\",IF($E144=\"\",($I144/$H144)*100,$I144/$H144*100))","v":""},null,null,null,0,null,2352.9249999999997,"R6","R6","R7",13,10,2303.5,"R6",15,null,{"$error":"#VALUE!"},null,null,{"$f":"IF(LEFT(ScheduleSetup!$P$6,4)=\"Soyb\",BG144,BF144)","v":"R6"},50,null,null,null,null,null,null,null,null,null,null,null,null,null,null,null,null,null,null,null,null,null,null,null,null,null,null,null,null,null,null,null,null,null,null,null,null,null,null,null,null,null,null,null,null,null,null,null,null,0,null,0.105,null,null,null,null,null,null,null,null,null,null,null,null,null,null,null,null,null,null,null,null,null,null,null,null,null,null,null,null,null,null,null,null,null,null,null,null,null,null,null,null,null,null,null,null,null,null,null,6.6349999999999998,null,null,null,null,null,null,null,null,null,null,null,null,null,null,null,null,null,null,null,null,null,null,null,null,null,null,null,null,null,null,null,null,null,null,null,null,null,null,null,null,null,null,null,null,null,null,null,null,null,null,null,null,null,null,null,null,null,null,null,null,null,null,null,null,null,null,null,null,null,null,null,null,null,null,null,null,null,null,{"$error":"#N/A"}]
["2020-10-01",36,null,null,null,0.66,0,3.9000000000000004,0.70011225211586348,"",0,{"$f":"IF(Caluations!$J134<0,0,Caluations!$J134)","v":""},null,"R6",{"$f":"IF(AND($E145=\"\",Caluations!$F134<8),$R145*$F145,0)","v":0},2362.9249999999997,{"$f":"IF(LEFT(ScheduleSetup!$P$6,4)=\"Corn\",BF145,BG145)","v":"R6"},null,null,null,null,null,null,null,null,null,null,null,null,null,null,null,null,null,null,null,null,null,null,0,1,0,0,{"$error":"#DIV/0!"},null,null,{"$f":"IF((OR($E144<>\"\" )), Calculations2!$AV145,\"\")","v":""},0.70011225211586348,null,{"$f":"IF(AND(Caluations!$F134>5,Caluations!$F134<>FALSE),\"\",IF($E145=\"\",($I145/$H145)*100,$I145/$H145*100))","v":""},null,null,null,0,null,2362.9249999999997,"R6","R6","R8",13,10,2313.5,"R6",16,null,{"$error":"#VALUE!"},null,null,{"$f":"IF(LEFT(ScheduleSetup!$P$6,4)=\"Soyb\",BG145,BF145)","v":"R6"},50,null,null,null,null,null,null,null,null,null,null,null,null,null,null,null,null,null,null,null,null,null,null,null,null,null,null,null,null,null,null,null,null,null,null,null,null,null,null,null,null,null,null,null,null,null,null,null,null,null,0.05,null,4.5999999999999999E-2,null,null,null,null,null,null,null,null,null,null,null,null,null,null,null,null,null,null,null,null,null,null,null,null,null,null,null,null,null,null,null,null,null,null,null,null,null,null,null,null,null,null,null,null,null,null,null,5.6150000000000002,null,null,null,null,null,null,null,null,null,null,null,null,null,null,null,null,null,null,null,null,null,null,null,null,null,null,null,null,null,null,null,null,null,null,null,null,null,null,null,null,null,null,null,null,null,null,null,null,null,null,null,null,null,null,null,null,null,null,null,null,null,null,null,null,null,null,null,null,null,null,null,null,null,null,null,null,null,{"$error":"#N/A"}]
["2020-10-02",36,null,null,null,0.66,0,3.9000000000000004,0.70011225211586348,"",0,{"$f":"IF(Caluations!$J135<0,0,Caluations!$J135)","v":""},null,"R6",{"$f":"IF(AND($E146=\"\",Caluations!$F135<8),$R146*$F146,0)","v":0},2371.9249999999997,{"$f":"IF(LEFT(ScheduleSetup!$P$6,4)=\"Corn\",BF146,BG146)","v":"R6"},null,null,null,null,null,null,null,null,null,null,null,null,null,null,null,null,null,null,null,null,null,null,0,1,0,0,{"$error":"#DIV/0!"},null,null,{"$f":"IF((OR($E145<>\"\" )), Calculations2!$AV146,\"\")","v":""},0.70011225211586348,null,{"$f":"IF(AND(Caluations!$F135>5,Caluations!$F135<>FALSE),\"\",IF($E146=\"\",($I146/$H146)*100,$I146/$H146*100))","v":""},null,null,null,0,null,2371.9249999999997,"R6","R6","R8",12,9,2322.5,"R6",17,null,{"$error":"#VALUE!"},null,null,{"$f":"IF(LEFT(ScheduleSetup!$P$6,4)=\"Soyb\",BG146,BF146)","v":"R6"},50,null,null,null,null,null,null,null,null,null,null,null,null,null,null,null,null,null,null,null,null,null,null,null,null,null,null,null,null,null,null,null,null,null,null,null,null,null,null,null,null,null,null,null,null,null,null,null,null,null,null,0,null,0.107,null,null,null,null,null,null,null,null,null,null,null,null,null,null,null,null,null,null,null,null,null,null,null,null,null,null,null,null,null,null,null,null,null,null,null,null,null,null,null,null,null,null,null,null,null,null,null,8.1349999999999998]
["2020-10-03",36,null,null,null,0.66,0,3.9000000000000004,0.70011225211586348,"",0,{"$f":"IF(Caluations!$J136<0,0,Caluations!$J136)","v":""},null,"R6",{"$f":"IF(AND($E147=\"\",Caluations!$F136<8),$R147*$F147,0)","v":0},2380.9249999999997,{"$f":"IF(LEFT(ScheduleSetup!$P$6,4)=\"Corn\",BF147,BG147)","v":"R6"},null,null,null,null,null,null,null,null,null,null,null,null,null,null,null,null,null,null,null,null,null,null,0,1,0,0,{"$error":"#DIV/0!"},null,null,{"$f":"IF((OR($E146<>\"\" )), Calculations2!$AV147,\"\")","v":""},0.70011225211586348,null,{"$f":"IF(AND(Caluations!$F136>5,Caluations!$F136<>FALSE),\"\",IF($E147=\"\",($I147/$H147)*100,$I147/$H147*100))","v":""},null,null,null,0,null,2380.9249999999997,"R6","R6","R8",12,9,2331.5,{"$f":"VLOOKUP(BJ147,$AZ$19:$BA$43,2,TRUE)","v":"R6"},1,null,{"$error":"#VALUE!"},null,null,{"$f":"IF(LEFT(ScheduleSetup!$P$6,4)=\"Soyb\",BG147,BF147)","v":"R6"},50,null,null,null,null,null,null,null,null,null,null,null,null,null,null,null,null,null,null,null,null,null,null,null,null,null,null,null,null,null,null,null,null,null,null,null,null,null,null,null,null,null,null,null,null,null,null,null,null,null,null,null,0,null,0.107,null,null,null,null,null,null,null,null,null,null,null,null,null,null,null,null,null,null,null,null,null,null,null,null,null,null,null,null,null,null,null,null,null,null,null,null,null,null,null,null,null,null,null,null,null,null,null,8.1349999999999998]
[{"$f":"1+A147","v":"2020-10-04"},36,null,null,null,0.66,0,3.9000000000000004,0.70011225211586348,"",{"$f":"IF(IF(OR($J148<103,$E147=\"\"),0,$C148+$D148+$I147-$G148-($H148*1.03))>0, IF(OR($J148<103,$E147=\"\"),0,$C148+$D148+$I147-$G148-($H148*1.03)),0)","v":0},{"$f":"IF(Caluations!$J137<0,0,Caluations!$J137)","v":""},null,"R6",{"$f":"IF(AND($E148=\"\",Caluations!$F137<8),$R148*$F148,0)","v":0},{"$f":"+(IF(BD148=0,BJ148,BD148))","v":2389.9249999999997},{"$f":"IF(LEFT(ScheduleSetup!$P$6,4)=\"Corn\",BF148,BG148)","v":"R6"},null,null,null,null,null,null,null,null,null,null,null,null,null,null,null,null,null,null,null,null,null,null,{"$f":"+$F148*$E147","v":0},1,0,0,{"$error":"#DIV/0!"},null,null,{"$f":"IF((OR($E147<>\"\" )), Calculations2!$AV148,\"\")","v":""},0.70011225211586348,null,{"$f":"IF(AND(Caluations!$F137>5,Caluations!$F137<>FALSE),\"\",IF($E148=\"\",($I148/$H148)*100,$I148/$H148*100))","v":""},null,null,null,0,null,2389.9249999999997,{"$f":"IF( LEN((BC148))=0, BK148,BF148)","v":"R6"},{"$f":"VLOOKUP(BD148,$AZ$19:$BA$43,2,TRUE)","v":"R6"},"R8",11,9,2340.5,"R6",2,null,{"$f":"+IF((BR148-J148)>0,BR148-J148,0)","v":{"$error":"#VALUE!"}},null,null,{"$f":"IF(LEFT(ScheduleSetup!$P$6,4)=\"Soyb\",BG148,BF148)","v":"R6"},{"$f":"IF($BP$19=50,50,IF($BQ$20=\"VC\"=AND(OR(BQ148=\"R3\",BQ148=\"R4\",BQ148=\"R5\",BQ148=\"R6\")),60,40))","v":50},null,null,null,null,null,null,null,null,null,null,null,null,null,null,null,null,null,null,null,null,null,null,null,null,null,null,null,null,null,null,null,null,null,null,null,null,null,null,null,null,null,null,null,null,null,null,null,null,null,null,null,null,0,null,0.121,null,null,null,null,null,null,null,null,null,null,null,null,null,null,null,null,null,null,null,null,null,null,null,null,null,null,null,null,null,null,null,null,null,null,null,null,null,null,null,null,null,null,null,null,null,null,null,11.494999999999999]
["2020-10-05",36,null,null,null,0.66,0,{"$f":"IF($B149<=6,$B149*$B$12,IF($B149<=12,6*$B$12+($B149-6)*$C$12,IF($B149<=18,6*$B$12+6*$C$12+($B149-12)*$D$12,IF($B149<=24,6*$B$12+6*$C$12+6*$D$12+($B149-18)*$E$12,IF($B149<=30,6*$B$12+6*$C$12+6*$D$12+6*$E$12+($B149-24)*$F$12,IF($B149<=36,6*$B$12+6*$C$12+6*$D$12+6*$E$12+6*$F$12+($B149-30)*$G$12,IF($B149<=42,6*$B$12+6*$C$12+6*$D$12+6*$E$12+6*$F$12+6*$G$12+($B149-36)*$H$12,IF($B149<=48,6*$B$12+6*$C$12+6*$D$12+6*$E$12+6*$F$12+6*$G$12+6*$H$12+(F149-42)*$I$12,\"rootdepth>48in\"))))))))","v":3.9000000000000004},{"$f":"IF($S149=\"\",$AV149,($S149/100)*$H149)","v":0.70011225211586348},{"$f":"+IF(S149=\"\",(AX149),S149)","v":""},0,{"$f":"IF(Caluations!$J138<0,0,Caluations!$J138)","v":""},null,"R6",{"$f":"IF(AND($E149=\"\",Caluations!$F138<8),$R149*$F149,0)","v":0},2398.9249999999997,{"$f":"IF(LEFT(ScheduleSetup!$P$6,4)=\"Corn\",BF149,BG149)","v":"R6"},null,null,null,null,null,null,null,null,null,null,null,null,null,null,null,null,null,null,null,null,null,null,0,1,{"$f":"+AN149*AO149","v":0},0,{"$f":"AR148-AQ149","v":{"$error":"#DIV/0!"}},null,null,{"$f":"IF((OR($E148<>\"\" )), Calculations2!$AV149,\"\")","v":""},0.70011225211586348,null,{"$f":"IF(AND(Caluations!$F138>5,Caluations!$F138<>FALSE),\"\",IF($E149=\"\",($I149/$H149)*100,$I149/$H149*100))","v":""},null,null,null,{"$f":"+T149","v":0},null,2398.9249999999997,"R6","R6","R8",11,9,{"$f":"+BJ148+BI149","v":2349.5},"R6",3,null,{"$error":"#VALUE!"},null,null,{"$f":"IF(LEFT(ScheduleSetup!$P$6,4)=\"Soyb\",BG149,BF149)","v":"R6"},50,null,null,null,null,null,null,null,null,null,null,null,null,null,null,null,null,null,null,null,null,null,null,null,null,null,null,null,null,null,null,null,null,null,null,null,null,null,null,null,null,null,null,null,null,null,null,null,null,null,null,null,null,null,0,null,0.123,null,null,null,null,null,null,null,null,null,null,null,null,null,null,null,null,null,null,null,null,null,null,null,null,null,null,null,null,null,null,null,null,null,null,null,null,null,null,null,null,null,null,null,null,null,null,null,9.9350000000000005]
["2020-10-06",36,null,null,null,0.66,0,3.9000000000000004,0.70011225211586348,"",0,{"$f":"IF(Caluations!$J139<0,0,Caluations!$J139)","v":""},null,"R6",{"$f":"IF(AND($E150=\"\",Caluations!$F139<8),$R150*$F150,0)","v":0},2406.9249999999997,{"$f":"IF(LEFT(ScheduleSetup!$P$6,4)=\"Corn\",BF150,BG150)","v":"R6"},null,null,null,null,null,null,null,null,null,null,null,null,null,null,null,null,null,null,null,null,null,null,0,1,0,{"$f":"IF(AO150<1,(AQ148-((1.25*(AP150/AN150)))-1)*(-$T$15))*0.008","v":0},{"$error":"#DIV/0!"},null,null,{"$f":"IF((OR($E149<>\"\" )), Calculations2!$AV150,\"\")","v":""},0.70011225211586348,null,{"$f":"IF(AND(Caluations!$F139>5,Caluations!$F139<>FALSE),\"\",IF($E150=\"\",($I150/$H150)*100,$I150/$H150*100))","v":""},null,null,null,0,null,2406.9249999999997,"R6","R6","R8",10,8,2357.5,"R6",4,null,{"$error":"#VALUE!"},null,null,{"$f":"IF(LEFT(ScheduleSetup!$P$6,4)=\"Soyb\",BG150,BF150)","v":"R6"},50,null,null,null,null,null,null,null,null,null,null,null,null,null,null,null,null,null,null,null,null,null,null,null,null,null,null,null,null,null,null,null,null,null,null,null,null,null,null,null,null,null,null,null,null,null,null,null,null,null,null,null,null,null,null,0.03,null,0.106,null,null,null,null,null,null,null,null,null,null,null,null,null,null,null,null,null,null,null,null,null,null,null,null,null,null,null,null,null,null,null,null,null,null,null,null,null,null,null,null,null,null,null,null,null,null,null,17.594999999999999]
["2020-10-07",36,null,null,null,0.66,0,3.9000000000000004,0.70011225211586348,"",0,{"$f":"IF(Caluations!$J140<0,0,Caluations!$J140)","v":""},null,"R6",{"$f":"IF(AND($E151=\"\",Caluations!$F140<8),$R151*$F151,0)","v":0},2414.9249999999997,{"$f":"IF(LEFT(ScheduleSetup!$P$6,4)=\"Corn\",BF151,BG151)","v":"R6"},null,null,null,null,null,null,null,null,null,null,null,null,null,null,null,null,null,null,null,null,null,null,0,1,0,0,{"$error":"#DIV/0!"},null,null,{"$f":"IF((OR($E150<>\"\" )), Calculations2!$AV151,\"\")","v":""},0.70011225211586348,null,{"$f":"IF(AND(Caluations!$F140>5,Caluations!$F140<>FALSE),\"\",IF($E151=\"\",($I151/$H151)*100,$I151/$H151*100))","v":""},null,null,null,0,null,2414.9249999999997,"R6","R6","R8",10,8,2365.5,"R6",5,null,{"$error":"#VALUE!"},null,null,{"$f":"IF(LEFT(ScheduleSetup!$P$6,4)=\"Soyb\",BG151,BF151)","v":"R6"},50,null,null,null,null,null,null,null,null,null,null,null,null,null,null,null,null,null,null,null,null,null,null,null,null,null,null,null,null,null,null,null,null,null,null,null,null,null,null,null,null,null,null,null,null,null,null,null,null,null,null,null,null,null,null,null,0.06,null,5.1999999999999998E-2,null,null,null,null,null,null,null,null,null,null,null,null,null,null,null,null,null,null,null,null,null,null,null,null,null,null,null,null,null,null,null,null,null,null,null,null,null,null,null,null,null,null,null,null,null,null,null,8.8000000000000007]
["2020-10-08",36,null,null,null,0.66,0,3.9000000000000004,0.70011225211586348,"",0,{"$f":"IF(Caluations!$J141<0,0,Caluations!$J141)","v":""},null,"R6",{"$f":"IF(AND($E152=\"\",Caluations!$F141<8),$R152*$F152,0)","v":0},2430.9249999999997,{"$f":"IF(LEFT(ScheduleSetup!$P$6,4)=\"Corn\",BF152,BG152)","v":"R6"},null,null,null,null,null,null,null,null,null,null,null,null,null,null,null,null,null,null,null,null,null,null,0,1,0,0,{"$error":"#DIV/0!"},null,null,{"$f":"IF((OR($E151<>\"\" )), Calculations2!$AV152,\"\")","v":""},0.70011225211586348,null,{"$f":"IF(AND(Caluations!$F141>5,Caluations!$F141<>FALSE),\"\",IF($E152=\"\",($I152/$H152)*100,$I152/$H152*100))","v":""},null,null,null,0,null,2430.9249999999997,"R6","R6","R8",10,16,2381.5,"R6",6,null,{"$error":"#VALUE!"},null,null,{"$f":"IF(LEFT(ScheduleSetup!$P$6,4)=\"Soyb\",BG152,BF152)","v":"R6"},50,null,null,null,null,null,null,null,null,null,null,null,null,null,null,null,null,null,null,null,null,null,null,null,null,null,null,null,null,null,null,null,null,null,null,null,null,null,null,null,null,null,null,null,null,null,null,null,null,null,null,null,null,null,null,null,null,0,null,0.108,null,null,null,null,null,null,null,null,null,null,null,null,null,null,null,null,null,null,null,null,null,null,null,null,null,null,null,null,null,null,null,null,null,null,null,null,null,null,null,null,null,null,null,null,null,null,null,6.76]
["2020-10-09",36,null,null,null,0.66,0,3.9000000000000004,0.70011225211586348,"",0,{"$f":"IF(Caluations!$J142<0,0,Caluations!$J142)","v":""},null,"R6",{"$f":"IF(AND($E153=\"\",Caluations!$F142<8),$R153*$F153,0)","v":0},2446.9249999999997,{"$f":"IF(LEFT(ScheduleSetup!$P$6,4)=\"Corn\",BF153,BG153)","v":"R6"},null,null,null,null,null,null,null,null,null,null,null,null,null,null,null,null,null,null,null,null,null,null,0,1,0,0,{"$error":"#DIV/0!"},null,null,{"$f":"IF((OR($E152<>\"\" )), Calculations2!$AV153,\"\")","v":""},0.70011225211586348,null,{"$f":"IF(AND(Caluations!$F142>5,Caluations!$F142<>FALSE),\"\",IF($E153=\"\",($I153/$H153)*100,$I153/$H153*100))","v":""},null,null,null,0,null,2446.9249999999997,"R6","R6","R8",9,16,2397.5,"R6",7,null,{"$error":"#VALUE!"},null,null,{"$f":"IF(LEFT(ScheduleSetup!$P$6,4)=\"Soyb\",BG153,BF153)","v":"R6"},50]
["2020-10-10",36,null,null,null,0.66,0,3.9000000000000004,0.70011225211586348,"",0,{"$f":"IF(Caluations!$J143<0,0,Caluations!$J143)","v":""},null,"R6",{"$f":"IF(AND($E154=\"\",Caluations!$F143<8),$R154*$F154,0)","v":0},2462.9249999999997,{"$f":"IF(LEFT(ScheduleSetup!$P$6,4)=\"Corn\",BF154,BG154)","v":"R6"},null,null,null,null,null,null,null,null,null,null,null,null,null,null,null,null,null,null,null,null,null,null,0,1,0,0,{"$error":"#DIV/0!"},null,null,{"$f":"IF((OR($E153<>\"\" )), Calculations2!$AV154,\"\")","v":""},0.70011225211586348,null,{"$f":"IF(AND(Caluations!$F143>5,Caluations!$F143<>FALSE),\"\",IF($E154=\"\",($I154/$H154)*100,$I154/$H154*100))","v":""},null,null,null,0,null,2462.9249999999997,"R6","R6","R8",9,16,2413.5,"R6",8,null,{"$error":"#VALUE!"},null,null,{"$f":"IF(LEFT(ScheduleSetup!$P$6,4)=\"Soyb\",BG154,BF154)","v":"R6"},50]
["2020-10-11",36,null,null,null,0.66,0,{"$f":"IF($B155<=6,$B155*$B$12,IF($B155<=12,6*$B$12+($B155-6)*$C$12,IF($B155<=18,6*$B$12+6*$C$12+($B155-12)*$D$12,IF($B155<=24,6*$B$12+6*$C$12+6*$D$12+($B155-18)*$E$12,IF($B155<=30,6*$B$12+6*$C$12+6*$D$12+6*$E$12+($B155-24)*$F$12,IF($B155<=36,6*$B$12+6*$C$12+6*$D$12+6*$E$12+6*$F$12+($B155-30)*$G$12,IF($B155<=42,6*$B$12+6*$C$12+6*$D$12+6*$E$12+6*$F$12+6*$G$12+($B155-36)*$H$12,IF($B155<=48,6*$B$12+6*$C$12+6*$D$12+6*$E$12+6*$F$12+6*$G$12+6*$H$12+(F155-42)*$I$12,\"rootdepth>48in\"))))))))","v":3.9000000000000004},0.70011225211586348,{"$f":"+IF(S155=\"\",(AX155),S155)","v":""},0,{"$f":"IF(Caluations!$J144<0,0,Caluations!$J144)","v":""},null,"R6",{"$f":"IF(AND($E155=\"\",Caluations!$F144<8),$R155*$F155,0)","v":0},{"$f":"+(IF(BD155=0,BJ155,BD155))","v":2477.9249999999997},{"$f":"IF(LEFT(ScheduleSetup!$P$6,4)=\"Corn\",BF155,BG155)","v":"R6"},null,null,null,null,null,null,null,null,null,null,null,null,null,null,null,null,null,null,null,null,null,null,0,1,{"$f":"+AN155*AO155","v":0},{"$f":"IF(AO155<1,(AQ153-((1.25*(AP155/AN155)))-1)*(-$T$15))*0.008","v":0},{"$f":"AR154-AQ155","v":{"$error":"#DIV/0!"}},null,null,{"$f":"IF((OR($E154<>\"\" )), Calculations2!$AV155,\"\")","v":""},{"$f":"MAX(IF(($I154+$C155+$D155-$G155)+(($H155-$H154)*$B$13/100)>($H155*1.03),($H155*1.03),($I154+$C155+$D155-$G155-O155)+(($H155-$H154)*$B$13/100)),0)","v":0.70011225211586348},null,{"$f":"IF(AND(Caluations!$F144>5,Caluations!$F144<>FALSE),\"\",IF($E156=\"\",($I155/$H155)*100,$I155/$H155*100))","v":""},null,null,null,{"$f":"+T155","v":0},null,{"$f":"+IF(BC155=\"\",BD154+BI155,BD154+BC155)","v":2477.9249999999997},{"$f":"IF( LEN((BC155))=0, BK155,BF155)","v":"R6"},{"$f":"VLOOKUP(BD155,$AZ$19:$BA$43,2,TRUE)","v":"R6"},"R8",9,15,{"$f":"+BJ154+BI155","v":2428.5},{"$f":"VLOOKUP(BJ155,$AZ$19:$BA$43,2,TRUE)","v":"R6"},8,null,{"$error":"#VALUE!"},null,null,{"$f":"IF(LEFT(ScheduleSetup!$P$6,4)=\"Soyb\",BG155,BF155)","v":"R6"},50]
["2020-10-12",36,null,null,null,0.66,0,3.9000000000000004,0.70011225211586348,"",{"$f":"IF(IF(OR($J156<103,$E156=\"\"),0,$C156+$D156+$I155-$G156-($H156*1.03))>0, IF(OR($J156<103,$E156=\"\"),0,$C156+$D156+$I155-$G156-($H156*1.03)),0)","v":0},{"$f":"IF(Caluations!$J145<0,0,Caluations!$J145)","v":""},null,"R6",{"$f":"IF(AND($E156=\"\",Caluations!$F145<8),$R156*$F156,0)","v":0},2492.9249999999997,{"$f":"IF(LEFT(ScheduleSetup!$P$6,4)=\"Corn\",BF156,BG156)","v":"R6"},null,null,null,null,null,null,null,null,null,null,null,null,null,null,null,null,null,null,null,null,null,null,{"$f":"+$F156*$E156","v":0},1,0,0,{"$error":"#DIV/0!"},null,null,{"$f":"IF((OR($E156<>\"\" )), Calculations2!$AV156,\"\")","v":""},0.70011225211586348,null,{"$f":"IF(AND(Caluations!$F145>5,Caluations!$F145<>FALSE),\"\",IF($E157=\"\",($I156/$H156)*100,$I156/$H156*100))","v":""},null,null,null,0,null,2492.9249999999997,"R6","R6","R8",9,15,2443.5,"R6",8,null,{"$error":"#VALUE!"},null,null,{"$f":"IF(LEFT(ScheduleSetup!$P$6,4)=\"Soyb\",BG156,BF156)","v":"R6"},50]
["2020-10-13",36,null,null,null,0.66,0,3.9000000000000004,0.70011225211586348,"",0,{"$f":"IF(Caluations!$J146<0,0,Caluations!$J146)","v":""},null,"R6",{"$f":"IF(AND($E157=\"\",Caluations!$F146<8),$R157*$F157,0)","v":0},2507.9249999999997,{"$f":"IF(LEFT(ScheduleSetup!$P$6,4)=\"Corn\",BF157,BG157)","v":"R6"},null,null,null,null,null,null,null,null,null,null,null,null,null,null,null,null,null,null,null,null,null,null,0,1,0,0,{"$error":"#DIV/0!"},null,null,{"$f":"IF((OR($E157<>\"\" )), Calculations2!$AV157,\"\")","v":""},0.70011225211586348,null,{"$f":"IF(AND(Caluations!$F146>5,Caluations!$F146<>FALSE),\"\",IF($E202=\"\",($I157/$H157)*100,$I157/$H157*100))","v":""},null,null,null,0,null,2507.9249999999997,"R6","R6","R8",9,15,2458.5,"R6",8,null,{"$error":"#VALUE!"},null,null,{"$f":"IF(LEFT(ScheduleSetup!$P$6,4)=\"Soyb\",BG157,BF157)","v":"R6"},50]
["2020-10-14",36,null,null,null,0.66,0,{"$f":"IF($B158<=6,$B158*$B$12,IF($B158<=12,6*$B$12+($B158-6)*$C$12,IF($B158<=18,6*$B$12+6*$C$12+($B158-12)*$D$12,IF($B158<=24,6*$B$12+6*$C$12+6*$D$12+($B158-18)*$E$12,IF($B158<=30,6*$B$12+6*$C$12+6*$D$12+6*$E$12+($B158-24)*$F$12,IF($B158<=36,6*$B$12+6*$C$12+6*$D$12+6*$E$12+6*$F$12+($B158-30)*$G$12,IF($B158<=42,6*$B$12+6*$C$12+6*$D$12+6*$E$12+6*$F$12+6*$G$12+($B158-36)*$H$12,IF($B158<=48,6*$B$12+6*$C$12+6*$D$12+6*$E$12+6*$F$12+6*$G$12+6*$H$12+(F158-42)*$I$12,\"rootdepth>48in\"))))))))","v":3.9000000000000004},0.70011225211586348,{"$f":"+IF(S158=\"\",(AX158),S158)","v":""},0,{"$f":"IF(Caluations!$J147<0,0,Caluations!$J147)","v":""},null,"R6",{"$f":"IF(AND($E158=\"\",Caluations!$F147<8),$R158*$F158,0)","v":0},{"$f":"+(IF(BD158=0,BJ158,BD158))","v":2522.9249999999997},{"$f":"IF(LEFT(ScheduleSetup!$P$6,4)=\"Corn\",BF158,BG158)","v":"R6"},null,null,null,null,null,null,null,null,null,null,null,null,null,null,null,null,null,null,null,null,null,null,0,1,{"$f":"+AN158*AO158","v":0},{"$f":"IF(AO158<1,(AQ156-((1.25*(AP158/AN158)))-1)*(-$T$15))*0.008","v":0},{"$f":"AR157-AQ158","v":{"$error":"#DIV/0!"}},null,null,{"$f":"IF((OR($E158<>\"\" )), Calculations2!$AV158,\"\")","v":""},{"$f":"MAX(IF(($I157+$C158+$D158-$G158)+(($H158-$H157)*$B$13/100)>($H158*1.03),($H158*1.03),($I157+$C158+$D158-$G158-O158)+(($H158-$H157)*$B$13/100)),0)","v":0.70011225211586348},null,{"$f":"IF(AND(Caluations!$F147>5,Caluations!$F147<>FALSE),\"\",IF($E159=\"\",($I158/$H158)*100,$I158/$H158*100))","v":""},null,null,null,{"$f":"+T158","v":0},null,{"$f":"+IF(BC158=\"\",BD157+BI158,BD157+BC158)","v":2522.9249999999997},{"$f":"IF( LEN((BC158))=0, BK158,BF158)","v":"R6"},{"$f":"VLOOKUP(BD158,$AZ$19:$BA$43,2,TRUE)","v":"R6"},"R8",9,15,{"$f":"+BJ157+BI158","v":2473.5},{"$f":"VLOOKUP(BJ158,$AZ$19:$BA$43,2,TRUE)","v":"R6"},8,null,{"$error":"#VALUE!"},null,null,{"$f":"IF(LEFT(ScheduleSetup!$P$6,4)=\"Soyb\",BG158,BF158)","v":"R6"},50]
["2020-10-15",36,null,null,null,0.66,{"$f":"$AP159","v":0},3.9000000000000004,0.70011225211586348,"",{"$f":"IF(IF(OR($J159<103,$E159=\"\"),0,$C159+$D159+$I158-$G159-($H159*1.03))>0, IF(OR($J159<103,$E159=\"\"),0,$C159+$D159+$I158-$G159-($H159*1.03)),0)","v":0},{"$f":"IF(Caluations!$J148<0,0,Caluations!$J148)","v":""},null,"R6",{"$f":"IF(AND($E159=\"\",Caluations!$F148<8),$R159*$F159,0)","v":0},2536.9249999999997,{"$f":"IF(LEFT(ScheduleSetup!$P$6,4)=\"Corn\",BF159,BG159)","v":"R6"},null,null,null,null,null,null,null,null,null,null,null,null,null,null,null,null,null,null,null,null,null,null,0,1,0,0,{"$error":"#DIV/0!"},null,null,{"$f":"IF((OR($E159<>\"\" )), Calculations2!$AV159,\"\")","v":""},0.70011225211586348,null,{"$f":"IF(AND(Caluations!$F148>5,Caluations!$F148<>FALSE),\"\",IF($E160=\"\",($I159/$H159)*100,$I159/$H159*100))","v":""},null,null,null,0,null,2536.9249999999997,"R6","R6","R8",9,14,2487.5,"R6",8,null,{"$error":"#VALUE!"},null,null,{"$f":"IF(LEFT(ScheduleSetup!$P$6,4)=\"Soyb\",BG159,BF159)","v":"R6"},50]
["2020-10-16",36,null,null,null,0.66,0,3.9000000000000004,0.70011225211586348,"",0,{"$f":"IF(Caluations!$J149<0,0,Caluations!$J149)","v":""},null,"R6",{"$f":"IF(AND($E160=\"\",Caluations!$F149<8),$R160*$F160,0)","v":0},2550.9249999999997,{"$f":"IF(LEFT(ScheduleSetup!$P$6,4)=\"Corn\",BF160,BG160)","v":"R6"},null,null,null,null,null,null,null,null,null,null,null,null,null,null,null,null,null,null,null,null,null,null,0,1,0,0,{"$error":"#DIV/0!"},null,null,{"$f":"IF((OR($E160<>\"\" )), Calculations2!$AV160,\"\")","v":""},0.70011225211586348,null,{"$f":"IF(AND(Caluations!$F149>5,Caluations!$F149<>FALSE),\"\",IF($E205=\"\",($I160/$H160)*100,$I160/$H160*100))","v":""},null,null,null,0,null,2550.9249999999997,"R6","R6","R8",9,14,2501.5,"R6",8,null,{"$error":"#VALUE!"},null,null,{"$f":"IF(LEFT(ScheduleSetup!$P$6,4)=\"Soyb\",BG160,BF160)","v":"R6"},50]
["2020-10-17",36,null,null,null,0.66,0,3.9000000000000004,0.70011225211586348,"",0,{"$f":"IF(Caluations!$J150<0,0,Caluations!$J150)","v":""},null,"R6",{"$f":"IF(AND($E161=\"\",Caluations!$F150<8),$R161*$F161,0)","v":0},2563.9249999999997,{"$f":"IF(LEFT(ScheduleSetup!$P$6,4)=\"Corn\",BF161,BG161)","v":"R6"},null,null,null,null,null,null,null,null,null,null,null,null,null,null,null,null,null,null,null,null,null,null,0,1,0,0,{"$error":"#DIV/0!"},null,null,{"$f":"IF((OR($E161<>\"\" )), Calculations2!$AV161,\"\")","v":""},0.70011225211586348,null,{"$f":"IF(AND(Caluations!$F150>5,Caluations!$F150<>FALSE),\"\",IF($E162=\"\",($I161/$H161)*100,$I161/$H161*100))","v":""},null,null,null,0,null,2563.9249999999997,"R6","R6","R8",9,13,2514.5,"R6",8,null,{"$error":"#VALUE!"},null,null,{"$f":"IF(LEFT(ScheduleSetup!$P$6,4)=\"Soyb\",BG161,BF161)","v":"R6"},50]
["2020-10-18",36,null,null,null,0.66,0,3.9000000000000004,0.70011225211586348,"",0,{"$f":"IF(Caluations!$J151<0,0,Caluations!$J151)","v":""},null,"R6",{"$f":"IF(AND($E162=\"\",Caluations!$F151<8),$R162*$F162,0)","v":0},2576.9249999999997,{"$f":"IF(LEFT(ScheduleSetup!$P$6,4)=\"Corn\",BF162,BG162)","v":"R6"},null,null,null,null,null,null,null,null,null,null,null,null,null,null,null,null,null,null,null,null,null,null,0,1,0,0,{"$error":"#DIV/0!"},null,null,{"$f":"IF((OR($E162<>\"\" )), Calculations2!$AV162,\"\")","v":""},0.70011225211586348,null,{"$f":"IF(AND(Caluations!$F151>5,Caluations!$F151<>FALSE),\"\",IF($E163=\"\",($I162/$H162)*100,$I162/$H162*100))","v":""},null,null,null,0,null,2576.9249999999997,"R6","R6","R8",9,13,2527.5,"R6",8,null,{"$error":"#VALUE!"},null,null,{"$f":"IF(LEFT(ScheduleSetup!$P$6,4)=\"Soyb\",BG162,BF162)","v":"R6"},50]
["2020-10-19",36,null,null,null,0.66,0,3.9000000000000004,0.70011225211586348,"",0,{"$f":"IF(Caluations!$J152<0,0,Caluations!$J152)","v":""},null,"R6",{"$f":"IF(AND($E163=\"\",Caluations!$F152<8),$R163*$F163,0)","v":0},2588.9249999999997,{"$f":"IF(LEFT(ScheduleSetup!$P$6,4)=\"Corn\",BF163,BG163)","v":"R6"},null,null,null,null,null,null,null,null,null,null,null,null,null,null,null,null,null,null,null,null,null,null,0,1,0,0,{"$error":"#DIV/0!"},null,null,{"$f":"IF((OR($E163<>\"\" )), Calculations2!$AV163,\"\")","v":""},0.70011225211586348,null,{"$f":"IF(AND(Caluations!$F152>5,Caluations!$F152<>FALSE),\"\",IF($E208=\"\",($I163/$H163)*100,$I163/$H163*100))","v":""},null,null,null,0,null,2588.9249999999997,"R6","R6","R8",9,12,2539.5,"R6",8,null,{"$error":"#VALUE!"},null,null,{"$f":"IF(LEFT(ScheduleSetup!$P$6,4)=\"Soyb\",BG163,BF163)","v":"R6"},50]
["2020-10-20",36,null,null,null,0.66,0,{"$f":"IF($B164<=6,$B164*$B$12,IF($B164<=12,6*$B$12+($B164-6)*$C$12,IF($B164<=18,6*$B$12+6*$C$12+($B164-12)*$D$12,IF($B164<=24,6*$B$12+6*$C$12+6*$D$12+($B164-18)*$E$12,IF($B164<=30,6*$B$12+6*$C$12+6*$D$12+6*$E$12+($B164-24)*$F$12,IF($B164<=36,6*$B$12+6*$C$12+6*$D$12+6*$E$12+6*$F$12+($B164-30)*$G$12,IF($B164<=42,6*$B$12+6*$C$12+6*$D$12+6*$E$12+6*$F$12+6*$G$12+($B164-36)*$H$12,IF($B164<=48,6*$B$12+6*$C$12+6*$D$12+6*$E$12+6*$F$12+6*$G$12+6*$H$12+(F164-42)*$I$12,\"rootdepth>48in\"))))))))","v":3.9000000000000004},0.70011225211586348,{"$f":"+IF(S164=\"\",(AX164),S164)","v":""},0,{"$f":"IF(Caluations!$J153<0,0,Caluations!$J153)","v":""},null,"R6",{"$f":"IF(AND($E164=\"\",Caluations!$F153<8),$R164*$F164,0)","v":0},{"$f":"+(IF(BD164=0,BJ164,BD164))","v":2600.9249999999997},{"$f":"IF(LEFT(ScheduleSetup!$P$6,4)=\"Corn\",BF164,BG164)","v":"R6"},null,null,null,null,null,null,null,null,null,null,null,null,null,null,null,null,null,null,null,null,null,null,0,1,{"$f":"+AN164*AO164","v":0},{"$f":"IF(AO164<1,(AQ162-((1.25*(AP164/AN164)))-1)*(-$T$15))*0.008","v":0},{"$f":"AR163-AQ164","v":{"$error":"#DIV/0!"}},null,null,{"$f":"IF((OR($E164<>\"\" )), Calculations2!$AV164,\"\")","v":""},{"$f":"MAX(IF(($I163+$C164+$D164-$G164)+(($H164-$H163)*$B$13/100)>($H164*1.03),($H164*1.03),($I163+$C164+$D164-$G164-O164)+(($H164-$H163)*$B$13/100)),0)","v":0.70011225211586348},null,{"$f":"IF(AND(Caluations!$F153>5,Caluations!$F153<>FALSE),\"\",IF($E209=\"\",($I164/$H164)*100,$I164/$H164*100))","v":""},null,null,null,{"$f":"+T164","v":0},null,{"$f":"+IF(BC164=\"\",BD163+BI164,BD163+BC164)","v":2600.9249999999997},{"$f":"IF( LEN((BC164))=0, BK164,BF164)","v":"R6"},{"$f":"VLOOKUP(BD164,$AZ$19:$BA$43,2,TRUE)","v":"R6"},"R8",9,12,{"$f":"+BJ163+BI164","v":2551.5},{"$f":"VLOOKUP(BJ164,$AZ$19:$BA$43,2,TRUE)","v":"R6"},8,null,{"$error":"#VALUE!"},null,null,{"$f":"IF(LEFT(ScheduleSetup!$P$6,4)=\"Soyb\",BG164,BF164)","v":"R6"},50]
["2020-10-21",36,null,null,null,0.66,0,3.9000000000000004,0.70011225211586348,"",0,{"$f":"IF(Caluations!$J154<0,0,Caluations!$J154)","v":""},null,"R6",{"$f":"IF(AND($E165=\"\",Caluations!$F154<8),$R165*$F165,0)","v":0},2611.9249999999997,{"$f":"IF(LEFT(ScheduleSetup!$P$6,4)=\"Corn\",BF165,BG165)","v":"R6"},null,null,null,null,null,null,null,null,null,null,null,null,null,null,null,null,null,null,null,null,null,null,0,1,0,0,{"$error":"#DIV/0!"},null,null,{"$f":"IF((OR($E165<>\"\" )), Calculations2!$AV165,\"\")","v":""},0.70011225211586348,null,{"$f":"IF(AND(Caluations!$F154>5,Caluations!$F154<>FALSE),\"\",IF($E166=\"\",($I165/$H165)*100,$I165/$H165*100))","v":""},null,null,null,0,null,2611.9249999999997,"R6","R6","R8",9,11,2562.5,"R6",8,null,{"$error":"#VALUE!"},null,null,{"$f":"IF(LEFT(ScheduleSetup!$P$6,4)=\"Soyb\",BG165,BF165)","v":"R6"},50]
["2020-10-22",36,null,null,null,0.66,0,3.9000000000000004,0.70011225211586348,"",0,{"$f":"IF(Caluations!$J155<0,0,Caluations!$J155)","v":""},null,"R6",{"$f":"IF(AND($E166=\"\",Caluations!$F155<8),$R166*$F166,0)","v":0},2622.9249999999997,{"$f":"IF(LEFT(ScheduleSetup!$P$6,4)=\"Corn\",BF166,BG166)","v":"R6"},null,null,null,null,null,null,null,null,null,null,null,null,null,null,null,null,null,null,null,null,null,null,0,1,0,0,{"$error":"#DIV/0!"},null,null,{"$f":"IF((OR($E166<>\"\" )), Calculations2!$AV166,\"\")","v":""},0.70011225211586348,null,{"$f":"IF(AND(Caluations!$F155>5,Caluations!$F155<>FALSE),\"\",IF($E167=\"\",($I166/$H166)*100,$I166/$H166*100))","v":""},null,null,null,0,null,2622.9249999999997,"R6","R6","R8",9,11,2573.5,"R6",8,null,{"$error":"#VALUE!"},null,null,{"$f":"IF(LEFT(ScheduleSetup!$P$6,4)=\"Soyb\",BG166,BF166)","v":"R6"},50]
["2020-10-23",36,null,null,null,0.66,0,3.9000000000000004,0.70011225211586348,"",0,{"$f":"IF(Caluations!$J156<0,0,Caluations!$J156)","v":""},null,"R6",{"$f":"IF(AND($E167=\"\",Caluations!$F156<8),$R167*$F167,0)","v":0},2632.9249999999997,{"$f":"IF(LEFT(ScheduleSetup!$P$6,4)=\"Corn\",BF167,BG167)","v":"R6"},null,null,null,null,null,null,null,null,null,null,null,null,null,null,null,null,null,null,null,null,null,null,0,1,0,0,{"$error":"#DIV/0!"},null,null,{"$f":"IF((OR($E167<>\"\" )), Calculations2!$AV167,\"\")","v":""},0.70011225211586348,null,{"$f":"IF(AND(Caluations!$F156>5,Caluations!$F156<>FALSE),\"\",IF($E212=\"\",($I167/$H167)*100,$I167/$H167*100))","v":""},null,null,null,0,null,2632.9249999999997,"R6","R6","R8",9,10,2583.5,"R6",8,null,{"$error":"#VALUE!"},null,null,{"$f":"IF(LEFT(ScheduleSetup!$P$6,4)=\"Soyb\",BG167,BF167)","v":"R6"},50]
["2020-10-24",36,null,null,null,0.66,0,{"$f":"IF($B168<=6,$B168*$B$12,IF($B168<=12,6*$B$12+($B168-6)*$C$12,IF($B168<=18,6*$B$12+6*$C$12+($B168-12)*$D$12,IF($B168<=24,6*$B$12+6*$C$12+6*$D$12+($B168-18)*$E$12,IF($B168<=30,6*$B$12+6*$C$12+6*$D$12+6*$E$12+($B168-24)*$F$12,IF($B168<=36,6*$B$12+6*$C$12+6*$D$12+6*$E$12+6*$F$12+($B168-30)*$G$12,IF($B168<=42,6*$B$12+6*$C$12+6*$D$12+6*$E$12+6*$F$12+6*$G$12+($B168-36)*$H$12,IF($B168<=48,6*$B$12+6*$C$12+6*$D$12+6*$E$12+6*$F$12+6*$G$12+6*$H$12+(F168-42)*$I$12,\"rootdepth>48in\"))))))))","v":3.9000000000000004},0.70011225211586348,{"$f":"+IF(S168=\"\",(AX168),S168)","v":""},0,{"$f":"IF(Caluations!$J157<0,0,Caluations!$J157)","v":""},null,"R6",{"$f":"IF(AND($E168=\"\",Caluations!$F157<8),$R168*$F168,0)","v":0},{"$f":"+(IF(BD168=0,BJ168,BD168))","v":2642.9249999999997},{"$f":"IF(LEFT(ScheduleSetup!$P$6,4)=\"Corn\",BF168,BG168)","v":"R6"},null,null,null,null,null,null,null,null,null,null,null,null,null,null,null,null,null,null,null,null,null,null,0,1,{"$f":"+AN168*AO168","v":0},{"$f":"IF(AO168<1,(AQ166-((1.25*(AP168/AN168)))-1)*(-$T$15))*0.008","v":0},{"$f":"AR167-AQ168","v":{"$error":"#DIV/0!"}},null,null,{"$f":"IF((OR($E168<>\"\" )), Calculations2!$AV168,\"\")","v":""},{"$f":"MAX(IF(($I167+$C168+$D168-$G168)+(($H168-$H167)*$B$13/100)>($H168*1.03),($H168*1.03),($I167+$C168+$D168-$G168-O168)+(($H168-$H167)*$B$13/100)),0)","v":0.70011225211586348},null,{"$f":"IF(AND(Caluations!$F157>5,Caluations!$F157<>FALSE),\"\",IF($E169=\"\",($I168/$H168)*100,$I168/$H168*100))","v":""},null,null,null,{"$f":"+T168","v":0},null,{"$f":"+IF(BC168=\"\",BD167+BI168,BD167+BC168)","v":2642.9249999999997},{"$f":"IF( LEN((BC168))=0, BK168,BF168)","v":"R6"},{"$f":"VLOOKUP(BD168,$AZ$19:$BA$43,2,TRUE)","v":"R6"},"R8",9,10,{"$f":"+BJ167+BI168","v":2593.5},{"$f":"VLOOKUP(BJ168,$AZ$19:$BA$43,2,TRUE)","v":"R6"},8,null,{"$error":"#VALUE!"},null,null,{"$f":"IF(LEFT(ScheduleSetup!$P$6,4)=\"Soyb\",BG168,BF168)","v":"R6"},50]
["2020-10-25",36,null,null,null,0.66,0,3.9000000000000004,0.70011225211586348,"",0,{"$f":"IF(Caluations!$J158<0,0,Caluations!$J158)","v":""},null,"R6",{"$f":"IF(AND($E169=\"\",Caluations!$F158<8),$R169*$F169,0)","v":0},2652.9249999999997,{"$f":"IF(LEFT(ScheduleSetup!$P$6,4)=\"Corn\",BF169,BG169)","v":"R6"},null,null,null,null,null,null,null,null,null,null,null,null,null,null,null,null,null,null,null,null,null,null,0,1,0,0,{"$error":"#DIV/0!"},null,null,{"$f":"IF((OR($E169<>\"\" )), Calculations2!$AV169,\"\")","v":""},{"$f":"MAX(IF(($I168+$C169+$D169-$G169)+(($H169-$H168)*$B$13/100)>($H169*1.03),($H169*1.03),($I168+$C169+$D169-$G169-O169)+(($H169-$H168)*$B$13/100)),0)","v":0.70011225211586348},null,{"$f":"IF(AND(Caluations!$F158>5,Caluations!$F158<>FALSE),\"\",IF($E214=\"\",($I169/$H169)*100,$I169/$H169*100))","v":""},null,null,null,0,null,2652.9249999999997,"R6","R6","R8",9,10,2603.5,"R6",8,null,{"$error":"#VALUE!"},null,null,{"$f":"IF(LEFT(ScheduleSetup!$P$6,4)=\"Soyb\",BG169,BF169)","v":"R6"},50]
[null,36,null,null,null,0.66,0,3.9000000000000004,0.70011225211586348,"",0,{"$f":"IF(Caluations!$J159<0,0,Caluations!$J159)","v":""},null,"R6",{"$f":"IF(AND($E170=\"\",Caluations!$F159<8),$R170*$F170,0)","v":0},2661.9249999999997,{"$f":"IF(LEFT(ScheduleSetup!$P$6,4)=\"Corn\",BF170,BG170)","v":"R6"},null,null,null,null,null,null,null,null,null,null,null,null,null,null,null,null,null,null,null,null,null,null,0,1,0,0,{"$error":"#DIV/0!"},null,null,{"$f":"IF((OR($E170<>\"\" )), Calculations2!$AV170,\"\")","v":""},0.70011225211586348,null,{"$f":"IF(AND(Caluations!$F159>5,Caluations!$F159<>FALSE),\"\",IF($E171=\"\",($I170/$H170)*100,$I170/$H170*100))","v":""},null,null,null,0,null,2661.9249999999997,"R6","R6","R8",9,9,2612.5,"R6",8,null,{"$error":"#VALUE!"},null,null,{"$f":"IF(LEFT(ScheduleSetup!$P$6,4)=\"Soyb\",BG170,BF170)","v":"R6"},50]
[null,36,null,null,null,0.66,0,3.9000000000000004,0.70011225211586348,"",0,{"$f":"IF(Caluations!$J160<0,0,Caluations!$J160)","v":""},null,"R6",{"$f":"IF(AND($E171=\"\",Caluations!$F160<8),$R171*$F171,0)","v":0},2670.9249999999997,{"$f":"IF(LEFT(ScheduleSetup!$P$6,4)=\"Corn\",BF171,BG171)","v":"R6"},null,null,null,null,null,null,null,null,null,null,null,null,null,null,null,null,null,null,null,null,null,null,0,1,0,0,{"$error":"#DIV/0!"},null,null,{"$f":"IF((OR($E171<>\"\" )), Calculations2!$AV171,\"\")","v":""},0.70011225211586348,null,{"$f":"IF(AND(Caluations!$F160>5,Caluations!$F160<>FALSE),\"\",IF($E172=\"\",($I171/$H171)*100,$I171/$H171*100))","v":""},null,null,null,0,null,2670.9249999999997,"R6","R6","R8",9,9,2621.5,"R6",8,null,{"$error":"#VALUE!"},null,null,{"$f":"IF(LEFT(ScheduleSetup!$P$6,4)=\"Soyb\",BG171,BF171)","v":"R6"},50]
[null,36,null,null,null,0.66,0,3.9000000000000004,0.70011225211586348,"",0,{"$f":"IF(Caluations!$J161<0,0,Caluations!$J161)","v":""},null,"R6",{"$f":"IF(AND($E172=\"\",Caluations!$F161<8),$R172*$F172,0)","v":0},2679.9249999999997,{"$f":"IF(LEFT(ScheduleSetup!$P$6,4)=\"Corn\",BF172,BG172)","v":"R6"},null,null,null,null,null,null,null,null,null,null,null,null,null,null,null,null,null,null,null,null,null,null,0,1,0,0,{"$error":"#DIV/0!"},null,null,{"$f":"IF((OR($E172<>\"\" )), Calculations2!$AV172,\"\")","v":""},0.70011225211586348,null,{"$f":"IF(AND(Caluations!$F161>5,Caluations!$F161<>FALSE),\"\",IF($E217=\"\",($I172/$H172)*100,$I172/$H172*100))","v":""},null,null,null,0,null,2679.9249999999997,"R6","R6","R8",9,9,2630.5,"R6",8,null,{"$error":"#VALUE!"},null,null,{"$f":"IF(LEFT(ScheduleSetup!$P$6,4)=\"Soyb\",BG172,BF172)","v":"R6"},50]
[null,36,null,null,null,0.66,0,3.9000000000000004,0.70011225211586348,"",0,{"$f":"IF(Caluations!$J162<0,0,Caluations!$J162)","v":""},null,"R6",{"$f":"IF(AND($E173=\"\",Caluations!$F162<8),$R173*$F173,0)","v":0},2688.9249999999997,{"$f":"IF(LEFT(ScheduleSetup!$P$6,4)=\"Corn\",BF173,BG173)","v":"R6"},null,null,null,null,null,null,null,null,null,null,null,null,null,null,null,null,null,null,null,null,null,null,0,1,0,0,{"$error":"#DIV/0!"},null,null,{"$f":"IF((OR($E173<>\"\" )), Calculations2!$AV173,\"\")","v":""},0.70011225211586348,null,{"$f":"IF(AND(Caluations!$F162>5,Caluations!$F162<>FALSE),\"\",IF($E218=\"\",($I173/$H173)*100,$I173/$H173*100))","v":""},null,null,null,0,null,2688.9249999999997,"R6","R6","R8",9,9,2639.5,"R6",8,null,{"$error":"#VALUE!"},null,null,{"$f":"IF(LEFT(ScheduleSetup!$P$6,4)=\"Soyb\",BG173,BF173)","v":"R6"},50]
[null,36,null,null,null,0.66,0,3.9000000000000004,0.70011225211586348,"",0,{"$f":"IF(Caluations!$J163<0,0,Caluations!$J163)","v":""},null,"R6",{"$f":"IF(AND($E174=\"\",Caluations!$F163<8),$R174*$F174,0)","v":0},2696.9249999999997,{"$f":"IF(LEFT(ScheduleSetup!$P$6,4)=\"Corn\",BF174,BG174)","v":"R6"},null,null,null,null,null,null,null,null,null,null,null,null,null,null,null,null,null,null,null,null,null,null,0,1,0,0,{"$error":"#DIV/0!"},null,null,{"$f":"IF((OR($E174<>\"\" )), Calculations2!$AV174,\"\")","v":""},0.70011225211586348,null,{"$f":"IF(AND(Caluations!$F163>5,Caluations!$F163<>FALSE),\"\",IF($E175=\"\",($I174/$H174)*100,$I174/$H174*100))","v":""},null,null,null,0,null,2696.9249999999997,"R6","R6","R8",9,8,2647.5,"R6",8,null,{"$error":"#VALUE!"},null,null,{"$f":"IF(LEFT(ScheduleSetup!$P$6,4)=\"Soyb\",BG174,BF174)","v":"R6"},50]
[null,36,null,null,null,0.66,0,3.9000000000000004,0.70011225211586348,"",0,{"$f":"IF(Caluations!$J164<0,0,Caluations!$J164)","v":""},null,"R6",{"$f":"IF(AND($E175=\"\",Caluations!$F164<8),$R175*$F175,0)","v":0},2704.9249999999997,{"$f":"IF(LEFT(ScheduleSetup!$P$6,4)=\"Corn\",BF175,BG175)","v":"R6"},null,null,null,null,null,null,null,null,null,null,null,null,null,null,null,null,null,null,null,null,null,null,0,1,0,0,{"$error":"#DIV/0!"},null,null,{"$f":"IF((OR($E175<>\"\" )), Calculations2!$AV175,\"\")","v":""},0.70011225211586348,null,{"$f":"IF(AND(Caluations!$F164>5,Caluations!$F164<>FALSE),\"\",IF($E176=\"\",($I175/$H175)*100,$I175/$H175*100))","v":""},null,null,null,0,null,2704.9249999999997,"R6","R6","R8",9,8,2655.5,"R6",8,null,{"$error":"#VALUE!"},null,null,{"$f":"IF(LEFT(ScheduleSetup!$P$6,4)=\"Soyb\",BG175,BF175)","v":"R6"},50]
[null,36,null,null,null,0.66,0,3.9000000000000004,0.70011225211586348,"",0,{"$f":"IF(Caluations!$J165<0,0,Caluations!$J165)","v":""},null,"R6",{"$f":"IF(AND($E176=\"\",Caluations!$F165<8),$R176*$F176,0)","v":0},2718.9249999999997,{"$f":"IF(LEFT(ScheduleSetup!$P$6,4)=\"Corn\",BF176,BG176)","v":"R6"},null,null,null,null,null,null,null,null,null,null,null,null,null,null,null,null,null,null,null,null,null,null,0,1,0,0,{"$error":"#DIV/0!"},null,null,{"$f":"IF((OR($E176<>\"\" )), Calculations2!$AV176,\"\")","v":""},0.70011225211586348,null,{"$f":"IF(AND(Caluations!$F165>5,Caluations!$F165<>FALSE),\"\",IF($E221=\"\",($I176/$H176)*100,$I176/$H176*100))","v":""},null,null,null,0,null,2718.9249999999997,"R6","R6","R8",9,14,2669.5,"R6",8,null,{"$error":"#VALUE!"},null,null,{"$f":"IF(LEFT(ScheduleSetup!$P$6,4)=\"Soyb\",BG176,BF176)","v":"R6"},50]
[null,36,null,null,null,0.66,0,{"$f":"IF($B177<=6,$B177*$B$12,IF($B177<=12,6*$B$12+($B177-6)*$C$12,IF($B177<=18,6*$B$12+6*$C$12+($B177-12)*$D$12,IF($B177<=24,6*$B$12+6*$C$12+6*$D$12+($B177-18)*$E$12,IF($B177<=30,6*$B$12+6*$C$12+6*$D$12+6*$E$12+($B177-24)*$F$12,IF($B177<=36,6*$B$12+6*$C$12+6*$D$12+6*$E$12+6*$F$12+($B177-30)*$G$12,IF($B177<=42,6*$B$12+6*$C$12+6*$D$12+6*$E$12+6*$F$12+6*$G$12+($B177-36)*$H$12,IF($B177<=48,6*$B$12+6*$C$12+6*$D$12+6*$E$12+6*$F$12+6*$G$12+6*$H$12+(F177-42)*$I$12,\"rootdepth>48in\"))))))))","v":3.9000000000000004},0.70011225211586348,{"$f":"+IF(S177=\"\",(AX177),S177)","v":""},0,{"$f":"IF(Caluations!$J166<0,0,Caluations!$J166)","v":""},null,"R6",{"$f":"IF(AND($E177=\"\",Caluations!$F166<8),$R177*$F177,0)","v":0},{"$f":"+(IF(BD177=0,BJ177,BD177))","v":2731.9249999999997},{"$f":"IF(LEFT(ScheduleSetup!$P$6,4)=\"Corn\",BF177,BG177)","v":"R6"},null,null,null,null,null,null,null,null,null,null,null,null,null,null,null,null,null,null,null,null,null,null,0,1,{"$f":"+AN177*AO177","v":0},{"$f":"IF(AO177<1,(AQ175-((1.25*(AP177/AN177)))-1)*(-$T$15))*0.008","v":0},{"$f":"AR176-AQ177","v":{"$error":"#DIV/0!"}},null,null,{"$f":"IF((OR($E177<>\"\" )), Calculations2!$AV177,\"\")","v":""},{"$f":"MAX(IF(($I176+$C177+$D177-$G177)+(($H177-$H176)*$B$13/100)>($H177*1.03),($H177*1.03),($I176+$C177+$D177-$G177-O177)+(($H177-$H176)*$B$13/100)),0)","v":0.70011225211586348},null,{"$f":"IF(AND(Caluations!$F166>5,Caluations!$F166<>FALSE),\"\",IF($E178=\"\",($I177/$H177)*100,$I177/$H177*100))","v":""},null,null,null,{"$f":"+T177","v":0},null,{"$f":"+IF(BC177=\"\",BD176+BI177,BD176+BC177)","v":2731.9249999999997},{"$f":"IF( LEN((BC177))=0, BK177,BF177)","v":"R6"},{"$f":"VLOOKUP(BD177,$AZ$19:$BA$43,2,TRUE)","v":"R6"},"R8",9,13,{"$f":"+BJ176+BI177","v":2682.5},{"$f":"VLOOKUP(BJ177,$AZ$19:$BA$43,2,TRUE)","v":"R6"},8,null,{"$error":"#VALUE!"},null,null,{"$f":"IF(LEFT(ScheduleSetup!$P$6,4)=\"Soyb\",BG177,BF177)","v":"R6"},50]
[null,36,null,null,null,0.66,0,3.9000000000000004,0.70011225211586348,"",0,{"$f":"IF(Caluations!$J167<0,0,Caluations!$J167)","v":""},null,"R6",{"$f":"IF(AND($E178=\"\",Caluations!$F167<8),$R178*$F178,0)","v":0},2744.9249999999997,{"$f":"IF(LEFT(ScheduleSetup!$P$6,4)=\"Corn\",BF178,BG178)","v":"R6"},null,null,null,null,null,null,null,null,null,null,null,null,null,null,null,null,null,null,null,null,null,null,0,1,0,0,{"$error":"#DIV/0!"},null,null,{"$f":"IF((OR($E178<>\"\" )), Calculations2!$AV178,\"\")","v":""},0.70011225211586348,null,{"$f":"IF(AND(Caluations!$F167>5,Caluations!$F167<>FALSE),\"\",IF($E223=\"\",($I178/$H178)*100,$I178/$H178*100))","v":""},null,null,null,0,null,2744.9249999999997,"R6","R6","R8",9,13,2695.5,"R6",8,null,{"$error":"#VALUE!"},null,null,{"$f":"IF(LEFT(ScheduleSetup!$P$6,4)=\"Soyb\",BG178,BF178)","v":"R6"},50]
[null,36,null,null,null,0.66,0,{"$f":"IF($B179<=6,$B179*$B$12,IF($B179<=12,6*$B$12+($B179-6)*$C$12,IF($B179<=18,6*$B$12+6*$C$12+($B179-12)*$D$12,IF($B179<=24,6*$B$12+6*$C$12+6*$D$12+($B179-18)*$E$12,IF($B179<=30,6*$B$12+6*$C$12+6*$D$12+6*$E$12+($B179-24)*$F$12,IF($B179<=36,6*$B$12+6*$C$12+6*$D$12+6*$E$12+6*$F$12+($B179-30)*$G$12,IF($B179<=42,6*$B$12+6*$C$12+6*$D$12+6*$E$12+6*$F$12+6*$G$12+($B179-36)*$H$12,IF($B179<=48,6*$B$12+6*$C$12+6*$D$12+6*$E$12+6*$F$12+6*$G$12+6*$H$12+(F179-42)*$I$12,\"rootdepth>48in\"))))))))","v":3.9000000000000004},0.70011225211586348,{"$f":"+IF(S179=\"\",(AX179),S179)","v":""},0,{"$f":"IF(Caluations!$J168<0,0,Caluations!$J168)","v":""},null,"R6",{"$f":"IF(AND($E179=\"\",Caluations!$F168<8),$R179*$F179,0)","v":0},{"$f":"+(IF(BD179=0,BJ179,BD179))","v":2757.9249999999997},{"$f":"IF(LEFT(ScheduleSetup!$P$6,4)=\"Corn\",BF179,BG179)","v":"R6"},null,null,null,null,null,null,null,null,null,null,null,null,null,null,null,null,null,null,null,null,null,null,0,1,{"$f":"+AN179*AO179","v":0},{"$f":"IF(AO179<1,(AQ177-((1.25*(AP179/AN179)))-1)*(-$T$15))*0.008","v":0},{"$f":"AR178-AQ179","v":{"$error":"#DIV/0!"}},null,null,{"$f":"IF((OR($E179<>\"\" )), Calculations2!$AV179,\"\")","v":""},{"$f":"MAX(IF(($I178+$C179+$D179-$G179)+(($H179-$H178)*$B$13/100)>($H179*1.03),($H179*1.03),($I178+$C179+$D179-$G179-O179)+(($H179-$H178)*$B$13/100)),0)","v":0.70011225211586348},null,{"$f":"IF(AND(Caluations!$F168>5,Caluations!$F168<>FALSE),\"\",IF($E224=\"\",($I179/$H179)*100,$I179/$H179*100))","v":""},null,null,null,{"$f":"+T179","v":0},null,{"$f":"+IF(BC179=\"\",BD178+BI179,BD178+BC179)","v":2757.9249999999997},{"$f":"IF( LEN((BC179))=0, BK179,BF179)","v":"R6"},{"$f":"VLOOKUP(BD179,$AZ$19:$BA$43,2,TRUE)","v":"R6"},"R8",9,13,{"$f":"+BJ178+BI179","v":2708.5},{"$f":"VLOOKUP(BJ179,$AZ$19:$BA$43,2,TRUE)","v":"R6"},8,null,{"$error":"#VALUE!"},null,null,{"$f":"IF(LEFT(ScheduleSetup!$P$6,4)=\"Soyb\",BG179,BF179)","v":"R6"},50]
[null,36,null,null,null,0.66,0,3.9000000000000004,0.70011225211586348,"",0,{"$f":"IF(Caluations!$J169<0,0,Caluations!$J169)","v":""},null,"R6",{"$f":"IF(AND($E180=\"\",Caluations!$F169<8),$R180*$F180,0)","v":0},2771.9249999999997,{"$f":"IF(LEFT(ScheduleSetup!$P$6,4)=\"Corn\",BF180,BG180)","v":"R6"},null,null,null,null,null,null,null,null,null,null,null,null,null,null,null,null,null,null,null,null,null,null,0,1,0,0,{"$error":"#DIV/0!"},null,null,{"$f":"IF((OR($E180<>\"\" )), Calculations2!$AV180,\"\")","v":""},0.70011225211586348,null,{"$f":"IF(AND(Caluations!$F169>5,Caluations!$F169<>FALSE),\"\",IF($E181=\"\",($I180/$H180)*100,$I180/$H180*100))","v":""},null,null,null,0,null,2771.9249999999997,"R6","R6","R8",9,14,2722.5,"R6",8,null,{"$error":"#VALUE!"},null,null,{"$f":"IF(LEFT(ScheduleSetup!$P$6,4)=\"Soyb\",BG180,BF180)","v":"R6"},50]
[null,36,null,null,null,0.66,0,3.9000000000000004,0.70011225211586348,"",0,{"$f":"IF(Caluations!$J170<0,0,Caluations!$J170)","v":""},null,"R6",{"$f":"IF(AND($E181=\"\",Caluations!$F170<8),$R181*$F181,0)","v":0},2785.9249999999997,{"$f":"IF(LEFT(ScheduleSetup!$P$6,4)=\"Corn\",BF181,BG181)","v":"R6"},null,null,null,null,null,null,null,null,null,null,null,null,null,null,null,null,null,null,null,null,null,null,0,1,0,0,{"$error":"#DIV/0!"},null,null,{"$f":"IF((OR($E181<>\"\" )), Calculations2!$AV181,\"\")","v":""},0.70011225211586348,null,{"$f":"IF(AND(Caluations!$F170>5,Caluations!$F170<>FALSE),\"\",IF($E226=\"\",($I181/$H181)*100,$I181/$H181*100))","v":""},null,null,null,0,null,2785.9249999999997,"R6","R6","R8",9,14,2736.5,"R6",8,null,{"$error":"#VALUE!"},null,null,{"$f":"IF(LEFT(ScheduleSetup!$P$6,4)=\"Soyb\",BG181,BF181)","v":"R6"},50]
[null,36,null,null,null,0.66,0,3.9000000000000004,0.70011225211586348,"",0,{"$f":"IF(Caluations!$J171<0,0,Caluations!$J171)","v":""},null,"R6",{"$f":"IF(AND($E182=\"\",Caluations!$F171<8),$R182*$F182,0)","v":0},2798.9249999999997,{"$f":"IF(LEFT(ScheduleSetup!$P$6,4)=\"Corn\",BF182,BG182)","v":"R6"},null,null,null,null,null,null,null,null,null,null,null,null,null,null,null,null,null,null,null,null,null,null,0,1,0,0,{"$error":"#DIV/0!"},null,null,{"$f":"IF((OR($E182<>\"\" )), Calculations2!$AV182,\"\")","v":""},0.70011225211586348,null,{"$f":"IF(AND(Caluations!$F171>5,Caluations!$F171<>FALSE),\"\",IF($E183=\"\",($I182/$H182)*100,$I182/$H182*100))","v":""},null,null,null,0,null,2798.9249999999997,"R6","R6","R8",9,13,2749.5,"R6",8,null,{"$error":"#VALUE!"},null,null,{"$f":"IF(LEFT(ScheduleSetup!$P$6,4)=\"Soyb\",BG182,BF182)","v":"R6"},50]
[null,36,null,null,null,0.66,0,3.9000000000000004,0.70011225211586348,"",0,{"$f":"IF(Caluations!$J172<0,0,Caluations!$J172)","v":""},null,"R6",{"$f":"IF(AND($E183=\"\",Caluations!$F172<8),$R183*$F183,0)","v":0},2811.9249999999997,{"$f":"IF(LEFT(ScheduleSetup!$P$6,4)=\"Corn\",BF183,BG183)","v":"R6"},null,null,null,null,null,null,null,null,null,null,null,null,null,null,null,null,null,null,null,null,null,null,0,1,0,0,{"$error":"#DIV/0!"},null,null,{"$f":"IF((OR($E183<>\"\" )), Calculations2!$AV183,\"\")","v":""},0.70011225211586348,null,{"$f":"IF(AND(Caluations!$F172>5,Caluations!$F172<>FALSE),\"\",IF($E228=\"\",($I183/$H183)*100,$I183/$H183*100))","v":""},null,null,null,0,null,2811.9249999999997,"R6","R6","R8",9,13,2762.5,"R6",8,null,{"$error":"#VALUE!"},null,null,{"$f":"IF(LEFT(ScheduleSetup!$P$6,4)=\"Soyb\",BG183,BF183)","v":"R6"},50]
[null,36,null,null,null,0.66,0,{"$f":"IF($B184<=6,$B184*$B$12,IF($B184<=12,6*$B$12+($B184-6)*$C$12,IF($B184<=18,6*$B$12+6*$C$12+($B184-12)*$D$12,IF($B184<=24,6*$B$12+6*$C$12+6*$D$12+($B184-18)*$E$12,IF($B184<=30,6*$B$12+6*$C$12+6*$D$12+6*$E$12+($B184-24)*$F$12,IF($B184<=36,6*$B$12+6*$C$12+6*$D$12+6*$E$12+6*$F$12+($B184-30)*$G$12,IF($B184<=42,6*$B$12+6*$C$12+6*$D$12+6*$E$12+6*$F$12+6*$G$12+($B184-36)*$H$12,IF($B184<=48,6*$B$12+6*$C$12+6*$D$12+6*$E$12+6*$F$12+6*$G$12+6*$H$12+(F184-42)*$I$12,\"rootdepth>48in\"))))))))","v":3.9000000000000004},0.70011225211586348,{"$f":"+IF(S184=\"\",(AX184),S184)","v":""},0,{"$f":"IF(Caluations!$J173<0,0,Caluations!$J173)","v":""},null,"R6",{"$f":"IF(AND($E184=\"\",Caluations!$F173<8),$R184*$F184,0)","v":0},{"$f":"+(IF(BD184=0,BJ184,BD184))","v":2824.9249999999997},{"$f":"IF(LEFT(ScheduleSetup!$P$6,4)=\"Corn\",BF184,BG184)","v":"R6"},null,null,null,null,null,null,null,null,null,null,null,null,null,null,null,null,null,null,null,null,null,null,0,1,{"$f":"+AN184*AO184","v":0},{"$f":"IF(AO184<1,(AQ182-((1.25*(AP184/AN184)))-1)*(-$T$15))*0.008","v":0},{"$f":"AR183-AQ184","v":{"$error":"#DIV/0!"}},null,null,{"$f":"IF((OR($E184<>\"\" )), Calculations2!$AV184,\"\")","v":""},{"$f":"MAX(IF(($I183+$C184+$D184-$G184)+(($H184-$H183)*$B$13/100)>($H184*1.03),($H184*1.03),($I183+$C184+$D184-$G184-O184)+(($H184-$H183)*$B$13/100)),0)","v":0.70011225211586348},null,{"$f":"IF(AND(Caluations!$F173>5,Caluations!$F173<>FALSE),\"\",IF($E229=\"\",($I184/$H184)*100,$I184/$H184*100))","v":""},null,null,null,{"$f":"+T184","v":0},null,{"$f":"+IF(BC184=\"\",BD183+BI184,BD183+BC184)","v":2824.9249999999997},{"$f":"IF( LEN((BC184))=0, BK184,BF184)","v":"R6"},{"$f":"VLOOKUP(BD184,$AZ$19:$BA$43,2,TRUE)","v":"R6"},"R8",9,13,{"$f":"+BJ183+BI184","v":2775.5},{"$f":"VLOOKUP(BJ184,$AZ$19:$BA$43,2,TRUE)","v":"R6"},8,null,{"$error":"#VALUE!"},null,null,{"$f":"IF(LEFT(ScheduleSetup!$P$6,4)=\"Soyb\",BG184,BF184)","v":"R6"},50]
[null,36,null,null,null,0.66,0,3.9000000000000004,0.70011225211586348,"",0,{"$f":"IF(Caluations!$J174<0,0,Caluations!$J174)","v":""},null,"R6",{"$f":"IF(AND($E185=\"\",Caluations!$F174<8),$R185*$F185,0)","v":0},2837.9249999999997,{"$f":"IF(LEFT(ScheduleSetup!$P$6,4)=\"Corn\",BF185,BG185)","v":"R6"},null,null,null,null,null,null,null,null,null,null,null,null,null,null,null,null,null,null,null,null,null,null,0,1,0,0,{"$error":"#DIV/0!"},null,null,{"$f":"IF((OR($E185<>\"\" )), Calculations2!$AV185,\"\")","v":""},0.70011225211586348,null,{"$f":"IF(AND(Caluations!$F174>5,Caluations!$F174<>FALSE),\"\",IF($E186=\"\",($I185/$H185)*100,$I185/$H185*100))","v":""},null,null,null,0,null,2837.9249999999997,"R6","R6","R8",9,13,2788.5,"R6",8,null,{"$error":"#VALUE!"},null,null,{"$f":"IF(LEFT(ScheduleSetup!$P$6,4)=\"Soyb\",BG185,BF185)","v":"R6"},50]
[null,36,null,null,null,0.66,0,3.9000000000000004,0.70011225211586348,"",0,{"$f":"IF(Caluations!$J175<0,0,Caluations!$J175)","v":""},null,"R6",{"$f":"IF(AND($E186=\"\",Caluations!$F175<8),$R186*$F186,0)","v":0},2850.9249999999997,{"$f":"IF(LEFT(ScheduleSetup!$P$6,4)=\"Corn\",BF186,BG186)","v":"R6"},null,null,null,null,null,null,null,null,null,null,null,null,null,null,null,null,null,null,null,null,null,null,0,1,0,0,{"$error":"#DIV/0!"},null,null,{"$f":"IF((OR($E186<>\"\" )), Calculations2!$AV186,\"\")","v":""},0.70011225211586348,null,{"$f":"IF(AND(Caluations!$F175>5,Caluations!$F175<>FALSE),\"\",IF($E231=\"\",($I186/$H186)*100,$I186/$H186*100))","v":""},null,null,null,0,null,2850.9249999999997,"R6","R6","R8",9,13,2801.5,"R6",8,null,{"$error":"#VALUE!"},null,null,{"$f":"IF(LEFT(ScheduleSetup!$P$6,4)=\"Soyb\",BG186,BF186)","v":"R6"},50]
[null,36,null,null,null,0.66,0,3.9000000000000004,0.70011225211586348,"",0,{"$f":"IF(Caluations!$J176<0,0,Caluations!$J176)","v":""},null,"R6",{"$f":"IF(AND($E187=\"\",Caluations!$F176<8),$R187*$F187,0)","v":0},2863.9249999999997,{"$f":"IF(LEFT(ScheduleSetup!$P$6,4)=\"Corn\",BF187,BG187)","v":"R6"},null,null,null,null,null,null,null,null,null,null,null,null,null,null,null,null,null,null,null,null,null,null,0,1,0,0,{"$error":"#DIV/0!"},null,null,{"$f":"IF((OR($E187<>\"\" )), Calculations2!$AV187,\"\")","v":""},0.70011225211586348,null,{"$f":"IF(AND(Caluations!$F176>5,Caluations!$F176<>FALSE),\"\",IF($E232=\"\",($I187/$H187)*100,$I187/$H187*100))","v":""},null,null,null,0,null,2863.9249999999997,"R6","R6","R8",9,13,2814.5,"R6",8,null,{"$error":"#VALUE!"},null,null,{"$f":"IF(LEFT(ScheduleSetup!$P$6,4)=\"Soyb\",BG187,BF187)","v":"R6"},50]
[null,36,null,null,null,0.66,0,3.9000000000000004,0.70011225211586348,"",0,{"$f":"IF(Caluations!$J177<0,0,Caluations!$J177)","v":""},null,"R6",{"$f":"IF(AND($E188=\"\",Caluations!$F177<8),$R188*$F188,0)","v":0},2877.9249999999997,{"$f":"IF(LEFT(ScheduleSetup!$P$6,4)=\"Corn\",BF188,BG188)","v":"R6"},null,null,null,null,null,null,null,null,null,null,null,null,null,null,null,null,null,null,null,null,null,null,0,1,0,0,{"$error":"#DIV/0!"},null,null,{"$f":"IF((OR($E188<>\"\" )), Calculations2!$AV188,\"\")","v":""},0.70011225211586348,null,{"$f":"IF(AND(Caluations!$F177>5,Caluations!$F177<>FALSE),\"\",IF($E189=\"\",($I188/$H188)*100,$I188/$H188*100))","v":""},null,null,null,0,null,2877.9249999999997,"R6","R6","R8",9,14,2828.5,"R6",8,null,{"$error":"#VALUE!"},null,null,{"$f":"IF(LEFT(ScheduleSetup!$P$6,4)=\"Soyb\",BG188,BF188)","v":"R6"},50]
[null,36,null,null,null,0.66,0,3.9000000000000004,0.70011225211586348,"",0,{"$f":"IF(Caluations!$J178<0,0,Caluations!$J178)","v":""},null,"R6",{"$f":"IF(AND($E189=\"\",Caluations!$F178<8),$R189*$F189,0)","v":0},2891.9249999999997,{"$f":"IF(LEFT(ScheduleSetup!$P$6,4)=\"Corn\",BF189,BG189)","v":"R6"},null,null,null,null,null,null,null,null,null,null,null,null,null,null,null,null,null,null,null,null,null,null,0,1,0,0,{"$error":"#DIV/0!"},null,null,{"$f":"IF((OR($E189<>\"\" )), Calculations2!$AV189,\"\")","v":""},0.70011225211586348,null,{"$f":"IF(AND(Caluations!$F178>5,Caluations!$F178<>FALSE),\"\",IF($E234=\"\",($I189/$H189)*100,$I189/$H189*100))","v":""},null,null,null,0,null,2891.9249999999997,"R6","R6","R8",9,14,2842.5,"R6",8,null,{"$error":"#VALUE!"},null,null,{"$f":"IF(LEFT(ScheduleSetup!$P$6,4)=\"Soyb\",BG189,BF189)","v":"R6"},50]
[null,36,null,null,null,0.66,0,3.9000000000000004,0.70011225211586348,"",0,{"$f":"IF(Caluations!$J179<0,0,Caluations!$J179)","v":""},null,"R6",{"$f":"IF(AND($E190=\"\",Caluations!$F179<8),$R190*$F190,0)","v":0},2904.9249999999997,{"$f":"IF(LEFT(ScheduleSetup!$P$6,4)=\"Corn\",BF190,BG190)","v":"R6"},null,null,null,null,null,null,null,null,null,null,null,null,null,null,null,null,null,null,null,null,null,null,0,1,0,0,{"$error":"#DIV/0!"},null,null,{"$f":"IF((OR($E190<>\"\" )), Calculations2!$AV190,\"\")","v":""},0.70011225211586348,null,{"$f":"IF(AND(Caluations!$F179>5,Caluations!$F179<>FALSE),\"\",IF($E191=\"\",($I190/$H190)*100,$I190/$H190*100))","v":""},null,null,null,0,null,2904.9249999999997,"R6","R6","R8",9,13,2855.5,"R6",8,null,{"$error":"#VALUE!"},null,null,{"$f":"IF(LEFT(ScheduleSetup!$P$6,4)=\"Soyb\",BG190,BF190)","v":"R6"},50]
[null,36,null,null,null,0.66,0,3.9000000000000004,0.70011225211586348,"",0,{"$f":"IF(Caluations!$J180<0,0,Caluations!$J180)","v":""},null,"R6",{"$f":"IF(AND($E191=\"\",Caluations!$F180<8),$R191*$F191,0)","v":0},2917.9249999999997,{"$f":"IF(LEFT(ScheduleSetup!$P$6,4)=\"Corn\",BF191,BG191)","v":"R6"},null,null,null,null,null,null,null,null,null,null,null,null,null,null,null,null,null,null,null,null,null,null,0,1,0,0,{"$error":"#DIV/0!"},null,null,{"$f":"IF((OR($E191<>\"\" )), Calculations2!$AV191,\"\")","v":""},0.70011225211586348,null,{"$f":"IF(AND(Caluations!$F180>5,Caluations!$F180<>FALSE),\"\",IF($E236=\"\",($I191/$H191)*100,$I191/$H191*100))","v":""},null,null,null,0,null,2917.9249999999997,"R6","R6","R8",9,13,2868.5,"R6",8,null,{"$error":"#VALUE!"},null,null,{"$f":"IF(LEFT(ScheduleSetup!$P$6,4)=\"Soyb\",BG191,BF191)","v":"R6"},50]
[null,36,null,null,null,0.66,0,{"$f":"IF($B192<=6,$B192*$B$12,IF($B192<=12,6*$B$12+($B192-6)*$C$12,IF($B192<=18,6*$B$12+6*$C$12+($B192-12)*$D$12,IF($B192<=24,6*$B$12+6*$C$12+6*$D$12+($B192-18)*$E$12,IF($B192<=30,6*$B$12+6*$C$12+6*$D$12+6*$E$12+($B192-24)*$F$12,IF($B192<=36,6*$B$12+6*$C$12+6*$D$12+6*$E$12+6*$F$12+($B192-30)*$G$12,IF($B192<=42,6*$B$12+6*$C$12+6*$D$12+6*$E$12+6*$F$12+6*$G$12+($B192-36)*$H$12,IF($B192<=48,6*$B$12+6*$C$12+6*$D$12+6*$E$12+6*$F$12+6*$G$12+6*$H$12+(F192-42)*$I$12,\"rootdepth>48in\"))))))))","v":3.9000000000000004},0.70011225211586348,{"$f":"+IF(S192=\"\",(AX192),S192)","v":""},0,{"$f":"IF(Caluations!$J181<0,0,Caluations!$J181)","v":""},null,"R6",{"$f":"IF(AND($E192=\"\",Caluations!$F181<8),$R192*$F192,0)","v":0},{"$f":"+(IF(BD192=0,BJ192,BD192))","v":2930.9249999999997},{"$f":"IF(LEFT(ScheduleSetup!$P$6,4)=\"Corn\",BF192,BG192)","v":"R6"},null,null,null,null,null,null,null,null,null,null,null,null,null,null,null,null,null,null,null,null,null,null,0,1,{"$f":"+AN192*AO192","v":0},{"$f":"IF(AO192<1,(AQ190-((1.25*(AP192/AN192)))-1)*(-$T$15))*0.008","v":0},{"$f":"AR191-AQ192","v":{"$error":"#DIV/0!"}},null,null,{"$f":"IF((OR($E192<>\"\" )), Calculations2!$AV192,\"\")","v":""},{"$f":"MAX(IF(($I191+$C192+$D192-$G192)+(($H192-$H191)*$B$13/100)>($H192*1.03),($H192*1.03),($I191+$C192+$D192-$G192-O192)+(($H192-$H191)*$B$13/100)),0)","v":0.70011225211586348},null,{"$f":"IF(AND(Caluations!$F181>5,Caluations!$F181<>FALSE),\"\",IF($E237=\"\",($I192/$H192)*100,$I192/$H192*100))","v":""},null,null,null,{"$f":"+T192","v":0},null,{"$f":"+IF(BC192=\"\",BD191+BI192,BD191+BC192)","v":2930.9249999999997},{"$f":"IF( LEN((BC192))=0, BK192,BF192)","v":"R6"},{"$f":"VLOOKUP(BD192,$AZ$19:$BA$43,2,TRUE)","v":"R6"},"R8",9,13,{"$f":"+BJ191+BI192","v":2881.5},{"$f":"VLOOKUP(BJ192,$AZ$19:$BA$43,2,TRUE)","v":"R6"},8,null,{"$error":"#VALUE!"},null,null,{"$f":"IF(LEFT(ScheduleSetup!$P$6,4)=\"Soyb\",BG192,BF192)","v":"R6"},50]
[null,36,null,null,null,0.66,0,{"$f":"IF($B193<=6,$B193*$B$12,IF($B193<=12,6*$B$12+($B193-6)*$C$12,IF($B193<=18,6*$B$12+6*$C$12+($B193-12)*$D$12,IF($B193<=24,6*$B$12+6*$C$12+6*$D$12+($B193-18)*$E$12,IF($B193<=30,6*$B$12+6*$C$12+6*$D$12+6*$E$12+($B193-24)*$F$12,IF($B193<=36,6*$B$12+6*$C$12+6*$D$12+6*$E$12+6*$F$12+($B193-30)*$G$12,IF($B193<=42,6*$B$12+6*$C$12+6*$D$12+6*$E$12+6*$F$12+6*$G$12+($B193-36)*$H$12,IF($B193<=48,6*$B$12+6*$C$12+6*$D$12+6*$E$12+6*$F$12+6*$G$12+6*$H$12+(F193-42)*$I$12,\"rootdepth>48in\"))))))))","v":3.9000000000000004},0.70011225211586348,{"$f":"+IF(S193=\"\",(AX193),S193)","v":""},0,{"$f":"IF(Caluations!$J182<0,0,Caluations!$J182)","v":""},null,"R6",{"$f":"IF(AND($E193=\"\",Caluations!$F182<8),$R193*$F193,0)","v":0},{"$f":"+(IF(BD193=0,BJ193,BD193))","v":2943.9249999999997},{"$f":"IF(LEFT(ScheduleSetup!$P$6,4)=\"Corn\",BF193,BG193)","v":"R6"},null,null,null,null,null,null,null,null,null,null,null,null,null,null,null,null,null,null,null,null,null,null,0,1,{"$f":"+AN193*AO193","v":0},{"$f":"IF(AO193<1,(AQ191-((1.25*(AP193/AN193)))-1)*(-$T$15))*0.008","v":0},{"$f":"AR192-AQ193","v":{"$error":"#DIV/0!"}},null,null,{"$f":"IF((OR($E193<>\"\" )), Calculations2!$AV193,\"\")","v":""},{"$f":"MAX(IF(($I192+$C193+$D193-$G193)+(($H193-$H192)*$B$13/100)>($H193*1.03),($H193*1.03),($I192+$C193+$D193-$G193-O193)+(($H193-$H192)*$B$13/100)),0)","v":0.70011225211586348},null,{"$f":"IF(AND(Caluations!$F182>5,Caluations!$F182<>FALSE),\"\",IF($E238=\"\",($I193/$H193)*100,$I193/$H193*100))","v":""},null,null,null,{"$f":"+T193","v":0},null,{"$f":"+IF(BC193=\"\",BD192+BI193,BD192+BC193)","v":2943.9249999999997},{"$f":"IF( LEN((BC193))=0, BK193,BF193)","v":"R6"},{"$f":"VLOOKUP(BD193,$AZ$19:$BA$43,2,TRUE)","v":"R6"},"R8",9,13,{"$f":"+BJ192+BI193","v":2894.5},{"$f":"VLOOKUP(BJ193,$AZ$19:$BA$43,2,TRUE)","v":"R6"},8,null,{"$error":"#VALUE!"},null,null,{"$f":"IF(LEFT(ScheduleSetup!$P$6,4)=\"Soyb\",BG193,BF193)","v":"R6"},50]
[null,36,null,null,null,0.66,0,3.9000000000000004,0.70011225211586348,"",0,{"$f":"IF(Caluations!$J183<0,0,Caluations!$J183)","v":""},null,"R6",{"$f":"IF(AND($E194=\"\",Caluations!$F183<8),$R194*$F194,0)","v":0},2957.9249999999997,{"$f":"IF(LEFT(ScheduleSetup!$P$6,4)=\"Corn\",BF194,BG194)","v":"R6"},null,null,null,null,null,null,null,null,null,null,null,null,null,null,null,null,null,null,null,null,null,null,0,1,0,0,{"$error":"#DIV/0!"},null,null,{"$f":"IF((OR($E194<>\"\" )), Calculations2!$AV194,\"\")","v":""},0.70011225211586348,null,{"$f":"IF(AND(Caluations!$F183>5,Caluations!$F183<>FALSE),\"\",IF($E195=\"\",($I194/$H194)*100,$I194/$H194*100))","v":""},null,null,null,0,null,2957.9249999999997,"R6","R6","R8",9,14,2908.5,"R6",8,null,{"$error":"#VALUE!"},null,null,{"$f":"IF(LEFT(ScheduleSetup!$P$6,4)=\"Soyb\",BG194,BF194)","v":"R6"},50]
[null,36,null,null,null,0.66,0,3.9000000000000004,0.70011225211586348,"",0,{"$f":"IF(Caluations!$J184<0,0,Caluations!$J184)","v":""},null,"R6",{"$f":"IF(AND($E195=\"\",Caluations!$F184<8),$R195*$F195,0)","v":0},2971.9249999999997,{"$f":"IF(LEFT(ScheduleSetup!$P$6,4)=\"Corn\",BF195,BG195)","v":"R6"},null,null,null,null,null,null,null,null,null,null,null,null,null,null,null,null,null,null,null,null,null,null,0,1,0,0,{"$error":"#DIV/0!"},null,null,{"$f":"IF((OR($E195<>\"\" )), Calculations2!$AV195,\"\")","v":""},0.70011225211586348,null,{"$f":"IF(AND(Caluations!$F184>5,Caluations!$F184<>FALSE),\"\",IF($E240=\"\",($I195/$H195)*100,$I195/$H195*100))","v":""},null,null,null,0,null,2971.9249999999997,"R6","R6","R8",9,14,2922.5,"R6",8,null,{"$error":"#VALUE!"},null,null,{"$f":"IF(LEFT(ScheduleSetup!$P$6,4)=\"Soyb\",BG195,BF195)","v":"R6"},50]
[null,36,null,null,null,0.66,0,3.9000000000000004,0.70011225211586348,"",0,{"$f":"IF(Caluations!$J185<0,0,Caluations!$J185)","v":""},null,"R6",{"$f":"IF(AND($E196=\"\",Caluations!$F185<8),$R196*$F196,0)","v":0},2984.9249999999997,{"$f":"IF(LEFT(ScheduleSetup!$P$6,4)=\"Corn\",BF196,BG196)","v":"R6"},null,null,null,null,null,null,null,null,null,null,null,null,null,null,null,null,null,null,null,null,null,null,0,1,0,0,{"$error":"#DIV/0!"},null,null,{"$f":"IF((OR($E196<>\"\" )), Calculations2!$AV196,\"\")","v":""},0.70011225211586348,null,{"$f":"IF(AND(Caluations!$F185>5,Caluations!$F185<>FALSE),\"\",IF($E197=\"\",($I196/$H196)*100,$I196/$H196*100))","v":""},null,null,null,0,null,2984.9249999999997,"R6","R6","R8",9,13,2935.5,"R6",8,null,{"$error":"#VALUE!"},null,null,{"$f":"IF(LEFT(ScheduleSetup!$P$6,4)=\"Soyb\",BG196,BF196)","v":"R6"},50]
[null,36,null,null,null,0.66,0,3.9000000000000004,0.70011225211586348,"",0,{"$f":"IF(Caluations!$J186<0,0,Caluations!$J186)","v":""},null,"R6",{"$f":"IF(AND($E197=\"\",Caluations!$F186<8),$R197*$F197,0)","v":0},2997.9249999999997,{"$f":"IF(LEFT(ScheduleSetup!$P$6,4)=\"Corn\",BF197,BG197)","v":"R6"},null,null,null,null,null,null,null,null,null,null,null,null,null,null,null,null,null,null,null,null,null,null,0,1,0,0,{"$error":"#DIV/0!"},null,null,{"$f":"IF((OR($E197<>\"\" )), Calculations2!$AV197,\"\")","v":""},0.70011225211586348,null,{"$f":"IF(AND(Caluations!$F186>5,Caluations!$F186<>FALSE),\"\",IF($E242=\"\",($I197/$H197)*100,$I197/$H197*100))","v":""},null,null,null,0,null,2997.9249999999997,"R6","R6","R8",9,13,2948.5,"R6",8,null,{"$error":"#VALUE!"},null,null,{"$f":"IF(LEFT(ScheduleSetup!$P$6,4)=\"Soyb\",BG197,BF197)","v":"R6"},50]
[null,36,null,null,null,0.66,0,3.9000000000000004,0.70011225211586348,"",0,{"$f":"IF(Caluations!$J187<0,0,Caluations!$J187)","v":""},null,"R6",{"$f":"IF(AND($E198=\"\",Caluations!$F187<8),$R198*$F198,0)","v":0},3010.9249999999997,{"$f":"IF(LEFT(ScheduleSetup!$P$6,4)=\"Corn\",BF198,BG198)","v":"R6"},null,null,null,null,null,null,null,null,null,null,null,null,null,null,null,null,null,null,null,null,null,null,0,1,0,0,{"$error":"#DIV/0!"},null,null,{"$f":"IF((OR($E198<>\"\" )), Calculations2!$AV198,\"\")","v":""},0.70011225211586348,null,{"$f":"IF(AND(Caluations!$F187>5,Caluations!$F187<>FALSE),\"\",IF($E243=\"\",($I198/$H198)*100,$I198/$H198*100))","v":""},null,null,null,0,null,3010.9249999999997,"R6","R6","R8",9,13,2961.5,"R6",8,null,{"$error":"#VALUE!"},null,null,{"$f":"IF(LEFT(ScheduleSetup!$P$6,4)=\"Soyb\",BG198,BF198)","v":"R6"},50]
[null,36,null,null,null,0.66,0,{"$f":"IF($B199<=6,$B199*$B$12,IF($B199<=12,6*$B$12+($B199-6)*$C$12,IF($B199<=18,6*$B$12+6*$C$12+($B199-12)*$D$12,IF($B199<=24,6*$B$12+6*$C$12+6*$D$12+($B199-18)*$E$12,IF($B199<=30,6*$B$12+6*$C$12+6*$D$12+6*$E$12+($B199-24)*$F$12,IF($B199<=36,6*$B$12+6*$C$12+6*$D$12+6*$E$12+6*$F$12+($B199-30)*$G$12,IF($B199<=42,6*$B$12+6*$C$12+6*$D$12+6*$E$12+6*$F$12+6*$G$12+($B199-36)*$H$12,IF($B199<=48,6*$B$12+6*$C$12+6*$D$12+6*$E$12+6*$F$12+6*$G$12+6*$H$12+(F199-42)*$I$12,\"rootdepth>48in\"))))))))","v":3.9000000000000004},0.70011225211586348,{"$f":"+IF(S199=\"\",(AX199),S199)","v":""},0,{"$f":"IF(Caluations!$J188<0,0,Caluations!$J188)","v":""},null,"R6",{"$f":"IF(AND($E199=\"\",Caluations!$F188<8),$R199*$F199,0)","v":0},{"$f":"+(IF(BD199=0,BJ199,BD199))","v":3023.9249999999997},{"$f":"IF(LEFT(ScheduleSetup!$P$6,4)=\"Corn\",BF199,BG199)","v":"R6"},null,null,null,null,null,null,null,null,null,null,null,null,null,null,null,null,null,null,null,null,null,null,0,1,{"$f":"+AN199*AO199","v":0},{"$f":"IF(AO199<1,(AQ197-((1.25*(AP199/AN199)))-1)*(-$T$15))*0.008","v":0},{"$f":"AR198-AQ199","v":{"$error":"#DIV/0!"}},null,null,{"$f":"IF((OR($E199<>\"\" )), Calculations2!$AV199,\"\")","v":""},{"$f":"MAX(IF(($I198+$C199+$D199-$G199)+(($H199-$H198)*$B$13/100)>($H199*1.03),($H199*1.03),($I198+$C199+$D199-$G199-O199)+(($H199-$H198)*$B$13/100)),0)","v":0.70011225211586348},null,{"$f":"IF(AND(Caluations!$F188>5,Caluations!$F188<>FALSE),\"\",IF($E244=\"\",($I199/$H199)*100,$I199/$H199*100))","v":""},null,null,null,{"$f":"+T199","v":0},null,{"$f":"+IF(BC199=\"\",BD198+BI199,BD198+BC199)","v":3023.9249999999997},{"$f":"IF( LEN((BC199))=0, BK199,BF199)","v":"R6"},{"$f":"VLOOKUP(BD199,$AZ$19:$BA$43,2,TRUE)","v":"R6"},"R8",9,13,{"$f":"+BJ198+BI199","v":2974.5},{"$f":"VLOOKUP(BJ199,$AZ$19:$BA$43,2,TRUE)","v":"R6"},8,null,{"$error":"#VALUE!"},null,null,{"$f":"IF(LEFT(ScheduleSetup!$P$6,4)=\"Soyb\",BG199,BF199)","v":"R6"},50]
[]
[null,null,null,null,null,null,null,null,null,null,null,null,null,null,null,null,null,null,null,null,null,null,null,null,null,null,null,null,null,null,null,null,null,null,null,null,null,null,null,null,null,null,null,null,null,null,null,null,null,null,null,null,null,null,null,null,null,null,null,null,12]
[null,null,null,null,null,null,null,null,null,null,null,null,null,null,null,null,null,null,null,null,null,null,null,null,null,null,null,null,null,null,null,null,null,null,null,null,null,null,null,null,null,null,null,null,null,null,null,null,null,null,null,null,null,null,null,null,null,null,null,null,12]
["Summary:",null,"Rainfall","Irrigation added (inches)",null,null,"Estimated Actual ET (inches)","Capacity of root zone (inches)","Soil Water in root zone (inches)","% capacity filled","Drainage (inches)","Additional capacity of root zone (inches)",null,null,null,null,null,null,null,null,null,null,null,null,null,null,null,null,null,null,null,null,null,null,null,null,null,null,null,null,null,null,null,null,null,null,null,null,null,null,null,null,null,null,null,null,null,null,null,null,11,null,null,null,null,null,null,null,null,null,null,null,null,null,null,null,null,null,null,null,null,null,null,null,null,null,null,null,null,null,null,null,null,null,null,null,null,null,null,null,null,null,null,null,null,null,null,null,null,null,null,null,null,null,null,null,null,null,null,null,null,null,null,null,null,null,null,null,null,null,null,null,null,null,null,null,null,null,null,null,null,null,null,null,null,null,null,null,null,null,null,null,null,null,null,null,null,null,null,null,null,null,null,null,null,null,null,null,null,null,null,null,null,null,null,null,null,null,null,null,null,null,null,null,null,null,null,null,null,null,null,null,null,null,null,null,null,null,null,null,null,null,null,null,null,null,null,null,null,null,null,null,null,null,null,null,null,null,null,null,null,null,null,null,null,null,null,null,null,null,null,null,null,null,null,null,null,null,null,null,null,null,null,null,null,null,null,{"$f":"+VLOOKUP(IM203,$T$19:$U$40,2)","v":{"$error":"#N/A"}}]
[null,null,{"$f":"SUM(C19:C202)","v":6.92},{"$f":"SUM(D19:D157)","v":1},null,null,{"$f":"SUM(G19:G157)","v":8.0642706078580417},null,null,{"$f":"AVERAGE(J19:J157)","v":66.585640325075033},{"$f":"SUM(K19:K157)","v":0.75463430669276343},null,null,null,null,null,null,null,null,null,null,null,null,null,null,null,null,null,null,null,null,null,null,null,null,null,null,null,null,null,null,null,null,null,null,null,null,null,null,null,null,null,null,null,null,null,null,null,null,null,11,null,null,null,null,null,null,null,null,null,null,null,null,null,null,null,null,null,null,null,null,null,null,null,null,null,null,null,null,null,null,null,null,null,null,null,null,null,null,null,null,null,null,null,null,null,null,null,null,null,null,null,null,null,null,null,null,null,null,null,null,null,null,null,null,null,null,null,null,null,null,null,null,null,null,null,null,null,null,null,null,null,null,null,null,null,null,null,null,null,null,null,null,null,null,null,null,null,null,null,null,null,null,null,null,null,null,null,null,null,null,null,null,null,null,null,null,null,null,null,null,null,null,null,null,null,null,null,null,null,null,null,null,null,null,null,null,null,null,null,null,null,null,null,null,null,null,null,null,null,null,null,null,null,null,null,null,null,null,null,null,null,null,null,null,null,null,null,null,null,null,null,null,null,null,null,null,null,null,null,null,null,null,null,null,null,null,{"$error":"#N/A"}]
[null,null,null,null,null,null,null,null,null,null,null,null,null,null,null,null,null,null,null,null,null,null,null,null,null,null,null,null,null,null,null,null,null,null,null,null,null,null,null,null,null,null,null,null,null,null,null,null,null,null,null,null,null,null,null,null,null,null,null,null,10,null,null,null,null,null,null,null,null,null,null,null,null,null,null,null,null,null,null,null,null,null,null,null,null,null,null,null,null,null,null,null,null,null,null,null,null,null,null,null,null,null,null,null,null,null,null,null,null,null,null,null,null,null,null,null,null,null,null,null,null,null,null,null,null,null,null,null,null,null,null,null,null,null,null,null,null,null,null,null,null,null,null,null,null,null,null,null,null,null,null,null,null,null,null,null,null,null,null,null,null,null,null,null,null,null,null,null,null,null,null,null,null,null,null,null,null,null,null,null,null,null,null,null,null,null,null,null,null,null,null,null,null,null,null,null,null,null,null,null,null,null,null,null,null,null,null,null,null,null,null,null,null,null,null,null,null,null,null,null,null,null,null,null,null,null,null,null,null,null,null,null,null,null,null,null,null,null,null,null,null,null,null,null,null,null,null,{"$error":"#N/A"}]
[null,null,null,null,null,null,null,null,null,null,null,null,null,null,null,null,null,null,null,null,null,null,null,null,null,null,null,null,null,null,null,null,null,null,null,null,null,null,null,null,null,null,null,null,null,null,null,null,null,null,null,null,null,null,null,null,null,null,null,null,10,null,null,null,null,null,null,null,null,null,null,null,null,null,null,null,null,null,null,null,null,null,null,null,null,null,null,null,null,null,null,null,null,null,null,null,null,null,null,null,null,null,null,null,null,null,null,null,null,null,null,null,null,null,null,null,null,null,null,null,null,null,null,null,null,null,null,null,null,null,null,null,null,null,null,null,null,null,null,null,null,null,null,null,null,null,null,null,null,null,null,null,null,null,null,null,null,null,null,null,null,null,null,null,null,null,null,null,null,null,null,null,null,null,null,null,null,null,null,null,null,null,null,null,null,null,null,null,null,null,null,null,null,null,null,null,null,null,null,null,null,null,null,null,null,null,null,null,null,null,null,null,null,null,null,null,null,null,null,null,null,null,null,null,null,null,null,null,null,null,null,null,null,null,null,null,null,null,null,null,null,null,null,null,null,null,null,{"$error":"#N/A"}]
[null,null,null,null,null,null,null,null,null,null,null,null,null,null,null,null,null,null,null,null,null,null,null,null,null,null,null,null,null,null,null,null,null,null,null,null,null,null,null,null,null,null,null,null,null,null,null,null,null,null,null,null,null,null,null,null,null,null,null,null,10,null,null,null,null,null,null,null,null,null,null,null,null,null,null,null,null,null,null,null,null,null,null,null,null,null,null,null,null,null,null,null,null,null,null,null,null,null,null,null,null,null,null,null,null,null,null,null,null,null,null,null,null,null,null,null,null,null,null,null,null,null,null,null,null,null,null,null,null,null,null,null,null,null,null,null,null,null,null,null,null,null,null,null,null,null,null,null,null,null,null,null,null,null,null,null,null,null,null,null,null,null,null,null,null,null,null,null,null,null,null,null,null,null,null,null,null,null,null,null,null,null,null,null,null,null,null,null,null,null,null,null,null,null,null,null,null,null,null,null,null,null,null,null,null,null,null,null,null,null,null,null,null,null,null,null,null,null,null,null,null,null,null,null,null,null,null,null,null,null,null,null,null,null,null,null,null,null,null,null,null,null,null,null,null,null,null,{"$error":"#N/A"}]
[null,null,null,null,null,null,null,null,null,null,null,null,null,null,null,null,null,null,null,null,null,null,null,null,null,null,null,null,null,null,null,null,null,null,null,null,null,null,null,null,null,null,null,null,null,null,null,null,null,null,null,null,null,null,null,null,null,null,null,null,9,null,null,null,null,null,null,null,null,null,null,null,null,null,null,null,null,null,null,null,null,null,null,null,null,null,null,null,null,null,null,null,null,null,null,null,null,null,null,null,null,null,null,null,null,null,null,null,null,null,null,null,null,null,null,null,null,null,null,null,null,null,null,null,null,null,null,null,null,null,null,null,null,null,null,null,null,null,null,null,null,null,null,null,null,null,null,null,null,null,null,null,null,null,null,null,null,null,null,null,null,null,null,null,null,null,null,null,null,null,null,null,null,null,null,null,null,null,null,null,null,null,null,null,null,null,null,null,null,null,null,null,null,null,null,null,null,null,null,null,null,null,null,null,null,null,null,null,null,null,null,null,null,null,null,null,null,null,null,null,null,null,null,null,null,null,null,null,null,null,null,null,null,null,null,null,null,null,null,null,null,null,null,null,null,null,null,{"$error":"#N/A"}]
[null,null,null,null,null,null,null,null,null,null,null,null,null,null,null,null,null,null,null,null,null,null,null,null,null,null,null,null,null,null,null,null,null,null,null,null,null,null,null,null,null,null,null,null,null,null,null,null,null,null,null,null,null,null,null,null,null,null,null,null,9,null,null,null,null,null,null,null,null,null,null,null,null,null,null,null,null,null,null,null,null,null,null,null,null,null,null,null,null,null,null,null,null,null,null,null,null,null,null,null,null,null,null,null,null,null,null,null,null,null,null,null,null,null,null,null,null,null,null,null,null,null,null,null,null,null,null,null,null,null,null,null,null,null,null,null,null,null,null,null,null,null,null,null,null,null,null,null,null,null,null,null,null,null,null,null,null,null,null,null,null,null,null,null,null,null,null,null,null,null,null,null,null,null,null,null,null,null,null,null,null,null,null,null,null,null,null,null,null,null,null,null,null,null,null,null,null,null,null,null,null,null,null,null,null,null,null,null,null,null,null,null,null,null,null,null,null,null,null,null,null,null,null,null,null,null,null,null,null,null,null,null,null,null,null,null,null,null,null,null,null,null,null,null,null,null,null,{"$error":"#N/A"}]
[null,null,null,null,null,null,null,null,null,null,null,null,null,null,null,null,null,null,null,null,null,null,null,null,null,null,null,null,null,null,null,null,null,null,null,null,null,null,null,null,null,null,null,null,null,null,null,null,null,null,null,null,null,null,null,null,null,null,null,null,9]
[null,null,null,null,null,null,null,null,null,null,null,null,null,null,null,null,null,null,null,null,null,null,null,null,null,null,null,null,null,null,null,null,null,null,null,null,null,null,null,null,null,null,null,null,null,null,null,null,null,null,null,null,null,null,null,null,null,null,null,null,9]
[null,null,null,null,null,null,null,null,null,null,null,null,null,null,null,null,null,null,null,null,null,null,null,null,null,null,null,null,null,null,null,null,null,null,null,null,null,null,null,null,null,null,null,null,null,null,null,null,null,null,null,null,null,null,null,null,null,null,null,null,8]
[null,null,null,null,null,null,null,null,null,null,null,null,null,null,null,null,null,null,null,null,null,null,null,null,null,null,null,null,null,null,null,null,null,null,null,null,null,null,null,null,null,null,null,null,null,null,null,null,null,null,null,null,null,null,null,null,null,null,null,null,8]
[null,null,null,null,null,null,null,null,null,null,null,null,null,null,null,null,null,null,null,null,null,null,null,null,null,null,null,null,null,null,null,null,null,null,null,null,null,null,null,null,null,null,null,null,null,null,null,null,null,null,null,null,null,null,null,null,null,null,null,null,12]
[null,null,null,null,null,null,null,null,null,null,null,null,null,null,null,null,null,null,null,null,null,null,null,null,null,null,null,null,null,null,null,null,null,null,null,null,null,null,null,null,null,null,null,null,null,null,null,null,null,null,null,null,null,null,null,null,null,null,null,null,12]
[null,null,null,null,null,null,null,null,null,null,null,null,null,null,null,null,null,null,null,null,null,null,null,null,null,null,null,null,null,null,null,null,null,null,null,null,null,null,null,null,null,null,null,null,null,null,null,null,null,null,null,null,null,null,null,null,null,null,null,null,11]
[null,null,null,null,null,null,null,null,null,null,null,null,null,null,null,null,null,null,null,null,null,null,null,null,null,null,null,null,null,null,null,null,null,null,null,null,null,null,null,null,null,null,null,null,null,null,null,null,null,null,null,null,null,null,null,null,null,null,null,null,11]
[null,null,null,null,null,null,null,null,null,null,null,null,null,null,null,null,null,null,null,null,null,null,null,null,null,null,null,null,null,null,null,null,null,null,null,null,null,null,null,null,null,null,null,null,null,null,null,null,null,null,null,null,null,null,null,null,null,null,null,null,10]
[null,null,null,null,null,null,null,null,null,null,null,null,null,null,null,null,null,null,null,null,null,null,null,null,null,null,null,null,null,null,null,null,null,null,null,null,null,null,null,null,null,null,null,null,null,null,null,null,null,null,null,null,null,null,null,null,null,null,null,null,10]
[null,null,null,null,null,null,null,null,null,null,null,null,null,null,null,null,null,null,null,null,null,null,null,null,null,null,null,null,null,null,null,null,null,null,null,null,null,null,null,null,null,null,null,null,null,null,null,null,null,null,null,null,null,null,null,null,null,null,null,null,10]
[null,null,null,null,null,null,null,null,null,null,null,null,null,null,null,null,null,null,null,null,null,null,null,null,null,null,null,null,null,null,null,null,null,null,null,null,null,null,null,null,null,null,null,null,null,null,null,null,null,null,null,null,null,null,null,null,null,null,null,null,9]
[null,null,null,null,null,null,null,null,null,null,null,null,null,null,null,null,null,null,null,null,null,null,null,null,null,null,null,null,null,null,null,null,null,null,null,null,null,null,null,null,null,null,null,null,null,null,null,null,null,null,null,null,null,null,null,null,null,null,null,null,9]
[null,null,null,null,null,null,null,null,null,null,null,null,null,null,null,null,null,null,null,null,null,null,null,null,null,null,null,null,null,null,null,null,null,null,null,null,null,null,null,null,null,null,null,null,null,null,null,null,null,null,null,null,null,null,null,null,null,null,null,null,9]
[null,null,null,null,null,null,null,null,null,null,null,null,null,null,null,null,null,null,null,null,null,null,null,null,null,null,null,null,null,null,null,null,null,null,null,null,null,null,null,null,null,null,null,null,null,null,null,null,null,null,null,null,null,null,null,null,null,null,null,null,9]
[null,null,null,null,null,null,null,null,null,null,null,null,null,null,null,null,null,null,null,null,null,null,null,null,null,null,null,null,null,null,null,null,null,null,null,null,null,null,null,null,null,null,null,null,null,null,null,null,null,null,null,null,null,null,null,null,null,null,null,null,8]
[null,null,null,null,null,null,null,null,null,null,null,null,null,null,null,null,null,null,null,null,null,null,null,null,null,null,null,null,null,null,null,null,null,null,null,null,null,null,null,null,null,null,null,null,null,null,null,null,null,null,null,null,null,null,null,null,null,null,null,null,8]
[]
[]
[]
[null,null,null,null,null,null,null,null,null,null,null,null,null,null,null,null,null,null,null,null,null,null,null,null,null,null,null,null,null,null,null,null,null,null,null,null,null,null,null,null,null,null,null,null,null,null,null,null,null,null,null,null,null,null,null,null,null,null,null,null,22]
[]
[null,null,null,null,null,null,null,null,null,null,null,null,null,null,null,null,null,null,null,null,null,null,null,null,null,null,null,null,null,null,null,null,null,null,null,null,null,null,null,null,null,null,null,null,null,null,null,null,null,null,null,null,null,null,null,null,null,null,null,null,22]
[]
[null,null,null,null,null,null,null,null,null,null,null,null,null,null,null,null,null,null,null,null,null,null,null,null,null,null,null,null,null,null,null,null,null,null,null,null,null,null,null,null,null,null,null,null,null,null,null,null,null,null,null,null,null,null,null,null,null,null,null,null,22]
[]
[null,null,null,null,null,null,null,null,null,null,null,null,null,null,null,null,null,null,null,null,null,null,null,null,null,null,null,null,null,null,null,null,null,null,null,null,null,null,null,null,null,null,null,null,null,null,null,null,null,null,null,null,null,null,null,null,null,null,null,null,22]
[]
[null,null,null,null,null,null,null,null,null,null,null,null,null,null,null,null,null,null,null,null,null,null,null,null,null,null,null,null,null,null,null,null,null,null,null,null,null,null,null,null,null,null,null,null,null,null,null,null,null,null,null,null,null,null,null,null,null,null,null,null,21]
[]
[null,null,null,null,null,null,null,null,null,null,null,null,null,null,null,null,null,null,null,null,null,null,null,null,null,null,null,null,null,null,null,null,null,null,null,null,null,null,null,null,null,null,null,null,null,null,null,null,null,null,null,null,null,null,null,null,null,null,null,null,21]
[]
[null,null,null,null,null,null,null,null,null,null,null,null,null,null,null,null,null,null,null,null,null,null,null,null,null,null,null,null,null,null,null,null,null,null,null,null,null,null,null,null,null,null,null,null,null,null,null,null,null,null,null,null,null,null,null,null,null,null,null,null,21]
[]
[null,null,null,null,null,null,null,null,null,null,null,null,null,null,null,null,null,null,null,null,null,null,null,null,null,null,null,null,null,null,null,null,null,null,null,null,null,null,null,null,null,null,null,null,null,null,null,null,null,null,null,null,null,null,null,null,null,null,null,null,21]
[]
[null,null,null,null,null,null,null,null,null,null,null,null,null,null,null,null,null,null,null,null,null,null,null,null,null,null,null,null,null,null,null,null,null,null,null,null,null,null,null,null,null,null,null,null,null,null,null,null,null,null,null,null,null,null,null,null,null,null,null,null,21]
[]
[null,null,null,null,null,null,null,null,null,null,null,null,null,null,null,null,null,null,null,null,null,null,null,null,null,null,null,null,null,null,null,null,null,null,null,null,null,null,null,null,null,null,null,null,null,null,null,null,null,null,null,null,null,null,null,null,null,null,null,null,21]
[]
[null,null,null,null,null,null,null,null,null,null,null,null,null,null,null,null,null,null,null,null,null,null,null,null,null,null,null,null,null,null,null,null,null,null,null,null,null,null,null,null,null,null,null,null,null,null,null,null,null,null,null,null,null,null,null,null,null,null,null,null,20]
[]
[null,null,null,null,null,null,null,null,null,null,null,null,null,null,null,null,null,null,null,null,null,null,null,null,null,null,null,null,null,null,null,null,null,null,null,null,null,null,null,null,null,null,null,null,null,null,null,null,null,null,null,null,null,null,null,null,null,null,null,null,20]
[]
[null,null,null,null,null,null,null,null,null,null,null,null,null,null,null,null,null,null,null,null,null,null,null,null,null,null,null,null,null,null,null,null,null,null,null,null,null,null,null,null,null,null,null,null,null,null,null,null,null,null,null,null,null,null,null,null,null,null,null,null,20]
[]
[null,null,null,null,null,null,null,null,null,null,null,null,null,null,null,null,null,null,null,null,null,null,null,null,null,null,null,null,null,null,null,null,null,null,null,null,null,null,null,null,null,null,null,null,null,null,null,null,null,null,null,null,null,null,null,null,null,null,null,null,20]
[]
[null,null,null,null,null,null,null,null,null,null,null,null,null,null,null,null,null,null,null,null,null,null,null,null,null,null,null,null,null,null,null,null,null,null,null,null,null,null,null,null,null,null,null,null,null,null,null,null,null,null,null,null,null,null,null,null,null,null,null,null,20]
[]
[null,null,null,null,null,null,null,null,null,null,null,null,null,null,null,null,null,null,null,null,null,null,null,null,null,null,null,null,null,null,null,null,null,null,null,null,null,null,null,null,null,null,null,null,null,null,null,null,null,null,null,null,null,null,null,null,null,null,null,null,20]
[]
[null,null,null,null,null,null,null,null,null,null,null,null,null,null,null,null,null,null,null,null,null,null,null,null,null,null,null,null,null,null,null,null,null,null,null,null,null,null,null,null,null,null,null,null,null,null,null,null,null,null,null,null,null,null,null,null,null,null,null,null,19]
[]
[null,null,null,null,null,null,null,null,null,null,null,null,null,null,null,null,null,null,null,null,null,null,null,null,null,null,null,null,null,null,null,null,null,null,null,null,null,null,null,null,null,null,null,null,null,null,null,null,null,null,null,null,null,null,null,null,null,null,null,null,19]
[]
[null,null,null,null,null,null,null,null,null,null,null,null,null,null,null,null,null,null,null,null,null,null,null,null,null,null,null,null,null,null,null,null,null,null,null,null,null,null,null,null,null,null,null,null,null,null,null,null,null,null,null,null,null,null,null,null,null,null,null,null,19]
[]
[null,null,null,null,null,null,null,null,null,null,null,null,null,null,null,null,null,null,null,null,null,null,null,null,null,null,null,null,null,null,null,null,null,null,null,null,null,null,null,null,null,null,null,null,null,null,null,null,null,null,null,null,null,null,null,null,null,null,null,null,19]
[]
[null,null,null,null,null,null,null,null,null,null,null,null,null,null,null,null,null,null,null,null,null,null,null,null,null,null,null,null,null,null,null,null,null,null,null,null,null,null,null,null,null,null,null,null,null,null,null,null,null,null,null,null,null,null,null,null,null,null,null,null,19]
[]
[null,null,null,null,null,null,null,null,null,null,null,null,null,null,null,null,null,null,null,null,null,null,null,null,null,null,null,null,null,null,null,null,null,null,null,null,null,null,null,null,null,null,null,null,null,null,null,null,null,null,null,null,null,null,null,null,null,null,null,null,19]
[]
[null,null,null,null,null,null,null,null,null,null,null,null,null,null,null,null,null,null,null,null,null,null,null,null,null,null,null,null,null,null,null,null,null,null,null,null,null,null,null,null,null,null,null,null,null,null,null,null,null,null,null,null,null,null,null,null,null,null,null,null,19]
[]
[null,null,null,null,null,null,null,null,null,null,null,null,null,null,null,null,null,null,null,null,null,null,null,null,null,null,null,null,null,null,null,null,null,null,null,null,null,null,null,null,null,null,null,null,null,null,null,null,null,null,null,null,null,null,null,null,null,null,null,null,18]
[]
[null,null,null,null,null,null,null,null,null,null,null,null,null,null,null,null,null,null,null,null,null,null,null,null,null,null,null,null,null,null,null,null,null,null,null,null,null,null,null,null,null,null,null,null,null,null,null,null,null,null,null,null,null,null,null,null,null,null,null,null,18]
[]
[null,null,null,null,null,null,null,null,null,null,null,null,null,null,null,null,null,null,null,null,null,null,null,null,null,null,null,null,null,null,null,null,null,null,null,null,null,null,null,null,null,null,null,null,null,null,null,null,null,null,null,null,null,null,null,null,null,null,null,null,18]
[]
[null,null,null,null,null,null,null,null,null,null,null,null,null,null,null,null,null,null,null,null,null,null,null,null,null,null,null,null,null,null,null,null,null,null,null,null,null,null,null,null,null,null,null,null,null,null,null,null,null,null,null,null,null,null,null,null,null,null,null,null,18]
[]
[null,null,null,null,null,null,null,null,null,null,null,null,null,null,null,null,null,null,null,null,null,null,null,null,null,null,null,null,null,null,null,null,null,null,null,null,null,null,null,null,null,null,null,null,null,null,null,null,null,null,null,null,null,null,null,null,null,null,null,null,18]
[]
[null,null,null,null,null,null,null,null,null,null,null,null,null,null,null,null,null,null,null,null,null,null,null,null,null,null,null,null,null,null,null,null,null,null,null,null,null,null,null,null,null,null,null,null,null,null,null,null,null,null,null,null,null,null,null,null,null,null,null,null,17]
[]
[null,null,null,null,null,null,null,null,null,null,null,null,null,null,null,null,null,null,null,null,null,null,null,null,null,null,null,null,null,null,null,null,null,null,null,null,null,null,null,null,null,null,null,null,null,null,null,null,null,null,null,null,null,null,null,null,null,null,null,null,17]
[]
[null,null,null,null,null,null,null,null,null,null,null,null,null,null,null,null,null,null,null,null,null,null,null,null,null,null,null,null,null,null,null,null,null,null,null,null,null,null,null,null,null,null,null,null,null,null,null,null,null,null,null,null,null,null,null,null,null,null,null,null,17]
[]
[null,null,null,null,null,null,null,null,null,null,null,null,null,null,null,null,null,null,null,null,null,null,null,null,null,null,null,null,null,null,null,null,null,null,null,null,null,null,null,null,null,null,null,null,null,null,null,null,null,null,null,null,null,null,null,null,null,null,null,null,17]
[]
[null,null,null,null,null,null,null,null,null,null,null,null,null,null,null,null,null,null,null,null,null,null,null,null,null,null,null,null,null,null,null,null,null,null,null,null,null,null,null,null,null,null,null,null,null,null,null,null,null,null,null,null,null,null,null,null,null,null,null,null,16]
[]
[null,null,null,null,null,null,null,null,null,null,null,null,null,null,null,null,null,null,null,null,null,null,null,null,null,null,null,null,null,null,null,null,null,null,null,null,null,null,null,null,null,null,null,null,null,null,null,null,null,null,null,null,null,null,null,null,null,null,null,null,16]
[]
[null,null,null,null,null,null,null,null,null,null,null,null,null,null,null,null,null,null,null,null,null,null,null,null,null,null,null,null,null,null,null,null,null,null,null,null,null,null,null,null,null,null,null,null,null,null,null,null,null,null,null,null,null,null,null,null,null,null,null,null,16]
[]
[null,null,null,null,null,null,null,null,null,null,null,null,null,null,null,null,null,null,null,null,null,null,null,null,null,null,null,null,null,null,null,null,null,null,null,null,null,null,null,null,null,null,null,null,null,null,null,null,null,null,null,null,null,null,null,null,null,null,null,null,16]
[]
[null,null,null,null,null,null,null,null,null,null,null,null,null,null,null,null,null,null,null,null,null,null,null,null,null,null,null,null,null,null,null,null,null,null,null,null,null,null,null,null,null,null,null,null,null,null,null,null,null,null,null,null,null,null,null,null,null,null,null,null,15]
[]
[null,null,null,null,null,null,null,null,null,null,null,null,null,null,null,null,null,null,null,null,null,null,null,null,null,null,null,null,null,null,null,null,null,null,null,null,null,null,null,null,null,null,null,null,null,null,null,null,null,null,null,null,null,null,null,null,null,null,null,null,15]
[]
[null,null,null,null,null,null,null,null,null,null,null,null,null,null,null,null,null,null,null,null,null,null,null,null,null,null,null,null,null,null,null,null,null,null,null,null,null,null,null,null,null,null,null,null,null,null,null,null,null,null,null,null,null,null,null,null,null,null,null,null,15]
[]
[null,null,null,null,null,null,null,null,null,null,null,null,null,null,null,null,null,null,null,null,null,null,null,null,null,null,null,null,null,null,null,null,null,null,null,null,null,null,null,null,null,null,null,null,null,null,null,null,null,null,null,null,null,null,null,null,null,null,null,null,15]
[]
[null,null,null,null,null,null,null,null,null,null,null,null,null,null,null,null,null,null,null,null,null,null,null,null,null,null,null,null,null,null,null,null,null,null,null,null,null,null,null,null,null,null,null,null,null,null,null,null,null,null,null,null,null,null,null,null,null,null,null,null,14]
[]
[null,null,null,null,null,null,null,null,null,null,null,null,null,null,null,null,null,null,null,null,null,null,null,null,null,null,null,null,null,null,null,null,null,null,null,null,null,null,null,null,null,null,null,null,null,null,null,null,null,null,null,null,null,null,null,null,null,null,null,null,14]
[]
[null,null,null,null,null,null,null,null,null,null,null,null,null,null,null,null,null,null,null,null,null,null,null,null,null,null,null,null,null,null,null,null,null,null,null,null,null,null,null,null,null,null,null,null,null,null,null,null,null,null,null,null,null,null,null,null,null,null,null,null,13]
[]
[null,null,null,null,null,null,null,null,null,null,null,null,null,null,null,null,null,null,null,null,null,null,null,null,null,null,null,null,null,null,null,null,null,null,null,null,null,null,null,null,null,null,null,null,null,null,null,null,null,null,null,null,null,null,null,null,null,null,null,null,13]
[]
[null,null,null,null,null,null,null,null,null,null,null,null,null,null,null,null,null,null,null,null,null,null,null,null,null,null,null,null,null,null,null,null,null,null,null,null,null,null,null,null,null,null,null,null,null,null,null,null,null,null,null,null,null,null,null,null,null,null,null,null,12]
[]
[null,null,null,null,null,null,null,null,null,null,null,null,null,null,null,null,null,null,null,null,null,null,null,null,null,null,null,null,null,null,null,null,null,null,null,null,null,null,null,null,null,null,null,null,null,null,null,null,null,null,null,null,null,null,null,null,null,null,null,null,12]
[]
[null,null,null,null,null,null,null,null,null,null,null,null,null,null,null,null,null,null,null,null,null,null,null,null,null,null,null,null,null,null,null,null,null,null,null,null,null,null,null,null,null,null,null,null,null,null,null,null,null,null,null,null,null,null,null,null,null,null,null,null,11]
[]
[null,null,null,null,null,null,null,null,null,null,null,null,null,null,null,null,null,null,null,null,null,null,null,null,null,null,null,null,null,null,null,null,null,null,null,null,null,null,null,null,null,null,null,null,null,null,null,null,null,null,null,null,null,null,null,null,null,null,null,null,11]
[]
[null,null,null,null,null,null,null,null,null,null,null,null,null,null,null,null,null,null,null,null,null,null,null,null,null,null,null,null,null,null,null,null,null,null,null,null,null,null,null,null,null,null,null,null,null,null,null,null,null,null,null,null,null,null,null,null,null,null,null,null,10]
[]
[null,null,null,null,null,null,null,null,null,null,null,null,null,null,null,null,null,null,null,null,null,null,null,null,null,null,null,null,null,null,null,null,null,null,null,null,null,null,null,null,null,null,null,null,null,null,null,null,null,null,null,null,null,null,null,null,null,null,null,null,10]
[]
[null,null,null,null,null,null,null,null,null,null,null,null,null,null,null,null,null,null,null,null,null,null,null,null,null,null,null,null,null,null,null,null,null,null,null,null,null,null,null,null,null,null,null,null,null,null,null,null,null,null,null,null,null,null,null,null,null,null,null,null,10]
[]
[null,null,null,null,null,null,null,null,null,null,null,null,null,null,null,null,null,null,null,null,null,null,null,null,null,null,null,null,null,null,null,null,null,null,null,null,null,null,null,null,null,null,null,null,null,null,null,null,null,null,null,null,null,null,null,null,null,null,null,null,9]
[]
[null,null,null,null,null,null,null,null,null,null,null,null,null,null,null,null,null,null,null,null,null,null,null,null,null,null,null,null,null,null,null,null,null,null,null,null,null,null,null,null,null,null,null,null,null,null,null,null,null,null,null,null,null,null,null,null,null,null,null,null,9]
[]
[null,null,null,null,null,null,null,null,null,null,null,null,null,null,null,null,null,null,null,null,null,null,null,null,null,null,null,null,null,null,null,null,null,null,null,null,null,null,null,null,null,null,null,null,null,null,null,null,null,null,null,null,null,null,null,null,null,null,null,null,9]
[]
[null,null,null,null,null,null,null,null,null,null,null,null,null,null,null,null,null,null,null,null,null,null,null,null,null,null,null,null,null,null,null,null,null,null,null,null,null,null,null,null,null,null,null,null,null,null,null,null,null,null,null,null,null,null,null,null,null,null,null,null,9]
[]
[null,null,null,null,null,null,null,null,null,null,null,null,null,null,null,null,null,null,null,null,null,null,null,null,null,null,null,null,null,null,null,null,null,null,null,null,null,null,null,null,null,null,null,null,null,null,null,null,null,null,null,null,null,null,null,null,null,null,null,null,8]
[]
[null,null,null,null,null,null,null,null,null,null,null,null,null,null,null,null,null,null,null,null,null,null,null,null,null,null,null,null,null,null,null,null,null,null,null,null,null,null,null,null,null,null,null,null,null,null,null,null,null,null,null,null,null,null,null,null,null,null,null,null,8]

{"sheet":"Connections","index":8,"n_rows":307,"n_cols":27,"rows_kept":307,"cut":false,"hidden":true,"merged":[[2,3,2,8],[17,3,17,8]]}
[null,null,"If Cell A1 is blank, there are no child files linked to it",null,null,null,null,null,null,null,null,null,null,null,null,null,null,null,null,null,null,null,"Parent"]
[null,null,"If A1 is \"Parent\" then there are child schedules to be updated"]
[null,null,"Active File:","MSU Irrigation Scheduler Version 2016.xlsm"]
[null,null,null,null,null,null,null,null,null,null,null,null,null,null,null,null,null,null,null,null,null,null,null,null,null,"C:\\Users\\Bruce\\Desktop\\2016 Crops Meeting Totals","2016 Crops Meeting Totals"]
[null,null,null,"C:\\Users\\Bruce\\Desktop\\","    Please Select the Folder where your Scheduler Files are Located",null,null,null,null,null,null,null,null,null,null,null,null,null,null,null,null,null,null,null,null,"C:\\Users\\Bruce\\Desktop\\Book1","Book1"]
[null,null,null,null,null,null,null,null,null,null,null,null,null,null,null,null,null,null,null,null,null,null,null,null,null,"C:\\Users\\Bruce\\Desktop\\Copy of Copy of Copy of Cost Recovery MSUE Spreadsheet Grain Fumigation-final","Copy of Copy of Copy of Cost Recovery MSUE Spreadsheet Grain Fumigation-final"]
[null,null,null,null,null,null,null,null,null,null,null,null,null,null,null,null,null,null,null,null,null,null,null,null,null,"C:\\Users\\Bruce\\Desktop\\Copy of Copy of Pre-Trip Travel Authorization for Bruce MacKellar - 2015 AMPIC","Copy of Copy of Pre-Trip Travel Authorization for Bruce MacKellar - 2015 AMPIC"]
[null,null,null,null,null,null,null,null,null,null,null,null,null,null,null,null,null,null,null,null,null,null,null,null,null,"C:\\Users\\Bruce\\Desktop\\Copy of corn production workshop","Copy of corn production workshop"]
[null,null,null,null,null,null,null,null,null,null,null,null,null,null,null,null,null,null,null,null,null,null,null,null,null,"C:\\Users\\Bruce\\Desktop\\Copy of MacKellar Travel for July- 2015 - NACAA TRIP","Copy of MacKellar Travel for July- 2015 - NACAA TRIP"]
[null,null,null,null,null,null,null,null,null,null,null,null,null,null,null,null,null,null,null,null,null,null,null,null,null,"C:\\Users\\Bruce\\Desktop\\Copy of Waldron P Plots with graphs last","Copy of Waldron P Plots with graphs last"]
[null,null,null,null,null,null,null,null,null,null,null,null,null,null,null,null,null,null,null,null,null,null,null,null,null,"C:\\Users\\Bruce\\Desktop\\JD 4400 for parts","JD 4400 for parts"]
[null,null,null,null,null,null,null,null,null,null,null,null,null,null,null,null,null,null,null,null,null,null,null,null,null,"C:\\Users\\Bruce\\Desktop\\Moisture","Moisture"]
[null,null,null,null,null,null,null,null,null,null,null,null,null,null,null,null,null,null,null,null,null,null,null,null,null,"C:\\Users\\Bruce\\Desktop\\Waldron P Plots with graphs wide","Waldron P Plots with graphs wide"]
[null,null,null,null,null,null,null,null,null,null,null,null,null,null,null,null,null,null,null,null,null,null,null,null,null,"C:\\Users\\Bruce\\Desktop\\Waldron P Plots with graphs","Waldron P Plots with graphs"]
[null,null,null,null,null,null,null,null,null,null,null,null,null,null,null,null,null,null,null,null,null,null,null,null,null,"C:\\Users\\Bruce\\Desktop\\Waldron P Plots","Waldron P Plots"]
[null,null,null,null,null,null,null,null,null,null,null,null,null,null,null,null,null,null,null,null,null,null,null,null,null,"C:\\Users\\Bruce\\Desktop\\Waldron P Plots2","Waldron P Plots2"]
[null,null,null,null,null,null,null,null,null,null,null,null,null,null,null,null,null,null,null,null,null,null,null,null,null,"C:\\Users\\Bruce\\Desktop\\Weight","Weight"]
[null,null,null,{"$f":"LEFT(CELL(\"filename\",A1),LEN(CELL(\"filename\",A1))-(FIND(\"\",CELL(\"filename\",A1),1))-3)","v":"C:\\Users\\DONG\\Desktop\\[MSU Irrigation Scheduler.xlsm]Connect"}]
[]
[]
[]
[]
[]
[]
[]
[]
[]
[]
[]
[]
[]
[]
[]
[]
[]
[]
[]
[]
[]
[]
[]
[]
[]
[]
[]
[]
[]
[]
[]
[]
[]
[]
[]
[]
[]
[]
[]
[]
[]
[]
[]
[]
[]
[]
[]
[]
[]
[]
[]
[]
[]
[]
[]
[]
[]
[]
[]
[]
[]
[]
[]
[]
[]
[]
[]
[]
[]
[]
[]
[]
[]
[]
[]
[]
[]
[]
[]
[]
[]
[]
[]
[]
[]
[]
[]
[]
[]
[]
[]
[]
[]
[]
[]
[]
[]
[]
[]
[]
[]
[]
[]
[]
[]
[]
[]
[]
[]
[]
[]
[]
[]
[]
[]
[]
[]
[]
[]
[]
[]
[]
[]
[]
[]
[]
[]
[]
[]
[]
[]
[]
[]
[]
[]
[]
[]
[]
[]
[]
[]
[]
[]
[]
[]
[]
[]
[]
[]
[]
[]
[]
["C:\\Users\\Bruce\\Documents\\2012 Kalamazoo County Growers List","Grower List for Kalamzoo County 2012.doc"]
[]
["C:\\Users\\Bruce\\Documents\\Abner Phillips  Worcester  Mocavo_files","apx2xqm.js"]
["C:\\Users\\Bruce\\Documents\\Abner Phillips  Worcester  Mocavo_files","avatar-male.png"]
["C:\\Users\\Bruce\\Documents\\Abner Phillips  Worcester  Mocavo_files","bd.gif"]
["C:\\Users\\Bruce\\Documents\\Abner Phillips  Worcester  Mocavo_files","bmi.js"]
["C:\\Users\\Bruce\\Documents\\Abner Phillips  Worcester  Mocavo_files","bootstrap-alert.js"]
["C:\\Users\\Bruce\\Documents\\Abner Phillips  Worcester  Mocavo_files","bootstrap-button.js"]
["C:\\Users\\Bruce\\Documents\\Abner Phillips  Worcester  Mocavo_files","bootstrap-collapse.js"]
["C:\\Users\\Bruce\\Documents\\Abner Phillips  Worcester  Mocavo_files","bootstrap-dropdown.js"]
["C:\\Users\\Bruce\\Documents\\Abner Phillips  Worcester  Mocavo_files","bootstrap-modal.js"]
["C:\\Users\\Bruce\\Documents\\Abner Phillips  Worcester  Mocavo_files","bootstrap-popover.js"]
["C:\\Users\\Bruce\\Documents\\Abner Phillips  Worcester  Mocavo_files","bootstrap-scrollspy.js"]
["C:\\Users\\Bruce\\Documents\\Abner Phillips  Worcester  Mocavo_files","bootstrap-tab.js"]
["C:\\Users\\Bruce\\Documents\\Abner Phillips  Worcester  Mocavo_files","bootstrap-tooltip.js"]
["C:\\Users\\Bruce\\Documents\\Abner Phillips  Worcester  Mocavo_files","bootstrap.css"]
["C:\\Users\\Bruce\\Documents\\Abner Phillips  Worcester  Mocavo_files","comments.css"]
["C:\\Users\\Bruce\\Documents\\Abner Phillips  Worcester  Mocavo_files","comments.js"]
["C:\\Users\\Bruce\\Documents\\Abner Phillips  Worcester  Mocavo_files","common.css"]
["C:\\Users\\Bruce\\Documents\\Abner Phillips  Worcester  Mocavo_files","common.js"]
["C:\\Users\\Bruce\\Documents\\Abner Phillips  Worcester  Mocavo_files","history.adapter.jquery.js"]
["C:\\Users\\Bruce\\Documents\\Abner Phillips  Worcester  Mocavo_files","iconfont.css"]
["C:\\Users\\Bruce\\Documents\\Abner Phillips  Worcester  Mocavo_files","jquery-1.8.0.min.js"]
["C:\\Users\\Bruce\\Documents\\Abner Phillips  Worcester  Mocavo_files","jquery.autogrow.js"]
["C:\\Users\\Bruce\\Documents\\Abner Phillips  Worcester  Mocavo_files","jquery.cookie.min.js"]
["C:\\Users\\Bruce\\Documents\\Abner Phillips  Worcester  Mocavo_files","js.js"]
["C:\\Users\\Bruce\\Documents\\Abner Phillips  Worcester  Mocavo_files","logo_text.png"]
["C:\\Users\\Bruce\\Documents\\Abner Phillips  Worcester  Mocavo_files","mocavo.js"]
["C:\\Users\\Bruce\\Documents\\Abner Phillips  Worcester  Mocavo_files","mocavo_logo.png"]
["C:\\Users\\Bruce\\Documents\\Abner Phillips  Worcester  Mocavo_files","modernizr.custom.96254.js"]
["C:\\Users\\Bruce\\Documents\\Abner Phillips  Worcester  Mocavo_files","module-profile-well.js"]
["C:\\Users\\Bruce\\Documents\\Abner Phillips  Worcester  Mocavo_files","profile-large-male.png"]
["C:\\Users\\Bruce\\Documents\\Abner Phillips  Worcester  Mocavo_files","retina.js"]
["C:\\Users\\Bruce\\Documents\\Abner Phillips  Worcester  Mocavo_files","search-core.js"]
["C:\\Users\\Bruce\\Documents\\Abner Phillips  Worcester  Mocavo_files","select2.css"]
["C:\\Users\\Bruce\\Documents\\Abner Phillips  Worcester  Mocavo_files","select2.js"]
["C:\\Users\\Bruce\\Documents\\Abner Phillips  Worcester  Mocavo_files","tile.stamen.js"]
["C:\\Users\\Bruce\\Documents\\Abner Phillips  Worcester  Mocavo_files","tree-profile.css"]
["C:\\Users\\Bruce\\Documents\\Abner Phillips  Worcester  Mocavo_files","tree-profile.js"]
["C:\\Users\\Bruce\\Documents\\Abner Phillips  Worcester  Mocavo_files","typekit_loader.js"]
["C:\\Users\\Bruce\\Documents\\Abner Phillips  Worcester  Mocavo_files","underscore-min.js"]
[]
["C:\\Users\\Bruce\\Documents\\Andrew Mershon Cornelius Anderson for website_files","569217469-gview_local_gview_base_mod.js"]
[]
["C:\\Users\\Bruce\\Documents\\Annals of Newton LI_files","analytics.js"]
["C:\\Users\\Bruce\\Documents\\Annals of Newton LI_files","archive.css"]
["C:\\Users\\Bruce\\Documents\\Annals of Newton LI_files","books-small.jpg"]
["C:\\Users\\Bruce\\Documents\\Annals of Newton LI_files","glogo2.png"]
["C:\\Users\\Bruce\\Documents\\Annals of Newton LI_files","jquery-1.6.1.js"]
["C:\\Users\\Bruce\\Documents\\Annals of Newton LI_files","ol.png"]
["C:\\Users\\Bruce\\Documents\\Annals of Newton LI_files","search.png"]
["C:\\Users\\Bruce\\Documents\\Annals of Newton LI_files","tvnews.png"]
[]
["C:\\Users\\Bruce\\Documents\\Cass County Grower List","Berrien County Grower List.doc"]
["C:\\Users\\Bruce\\Documents\\Cass County Grower List","Cass County Grower List.doc"]
[]
["C:\\Users\\Bruce\\Documents\\Daniel Anderson Revolutionary War Service Pension","s37677.pdf"]
[]
["C:\\Users\\Bruce\\Documents\\Descendants of Bartholomew Anderson_files","t.css"]
[]
[]
[]
["C:\\Users\\Bruce\\Documents\\Frederick County  History of Frederick County_files","goBtn.gif"]
["C:\\Users\\Bruce\\Documents\\Frederick County  History of Frederick County_files","Print(1).css"]
["C:\\Users\\Bruce\\Documents\\Frederick County  History of Frederick County_files","Print.css"]
["C:\\Users\\Bruce\\Documents\\Frederick County  History of Frederick County_files","ScriptBundlejQuery.js"]
["C:\\Users\\Bruce\\Documents\\Frederick County  History of Frederick County_files","ScriptBundlejQueryPlugin.js"]
["C:\\Users\\Bruce\\Documents\\Frederick County  History of Frederick County_files","ScriptBundlejQueryUI.js"]
["C:\\Users\\Bruce\\Documents\\Frederick County  History of Frederick County_files","ScriptBundleMSAjax.js"]
["C:\\Users\\Bruce\\Documents\\Frederick County  History of Frederick County_files","ScriptBundleVisionFrontend.js"]
["C:\\Users\\Bruce\\Documents\\Frederick County  History of Frederick County_files","ScriptBundleVisionResource.js"]
["C:\\Users\\Bruce\\Documents\\Frederick County  History of Frederick County_files","ShowImage(1).png"]
["C:\\Users\\Bruce\\Documents\\Frederick County  History of Frederick County_files","ShowImage(2).png"]
["C:\\Users\\Bruce\\Documents\\Frederick County  History of Frederick County_files","ShowImage.gif"]
["C:\\Users\\Bruce\\Documents\\Frederick County  History of Frederick County_files","ShowImage.jpg"]
["C:\\Users\\Bruce\\Documents\\Frederick County  History of Frederick County_files","ShowImage.png"]
["C:\\Users\\Bruce\\Documents\\Frederick County  History of Frederick County_files","spacer.gif"]
["C:\\Users\\Bruce\\Documents\\Frederick County  History of Frederick County_files","StyleBundleDesignTheme(1).css"]
["C:\\Users\\Bruce\\Documents\\Frederick County  History of Frederick County_files","StyleBundleDesignTheme.css"]
["C:\\Users\\Bruce\\Documents\\Frederick County  History of Frederick County_files","StyleBundleFrontendExtra.css"]
["C:\\Users\\Bruce\\Documents\\Frederick County  History of Frederick County_files","StyleBundleSingleDropDown(1).css"]
["C:\\Users\\Bruce\\Documents\\Frederick County  History of Frederick County_files","StyleBundleSingleDropDown.css"]
["C:\\Users\\Bruce\\Documents\\Frederick County  History of Frederick County_files","styles.css"]
["C:\\Users\\Bruce\\Documents\\Frederick County  History of Frederick County_files","x-small.css"]
[]
["C:\\Users\\Bruce\\Documents\\Full text of Virginia militia in the Revolutionary War  McAllister's data_files","analytics.js"]
["C:\\Users\\Bruce\\Documents\\Full text of Virginia militia in the Revolutionary War  McAllister's data_files","archive.css"]
["C:\\Users\\Bruce\\Documents\\Full text of Virginia militia in the Revolutionary War  McAllister's data_files","books-small.jpg"]
["C:\\Users\\Bruce\\Documents\\Full text of Virginia militia in the Revolutionary War  McAllister's data_files","glogo2.png"]
["C:\\Users\\Bruce\\Documents\\Full text of Virginia militia in the Revolutionary War  McAllister's data_files","jquery-1.6.1.js"]
["C:\\Users\\Bruce\\Documents\\Full text of Virginia militia in the Revolutionary War  McAllister's data_files","ol.png"]
["C:\\Users\\Bruce\\Documents\\Full text of Virginia militia in the Revolutionary War  McAllister's data_files","search.png"]
["C:\\Users\\Bruce\\Documents\\Full text of Virginia militia in the Revolutionary War  McAllister's data_files","tvnews.png"]
[]
["C:\\Users\\Bruce\\Documents\\George Washington's Professional Surveys_files","autocomplete.css"]
["C:\\Users\\Bruce\\Documents\\George Washington's Professional Surveys_files","bmi.js"]
["C:\\Users\\Bruce\\Documents\\George Washington's Professional Surveys_files","boxover.js"]
["C:\\Users\\Bruce\\Documents\\George Washington's Professional Surveys_files","document-print.png"]
["C:\\Users\\Bruce\\Documents\\George Washington's Professional Surveys_files","epoch_styles.css"]
["C:\\Users\\Bruce\\Documents\\George Washington's Professional Surveys_files","FGEA.css"]
["C:\\Users\\Bruce\\Documents\\George Washington's Professional Surveys_files","GEWN.css"]
["C:\\Users\\Bruce\\Documents\\George Washington's Professional Surveys_files","img-logo-trans.png"]
["C:\\Users\\Bruce\\Documents\\George Washington's Professional Surveys_files","mtvernon-guest.css"]
["C:\\Users\\Bruce\\Documents\\George Washington's Professional Surveys_files","note-functions.js"]
["C:\\Users\\Bruce\\Documents\\George Washington's Professional Surveys_files","Production.css"]
[]
["C:\\Users\\Bruce\\Documents\\History and Development of the Jersey Settlement, NC_files","bmi.js"]
[]
["C:\\Users\\Bruce\\Documents\\History of the 8th Virginia Infantry Regiment_files","8vasmhdr.jpg"]
["C:\\Users\\Bruce\\Documents\\History of the 8th Virginia Infantry Regiment_files","bborder.jpg"]
["C:\\Users\\Bruce\\Documents\\History of the 8th Virginia Infantry Regiment_files","grandunion.jpg"]
["C:\\Users\\Bruce\\Documents\\History of the 8th Virginia Infantry Regiment_files","muhlenberg1.jpg"]
["C:\\Users\\Bruce\\Documents\\History of the 8th Virginia Infantry Regiment_files","muhlenberg2.jpg"]
["C:\\Users\\Bruce\\Documents\\History of the 8th Virginia Infantry Regiment_files","muhlenberg3.jpg"]
["C:\\Users\\Bruce\\Documents\\History of the 8th Virginia Infantry Regiment_files","muhlenberg4.jpg"]
[]
["C:\\Users\\Bruce\\Documents\\Hopewell New Jersey_files","bmi.js"]
["C:\\Users\\Bruce\\Documents\\Hopewell New Jersey_files","image001.gif"]
["C:\\Users\\Bruce\\Documents\\Hopewell New Jersey_files","image002.jpg"]
["C:\\Users\\Bruce\\Documents\\Hopewell New Jersey_files","image003.jpg"]
["C:\\Users\\Bruce\\Documents\\Hopewell New Jersey_files","image004.jpg"]
["C:\\Users\\Bruce\\Documents\\Hopewell New Jersey_files","image005.jpg"]
["C:\\Users\\Bruce\\Documents\\Hopewell New Jersey_files","image006.jpg"]
["C:\\Users\\Bruce\\Documents\\Hopewell New Jersey_files","image007.jpg"]
[]
["C:\\Users\\Bruce\\Documents\\Karen Worley's Genealogy Database - Person Page 18_files","h.css"]
["C:\\Users\\Bruce\\Documents\\Karen Worley's Genealogy Database - Person Page 18_files","home.jpg"]
["C:\\Users\\Bruce\\Documents\\Karen Worley's Genealogy Database - Person Page 18_files","line.jpg"]
["C:\\Users\\Bruce\\Documents\\Karen Worley's Genealogy Database - Person Page 18_files","logo.jpg"]
["C:\\Users\\Bruce\\Documents\\Karen Worley's Genealogy Database - Person Page 18_files","masterindex.jpg"]
["C:\\Users\\Bruce\\Documents\\Karen Worley's Genealogy Database - Person Page 18_files","next.jpg"]
["C:\\Users\\Bruce\\Documents\\Karen Worley's Genealogy Database - Person Page 18_files","previous.jpg"]
["C:\\Users\\Bruce\\Documents\\Karen Worley's Genealogy Database - Person Page 18_files","scripts.js"]
["C:\\Users\\Bruce\\Documents\\Karen Worley's Genealogy Database - Person Page 18_files","site.css"]
["C:\\Users\\Bruce\\Documents\\Karen Worley's Genealogy Database - Person Page 18_files","surnameindex.jpg"]
[]
["C:\\Users\\Bruce\\Documents\\Music","Desperado.doc"]

{"sheet":"Drought_Stress","index":9,"n_rows":171,"n_cols":79,"rows_kept":171,"cut":false,"hidden":false,"merged":[]}
[null,null,null,null,null,null,null,null,null,null,null,null,null,null,null,null,null,null,null,null,null,null,null,null,null,null,null,null,null,null,null,null,null,null,null,null,null,null,null,null,null,null,null,null,null,null,null,null,null,null,null,null,null,null,null,null,null,null,null,null,null,null,null,null,null,null,null,null,null,null,null,null,null,null,null,null,{"$f":"+Calculations2!N19","v":"VE"},{"$f":"+Calculations2!A19","v":"2020-05-28"},{"$f":"+Calculations2!BN19","v":0}]
[null,null,null,null,null,null,null,null,null,null,null,null,null,null,null,null,null,null,null,null,null,null,null,null,null,null,null,null,null,null,null,null,null,null,null,null,null,null,null,null,null,null,null,null,null,null,null,null,null,null,null,null,null,null,null,null,null,null,null,null,null,null,null,null,null,null,null,null,null,null,null,null,null,null,null,null,{"$f":"+Calculations2!N20","v":"VE"},{"$f":"+Calculations2!A20","v":"2020-05-29"},{"$f":"+Calculations2!BN20","v":0}]
[null,null,null,null,null,null,null,null,null,null,null,null,null,null,null,null,null,null,null,null,null,null,null,null,null,null,null,null,null,null,null,null,null,null,null,null,null,null,null,null,null,null,null,null,null,null,null,null,null,null,null,null,null,null,null,null,null,null,null,null,null,null,null,null,null,null,null,null,null,null,null,null,null,null,null,null,{"$f":"+Calculations2!N21","v":"VE"},{"$f":"+Calculations2!A21","v":"2020-05-30"},{"$f":"+Calculations2!BN21","v":0}]
[null,null,null,null,null,null,null,null,null,null,null,null,null,null,null,null,null,null,null,null,null,null,null,null,null,null,null,null,null,null,null,null,null,null,null,null,null,null,null,null,null,null,null,null,null,null,null,null,null,null,null,null,null,null,null,null,null,null,null,null,null,null,null,null,null,null,null,null,null,null,null,null,null,null,null,null,{"$f":"+Calculations2!N22","v":"VE"},{"$f":"+Calculations2!A22","v":"2020-05-31"},{"$f":"+Calculations2!BN22","v":0}]
[null,null,null,null,null,null,null,null,null,null,null,null,null,null,null,null,null,null,null,null,null,null,null,null,null,null,null,null,null,null,null,null,null,null,null,null,null,null,null,null,null,null,null,null,null,null,null,null,null,null,null,null,null,null,null,null,null,null,null,null,null,null,null,null,null,null,null,null,null,null,null,null,null,null,null,null,{"$f":"+Calculations2!N23","v":"V1"},{"$f":"+Calculations2!A23","v":"2020-06-01"},{"$f":"+Calculations2!BN23","v":0}]
[null,null,null,null,null,null,null,null,null,null,null,null,null,null,null,null,null,null,null,null,null,null,null,null,null,null,null,null,null,null,null,null,null,null,null,null,null,null,null,null,null,null,null,null,null,null,null,null,null,null,null,null,null,null,null,null,null,null,null,null,null,null,null,null,null,null,null,null,null,null,null,null,null,null,null,null,{"$f":"+Calculations2!N24","v":"V1"},{"$f":"+Calculations2!A24","v":"2020-06-02"},{"$f":"+Calculations2!BN24","v":0}]
[null,null,null,null,null,null,null,null,null,null,null,null,null,null,null,null,null,null,null,null,null,null,null,null,null,null,null,null,null,null,null,null,null,null,null,null,null,null,null,null,null,null,null,null,null,null,null,null,null,null,null,null,null,null,null,null,null,null,null,null,null,null,null,null,null,null,null,null,null,null,null,null,null,null,null,null,{"$f":"+Calculations2!N25","v":"V1"},{"$f":"+Calculations2!A25","v":"2020-06-03"},{"$f":"+Calculations2!BN25","v":0}]
[null,null,null,null,null,null,null,null,null,null,null,null,null,null,null,null,null,null,null,null,null,null,null,null,null,null,null,null,null,null,null,null,null,null,null,null,null,null,null,null,null,null,null,null,null,null,null,null,null,null,null,null,null,null,null,null,null,null,null,null,null,null,null,null,null,null,null,null,null,null,null,null,null,null,null,null,{"$f":"+Calculations2!N26","v":"V2"},{"$f":"+Calculations2!A26","v":"2020-06-04"},{"$f":"+Calculations2!BN26","v":0}]
[null,null,null,null,null,null,null,null,null,null,null,null,null,null,null,null,null,null,null,null,null,null,null,null,null,null,null,null,null,null,null,null,null,null,null,null,null,null,null,null,null,null,null,null,null,null,null,null,null,null,null,null,null,null,null,null,null,null,null,null,null,null,null,null,null,null,null,null,null,null,null,null,null,null,null,null,{"$f":"+Calculations2!N27","v":"V2"},{"$f":"+Calculations2!A27","v":"2020-06-05"},{"$f":"+Calculations2!BN27","v":0}]
[null,null,null,null,null,null,null,null,null,null,null,null,null,null,null,null,null,null,null,null,null,null,null,null,null,null,null,null,null,null,null,null,null,null,null,null,null,null,null,null,null,null,null,null,null,null,null,null,null,null,null,null,null,null,null,null,null,null,null,null,null,null,null,null,null,null,null,null,null,null,null,null,null,null,null,null,{"$f":"+Calculations2!N28","v":"V2"},{"$f":"+Calculations2!A28","v":"2020-06-06"},{"$f":"+Calculations2!BN28","v":0}]
[null,null,null,null,null,null,null,null,null,null,null,null,null,null,null,null,null,null,null,null,null,null,null,null,null,null,null,null,null,null,null,null,null,null,null,null,null,null,null,null,null,null,null,null,null,null,null,null,null,null,null,null,null,null,null,null,null,null,null,null,null,null,null,null,null,null,null,null,null,null,null,null,null,null,null,null,{"$f":"+Calculations2!N29","v":"V3"},{"$f":"+Calculations2!A29","v":"2020-06-07"},{"$f":"+Calculations2!BN29","v":1.7755440525393524}]
[null,null,null,null,null,null,null,null,null,null,null,null,null,null,null,null,null,null,null,null,null,null,null,null,null,null,null,null,null,null,null,null,null,null,null,null,null,null,null,null,null,null,null,null,null,null,null,null,null,null,null,null,null,null,null,null,null,null,null,null,null,null,null,null,null,null,null,null,null,null,null,null,null,null,null,null,{"$f":"+Calculations2!N30","v":"V3"},{"$f":"+Calculations2!A30","v":"2020-06-08"},{"$f":"+Calculations2!BN30","v":4.033265958393784}]
[null,null,null,null,null,null,null,null,null,null,null,null,null,null,null,null,null,null,null,null,null,null,null,null,null,null,null,null,null,null,null,null,null,null,null,null,null,null,null,null,null,null,null,null,null,null,null,null,null,null,null,null,null,null,null,null,null,null,null,null,null,null,null,null,null,null,null,null,null,null,null,null,null,null,null,null,{"$f":"+Calculations2!N31","v":"V3"},{"$f":"+Calculations2!A31","v":"2020-06-09"},{"$f":"+Calculations2!BN31","v":0}]
[null,null,null,null,null,null,null,null,null,null,null,null,null,null,null,null,null,null,null,null,null,null,null,null,null,null,null,null,null,null,null,null,null,null,null,null,null,null,null,null,null,null,null,null,null,null,null,null,null,null,null,null,null,null,null,null,null,null,null,null,null,null,null,null,null,null,null,null,null,null,null,null,null,null,null,null,{"$f":"+Calculations2!N32","v":"V4"},{"$f":"+Calculations2!A32","v":"2020-06-10"},{"$f":"+Calculations2!BN32","v":0}]
[null,null,null,null,null,null,null,null,null,null,null,null,null,null,null,null,null,null,null,null,null,null,null,null,null,null,null,null,null,null,null,null,null,null,null,null,null,null,null,null,null,null,null,null,null,null,null,null,null,null,null,null,null,null,null,null,null,null,null,null,null,null,null,null,null,null,null,null,null,null,null,null,null,null,null,null,{"$f":"+Calculations2!N33","v":"V4"},{"$f":"+Calculations2!A33","v":"2020-06-11"},{"$f":"+Calculations2!BN33","v":0}]
[null,null,null,null,null,null,null,null,null,null,null,null,null,null,null,null,null,null,null,null,null,null,null,null,null,null,null,null,null,null,null,null,null,null,null,null,null,null,null,null,null,null,null,null,null,null,null,null,null,null,null,null,null,null,null,null,null,null,null,null,null,null,null,null,null,null,null,null,null,null,null,null,null,null,null,null,{"$f":"+Calculations2!N34","v":"V4"},{"$f":"+Calculations2!A34","v":"2020-06-12"},{"$f":"+Calculations2!BN34","v":0}]
[null,null,null,null,null,null,null,null,null,null,null,null,null,null,null,null,null,null,null,null,null,null,null,null,null,null,null,null,null,null,null,null,null,null,null,null,null,null,null,null,null,null,null,null,null,null,null,null,null,null,null,null,null,null,null,null,null,null,null,null,null,null,null,null,null,null,null,null,null,null,null,null,null,null,null,null,{"$f":"+Calculations2!N35","v":"V4"},{"$f":"+Calculations2!A35","v":"2020-06-13"},{"$f":"+Calculations2!BN35","v":0}]
[null,null,null,null,null,null,null,null,null,null,null,null,null,null,null,null,null,null,null,null,null,null,null,null,null,null,null,null,null,null,null,null,null,null,null,null,null,null,null,null,null,null,null,null,null,null,null,null,null,null,null,null,null,null,null,null,null,null,null,null,null,null,null,null,null,null,null,null,null,null,null,null,null,null,null,null,{"$f":"+Calculations2!N36","v":"V5"},{"$f":"+Calculations2!A36","v":"2020-06-14"},{"$f":"+Calculations2!BN36","v":0}]
[null,null,null,null,null,null,null,null,null,null,null,null,null,null,null,null,null,null,null,null,null,null,null,null,null,null,null,null,null,null,null,null,null,null,null,null,null,null,null,null,null,null,null,null,null,null,null,null,null,null,null,null,null,null,null,null,null,null,null,null,null,null,null,null,null,null,null,null,null,null,null,null,null,null,null,null,{"$f":"+Calculations2!N37","v":"V5"},{"$f":"+Calculations2!A37","v":"2020-06-15"},{"$f":"+Calculations2!BN37","v":0}]
[null,null,null,null,null,null,null,null,null,null,null,null,null,null,null,null,null,null,null,null,null,null,null,null,null,null,null,null,null,null,null,null,null,null,null,null,null,null,null,null,null,null,null,null,null,null,null,null,null,null,null,null,null,null,null,null,null,null,null,null,null,null,null,null,null,null,null,null,null,null,null,null,null,null,null,null,{"$f":"+Calculations2!N38","v":"V5"},{"$f":"+Calculations2!A38","v":"2020-06-16"},{"$f":"+Calculations2!BN38","v":0}]
[null,null,null,null,null,null,null,null,null,null,null,null,null,null,null,null,null,null,null,null,null,null,null,null,null,null,null,null,null,null,null,null,null,null,null,null,null,null,null,null,null,null,null,null,null,null,null,null,null,null,null,null,null,null,null,null,null,null,null,null,null,null,null,null,null,null,null,null,null,null,null,null,null,null,null,null,{"$f":"+Calculations2!N39","v":"V5"},{"$f":"+Calculations2!A39","v":"2020-06-17"},{"$f":"+Calculations2!BN39","v":0}]
[null,null,null,null,null,null,null,null,null,null,null,null,null,null,null,null,null,null,null,null,null,null,null,null,null,null,null,null,null,null,null,null,null,null,null,null,null,null,null,null,null,null,null,null,null,null,null,null,null,null,null,null,null,null,null,null,null,null,null,null,null,null,null,null,null,null,null,null,null,null,null,null,null,null,null,null,{"$f":"+Calculations2!N40","v":"V6"},{"$f":"+Calculations2!A40","v":"2020-06-18"},{"$f":"+Calculations2!BN40","v":0}]
[null,null,null,null,null,null,null,null,null,null,null,null,null,null,null,null,null,null,null,null,null,null,null,null,null,null,null,null,null,null,null,null,null,null,null,null,null,null,null,null,null,null,null,null,null,null,null,null,null,null,null,null,null,null,null,null,null,null,null,null,null,null,null,null,null,null,null,null,null,null,null,null,null,null,null,null,{"$f":"+Calculations2!N41","v":"V6"},{"$f":"+Calculations2!A41","v":"2020-06-19"},{"$f":"+Calculations2!BN41","v":0}]
[null,null,null,null,null,null,null,null,null,null,null,null,null,null,null,null,null,null,null,null,null,null,null,null,null,null,null,null,null,null,null,null,null,null,null,null,null,null,null,null,null,null,null,null,null,null,null,null,null,null,null,null,null,null,null,null,null,null,null,null,null,null,null,null,null,null,null,null,null,null,null,null,null,null,null,null,{"$f":"+Calculations2!N42","v":"V7"},{"$f":"+Calculations2!A42","v":"2020-06-20"},{"$f":"+Calculations2!BN42","v":0}]
[null,null,null,null,null,null,null,null,null,null,null,null,null,null,null,null,null,null,null,null,null,null,null,null,null,null,null,null,null,null,null,null,null,null,null,null,null,null,null,null,null,null,null,null,null,null,null,null,null,null,null,null,null,null,null,null,null,null,null,null,null,null,null,null,null,null,null,null,null,null,null,null,null,null,null,null,{"$f":"+Calculations2!N43","v":"V7"},{"$f":"+Calculations2!A43","v":"2020-06-21"},{"$f":"+Calculations2!BN43","v":0}]
[null,null,null,null,null,null,null,null,null,null,null,null,null,null,null,null,null,null,null,null,null,null,null,null,null,null,null,null,null,null,null,null,null,null,null,null,null,null,null,null,null,null,null,null,null,null,null,null,null,null,null,null,null,null,null,null,null,null,null,null,null,null,null,null,null,null,null,null,null,null,null,null,null,null,null,null,{"$f":"+Calculations2!N44","v":"V7"},{"$f":"+Calculations2!A44","v":"2020-06-22"},{"$f":"+Calculations2!BN44","v":0}]
[null,null,null,null,null,null,null,null,null,null,null,null,null,null,null,null,null,null,null,null,null,null,null,null,null,null,null,null,null,null,null,null,null,null,null,null,null,null,null,null,null,null,null,null,null,null,null,null,null,null,null,null,null,null,null,null,null,null,null,null,null,null,null,null,null,null,null,null,null,null,null,null,null,null,null,null,{"$f":"+Calculations2!N45","v":"V8"},{"$f":"+Calculations2!A45","v":"2020-06-23"},{"$f":"+Calculations2!BN45","v":0}]
[null,null,null,null,null,null,null,null,null,null,null,null,null,null,null,null,null,null,null,null,null,null,null,null,null,null,null,null,null,null,null,null,null,null,null,null,null,null,null,null,null,null,null,null,null,null,null,null,null,null,null,null,null,null,null,null,null,null,null,null,null,null,null,null,null,null,null,null,null,null,null,null,null,null,null,null,{"$f":"+Calculations2!N46","v":"V8"},{"$f":"+Calculations2!A46","v":"2020-06-24"},{"$f":"+Calculations2!BN46","v":0}]
[null,null,null,null,null,null,null,null,null,null,null,null,null,null,null,null,null,null,null,null,null,null,null,null,null,null,null,null,null,null,null,null,null,null,null,null,null,null,null,null,null,null,null,null,null,null,null,null,null,null,null,null,null,null,null,null,null,null,null,null,null,null,null,null,null,null,null,null,null,null,null,null,null,null,null,null,{"$f":"+Calculations2!N47","v":"V8"},{"$f":"+Calculations2!A47","v":"2020-06-25"},{"$f":"+Calculations2!BN47","v":0}]
[null,null,null,null,null,null,null,null,null,null,null,null,null,null,null,null,null,null,null,null,null,null,null,null,null,null,null,null,null,null,null,null,null,null,null,null,null,null,null,null,null,null,null,null,null,null,null,null,null,null,null,null,null,null,null,null,null,null,null,null,null,null,null,null,null,null,null,null,null,null,null,null,null,null,null,null,{"$f":"+Calculations2!N48","v":"V8"},{"$f":"+Calculations2!A48","v":"2020-06-26"},{"$f":"+Calculations2!BN48","v":0}]
[null,null,null,null,null,null,null,null,null,null,null,null,null,null,null,null,null,null,null,null,null,null,null,null,null,null,null,null,null,null,null,null,null,null,null,null,null,null,null,null,null,null,null,null,null,null,null,null,null,null,null,null,null,null,null,null,null,null,null,null,null,null,null,null,null,null,null,null,null,null,null,null,null,null,null,null,{"$f":"+Calculations2!N49","v":"V9"},{"$f":"+Calculations2!A49","v":"2020-06-27"},{"$f":"+Calculations2!BN49","v":0}]
[null,null,null,null,null,null,null,null,null,null,null,null,null,null,null,null,null,null,null,null,null,null,null,null,null,null,null,null,null,null,null,null,null,null,null,null,null,null,null,null,null,null,null,null,null,null,null,null,null,null,null,null,null,null,null,null,null,null,null,null,null,null,null,null,null,null,null,null,null,null,null,null,null,null,null,null,{"$f":"+Calculations2!N50","v":"V9"},{"$f":"+Calculations2!A50","v":"2020-06-28"},{"$f":"+Calculations2!BN50","v":0}]
[null,null,null,null,null,null,null,null,null,null,null,null,null,null,null,null,null,null,null,null,null,null,null,null,null,null,null,null,null,null,null,null,null,null,null,null,null,null,null,null,null,null,null,null,null,null,null,null,null,null,null,null,null,null,null,null,null,null,null,null,null,null,null,null,null,null,null,null,null,null,null,null,null,null,null,null,{"$f":"+Calculations2!N51","v":"V10"},{"$f":"+Calculations2!A51","v":"2020-06-29"},{"$f":"+Calculations2!BN51","v":0}]
[null,null,null,null,null,null,null,null,null,null,null,null,null,null,null,null,null,null,null,null,null,null,null,null,null,null,null,null,null,null,null,null,null,null,null,null,null,null,null,null,null,null,null,null,null,null,null,null,null,null,null,null,null,null,null,null,null,null,null,null,null,null,null,null,null,null,null,null,null,null,null,null,null,null,null,null,{"$f":"+Calculations2!N52","v":"V10"},{"$f":"+Calculations2!A52","v":"2020-06-30"},{"$f":"+Calculations2!BN52","v":0}]
[null,null,null,null,null,null,null,null,null,null,null,null,null,null,null,null,null,null,null,null,null,null,null,null,null,null,null,null,null,null,null,null,null,null,null,null,null,null,null,null,null,null,null,null,null,null,null,null,null,null,null,null,null,null,null,null,null,null,null,null,null,null,null,null,null,null,null,null,null,null,null,null,null,null,null,null,{"$f":"+Calculations2!N53","v":"V10"},{"$f":"+Calculations2!A53","v":"2020-07-01"},{"$f":"+Calculations2!BN53","v":0}]
[null,null,null,null,null,null,null,null,null,null,null,null,null,null,null,null,null,null,null,null,null,null,null,null,null,null,null,null,null,null,null,null,null,null,null,null,null,null,null,null,null,null,null,null,null,null,null,null,null,null,null,null,null,null,null,null,null,null,null,null,null,null,null,null,null,null,null,null,null,null,null,null,null,null,null,null,{"$f":"+Calculations2!N54","v":"V11"},{"$f":"+Calculations2!A54","v":"2020-07-02"},{"$f":"+Calculations2!BN54","v":0}]
[null,null,null,null,null,null,null,null,null,null,null,null,null,null,null,null,null,null,null,null,null,null,null,null,null,null,null,null,null,null,null,null,null,null,null,null,null,null,null,null,null,null,null,null,null,null,null,null,null,null,null,null,null,null,null,null,null,null,null,null,null,null,null,null,null,null,null,null,null,null,null,null,null,null,null,null,{"$f":"+Calculations2!N55","v":"V11"},{"$f":"+Calculations2!A55","v":"2020-07-03"},{"$f":"+Calculations2!BN55","v":0}]
[null,null,null,null,null,null,null,null,null,null,null,null,null,null,null,null,null,null,null,null,null,null,null,null,null,null,null,null,null,null,null,null,null,null,null,null,null,null,null,null,null,null,null,null,null,null,null,null,null,null,null,null,null,null,null,null,null,null,null,null,null,null,null,null,null,null,null,null,null,null,null,null,null,null,null,null,{"$f":"+Calculations2!N56","v":"V12"},{"$f":"+Calculations2!A56","v":"2020-07-04"},{"$f":"+Calculations2!BN56","v":0}]
[null,null,null,null,null,null,null,null,null,null,null,null,null,null,null,null,null,null,null,null,null,null,null,null,null,null,null,null,null,null,null,null,null,null,null,null,null,null,null,null,null,null,null,null,null,null,null,null,null,null,null,null,null,null,null,null,null,null,null,null,null,null,null,null,null,null,null,null,null,null,null,null,null,null,null,null,{"$f":"+Calculations2!N57","v":"V13"},{"$f":"+Calculations2!A57","v":"2020-07-05"},{"$f":"+Calculations2!BN57","v":0}]
[null,null,null,null,null,null,null,null,null,null,null,null,null,null,null,null,null,null,null,null,null,null,null,null,null,null,null,null,null,null,null,null,null,null,null,null,null,null,null,null,null,null,null,null,null,null,null,null,null,null,null,null,null,null,null,null,null,null,null,null,null,null,null,null,null,null,null,null,null,null,null,null,null,null,null,null,{"$f":"+Calculations2!N58","v":"V13"},{"$f":"+Calculations2!A58","v":"2020-07-06"},{"$f":"+Calculations2!BN58","v":0}]
[null,null,null,null,null,null,null,null,null,null,null,null,null,null,null,null,null,null,null,null,null,null,null,null,null,null,null,null,null,null,null,null,null,null,null,null,null,null,null,null,null,null,null,null,null,null,null,null,null,null,null,null,null,null,null,null,null,null,null,null,null,null,null,null,null,null,null,null,null,null,null,null,null,null,null,null,{"$f":"+Calculations2!N59","v":"V14"},{"$f":"+Calculations2!A59","v":"2020-07-07"},{"$f":"+Calculations2!BN59","v":0}]
[null,null,null,null,null,null,null,null,null,null,null,null,null,null,null,null,null,null,null,null,null,null,null,null,null,null,null,null,null,null,null,null,null,null,null,null,null,null,null,null,null,null,null,null,null,null,null,null,null,null,null,null,null,null,null,null,null,null,null,null,null,null,null,null,null,null,null,null,null,null,null,null,null,null,null,null,{"$f":"+Calculations2!N60","v":"V14"},{"$f":"+Calculations2!A60","v":"2020-07-08"},{"$f":"+Calculations2!BN60","v":0}]
[null,null,null,null,null,null,null,null,null,null,null,null,null,null,null,null,null,null,null,null,null,null,null,null,null,null,null,null,null,null,null,null,null,null,null,null,null,null,null,null,null,null,null,null,null,null,null,null,null,null,null,null,null,null,null,null,null,null,null,null,null,null,null,null,null,null,null,null,null,null,null,null,null,null,null,null,{"$f":"+Calculations2!N61","v":"V15"},{"$f":"+Calculations2!A61","v":"2020-07-09"},{"$f":"+Calculations2!BN61","v":3.06135897435896}]
[null,null,null,null,null,null,null,null,null,null,null,null,null,null,null,null,null,null,null,null,null,null,null,null,null,null,null,null,null,null,null,null,null,null,null,null,null,null,null,null,null,null,null,null,null,null,null,null,null,null,null,null,null,null,null,null,null,null,null,null,null,null,null,null,null,null,null,null,null,null,null,null,null,null,null,null,{"$f":"+Calculations2!N62","v":"V15"},{"$f":"+Calculations2!A62","v":"2020-07-10"},{"$f":"+Calculations2!BN62","v":0}]
[null,null,null,null,null,null,null,null,null,null,null,null,null,null,null,null,null,null,null,null,null,null,null,null,null,null,null,null,null,null,null,null,null,null,null,null,null,null,null,null,null,null,null,null,null,null,null,null,null,null,null,null,null,null,null,null,null,null,null,null,null,null,null,null,null,null,null,null,null,null,null,null,null,null,null,null,{"$f":"+Calculations2!N63","v":"V16"},{"$f":"+Calculations2!A63","v":"2020-07-11"},{"$f":"+Calculations2!BN63","v":0}]
[null,null,null,null,null,null,null,null,null,null,null,null,null,null,null,null,null,null,null,null,null,null,null,null,null,null,null,null,null,null,null,null,null,null,null,null,null,null,null,null,null,null,null,null,null,null,null,null,null,null,null,null,null,null,null,null,null,null,null,null,null,null,null,null,null,null,null,null,null,null,null,null,null,null,null,null,{"$f":"+Calculations2!N64","v":"V16"},{"$f":"+Calculations2!A64","v":"2020-07-12"},{"$f":"+Calculations2!BN64","v":0}]
[null,null,null,null,null,null,null,null,null,null,null,null,null,null,null,null,null,null,null,null,null,null,null,null,null,null,null,null,null,null,null,null,null,null,null,null,null,null,null,null,null,null,null,null,null,null,null,null,null,null,null,null,null,null,null,null,null,null,null,null,null,null,null,null,null,null,null,null,null,null,null,null,null,null,null,null,{"$f":"+Calculations2!N65","v":"V17"},{"$f":"+Calculations2!A65","v":"2020-07-13"},{"$f":"+Calculations2!BN65","v":0}]
[null,null,null,null,null,null,null,null,null,null,null,null,null,null,null,null,null,null,null,null,null,null,null,null,null,null,null,null,null,null,null,null,null,null,null,null,null,null,null,null,null,null,null,null,null,null,null,null,null,null,null,null,null,null,null,null,null,null,null,null,null,null,null,null,null,null,null,null,null,null,null,null,null,null,null,null,{"$f":"+Calculations2!N66","v":"V17"},{"$f":"+Calculations2!A66","v":"2020-07-14"},{"$f":"+Calculations2!BN66","v":1.4862500197238546}]
[null,null,null,null,null,null,null,null,null,null,null,null,null,null,null,null,null,null,null,null,null,null,null,null,null,null,null,null,null,null,null,null,null,null,null,null,null,null,null,null,null,null,null,null,null,null,null,null,null,null,null,null,null,null,null,null,null,null,null,null,null,null,null,null,null,null,null,null,null,null,null,null,null,null,null,null,{"$f":"+Calculations2!N67","v":"V18"},{"$f":"+Calculations2!A67","v":"2020-07-15"},{"$f":"+Calculations2!BN67","v":6.3226977100652277}]
[null,null,null,null,null,null,null,null,null,null,null,null,null,null,null,null,null,null,null,null,null,null,null,null,null,null,null,null,null,null,null,null,null,null,null,null,null,null,null,null,null,null,null,null,null,null,null,null,null,null,null,null,null,null,null,null,null,null,null,null,null,null,null,null,null,null,null,null,null,null,null,null,null,null,null,null,{"$f":"+Calculations2!N68","v":"V18"},{"$f":"+Calculations2!A68","v":"2020-07-16"},{"$f":"+Calculations2!BN68","v":0}]
[null,null,null,null,null,null,null,null,null,null,null,null,null,null,null,null,null,null,null,null,null,null,null,null,null,null,null,null,null,null,null,null,null,null,null,null,null,null,null,null,null,null,null,null,null,null,null,null,null,null,null,null,null,null,null,null,null,null,null,null,null,null,null,null,null,null,null,null,null,null,null,null,null,null,null,null,{"$f":"+Calculations2!N69","v":"V18"},{"$f":"+Calculations2!A69","v":"2020-07-17"},{"$f":"+Calculations2!BN69","v":0}]
[null,null,null,null,null,null,null,null,null,null,null,null,null,null,null,null,null,null,null,null,null,null,null,null,null,null,null,null,null,null,null,null,null,null,null,null,null,null,null,null,null,null,null,null,null,null,null,null,null,null,null,null,null,null,null,null,null,null,null,null,null,null,null,null,null,null,null,null,null,null,null,null,null,null,null,null,{"$f":"+Calculations2!N70","v":"R1"},{"$f":"+Calculations2!A70","v":"2020-07-18"},{"$f":"+Calculations2!BN70","v":0}]
[null,null,null,null,null,null,null,null,null,null,null,null,null,null,null,null,null,null,null,null,null,null,null,null,null,null,null,null,null,null,null,null,null,null,null,null,null,null,null,null,null,null,null,null,null,null,null,null,null,null,null,null,null,null,null,null,null,null,null,null,null,null,null,null,null,null,null,null,null,null,null,null,null,null,null,null,{"$f":"+Calculations2!N71","v":"R1"},{"$f":"+Calculations2!A71","v":"2020-07-19"},{"$f":"+Calculations2!BN71","v":0}]
[null,null,null,null,null,null,null,null,null,null,null,null,null,null,null,null,null,null,null,null,null,null,null,null,null,null,null,null,null,null,null,null,null,null,null,null,null,null,null,null,null,null,null,null,null,null,null,null,null,null,null,null,null,null,null,null,null,null,null,null,null,null,null,null,null,null,null,null,null,null,null,null,null,null,null,null,{"$f":"+Calculations2!N72","v":"R1"},{"$f":"+Calculations2!A72","v":"2020-07-20"},{"$f":"+Calculations2!BN72","v":0}]
[null,null,null,null,null,null,null,null,null,null,null,null,null,null,null,null,null,null,null,null,null,null,null,null,null,null,null,null,null,null,null,null,null,null,null,null,null,null,null,null,null,null,null,null,null,null,null,null,null,null,null,null,null,null,null,null,null,null,null,null,null,null,null,null,null,null,null,null,null,null,null,null,null,null,null,null,{"$f":"+Calculations2!N73","v":"R1"},{"$f":"+Calculations2!A73","v":"2020-07-21"},{"$f":"+Calculations2!BN73","v":0}]
[null,null,null,null,null,null,null,null,null,null,null,null,null,null,null,null,null,null,null,null,null,null,null,null,null,null,null,null,null,null,null,null,null,null,null,null,null,null,null,null,null,null,null,null,null,null,null,null,null,null,null,null,null,null,null,null,null,null,null,null,null,null,null,null,null,null,null,null,null,null,null,null,null,null,null,null,{"$f":"+Calculations2!N74","v":"R1"},{"$f":"+Calculations2!A74","v":"2020-07-22"},{"$f":"+Calculations2!BN74","v":0}]
[null,null,null,null,null,null,null,null,null,null,null,null,null,null,null,null,null,null,null,null,null,null,null,null,null,null,null,null,null,null,null,null,null,null,null,null,null,null,null,null,null,null,null,null,null,null,null,null,null,null,null,null,null,null,null,null,null,null,null,null,null,null,null,null,null,null,null,null,null,null,null,null,null,null,null,null,{"$f":"+Calculations2!N75","v":"R1"},{"$f":"+Calculations2!A75","v":"2020-07-23"},{"$f":"+Calculations2!BN75","v":0}]
[null,null,null,null,null,null,null,null,null,null,null,null,null,null,null,null,null,null,null,null,null,null,null,null,null,null,null,null,null,null,null,null,null,null,null,null,null,null,null,null,null,null,null,null,null,null,null,null,null,null,null,null,null,null,null,null,null,null,null,null,null,null,null,null,null,null,null,null,null,null,null,null,null,null,null,null,{"$f":"+Calculations2!N76","v":"R1"},{"$f":"+Calculations2!A76","v":"2020-07-24"},{"$f":"+Calculations2!BN76","v":0}]
[null,null,null,null,null,null,null,null,null,null,null,null,null,null,null,null,null,null,null,null,null,null,null,null,null,null,null,null,null,null,null,null,null,null,null,null,null,null,null,null,null,null,null,null,null,null,null,null,null,null,null,null,null,null,null,null,null,null,null,null,null,null,null,null,null,null,null,null,null,null,null,null,null,null,null,null,{"$f":"+Calculations2!N77","v":"R1"},{"$f":"+Calculations2!A77","v":"2020-07-25"},{"$f":"+Calculations2!BN77","v":0}]
[null,null,null,null,null,null,null,null,null,null,null,null,null,null,null,null,null,null,null,null,null,null,null,null,null,null,null,null,null,null,null,null,null,null,null,null,null,null,null,null,null,null,null,null,null,null,null,null,null,null,null,null,null,null,null,null,null,null,null,null,null,null,null,null,null,null,null,null,null,null,null,null,null,null,null,null,{"$f":"+Calculations2!N78","v":"R1"},{"$f":"+Calculations2!A78","v":"2020-07-26"},{"$f":"+Calculations2!BN78","v":4.9514372175870136}]
[null,null,null,null,null,null,null,null,null,null,null,null,null,null,null,null,null,null,null,null,null,null,null,null,null,null,null,null,null,null,null,null,null,null,null,null,null,null,null,null,null,null,null,null,null,null,null,null,null,null,null,null,null,null,null,null,null,null,null,null,null,null,null,null,null,null,null,null,null,null,null,null,null,null,null,null,{"$f":"+Calculations2!N79","v":"R1"},{"$f":"+Calculations2!A79","v":"2020-07-27"},{"$f":"+Calculations2!BN79","v":9.6919321319209359}]
[null,null,null,null,null,null,null,null,null,null,null,null,null,null,null,null,null,null,null,null,null,null,null,null,null,null,null,null,null,null,null,null,null,null,null,null,null,null,null,null,null,null,null,null,null,null,null,null,null,null,null,null,null,null,null,null,null,null,null,null,null,null,null,null,null,null,null,null,null,null,null,null,null,null,null,null,{"$f":"+Calculations2!N80","v":"R1"},{"$f":"+Calculations2!A80","v":"2020-07-28"},{"$f":"+Calculations2!BN80","v":12.048403791900938}]
[null,null,null,null,null,null,null,null,null,null,null,null,null,null,null,null,null,null,null,null,null,null,null,null,null,null,null,null,null,null,null,null,null,null,null,null,null,null,null,null,null,null,null,null,null,null,null,null,null,null,null,null,null,null,null,null,null,null,null,null,null,null,null,null,null,null,null,null,null,null,null,null,null,null,null,null,{"$f":"+Calculations2!N81","v":"R2"},{"$f":"+Calculations2!A81","v":"2020-07-29"},{"$f":"+Calculations2!BN81","v":17.863788407285554}]
[null,null,null,null,null,null,null,null,null,null,null,null,null,null,null,null,null,null,null,null,null,null,null,null,null,null,null,null,null,null,null,null,null,null,null,null,null,null,null,null,null,null,null,null,null,null,null,null,null,null,null,null,null,null,null,null,null,null,null,null,null,null,null,null,null,null,null,null,null,null,null,null,null,null,null,null,{"$f":"+Calculations2!N82","v":"R2"},{"$f":"+Calculations2!A82","v":"2020-07-30"},{"$f":"+Calculations2!BN82","v":23.063788407285557}]
[null,null,null,null,null,null,null,null,null,null,null,null,null,null,null,null,null,null,null,null,null,null,null,null,null,null,null,null,null,null,null,null,null,null,null,null,null,null,null,null,null,null,null,null,null,null,null,null,null,null,null,null,null,null,null,null,null,null,null,null,null,null,null,null,null,null,null,null,null,null,null,null,null,null,null,null,{"$f":"+Calculations2!N83","v":"R2"},{"$f":"+Calculations2!A83","v":"2020-07-31"},{"$f":"+Calculations2!BN83","v":27.833019176516324}]
[null,null,null,null,null,null,null,null,null,null,null,null,null,null,null,null,null,null,null,null,null,null,null,null,null,null,null,null,null,null,null,null,null,null,null,null,null,null,null,null,null,null,null,null,null,null,null,null,null,null,null,null,null,null,null,null,null,null,null,null,null,null,null,null,null,null,null,null,null,null,null,null,null,null,null,null,{"$f":"+Calculations2!N84","v":"R2"},{"$f":"+Calculations2!A84","v":"2020-08-01"},{"$f":"+Calculations2!BN84","v":32.048403791900938}]
[null,null,null,null,null,null,null,null,null,null,null,null,null,null,null,null,null,null,null,null,null,null,null,null,null,null,null,null,null,null,null,null,null,null,null,null,null,null,null,null,null,null,null,null,null,null,null,null,null,null,null,null,null,null,null,null,null,null,null,null,null,null,null,null,null,null,null,null,null,null,null,null,null,null,null,null,{"$f":"+Calculations2!N85","v":"R2"},{"$f":"+Calculations2!A85","v":"2020-08-02"},{"$f":"+Calculations2!BN85","v":32.048403791900938}]
[null,null,null,null,null,null,null,null,null,null,null,null,null,null,null,null,null,null,null,null,null,null,null,null,null,null,null,null,null,null,null,null,null,null,null,null,null,null,null,null,null,null,null,null,null,null,null,null,null,null,null,null,null,null,null,null,null,null,null,null,null,null,null,null,null,null,null,null,null,null,null,null,null,null,null,null,{"$f":"+Calculations2!N86","v":"R2"},{"$f":"+Calculations2!A86","v":"2020-08-03"},{"$f":"+Calculations2!BN86","v":{"$error":"#VALUE!"}}]
[null,null,null,null,null,null,null,null,null,null,null,null,null,null,null,null,null,null,null,null,null,null,null,null,null,null,null,null,null,null,null,null,null,null,null,null,null,null,null,null,null,null,null,null,null,null,null,null,null,null,null,null,null,null,null,null,null,null,null,null,null,null,null,null,null,null,null,null,null,null,null,null,null,null,null,null,{"$f":"+Calculations2!N87","v":"R2"},{"$f":"+Calculations2!A87","v":"2020-08-04"},{"$f":"+Calculations2!BN87","v":{"$error":"#VALUE!"}}]
[null,null,null,null,null,null,null,null,null,null,null,null,null,null,null,null,null,null,null,null,null,null,null,null,null,null,null,null,null,null,null,null,null,null,null,null,null,null,null,null,null,null,null,null,null,null,null,null,null,null,null,null,null,null,null,null,null,null,null,null,null,null,null,null,null,null,null,null,null,null,null,null,null,null,null,null,{"$f":"+Calculations2!N88","v":"R2"},{"$f":"+Calculations2!A88","v":"2020-08-05"},{"$f":"+Calculations2!BN88","v":{"$error":"#VALUE!"}}]
[null,null,null,null,null,null,null,null,null,null,null,null,null,null,null,null,null,null,null,null,null,null,null,null,null,null,null,null,null,null,null,null,null,null,null,null,null,null,null,null,null,null,null,null,null,null,null,null,null,null,null,null,null,null,null,null,null,null,null,null,null,null,null,null,null,null,null,null,null,null,null,null,null,null,null,null,{"$f":"+Calculations2!N89","v":"R2"},{"$f":"+Calculations2!A89","v":"2020-08-06"},{"$f":"+Calculations2!BN89","v":{"$error":"#VALUE!"}}]
[null,null,null,null,null,null,null,null,null,null,null,null,null,null,null,null,null,null,null,null,null,null,null,null,null,null,null,null,null,null,null,null,null,null,null,null,null,null,null,null,null,null,null,null,null,null,null,null,null,null,null,null,null,null,null,null,null,null,null,null,null,null,null,null,null,null,null,null,null,null,null,null,null,null,null,null,{"$f":"+Calculations2!N90","v":"R2"},{"$f":"+Calculations2!A90","v":"2020-08-07"},{"$f":"+Calculations2!BN90","v":{"$error":"#VALUE!"}}]
[null,null,null,null,null,null,null,null,null,null,null,null,null,null,null,null,null,null,null,null,null,null,null,null,null,null,null,null,null,null,null,null,null,null,null,null,null,null,null,null,null,null,null,null,null,null,null,null,null,null,null,null,null,null,null,null,null,null,null,null,null,null,null,null,null,null,null,null,null,null,null,null,null,null,null,null,{"$f":"+Calculations2!N91","v":"R2"},{"$f":"+Calculations2!A91","v":"2020-08-08"},{"$f":"+Calculations2!BN91","v":{"$error":"#VALUE!"}}]
[null,null,null,null,null,null,null,null,null,null,null,null,null,null,null,null,null,null,null,null,null,null,null,null,null,null,null,null,null,null,null,null,null,null,null,null,null,null,null,null,null,null,null,null,null,null,null,null,null,null,null,null,null,null,null,null,null,null,null,null,null,null,null,null,null,null,null,null,null,null,null,null,null,null,null,null,{"$f":"+Calculations2!N92","v":"R3"},{"$f":"+Calculations2!A92","v":"2020-08-09"},{"$f":"+Calculations2!BN92","v":{"$error":"#VALUE!"}}]
[null,null,null,null,null,null,null,null,null,null,null,null,null,null,null,null,null,null,null,null,null,null,null,null,null,null,null,null,null,null,null,null,null,null,null,null,null,null,null,null,null,null,null,null,null,null,null,null,null,null,null,null,null,null,null,null,null,null,null,null,null,null,null,null,null,null,null,null,null,null,null,null,null,null,null,null,{"$f":"+Calculations2!N93","v":"R3"},{"$f":"+Calculations2!A93","v":"2020-08-10"},{"$f":"+Calculations2!BN93","v":{"$error":"#VALUE!"}}]
[null,null,null,null,null,null,null,null,null,null,null,null,null,null,null,null,null,null,null,null,null,null,null,null,null,null,null,null,null,null,null,null,null,null,null,null,null,null,null,null,null,null,null,null,null,null,null,null,null,null,null,null,null,null,null,null,null,null,null,null,null,null,null,null,null,null,null,null,null,null,null,null,null,null,null,null,{"$f":"+Calculations2!N94","v":"R3"},{"$f":"+Calculations2!A94","v":"2020-08-11"},{"$f":"+Calculations2!BN94","v":{"$error":"#VALUE!"}}]
[null,null,null,null,null,null,null,null,null,null,null,null,null,null,null,null,null,null,null,null,null,null,null,null,null,null,null,null,null,null,null,null,null,null,null,null,null,null,null,null,null,null,null,null,null,null,null,null,null,null,null,null,null,null,null,null,null,null,null,null,null,null,null,null,null,null,null,null,null,null,null,null,null,null,null,null,{"$f":"+Calculations2!N95","v":"R3"},{"$f":"+Calculations2!A95","v":"2020-08-12"},{"$f":"+Calculations2!BN95","v":{"$error":"#VALUE!"}}]
[null,null,null,null,null,null,null,null,null,null,null,null,null,null,null,null,null,null,null,null,null,null,null,null,null,null,null,null,null,null,null,null,null,null,null,null,null,null,null,null,null,null,null,null,null,null,null,null,null,null,null,null,null,null,null,null,null,null,null,null,null,null,null,null,null,null,null,null,null,null,null,null,null,null,null,null,{"$f":"+Calculations2!N96","v":"R3"},{"$f":"+Calculations2!A96","v":"2020-08-13"},{"$f":"+Calculations2!BN96","v":{"$error":"#VALUE!"}}]
[null,null,null,null,null,null,null,null,null,null,null,null,null,null,null,null,null,null,null,null,null,null,null,null,null,null,null,null,null,null,null,null,null,null,null,null,null,null,null,null,null,null,null,null,null,null,null,null,null,null,null,null,null,null,null,null,null,null,null,null,null,null,null,null,null,null,null,null,null,null,null,null,null,null,null,null,{"$f":"+Calculations2!N97","v":"R3"},{"$f":"+Calculations2!A97","v":"2020-08-14"},{"$f":"+Calculations2!BN97","v":{"$error":"#VALUE!"}}]
[null,null,null,null,null,null,null,null,null,null,null,null,null,null,null,null,null,null,null,null,null,null,null,null,null,null,null,null,null,null,null,null,null,null,null,null,null,null,null,null,null,null,null,null,null,null,null,null,null,null,null,null,null,null,null,null,null,null,null,null,null,null,null,null,null,null,null,null,null,null,null,null,null,null,null,null,{"$f":"+Calculations2!N98","v":"R3"},{"$f":"+Calculations2!A98","v":"2020-08-15"},{"$f":"+Calculations2!BN98","v":{"$error":"#VALUE!"}}]
[null,null,null,null,null,null,null,null,null,null,null,null,null,null,null,null,null,null,null,null,null,null,null,null,null,null,null,null,null,null,null,null,null,null,null,null,null,null,null,null,null,null,null,null,null,null,null,null,null,null,null,null,null,null,null,null,null,null,null,null,null,null,null,null,null,null,null,null,null,null,null,null,null,null,null,null,{"$f":"+Calculations2!N99","v":"R3"},{"$f":"+Calculations2!A99","v":"2020-08-16"},{"$f":"+Calculations2!BN99","v":{"$error":"#VALUE!"}}]
[null,null,null,null,null,null,null,null,null,null,null,null,null,null,null,null,null,null,null,null,null,null,null,null,null,null,null,null,null,null,null,null,null,null,null,null,null,null,null,null,null,null,null,null,null,null,null,null,null,null,null,null,null,null,null,null,null,null,null,null,null,null,null,null,null,null,null,null,null,null,null,null,null,null,null,null,{"$f":"+Calculations2!N100","v":"R3"},{"$f":"+Calculations2!A100","v":"2020-08-17"},{"$f":"+Calculations2!BN100","v":{"$error":"#VALUE!"}}]
[null,null,null,null,null,null,null,null,null,null,null,null,null,null,null,null,null,null,null,null,null,null,null,null,null,null,null,null,null,null,null,null,null,null,null,null,null,null,null,null,null,null,null,null,null,null,null,null,null,null,null,null,null,null,null,null,null,null,null,null,null,null,null,null,null,null,null,null,null,null,null,null,null,null,null,null,{"$f":"+Calculations2!N101","v":"R3"},{"$f":"+Calculations2!A101","v":"2020-08-18"},{"$f":"+Calculations2!BN101","v":{"$error":"#VALUE!"}}]
[null,null,null,null,null,null,null,null,null,null,null,null,null,null,null,null,null,null,null,null,null,null,null,null,null,null,null,null,null,null,null,null,null,null,null,null,null,null,null,null,null,null,null,null,null,null,null,null,null,null,null,null,null,null,null,null,null,null,null,null,null,null,null,null,null,null,null,null,null,null,null,null,null,null,null,null,{"$f":"+Calculations2!N102","v":"R3"},{"$f":"+Calculations2!A102","v":"2020-08-19"},{"$f":"+Calculations2!BN102","v":{"$error":"#VALUE!"}}]
[null,null,null,null,null,null,null,null,null,null,null,null,null,null,null,null,null,null,null,null,null,null,null,null,null,null,null,null,null,null,null,null,null,null,null,null,null,null,null,null,null,null,null,null,null,null,null,null,null,null,null,null,null,null,null,null,null,null,null,null,null,null,null,null,null,null,null,null,null,null,null,null,null,null,null,null,{"$f":"+Calculations2!N103","v":"R3"},{"$f":"+Calculations2!A103","v":"2020-08-20"},{"$f":"+Calculations2!BN103","v":{"$error":"#VALUE!"}}]
[null,null,null,null,null,null,null,null,null,null,null,null,null,null,null,null,null,null,null,null,null,null,null,null,null,null,null,null,null,null,null,null,null,null,null,null,null,null,null,null,null,null,null,null,null,null,null,null,null,null,null,null,null,null,null,null,null,null,null,null,null,null,null,null,null,null,null,null,null,null,null,null,null,null,null,null,{"$f":"+Calculations2!N104","v":"R4"},{"$f":"+Calculations2!A104","v":"2020-08-21"},{"$f":"+Calculations2!BN104","v":{"$error":"#VALUE!"}}]
[null,null,null,null,null,null,null,null,null,null,null,null,null,null,null,null,null,null,null,null,null,null,null,null,null,null,null,null,null,null,null,null,null,null,null,null,null,null,null,null,null,null,null,null,null,null,null,null,null,null,null,null,null,null,null,null,null,null,null,null,null,null,null,null,null,null,null,null,null,null,null,null,null,null,null,null,{"$f":"+Calculations2!N105","v":"R4"},{"$f":"+Calculations2!A105","v":"2020-08-22"},{"$f":"+Calculations2!BN105","v":{"$error":"#VALUE!"}}]
[null,null,null,null,null,null,null,null,null,null,null,null,null,null,null,null,null,null,null,null,null,null,null,null,null,null,null,null,null,null,null,null,null,null,null,null,null,null,null,null,null,null,null,null,null,null,null,null,null,null,null,null,null,null,null,null,null,null,null,null,null,null,null,null,null,null,null,null,null,null,null,null,null,null,null,null,{"$f":"+Calculations2!N106","v":"R4"},{"$f":"+Calculations2!A106","v":"2020-08-23"},{"$f":"+Calculations2!BN106","v":{"$error":"#VALUE!"}}]
[null,null,null,null,null,null,null,null,null,null,null,null,null,null,null,null,null,null,null,null,null,null,null,null,null,null,null,null,null,null,null,null,null,null,null,null,null,null,null,null,null,null,null,null,null,null,null,null,null,null,null,null,null,null,null,null,null,null,null,null,null,null,null,null,null,null,null,null,null,null,null,null,null,null,null,null,{"$f":"+Calculations2!N107","v":"R4"},{"$f":"+Calculations2!A107","v":"2020-08-24"},{"$f":"+Calculations2!BN107","v":{"$error":"#VALUE!"}}]
[null,null,null,null,null,null,null,null,null,null,null,null,null,null,null,null,null,null,null,null,null,null,null,null,null,null,null,null,null,null,null,null,null,null,null,null,null,null,null,null,null,null,null,null,null,null,null,null,null,null,null,null,null,null,null,null,null,null,null,null,null,null,null,null,null,null,null,null,null,null,null,null,null,null,null,null,{"$f":"+Calculations2!N108","v":"R4"},{"$f":"+Calculations2!A108","v":"2020-08-25"},{"$f":"+Calculations2!BN108","v":{"$error":"#VALUE!"}}]
[null,null,null,null,null,null,null,null,null,null,null,null,null,null,null,null,null,null,null,null,null,null,null,null,null,null,null,null,null,null,null,null,null,null,null,null,null,null,null,null,null,null,null,null,null,null,null,null,null,null,null,null,null,null,null,null,null,null,null,null,null,null,null,null,null,null,null,null,null,null,null,null,null,null,null,null,{"$f":"+Calculations2!N109","v":"R4"},{"$f":"+Calculations2!A109","v":"2020-08-26"},{"$f":"+Calculations2!BN109","v":{"$error":"#VALUE!"}}]
[null,null,null,null,null,null,null,null,null,null,null,null,null,null,null,null,null,null,null,null,null,null,null,null,null,null,null,null,null,null,null,null,null,null,null,null,null,null,null,null,null,null,null,null,null,null,null,null,null,null,null,null,null,null,null,null,null,null,null,null,null,null,null,null,null,null,null,null,null,null,null,null,null,null,null,null,{"$f":"+Calculations2!N110","v":"R4"},{"$f":"+Calculations2!A110","v":"2020-08-27"},{"$f":"+Calculations2!BN110","v":{"$error":"#VALUE!"}}]
[null,null,null,null,null,null,null,null,null,null,null,null,null,null,null,null,null,null,null,null,null,null,null,null,null,null,null,null,null,null,null,null,null,null,null,null,null,null,null,null,null,null,null,null,null,null,null,null,null,null,null,null,null,null,null,null,null,null,null,null,null,null,null,null,null,null,null,null,null,null,null,null,null,null,null,null,{"$f":"+Calculations2!N111","v":"R4"},{"$f":"+Calculations2!A111","v":"2020-08-28"},{"$f":"+Calculations2!BN111","v":{"$error":"#VALUE!"}}]
[null,null,null,null,null,null,null,null,null,null,null,null,null,null,null,null,null,null,null,null,null,null,null,null,null,null,null,null,null,null,null,null,null,null,null,null,null,null,null,null,null,null,null,null,null,null,null,null,null,null,null,null,null,null,null,null,null,null,null,null,null,null,null,null,null,null,null,null,null,null,null,null,null,null,null,null,{"$f":"+Calculations2!N112","v":"R4"},{"$f":"+Calculations2!A112","v":"2020-08-29"},{"$f":"+Calculations2!BN112","v":{"$error":"#VALUE!"}}]
[null,null,null,null,null,null,null,null,null,null,null,null,null,null,null,null,null,null,null,null,null,null,null,null,null,null,null,null,null,null,null,null,null,null,null,null,null,null,null,null,null,null,null,null,null,null,null,null,null,null,null,null,null,null,null,null,null,null,null,null,null,null,null,null,null,null,null,null,null,null,null,null,null,null,null,null,{"$f":"+Calculations2!N113","v":"R4"},{"$f":"+Calculations2!A113","v":"2020-08-30"},{"$f":"+Calculations2!BN113","v":{"$error":"#VALUE!"}}]
[null,null,null,null,null,null,null,null,null,null,null,null,null,null,null,null,null,null,null,null,null,null,null,null,null,null,null,null,null,null,null,null,null,null,null,null,null,null,null,null,null,null,null,null,null,null,null,null,null,null,null,null,null,null,null,null,null,null,null,null,null,null,null,null,null,null,null,null,null,null,null,null,null,null,null,null,{"$f":"+Calculations2!N114","v":"R4"},{"$f":"+Calculations2!A114","v":"2020-08-31"},{"$f":"+Calculations2!BN114","v":{"$error":"#VALUE!"}}]
[null,null,null,null,null,null,null,null,null,null,null,null,null,null,null,null,null,null,null,null,null,null,null,null,null,null,null,null,null,null,null,null,null,null,null,null,null,null,null,null,null,null,null,null,null,null,null,null,null,null,null,null,null,null,null,null,null,null,null,null,null,null,null,null,null,null,null,null,null,null,null,null,null,null,null,null,{"$f":"+Calculations2!N115","v":"R4"},{"$f":"+Calculations2!A115","v":"2020-09-01"},{"$f":"+Calculations2!BN115","v":{"$error":"#VALUE!"}}]
[null,null,null,null,null,null,null,null,null,null,null,null,null,null,null,null,null,null,null,null,null,null,null,null,null,null,null,null,null,null,null,null,null,null,null,null,null,null,null,null,null,null,null,null,null,null,null,null,null,null,null,null,null,null,null,null,null,null,null,null,null,null,null,null,null,null,null,null,null,null,null,null,null,null,null,null,{"$f":"+Calculations2!N116","v":"R4"},{"$f":"+Calculations2!A116","v":"2020-09-02"},{"$f":"+Calculations2!BN116","v":{"$error":"#VALUE!"}}]
[null,null,null,null,null,null,null,null,null,null,null,null,null,null,null,null,null,null,null,null,null,null,null,null,null,null,null,null,null,null,null,null,null,null,null,null,null,null,null,null,null,null,null,null,null,null,null,null,null,null,null,null,null,null,null,null,null,null,null,null,null,null,null,null,null,null,null,null,null,null,null,null,null,null,null,null,{"$f":"+Calculations2!N117","v":"R5"},{"$f":"+Calculations2!A117","v":"2020-09-03"},{"$f":"+Calculations2!BN117","v":{"$error":"#VALUE!"}}]
[null,null,null,null,null,null,null,null,null,null,null,null,null,null,null,null,null,null,null,null,null,null,null,null,null,null,null,null,null,null,null,null,null,null,null,null,null,null,null,null,null,null,null,null,null,null,null,null,null,null,null,null,null,null,null,null,null,null,null,null,null,null,null,null,null,null,null,null,null,null,null,null,null,null,null,null,{"$f":"+Calculations2!N118","v":"R5"},{"$f":"+Calculations2!A118","v":"2020-09-04"},{"$f":"+Calculations2!BN118","v":{"$error":"#VALUE!"}}]
[null,null,null,null,null,null,null,null,null,null,null,null,null,null,null,null,null,null,null,null,null,null,null,null,null,null,null,null,null,null,null,null,null,null,null,null,null,null,null,null,null,null,null,null,null,null,null,null,null,null,null,null,null,null,null,null,null,null,null,null,null,null,null,null,null,null,null,null,null,null,null,null,null,null,null,null,{"$f":"+Calculations2!N119","v":"R5"},{"$f":"+Calculations2!A119","v":"2020-09-05"},{"$f":"+Calculations2!BN119","v":{"$error":"#VALUE!"}}]
[null,null,null,null,null,null,null,null,null,null,null,null,null,null,null,null,null,null,null,null,null,null,null,null,null,null,null,null,null,null,null,null,null,null,null,null,null,null,null,null,null,null,null,null,null,null,null,null,null,null,null,null,null,null,null,null,null,null,null,null,null,null,null,null,null,null,null,null,null,null,null,null,null,null,null,null,{"$f":"+Calculations2!N120","v":"R5"},{"$f":"+Calculations2!A120","v":"2020-09-06"},{"$f":"+Calculations2!BN120","v":{"$error":"#VALUE!"}}]
[null,null,null,null,null,null,null,null,null,null,null,null,null,null,null,null,null,null,null,null,null,null,null,null,null,null,null,null,null,null,null,null,null,null,null,null,null,null,null,null,null,null,null,null,null,null,null,null,null,null,null,null,null,null,null,null,null,null,null,null,null,null,null,null,null,null,null,null,null,null,null,null,null,null,null,null,{"$f":"+Calculations2!N121","v":"R5"},{"$f":"+Calculations2!A121","v":"2020-09-07"},{"$f":"+Calculations2!BN121","v":{"$error":"#VALUE!"}}]
[null,null,null,null,null,null,null,null,null,null,null,null,null,null,null,null,null,null,null,null,null,null,null,null,null,null,null,null,null,null,null,null,null,null,null,null,null,null,null,null,null,null,null,null,null,null,null,null,null,null,null,null,null,null,null,null,null,null,null,null,null,null,null,null,null,null,null,null,null,null,null,null,null,null,null,null,{"$f":"+Calculations2!N122","v":"R5"},{"$f":"+Calculations2!A122","v":"2020-09-08"},{"$f":"+Calculations2!BN122","v":{"$error":"#VALUE!"}}]
[null,null,null,null,null,null,null,null,null,null,null,null,null,null,null,null,null,null,null,null,null,null,null,null,null,null,null,null,null,null,null,null,null,null,null,null,null,null,null,null,null,null,null,null,null,null,null,null,null,null,null,null,null,null,null,null,null,null,null,null,null,null,null,null,null,null,null,null,null,null,null,null,null,null,null,null,{"$f":"+Calculations2!N123","v":"R5"},{"$f":"+Calculations2!A123","v":"2020-09-09"},{"$f":"+Calculations2!BN123","v":{"$error":"#VALUE!"}}]
[null,null,null,null,null,null,null,null,null,null,null,null,null,null,null,null,null,null,null,null,null,null,null,null,null,null,null,null,null,null,null,null,null,null,null,null,null,null,null,null,null,null,null,null,null,null,null,null,null,null,null,null,null,null,null,null,null,null,null,null,null,null,null,null,null,null,null,null,null,null,null,null,null,null,null,null,{"$f":"+Calculations2!N124","v":"R5"},{"$f":"+Calculations2!A124","v":"2020-09-10"},{"$f":"+Calculations2!BN124","v":{"$error":"#VALUE!"}}]
[null,null,null,null,null,null,null,null,null,null,null,null,null,null,null,null,null,null,null,null,null,null,null,null,null,null,null,null,null,null,null,null,null,null,null,null,null,null,null,null,null,null,null,null,null,null,null,null,null,null,null,null,null,null,null,null,null,null,null,null,null,null,null,null,null,null,null,null,null,null,null,null,null,null,null,null,{"$f":"+Calculations2!N125","v":"R5"},{"$f":"+Calculations2!A125","v":"2020-09-11"},{"$f":"+Calculations2!BN125","v":{"$error":"#VALUE!"}}]
[null,null,null,null,null,null,null,null,null,null,null,null,null,null,null,null,null,null,null,null,null,null,null,null,null,null,null,null,null,null,null,null,null,null,null,null,null,null,null,null,null,null,null,null,null,null,null,null,null,null,null,null,null,null,null,null,null,null,null,null,null,null,null,null,null,null,null,null,null,null,null,null,null,null,null,null,{"$f":"+Calculations2!N126","v":"R5"},{"$f":"+Calculations2!A126","v":"2020-09-12"},{"$f":"+Calculations2!BN126","v":{"$error":"#VALUE!"}}]
[null,null,null,null,null,null,null,null,null,null,null,null,null,null,null,null,null,null,null,null,null,null,null,null,null,null,null,null,null,null,null,null,null,null,null,null,null,null,null,null,null,null,null,null,null,null,null,null,null,null,null,null,null,null,null,null,null,null,null,null,null,null,null,null,null,null,null,null,null,null,null,null,null,null,null,null,{"$f":"+Calculations2!N127","v":"R5"},{"$f":"+Calculations2!A127","v":"2020-09-13"},{"$f":"+Calculations2!BN127","v":{"$error":"#VALUE!"}}]
[null,null,null,null,null,null,null,null,null,null,null,null,null,null,null,null,null,null,null,null,null,null,null,null,null,null,null,null,null,null,null,null,null,null,null,null,null,null,null,null,null,null,null,null,null,null,null,null,null,null,null,null,null,null,null,null,null,null,null,null,null,null,null,null,null,null,null,null,null,null,null,null,null,null,null,null,{"$f":"+Calculations2!N128","v":"R5"},{"$f":"+Calculations2!A128","v":"2020-09-14"},{"$f":"+Calculations2!BN128","v":{"$error":"#VALUE!"}}]
[null,null,null,null,null,null,null,null,null,null,null,null,null,null,null,null,null,null,null,null,null,null,null,null,null,null,null,null,null,null,null,null,null,null,null,null,null,null,null,null,null,null,null,null,null,null,null,null,null,null,null,null,null,null,null,null,null,null,null,null,null,null,null,null,null,null,null,null,null,null,null,null,null,null,null,null,{"$f":"+Calculations2!N129","v":"R5"},{"$f":"+Calculations2!A129","v":"2020-09-15"},{"$f":"+Calculations2!BN129","v":{"$error":"#VALUE!"}}]
[null,null,null,null,null,null,null,null,null,null,null,null,null,null,null,null,null,null,null,null,null,null,null,null,null,null,null,null,null,null,null,null,null,null,null,null,null,null,null,null,null,null,null,null,null,null,null,null,null,null,null,null,null,null,null,null,null,null,null,null,null,null,null,null,null,null,null,null,null,null,null,null,null,null,null,null,{"$f":"+Calculations2!N130","v":"R5"},{"$f":"+Calculations2!A130","v":"2020-09-16"},{"$f":"+Calculations2!BN130","v":{"$error":"#VALUE!"}}]
[null,null,null,null,null,null,null,null,null,null,null,null,null,null,null,null,null,null,null,null,null,null,null,null,null,null,null,null,null,null,null,null,null,null,null,null,null,null,null,null,null,null,null,null,null,null,null,null,null,null,null,null,null,null,null,null,null,null,null,null,null,null,null,null,null,null,null,null,null,null,null,null,null,null,null,null,{"$f":"+Calculations2!N131","v":"R5"},{"$f":"+Calculations2!A131","v":"2020-09-17"},{"$f":"+Calculations2!BN131","v":{"$error":"#VALUE!"}}]
[null,null,null,null,null,null,null,null,null,null,null,null,null,null,null,null,null,null,null,null,null,null,null,null,null,null,null,null,null,null,null,null,null,null,null,null,null,null,null,null,null,null,null,null,null,null,null,null,null,null,null,null,null,null,null,null,null,null,null,null,null,null,null,null,null,null,null,null,null,null,null,null,null,null,null,null,{"$f":"+Calculations2!N132","v":"R5"},{"$f":"+Calculations2!A132","v":"2020-09-18"},{"$f":"+Calculations2!BN132","v":{"$error":"#VALUE!"}}]
[null,null,null,null,null,null,null,null,null,null,null,null,null,null,null,null,null,null,null,null,null,null,null,null,null,null,null,null,null,null,null,null,null,null,null,null,null,null,null,null,null,null,null,null,null,null,null,null,null,null,null,null,null,null,null,null,null,null,null,null,null,null,null,null,null,null,null,null,null,null,null,null,null,null,null,null,{"$f":"+Calculations2!N133","v":"R5"},{"$f":"+Calculations2!A133","v":"2020-09-19"},{"$f":"+Calculations2!BN133","v":{"$error":"#VALUE!"}}]
[null,null,null,null,null,null,null,null,null,null,null,null,null,null,null,null,null,null,null,null,null,null,null,null,null,null,null,null,null,null,null,null,null,null,null,null,null,null,null,null,null,null,null,null,null,null,null,null,null,null,null,null,null,null,null,null,null,null,null,null,null,null,null,null,null,null,null,null,null,null,null,null,null,null,null,null,{"$f":"+Calculations2!N134","v":"R5"},{"$f":"+Calculations2!A134","v":"2020-09-20"},{"$f":"+Calculations2!BN134","v":{"$error":"#VALUE!"}}]
[null,null,null,null,null,null,null,null,null,null,null,null,null,null,null,null,null,null,null,null,null,null,null,null,null,null,null,null,null,null,null,null,null,null,null,null,null,null,null,null,null,null,null,null,null,null,null,null,null,null,null,null,null,null,null,null,null,null,null,null,null,null,null,null,null,null,null,null,null,null,null,null,null,null,null,null,{"$f":"+Calculations2!N135","v":"R5"},{"$f":"+Calculations2!A135","v":"2020-09-21"},{"$f":"+Calculations2!BN135","v":{"$error":"#VALUE!"}}]
[null,null,null,null,null,null,null,null,null,null,null,null,null,null,null,null,null,null,null,null,null,null,null,null,null,null,null,null,null,null,null,null,null,null,null,null,null,null,null,null,null,null,null,null,null,null,null,null,null,null,null,null,null,null,null,null,null,null,null,null,null,null,null,null,null,null,null,null,null,null,null,null,null,null,null,null,{"$f":"+Calculations2!N136","v":"R5"},{"$f":"+Calculations2!A136","v":"2020-09-22"},{"$f":"+Calculations2!BN136","v":{"$error":"#VALUE!"}}]
[null,null,null,null,null,null,null,null,null,null,null,null,null,null,null,null,null,null,null,null,null,null,null,null,null,null,null,null,null,null,null,null,null,null,null,null,null,null,null,null,null,null,null,null,null,null,null,null,null,null,null,null,null,null,null,null,null,null,null,null,null,null,null,null,null,null,null,null,null,null,null,null,null,null,null,null,{"$f":"+Calculations2!N137","v":"R5"},{"$f":"+Calculations2!A137","v":"2020-09-23"},{"$f":"+Calculations2!BN137","v":{"$error":"#VALUE!"}}]
[null,null,null,null,null,null,null,null,null,null,null,null,null,null,null,null,null,null,null,null,null,null,null,null,null,null,null,null,null,null,null,null,null,null,null,null,null,null,null,null,null,null,null,null,null,null,null,null,null,null,null,null,null,null,null,null,null,null,null,null,null,null,null,null,null,null,null,null,null,null,null,null,null,null,null,null,{"$f":"+Calculations2!N138","v":"R6"},{"$f":"+Calculations2!A138","v":"2020-09-24"},{"$f":"+Calculations2!BN138","v":{"$error":"#VALUE!"}}]
[null,null,null,null,null,null,null,null,null,null,null,null,null,null,null,null,null,null,null,null,null,null,null,null,null,null,null,null,null,null,null,null,null,null,null,null,null,null,null,null,null,null,null,null,null,null,null,null,null,null,null,null,null,null,null,null,null,null,null,null,null,null,null,null,null,null,null,null,null,null,null,null,null,null,null,null,{"$f":"+Calculations2!N139","v":"R6"},{"$f":"+Calculations2!A139","v":"2020-09-25"},{"$f":"+Calculations2!BN139","v":{"$error":"#VALUE!"}}]
[null,null,null,null,null,null,null,null,null,null,null,null,null,null,null,null,null,null,null,null,null,null,null,null,null,null,null,null,null,null,null,null,null,null,null,null,null,null,null,null,null,null,null,null,null,null,null,null,null,null,null,null,null,null,null,null,null,null,null,null,null,null,null,null,null,null,null,null,null,null,null,null,null,null,null,null,{"$f":"+Calculations2!N140","v":"R6"},{"$f":"+Calculations2!A140","v":"2020-09-26"},{"$f":"+Calculations2!BN140","v":{"$error":"#VALUE!"}}]
[null,null,null,null,null,null,null,null,null,null,null,null,null,null,null,null,null,null,null,null,null,null,null,null,null,null,null,null,null,null,null,null,null,null,null,null,null,null,null,null,null,null,null,null,null,null,null,null,null,null,null,null,null,null,null,null,null,null,null,null,null,null,null,null,null,null,null,null,null,null,null,null,null,null,null,null,{"$f":"+Calculations2!N141","v":"R6"},{"$f":"+Calculations2!A141","v":"2020-09-27"},{"$f":"+Calculations2!BN141","v":{"$error":"#VALUE!"}}]
[null,null,null,null,null,null,null,null,null,null,null,null,null,null,null,null,null,null,null,null,null,null,null,null,null,null,null,null,null,null,null,null,null,null,null,null,null,null,null,null,null,null,null,null,null,null,null,null,null,null,null,null,null,null,null,null,null,null,null,null,null,null,null,null,null,null,null,null,null,null,null,null,null,null,null,null,{"$f":"+Calculations2!N142","v":"R6"},{"$f":"+Calculations2!A142","v":"2020-09-28"},{"$f":"+Calculations2!BN142","v":{"$error":"#VALUE!"}}]
[null,null,null,null,null,null,null,null,null,null,null,null,null,null,null,null,null,null,null,null,null,null,null,null,null,null,null,null,null,null,null,null,null,null,null,null,null,null,null,null,null,null,null,null,null,null,null,null,null,null,null,null,null,null,null,null,null,null,null,null,null,null,null,null,null,null,null,null,null,null,null,null,null,null,null,null,{"$f":"+Calculations2!N143","v":"R6"},{"$f":"+Calculations2!A143","v":"2020-09-29"},{"$f":"+Calculations2!BN143","v":{"$error":"#VALUE!"}}]
[null,null,null,null,null,null,null,null,null,null,null,null,null,null,null,null,null,null,null,null,null,null,null,null,null,null,null,null,null,null,null,null,null,null,null,null,null,null,null,null,null,null,null,null,null,null,null,null,null,null,null,null,null,null,null,null,null,null,null,null,null,null,null,null,null,null,null,null,null,null,null,null,null,null,null,null,{"$f":"+Calculations2!N144","v":"R6"},{"$f":"+Calculations2!A144","v":"2020-09-30"},{"$f":"+Calculations2!BN144","v":{"$error":"#VALUE!"}}]
[null,null,null,null,null,null,null,null,null,null,null,null,null,null,null,null,null,null,null,null,null,null,null,null,null,null,null,null,null,null,null,null,null,null,null,null,null,null,null,null,null,null,null,null,null,null,null,null,null,null,null,null,null,null,null,null,null,null,null,null,null,null,null,null,null,null,null,null,null,null,null,null,null,null,null,null,{"$f":"+Calculations2!N145","v":"R6"},{"$f":"+Calculations2!A145","v":"2020-10-01"},{"$f":"+Calculations2!BN145","v":{"$error":"#VALUE!"}}]
[null,null,null,null,null,null,null,null,null,null,null,null,null,null,null,null,null,null,null,null,null,null,null,null,null,null,null,null,null,null,null,null,null,null,null,null,null,null,null,null,null,null,null,null,null,null,null,null,null,null,null,null,null,null,null,null,null,null,null,null,null,null,null,null,null,null,null,null,null,null,null,null,null,null,null,null,{"$f":"+Calculations2!N146","v":"R6"},{"$f":"+Calculations2!A146","v":"2020-10-02"},{"$f":"+Calculations2!BN146","v":{"$error":"#VALUE!"}}]
[null,null,null,null,null,null,null,null,null,null,null,null,null,null,null,null,null,null,null,null,null,null,null,null,null,null,null,null,null,null,null,null,null,null,null,null,null,null,null,null,null,null,null,null,null,null,null,null,null,null,null,null,null,null,null,null,null,null,null,null,null,null,null,null,null,null,null,null,null,null,null,null,null,null,null,null,{"$f":"+Calculations2!N147","v":"R6"},{"$f":"+Calculations2!A147","v":"2020-10-03"},{"$f":"+Calculations2!BN147","v":{"$error":"#VALUE!"}}]
[null,null,null,null,null,null,null,null,null,null,null,null,null,null,null,null,null,null,null,null,null,null,null,null,null,null,null,null,null,null,null,null,null,null,null,null,null,null,null,null,null,null,null,null,null,null,null,null,null,null,null,null,null,null,null,null,null,null,null,null,null,null,null,null,null,null,null,null,null,null,null,null,null,null,null,null,{"$f":"+Calculations2!N148","v":"R6"},{"$f":"+Calculations2!A148","v":"2020-10-04"},{"$f":"+Calculations2!BN148","v":{"$error":"#VALUE!"}}]
[null,null,null,null,null,null,null,null,null,null,null,null,null,null,null,null,null,null,null,null,null,null,null,null,null,null,null,null,null,null,null,null,null,null,null,null,null,null,null,null,null,null,null,null,null,null,null,null,null,null,null,null,null,null,null,null,null,null,null,null,null,null,null,null,null,null,null,null,null,null,null,null,null,null,null,null,{"$f":"+Calculations2!N149","v":"R6"},{"$f":"+Calculations2!A149","v":"2020-10-05"},{"$f":"+Calculations2!BN149","v":{"$error":"#VALUE!"}}]
[null,null,null,null,null,null,null,null,null,null,null,null,null,null,null,null,null,null,null,null,null,null,null,null,null,null,null,null,null,null,null,null,null,null,null,null,null,null,null,null,null,null,null,null,null,null,null,null,null,null,null,null,null,null,null,null,null,null,null,null,null,null,null,null,null,null,null,null,null,null,null,null,null,null,null,null,{"$f":"+Calculations2!N150","v":"R6"},{"$f":"+Calculations2!A150","v":"2020-10-06"},{"$f":"+Calculations2!BN150","v":{"$error":"#VALUE!"}}]
[null,null,null,null,null,null,null,null,null,null,null,null,null,null,null,null,null,null,null,null,null,null,null,null,null,null,null,null,null,null,null,null,null,null,null,null,null,null,null,null,null,null,null,null,null,null,null,null,null,null,null,null,null,null,null,null,null,null,null,null,null,null,null,null,null,null,null,null,null,null,null,null,null,null,null,null,{"$f":"+Calculations2!N151","v":"R6"},{"$f":"+Calculations2!A151","v":"2020-10-07"},{"$f":"+Calculations2!BN151","v":{"$error":"#VALUE!"}}]
[null,null,null,null,null,null,null,null,null,null,null,null,null,null,null,null,null,null,null,null,null,null,null,null,null,null,null,null,null,null,null,null,null,null,null,null,null,null,null,null,null,null,null,null,null,null,null,null,null,null,null,null,null,null,null,null,null,null,null,null,null,null,null,null,null,null,null,null,null,null,null,null,null,null,null,null,{"$f":"+Calculations2!N152","v":"R6"},{"$f":"+Calculations2!A152","v":"2020-10-08"},{"$f":"+Calculations2!BN152","v":{"$error":"#VALUE!"}}]
[null,null,null,null,null,null,null,null,null,null,null,null,null,null,null,null,null,null,null,null,null,null,null,null,null,null,null,null,null,null,null,null,null,null,null,null,null,null,null,null,null,null,null,null,null,null,null,null,null,null,null,null,null,null,null,null,null,null,null,null,null,null,null,null,null,null,null,null,null,null,null,null,null,null,null,null,{"$f":"+Calculations2!N153","v":"R6"},{"$f":"+Calculations2!A153","v":"2020-10-09"},{"$f":"+Calculations2!BN153","v":{"$error":"#VALUE!"}}]
[null,null,null,null,null,null,null,null,null,null,null,null,null,null,null,null,null,null,null,null,null,null,null,null,null,null,null,null,null,null,null,null,null,null,null,null,null,null,null,null,null,null,null,null,null,null,null,null,null,null,null,null,null,null,null,null,null,null,null,null,null,null,null,null,null,null,null,null,null,null,null,null,null,null,null,null,{"$f":"+Calculations2!N154","v":"R6"},{"$f":"+Calculations2!A154","v":"2020-10-10"},{"$f":"+Calculations2!BN154","v":{"$error":"#VALUE!"}}]
[null,null,null,null,null,null,null,null,null,null,null,null,null,null,null,null,null,null,null,null,null,null,null,null,null,null,null,null,null,null,null,null,null,null,null,null,null,null,null,null,null,null,null,null,null,null,null,null,null,null,null,null,null,null,null,null,null,null,null,null,null,null,null,null,null,null,null,null,null,null,null,null,null,null,null,null,{"$f":"+Calculations2!N155","v":"R6"},{"$f":"+Calculations2!A155","v":"2020-10-11"},{"$f":"+Calculations2!BN155","v":{"$error":"#VALUE!"}}]
[null,null,null,null,null,null,null,null,null,null,null,null,null,null,null,null,null,null,null,null,null,null,null,null,null,null,null,null,null,null,null,null,null,null,null,null,null,null,null,null,null,null,null,null,null,null,null,null,null,null,null,null,null,null,null,null,null,null,null,null,null,null,null,null,null,null,null,null,null,null,null,null,null,null,null,null,{"$f":"+Calculations2!N156","v":"R6"},{"$f":"+Calculations2!A156","v":"2020-10-12"},{"$f":"+Calculations2!BN156","v":{"$error":"#VALUE!"}}]
[null,null,null,null,null,null,null,null,null,null,null,null,null,null,null,null,null,null,null,null,null,null,null,null,null,null,null,null,null,null,null,null,null,null,null,null,null,null,null,null,null,null,null,null,null,null,null,null,null,null,null,null,null,null,null,null,null,null,null,null,null,null,null,null,null,null,null,null,null,null,null,null,null,null,null,null,{"$f":"+Calculations2!N157","v":"R6"},{"$f":"+Calculations2!A157","v":"2020-10-13"},{"$f":"+Calculations2!BN157","v":{"$error":"#VALUE!"}}]
[null,null,null,null,null,null,null,null,null,null,null,null,null,null,null,null,null,null,null,null,null,null,null,null,null,null,null,null,null,null,null,null,null,null,null,null,null,null,null,null,null,null,null,null,null,null,null,null,null,null,null,null,null,null,null,null,null,null,null,null,null,null,null,null,null,null,null,null,null,null,null,null,null,null,null,null,{"$f":"+Calculations2!N158","v":"R6"},{"$f":"+Calculations2!A158","v":"2020-10-14"},{"$f":"+Calculations2!BN158","v":{"$error":"#VALUE!"}}]
[null,null,null,null,null,null,null,null,null,null,null,null,null,null,null,null,null,null,null,null,null,null,null,null,null,null,null,null,null,null,null,null,null,null,null,null,null,null,null,null,null,null,null,null,null,null,null,null,null,null,null,null,null,null,null,null,null,null,null,null,null,null,null,null,null,null,null,null,null,null,null,null,null,null,null,null,{"$f":"+Calculations2!N159","v":"R6"},{"$f":"+Calculations2!A159","v":"2020-10-15"},{"$f":"+Calculations2!BN159","v":{"$error":"#VALUE!"}}]
[null,null,null,null,null,null,null,null,null,null,null,null,null,null,null,null,null,null,null,null,null,null,null,null,null,null,null,null,null,null,null,null,null,null,null,null,null,null,null,null,null,null,null,null,null,null,null,null,null,null,null,null,null,null,null,null,null,null,null,null,null,null,null,null,null,null,null,null,null,null,null,null,null,null,null,null,{"$f":"+Calculations2!N160","v":"R6"},{"$f":"+Calculations2!A160","v":"2020-10-16"},{"$f":"+Calculations2!BN160","v":{"$error":"#VALUE!"}}]
[null,null,null,null,null,null,null,null,null,null,null,null,null,null,null,null,null,null,null,null,null,null,null,null,null,null,null,null,null,null,null,null,null,null,null,null,null,null,null,null,null,null,null,null,null,null,null,null,null,null,null,null,null,null,null,null,null,null,null,null,null,null,null,null,null,null,null,null,null,null,null,null,null,null,null,null,{"$f":"+Calculations2!N161","v":"R6"},{"$f":"+Calculations2!A161","v":"2020-10-17"},{"$f":"+Calculations2!BN161","v":{"$error":"#VALUE!"}}]
[null,null,null,null,null,null,null,null,null,null,null,null,null,null,null,null,null,null,null,null,null,null,null,null,null,null,null,null,null,null,null,null,null,null,null,null,null,null,null,null,null,null,null,null,null,null,null,null,null,null,null,null,null,null,null,null,null,null,null,null,null,null,null,null,null,null,null,null,null,null,null,null,null,null,null,null,{"$f":"+Calculations2!N162","v":"R6"},{"$f":"+Calculations2!A162","v":"2020-10-18"},{"$f":"+Calculations2!BN162","v":{"$error":"#VALUE!"}}]
[null,null,null,null,null,null,null,null,null,null,null,null,null,null,null,null,null,null,null,null,null,null,null,null,null,null,null,null,null,null,null,null,null,null,null,null,null,null,null,null,null,null,null,null,null,null,null,null,null,null,null,null,null,null,null,null,null,null,null,null,null,null,null,null,null,null,null,null,null,null,null,null,null,null,null,null,{"$f":"+Calculations2!N163","v":"R6"},{"$f":"+Calculations2!A163","v":"2020-10-19"},{"$f":"+Calculations2!BN163","v":{"$error":"#VALUE!"}}]
[null,null,null,null,null,null,null,null,null,null,null,null,null,null,null,null,null,null,null,null,null,null,null,null,null,null,null,null,null,null,null,null,null,null,null,null,null,null,null,null,null,null,null,null,null,null,null,null,null,null,null,null,null,null,null,null,null,null,null,null,null,null,null,null,null,null,null,null,null,null,null,null,null,null,null,null,{"$f":"+Calculations2!N164","v":"R6"},{"$f":"+Calculations2!A164","v":"2020-10-20"},{"$f":"+Calculations2!BN164","v":{"$error":"#VALUE!"}}]
[null,null,null,null,null,null,null,null,null,null,null,null,null,null,null,null,null,null,null,null,null,null,null,null,null,null,null,null,null,null,null,null,null,null,null,null,null,null,null,null,null,null,null,null,null,null,null,null,null,null,null,null,null,null,null,null,null,null,null,null,null,null,null,null,null,null,null,null,null,null,null,null,null,null,null,null,{"$f":"+Calculations2!N165","v":"R6"},{"$f":"+Calculations2!A165","v":"2020-10-21"},{"$f":"+Calculations2!BN165","v":{"$error":"#VALUE!"}}]
[null,null,null,null,null,null,null,null,null,null,null,null,null,null,null,null,null,null,null,null,null,null,null,null,null,null,null,null,null,null,null,null,null,null,null,null,null,null,null,null,null,null,null,null,null,null,null,null,null,null,null,null,null,null,null,null,null,null,null,null,null,null,null,null,null,null,null,null,null,null,null,null,null,null,null,null,{"$f":"+Calculations2!N166","v":"R6"},{"$f":"+Calculations2!A166","v":"2020-10-22"},{"$f":"+Calculations2!BN166","v":{"$error":"#VALUE!"}}]
[null,null,null,null,null,null,null,null,null,null,null,null,null,null,null,null,null,null,null,null,null,null,null,null,null,null,null,null,null,null,null,null,null,null,null,null,null,null,null,null,null,null,null,null,null,null,null,null,null,null,null,null,null,null,null,null,null,null,null,null,null,null,null,null,null,null,null,null,null,null,null,null,null,null,null,null,{"$f":"+Calculations2!N167","v":"R6"},{"$f":"+Calculations2!A167","v":"2020-10-23"},{"$f":"+Calculations2!BN167","v":{"$error":"#VALUE!"}}]
[null,null,null,null,null,null,null,null,null,null,null,null,null,null,null,null,null,null,null,null,null,null,null,null,null,null,null,null,null,null,null,null,null,null,null,null,null,null,null,null,null,null,null,null,null,null,null,null,null,null,null,null,null,null,null,null,null,null,null,null,null,null,null,null,null,null,null,null,null,null,null,null,null,null,null,null,{"$f":"+Calculations2!N168","v":"R6"},{"$f":"+Calculations2!A168","v":"2020-10-24"},{"$f":"+Calculations2!BN168","v":{"$error":"#VALUE!"}}]
[null,null,null,null,null,null,null,null,null,null,null,null,null,null,null,null,null,null,null,null,null,null,null,null,null,null,null,null,null,null,null,null,null,null,null,null,null,null,null,null,null,null,null,null,null,null,null,null,null,null,null,null,null,null,null,null,null,null,null,null,null,null,null,null,null,null,null,null,null,null,null,null,null,null,null,null,{"$f":"+Calculations2!N169","v":"R6"},{"$f":"+Calculations2!A169","v":"2020-10-25"},{"$f":"+Calculations2!BN169","v":{"$error":"#VALUE!"}}]
[null,null,null,null,null,null,null,null,null,null,null,null,null,null,null,null,null,null,null,null,null,null,null,null,null,null,null,null,null,null,null,null,null,null,null,null,null,null,null,null,null,null,null,null,null,null,null,null,null,null,null,null,null,null,null,null,null,null,null,null,null,null,null,null,null,null,null,null,null,null,null,null,null,null,null,null,{"$f":"+Calculations2!N170","v":"R6"},{"$f":"+Calculations2!A170","v":"00:00:00"},{"$f":"+Calculations2!BN170","v":{"$error":"#VALUE!"}}]
[null,null,null,null,null,null,null,null,null,null,null,null,null,null,null,null,null,null,null,null,null,null,null,null,null,null,null,null,null,null,null,null,null,null,null,null,null,null,null,null,null,null,null,null,null,null,null,null,null,null,null,null,null,null,null,null,null,null,null,null,null,null,null,null,null,null,null,null,null,null,null,null,null,null,null,null,{"$f":"+Calculations2!N171","v":"R6"},{"$f":"+Calculations2!A171","v":"00:00:00"},{"$f":"+Calculations2!BN171","v":{"$error":"#VALUE!"}}]
[null,null,null,null,null,null,null,null,null,null,null,null,null,null,null,null,null,null,null,null,null,null,null,null,null,null,null,null,null,null,null,null,null,null,null,null,null,null,null,null,null,null,null,null,null,null,null,null,null,null,null,null,null,null,null,null,null,null,null,null,null,null,null,null,null,null,null,null,null,null,null,null,null,null,null,null,{"$f":"+Calculations2!N172","v":"R6"},{"$f":"+Calculations2!A172","v":"00:00:00"},{"$f":"+Calculations2!BN172","v":{"$error":"#VALUE!"}}]
[null,null,null,null,null,null,null,null,null,null,null,null,null,null,null,null,null,null,null,null,null,null,null,null,null,null,null,null,null,null,null,null,null,null,null,null,null,null,null,null,null,null,null,null,null,null,null,null,null,null,null,null,null,null,null,null,null,null,null,null,null,null,null,null,null,null,null,null,null,null,null,null,null,null,null,null,{"$f":"+Calculations2!N173","v":"R6"},{"$f":"+Calculations2!A173","v":"00:00:00"},{"$f":"+Calculations2!BN173","v":{"$error":"#VALUE!"}}]
[null,null,null,null,null,null,null,null,null,null,null,null,null,null,null,null,null,null,null,null,null,null,null,null,null,null,null,null,null,null,null,null,null,null,null,null,null,null,null,null,null,null,null,null,null,null,null,null,null,null,null,null,null,null,null,null,null,null,null,null,null,null,null,null,null,null,null,null,null,null,null,null,null,null,null,null,{"$f":"+Calculations2!N174","v":"R6"},{"$f":"+Calculations2!A174","v":"00:00:00"},{"$f":"+Calculations2!BN174","v":{"$error":"#VALUE!"}}]
[null,null,null,null,null,null,null,null,null,null,null,null,null,null,null,null,null,null,null,null,null,null,null,null,null,null,null,null,null,null,null,null,null,null,null,null,null,null,null,null,null,null,null,null,null,null,null,null,null,null,null,null,null,null,null,null,null,null,null,null,null,null,null,null,null,null,null,null,null,null,null,null,null,null,null,null,{"$f":"+Calculations2!N175","v":"R6"},{"$f":"+Calculations2!A175","v":"00:00:00"},{"$f":"+Calculations2!BN175","v":{"$error":"#VALUE!"}}]
[null,null,null,null,null,null,null,null,null,null,null,null,null,null,null,null,null,null,null,null,null,null,null,null,null,null,null,null,null,null,null,null,null,null,null,null,null,null,null,null,null,null,null,null,null,null,null,null,null,null,null,null,null,null,null,null,null,null,null,null,null,null,null,null,null,null,null,null,null,null,null,null,null,null,null,null,{"$f":"+Calculations2!N176","v":"R6"},{"$f":"+Calculations2!A176","v":"00:00:00"},{"$f":"+Calculations2!BN176","v":{"$error":"#VALUE!"}}]
[null,null,null,null,null,null,null,null,null,null,null,null,null,null,null,null,null,null,null,null,null,null,null,null,null,null,null,null,null,null,null,null,null,null,null,null,null,null,null,null,null,null,null,null,null,null,null,null,null,null,null,null,null,null,null,null,null,null,null,null,null,null,null,null,null,null,null,null,null,null,null,null,null,null,null,null,{"$f":"+Calculations2!N177","v":"R6"},{"$f":"+Calculations2!A177","v":"00:00:00"},{"$f":"+Calculations2!BN177","v":{"$error":"#VALUE!"}}]
[null,null,null,null,null,null,null,null,null,null,null,null,null,null,null,null,null,null,null,null,null,null,null,null,null,null,null,null,null,null,null,null,null,null,null,null,null,null,null,null,null,null,null,null,null,null,null,null,null,null,null,null,null,null,null,null,null,null,null,null,null,null,null,null,null,null,null,null,null,null,null,null,null,null,null,null,{"$f":"+Calculations2!N178","v":"R6"},{"$f":"+Calculations2!A178","v":"00:00:00"},{"$f":"+Calculations2!BN178","v":{"$error":"#VALUE!"}}]
[null,null,null,null,null,null,null,null,null,null,null,null,null,null,null,null,null,null,null,null,null,null,null,null,null,null,null,null,null,null,null,null,null,null,null,null,null,null,null,null,null,null,null,null,null,null,null,null,null,null,null,null,null,null,null,null,null,null,null,null,null,null,null,null,null,null,null,null,null,null,null,null,null,null,null,null,{"$f":"+Calculations2!N179","v":"R6"},{"$f":"+Calculations2!A179","v":"00:00:00"},{"$f":"+Calculations2!BN179","v":{"$error":"#VALUE!"}}]
[null,null,null,null,null,null,null,null,null,null,null,null,null,null,null,null,null,null,null,null,null,null,null,null,null,null,null,null,null,null,null,null,null,null,null,null,null,null,null,null,null,null,null,null,null,null,null,null,null,null,null,null,null,null,null,null,null,null,null,null,null,null,null,null,null,null,null,null,null,null,null,null,null,null,null,null,{"$f":"+Calculations2!N180","v":"R6"},{"$f":"+Calculations2!A180","v":"00:00:00"},{"$f":"+Calculations2!BN180","v":{"$error":"#VALUE!"}}]
[null,null,null,null,null,null,null,null,null,null,null,null,null,null,null,null,null,null,null,null,null,null,null,null,null,null,null,null,null,null,null,null,null,null,null,null,null,null,null,null,null,null,null,null,null,null,null,null,null,null,null,null,null,null,null,null,null,null,null,null,null,null,null,null,null,null,null,null,null,null,null,null,null,null,null,null,{"$f":"+Calculations2!N181","v":"R6"},{"$f":"+Calculations2!A181","v":"00:00:00"},{"$f":"+Calculations2!BN181","v":{"$error":"#VALUE!"}}]
[null,null,null,null,null,null,null,null,null,null,null,null,null,null,null,null,null,null,null,null,null,null,null,null,null,null,null,null,null,null,null,null,null,null,null,null,null,null,null,null,null,null,null,null,null,null,null,null,null,null,null,null,null,null,null,null,null,null,null,null,null,null,null,null,null,null,null,null,null,null,null,null,null,null,null,null,{"$f":"+Calculations2!N182","v":"R6"},{"$f":"+Calculations2!A182","v":"00:00:00"},{"$f":"+Calculations2!BN182","v":{"$error":"#VALUE!"}}]
[null,null,null,null,null,null,null,null,null,null,null,null,null,null,null,null,null,null,null,null,null,null,null,null,null,null,null,null,null,null,null,null,null,null,null,null,null,null,null,null,null,null,null,null,null,null,null,null,null,null,null,null,null,null,null,null,null,null,null,null,null,null,null,null,null,null,null,null,null,null,null,null,null,null,null,null,{"$f":"+Calculations2!N183","v":"R6"},{"$f":"+Calculations2!A183","v":"00:00:00"},{"$f":"+Calculations2!BN183","v":{"$error":"#VALUE!"}}]
[null,null,null,null,null,null,null,null,null,null,null,null,null,null,null,null,null,null,null,null,null,null,null,null,null,null,null,null,null,null,null,null,null,null,null,null,null,null,null,null,null,null,null,null,null,null,null,null,null,null,null,null,null,null,null,null,null,null,null,null,null,null,null,null,null,null,null,null,null,null,null,null,null,null,null,null,{"$f":"+Calculations2!N184","v":"R6"},{"$f":"+Calculations2!A184","v":"00:00:00"},{"$f":"+Calculations2!BN184","v":{"$error":"#VALUE!"}}]
[null,null,null,null,null,null,null,null,null,null,null,null,null,null,null,null,null,null,null,null,null,null,null,null,null,null,null,null,null,null,null,null,null,null,null,null,null,null,null,null,null,null,null,null,null,null,null,null,null,null,null,null,null,null,null,null,null,null,null,null,null,null,null,null,null,null,null,null,null,null,null,null,null,null,null,null,{"$f":"+Calculations2!N185","v":"R6"},{"$f":"+Calculations2!A185","v":"00:00:00"},{"$f":"+Calculations2!BN185","v":{"$error":"#VALUE!"}}]
[null,null,null,null,null,null,null,null,null,null,null,null,null,null,null,null,null,null,null,null,null,null,null,null,null,null,null,null,null,null,null,null,null,null,null,null,null,null,null,null,null,null,null,null,null,null,null,null,null,null,null,null,null,null,null,null,null,null,null,null,null,null,null,null,null,null,null,null,null,null,null,null,null,null,null,null,{"$f":"+Calculations2!N186","v":"R6"},{"$f":"+Calculations2!A186","v":"00:00:00"},{"$f":"+Calculations2!BN186","v":{"$error":"#VALUE!"}}]
[null,null,null,null,null,null,null,null,null,null,null,null,null,null,null,null,null,null,null,null,null,null,null,null,null,null,null,null,null,null,null,null,null,null,null,null,null,null,null,null,null,null,null,null,null,null,null,null,null,null,null,null,null,null,null,null,null,null,null,null,null,null,null,null,null,null,null,null,null,null,null,null,null,null,null,null,{"$f":"+Calculations2!N187","v":"R6"},{"$f":"+Calculations2!A187","v":"00:00:00"},{"$f":"+Calculations2!BN187","v":{"$error":"#VALUE!"}}]
[null,null,null,null,null,null,null,null,null,null,null,null,null,null,null,null,null,null,null,null,null,null,null,null,null,null,null,null,null,null,null,null,null,null,null,null,null,null,null,null,null,null,null,null,null,null,null,null,null,null,null,null,null,null,null,null,null,null,null,null,null,null,null,null,null,null,null,null,null,null,null,null,null,null,null,null,{"$f":"+Calculations2!N188","v":"R6"},{"$f":"+Calculations2!A188","v":"00:00:00"},{"$f":"+Calculations2!BN188","v":{"$error":"#VALUE!"}}]
[null,null,null,null,null,null,null,null,null,null,null,null,null,null,null,null,null,null,null,null,null,null,null,null,null,null,null,null,null,null,null,null,null,null,null,null,null,null,null,null,null,null,null,null,null,null,null,null,null,null,null,null,null,null,null,null,null,null,null,null,null,null,null,null,null,null,null,null,null,null,null,null,null,null,null,null,{"$f":"+Calculations2!N189","v":"R6"},{"$f":"+Calculations2!A189","v":"00:00:00"},{"$f":"+Calculations2!BN189","v":{"$error":"#VALUE!"}}]

{"sheet":"Caluations","index":10,"n_rows":188,"n_cols":19,"rows_kept":188,"cut":false,"hidden":false,"merged":[[1,5,1,9],[1,0,1,4]]}
[]
["Used for graphs",null,null,null,null,"Used in Calculations"]
[]
[null,null,null,null,null,null,null,null,0]
[null,null,null,null,null,null,null,null,0]
[null,null,null,null,null,null,null,null,0]
["Cumulative ET","Cumulative Rainfall","Cumulative Irr","Cumulative sum rain + irr","50%PAW",null," ","Projected AW",0,"Additional capacity of root zone (inches)",null,null,null,null,"Water Holding Capacity of Root Zone","Target Soil Moisture Content","Soybean 50% PAW",null,"Latter Stage Moisture Lower Limit"]
[{"$f":"Calculations2!G19","v":0},{"$f":"Calculations2!C19","v":0.38},{"$f":"Calculations2!D19","v":0},{"$f":"B8+C8","v":0.38},{"$f":"IF((OR(Calculations2!N19<>\"R3\", Calculations2!N19<>\"R4\", Calculations2!N19<>\"R5\", Calculations2!N19<>\"R6\", Calculations2!N19<>\"R7\")),Calculations2!$L$15/100*Calculations2!H19,Calculations2!$N$15/100*Calculations2!H19)","v":0},null,null,null,0,null,null,{"$f":"IF(Calculations2!N20=\"R3\",\"Good\",\"Bad\")","v":"Bad"},"R4","R5",{"$f":"+Calculations2!$H19","v":0},{"$f":"+IF((O8-0.75)<Q8,Q8,O8-0.75)","v":0},{"$f":"IF((OR(Calculations2!N19=\"R3\", Calculations2!N19=\"R4\", Calculations2!N19=\"R5\", Calculations2!N19=\"R6\")),Calculations2!$N$15/100*Calculations2!H19,Calculations2!$L$15/100*Calculations2!H19)","v":0},{"$f":"IF((OR(Calculations2!N19=\"R6\", Calculations2!N19=\"R7\",)),$S$8/100*Calculations2!H19,Q8)","v":0},40]
[{"$f":"A8+Calculations2!G20","v":1.1666666666666667E-2},{"$f":"B8+Calculations2!C20","v":0.44},{"$f":"C8+Calculations2!D20","v":0},0.44,{"$f":"IF((OR(Calculations2!N20<>\"R3\", Calculations2!N20<>\"R4\", Calculations2!N20<>\"R5\", Calculations2!N20<>\"R6\", Calculations2!N20<>\"R7\")),Calculations2!$L$15/100*Calculations2!H20,Calculations2!$N$15/100*Calculations2!H20)","v":6.3000000000000014E-2},{"$f":"IF(Calculations2!$E19=\"\",$F8+1)","v":false},{"$f":"IF(AND(Calculations2!$E19=\"\",$F9<8),Calculations2!$O20,\"\")","v":""},{"$f":"IF(AND(Calculations2!$E19=\"\",$F9<6),Calculations2!$I19-$I7-$I8-$I9,IF(AND(Calculations2!$E20=\"\",Calculations2!$E18<>\"\"),Calculations2!$I20,\"\"))","v":""},{"$f":"Calculations2!$O20","v":0},{"$f":"IF(AND($F9>5,$F9<>FALSE),\"\",IF(Calculations2!$E20=\"\",Calculations2!$H20-Calculations2!I20,Calculations2!$H20-Calculations2!$I20))","v":-3.7800000000000056E-3},null,null,null,null,{"$f":"+Calculations2!$H20","v":0.12600000000000003},6.3000000000000014E-2,{"$f":"IF((OR(Calculations2!N20=\"R3\", Calculations2!N20=\"R4\", Calculations2!N20=\"R5\", Calculations2!N20=\"R6\")),Calculations2!$N$15/100*Calculations2!H20,Calculations2!$L$15/100*Calculations2!H20)","v":6.3000000000000014E-2},{"$f":"IF((OR(Calculations2!N20=\"R6\", Calculations2!N20=\"R7\",)),$S$8/100*Calculations2!H20,Q9)","v":6.3000000000000014E-2}]
[{"$f":"A9+Calculations2!G21","v":3.4583333333333334E-2},{"$f":"B9+Calculations2!C21","v":0.44},{"$f":"C9+Calculations2!D21","v":0},0.44,{"$f":"IF((OR(Calculations2!N21<>\"R3\", Calculations2!N21<>\"R4\", Calculations2!N21<>\"R5\", Calculations2!N21<>\"R6\", Calculations2!N21<>\"R7\")),Calculations2!$L$15/100*Calculations2!H21,Calculations2!$N$15/100*Calculations2!H21)","v":0.12600000000000003},{"$f":"IF(Calculations2!$E20=\"\",$F9+1)","v":false},{"$f":"IF(AND(Calculations2!$E20=\"\",$F10<8),Calculations2!$O21,\"\")","v":""},{"$f":"IF(AND(Calculations2!$E20=\"\",$F10<6),Calculations2!$I20-$I8-$I9-$I10,IF(AND(Calculations2!$E21=\"\",Calculations2!$E19<>\"\"),Calculations2!$I21,\"\"))","v":""},{"$f":"Calculations2!$O21","v":0},{"$f":"IF(AND($F10>5,$F10<>FALSE),\"\",IF(Calculations2!$E21=\"\",Calculations2!$H21-Calculations2!I21,Calculations2!$H21-Calculations2!$I21))","v":5.0636666666666663E-2},null,null,null,null,{"$f":"+Calculations2!$H21","v":0.25200000000000006},0.12600000000000003,{"$f":"IF((OR(Calculations2!N21=\"R3\", Calculations2!N21=\"R4\", Calculations2!N21=\"R5\", Calculations2!N21=\"R6\")),Calculations2!$N$15/100*Calculations2!H21,Calculations2!$L$15/100*Calculations2!H21)","v":0.12600000000000003},{"$f":"IF((OR(Calculations2!N21=\"R6\", Calculations2!N21=\"R7\",)),$S$8/100*Calculations2!H21,Q10)","v":0.12600000000000003}]
[{"$f":"A10+Calculations2!G22","v":6.3783333333333331E-2},{"$f":"B10+Calculations2!C22","v":0.44},{"$f":"C10+Calculations2!D22","v":0},0.44,{"$f":"IF((OR(Calculations2!N22<>\"R3\", Calculations2!N22<>\"R4\", Calculations2!N22<>\"R5\", Calculations2!N22<>\"R6\", Calculations2!N22<>\"R7\")),Calculations2!$L$15/100*Calculations2!H22,Calculations2!$N$15/100*Calculations2!H22)","v":0.18900000000000006},{"$f":"IF(Calculations2!$E21=\"\",$F10+1)","v":false},{"$f":"IF(AND(Calculations2!$E21=\"\",$F11<8),Calculations2!$O22,\"\")","v":""},{"$f":"IF(AND(Calculations2!$E21=\"\",$F11<6),Calculations2!$I21-0-$I8-$I9,IF(AND(Calculations2!$E22=\"\",Calculations2!$E20<>\"\"),Calculations2!$I22,\"\"))","v":""},{"$f":"Calculations2!$O22","v":0},{"$f":"IF(AND($F11>5,$F11<>FALSE),\"\",IF(Calculations2!$E22=\"\",Calculations2!$H22-Calculations2!I22,Calculations2!$H22-Calculations2!$I22))","v":0.11133666666666669},null,null,null,null,{"$f":"+Calculations2!$H22","v":0.37800000000000011},0.18900000000000006,{"$f":"IF((OR(Calculations2!N22=\"R3\", Calculations2!N22=\"R4\", Calculations2!N22=\"R5\", Calculations2!N22=\"R6\")),Calculations2!$N$15/100*Calculations2!H22,Calculations2!$L$15/100*Calculations2!H22)","v":0.18900000000000006},{"$f":"IF((OR(Calculations2!N22=\"R6\", Calculations2!N22=\"R7\",)),$S$8/100*Calculations2!H22,Q11)","v":0.18900000000000006}]
[{"$f":"A11+Calculations2!G23","v":9.5983333333333337E-2},{"$f":"B11+Calculations2!C23","v":0.44},{"$f":"C11+Calculations2!D23","v":0},0.44,{"$f":"IF((OR(Calculations2!N23<>\"R3\", Calculations2!N23<>\"R4\", Calculations2!N23<>\"R5\", Calculations2!N23<>\"R6\", Calculations2!N23<>\"R7\")),Calculations2!$L$15/100*Calculations2!H23,Calculations2!$N$15/100*Calculations2!H23)","v":0.23355000000000006},{"$f":"IF(Calculations2!$E22=\"\",$F11+1)","v":false},{"$f":"IF(AND(Calculations2!$E22=\"\",$F12<8),Calculations2!$O23,\"\")","v":""},{"$f":"IF(AND(Calculations2!$E22=\"\",$F12<6),Calculations2!$I22-0-$I8-$I9-$I10-$I11-$I12,IF(AND(Calculations2!$E23=\"\",Calculations2!$E21<>\"\"),Calculations2!$I23,\"\"))","v":""},{"$f":"Calculations2!$O23","v":0},{"$f":"IF(AND($F12>5,$F12<>FALSE),\"\",IF(Calculations2!$E23=\"\",Calculations2!$H23-Calculations2!I23,Calculations2!$H23-Calculations2!$I23))","v":0.16581166666666669},null,null,null,null,{"$f":"+Calculations2!$H23","v":0.46710000000000013},0.23355000000000006,{"$f":"IF((OR(Calculations2!N23=\"R3\", Calculations2!N23=\"R4\", Calculations2!N23=\"R5\", Calculations2!N23=\"R6\")),Calculations2!$N$15/100*Calculations2!H23,Calculations2!$L$15/100*Calculations2!H23)","v":0.23355000000000006},{"$f":"IF((OR(Calculations2!N23=\"R6\", Calculations2!N23=\"R7\",)),$S$8/100*Calculations2!H23,Q12)","v":0.23355000000000006}]
[{"$f":"A12+Calculations2!G24","v":0.13378333333333334},{"$f":"B12+Calculations2!C24","v":0.44},{"$f":"C12+Calculations2!D24","v":0},0.44,{"$f":"IF((OR(Calculations2!N24<>\"R3\", Calculations2!N24<>\"R4\", Calculations2!N24<>\"R5\", Calculations2!N24<>\"R6\", Calculations2!N24<>\"R7\")),Calculations2!$L$15/100*Calculations2!H24,Calculations2!$N$15/100*Calculations2!H24)","v":0.33108750000000009},{"$f":"IF(Calculations2!$E23=\"\",$F12+1)","v":false},{"$f":"IF(AND(Calculations2!$E23=\"\",$F13<8),Calculations2!$O24,\"\")","v":""},{"$f":"IF(AND(Calculations2!$E23=\"\",$F13<6),Calculations2!$I23-0-$I8-$I9-$I10-$I11-$I12-$I13,IF(AND(Calculations2!$E24=\"\",Calculations2!$E22<>\"\"),Calculations2!$I24,\"\"))","v":""},{"$f":"Calculations2!$O24","v":0},{"$f":"IF(AND($F13>5,$F13<>FALSE),\"\",IF(Calculations2!$E24=\"\",Calculations2!$H24-Calculations2!I24,Calculations2!$H24-Calculations2!$I24))","v":0.25238041666666672},null,null,null,null,{"$f":"+Calculations2!$H24","v":0.66217500000000018},0.33108750000000009,{"$f":"IF((OR(Calculations2!N24=\"R3\", Calculations2!N24=\"R4\", Calculations2!N24=\"R5\", Calculations2!N24=\"R6\")),Calculations2!$N$15/100*Calculations2!H24,Calculations2!$L$15/100*Calculations2!H24)","v":0.33108750000000009},{"$f":"IF((OR(Calculations2!N24=\"R6\", Calculations2!N24=\"R7\",)),$S$8/100*Calculations2!H24,Q13)","v":0.33108750000000009}]
[{"$f":"A13+Calculations2!G25","v":0.19528333333333334},{"$f":"B13+Calculations2!C25","v":0.44},{"$f":"C13+Calculations2!D25","v":0},0.44,{"$f":"IF((OR(Calculations2!N25<>\"R3\", Calculations2!N25<>\"R4\", Calculations2!N25<>\"R5\", Calculations2!N25<>\"R6\", Calculations2!N25<>\"R7\")),Calculations2!$L$15/100*Calculations2!H25,Calculations2!$N$15/100*Calculations2!H25)","v":0.42862500000000014},{"$f":"IF(Calculations2!$E24=\"\",$F13+1)","v":false},{"$f":"IF(AND(Calculations2!$E24=\"\",$F14<8),Calculations2!$O25,\"\")","v":""},{"$f":"IF(AND(Calculations2!$E24=\"\",$F14<6),Calculations2!$I24-Calculations2!$O19-$I9-$I10-$I11-$I12,IF(AND(Calculations2!$E25=\"\",Calculations2!$E23<>\"\"),Calculations2!$I25,\"\"))","v":""},{"$f":"Calculations2!$O25","v":0},{"$f":"IF(AND($F14>5,$F14<>FALSE),\"\",IF(Calculations2!$E25=\"\",Calculations2!$H25-Calculations2!I25,Calculations2!$H25-Calculations2!$I25))","v":0.36264916666666674},null,null,null,null,{"$f":"+Calculations2!$H25","v":0.85725000000000029},{"$f":"+(O14-0.75)","v":0.10725000000000029},{"$f":"IF((OR(Calculations2!N25=\"R3\", Calculations2!N25=\"R4\", Calculations2!N25=\"R5\", Calculations2!N25=\"R6\")),Calculations2!$N$15/100*Calculations2!H25,Calculations2!$L$15/100*Calculations2!H25)","v":0.42862500000000014},{"$f":"IF((OR(Calculations2!N25=\"R6\", Calculations2!N25=\"R7\",)),$S$8/100*Calculations2!H25,Q14)","v":0.42862500000000014}]
[{"$f":"A14+Calculations2!G26","v":0.23128333333333334},{"$f":"B14+Calculations2!C26","v":0.44},{"$f":"C14+Calculations2!D26","v":0},0.44,{"$f":"IF((OR(Calculations2!N26<>\"R3\", Calculations2!N26<>\"R4\", Calculations2!N26<>\"R5\", Calculations2!N26<>\"R6\", Calculations2!N26<>\"R7\")),Calculations2!$L$15/100*Calculations2!H26,Calculations2!$N$15/100*Calculations2!H26)","v":0.46710000000000002},{"$f":"IF(Calculations2!$E25=\"\",$F14+1)","v":false},{"$f":"IF(AND(Calculations2!$E25=\"\",$F15<8),Calculations2!$O26,\"\")","v":""},{"$f":"IF(AND(Calculations2!$E25=\"\",$F15<6),Calculations2!$I25-Calculations2!$O20-$I10-$I11-$I12-$I13,IF(AND(Calculations2!$E26=\"\",Calculations2!$E24<>\"\"),Calculations2!$I26,\"\"))","v":""},{"$f":"Calculations2!$O26","v":0},{"$f":"IF(AND($F15>5,$F15<>FALSE),\"\",IF(Calculations2!$E26=\"\",Calculations2!$H26-Calculations2!I26,Calculations2!$H26-Calculations2!$I26))","v":0.41788666666666663},null,null,null,null,{"$f":"+Calculations2!$H26","v":0.93420000000000003},0.18420000000000003,{"$f":"IF((OR(Calculations2!N26=\"R3\", Calculations2!N26=\"R4\", Calculations2!N26=\"R5\", Calculations2!N26=\"R6\")),Calculations2!$N$15/100*Calculations2!H26,Calculations2!$L$15/100*Calculations2!H26)","v":0.46710000000000002},{"$f":"IF((OR(Calculations2!N26=\"R6\", Calculations2!N26=\"R7\",)),$S$8/100*Calculations2!H26,Q15)","v":0.46710000000000002}]
[{"$f":"A15+Calculations2!G27","v":0.26868333333333333},{"$f":"B15+Calculations2!C27","v":0.44},{"$f":"C15+Calculations2!D27","v":0},0.44,{"$f":"IF((OR(Calculations2!N27<>\"R3\", Calculations2!N27<>\"R4\", Calculations2!N27<>\"R5\", Calculations2!N27<>\"R6\", Calculations2!N27<>\"R7\")),Calculations2!$L$15/100*Calculations2!H27,Calculations2!$N$15/100*Calculations2!H27)","v":0.5254875},{"$f":"IF(Calculations2!$E26=\"\",$F15+1)","v":false},{"$f":"IF(AND(Calculations2!$E26=\"\",$F16<8),Calculations2!$O27,\"\")","v":""},{"$f":"IF(AND(Calculations2!$E26=\"\",$F16<6),Calculations2!$I26-Calculations2!$O21-$I11-$I12-$I13-$I14,IF(AND(Calculations2!$E27=\"\",Calculations2!$E25<>\"\"),Calculations2!$I27,\"\"))","v":""},{"$f":"Calculations2!$O27","v":0},{"$f":"IF(AND($F16>5,$F16<>FALSE),\"\",IF(Calculations2!$E27=\"\",Calculations2!$H27-Calculations2!I27,Calculations2!$H27-Calculations2!$I27))","v":0.48448041666666664},null,null,null,null,{"$f":"+Calculations2!$H27","v":1.050975},0.30097499999999999,{"$f":"IF((OR(Calculations2!N27=\"R3\", Calculations2!N27=\"R4\", Calculations2!N27=\"R5\", Calculations2!N27=\"R6\")),Calculations2!$N$15/100*Calculations2!H27,Calculations2!$L$15/100*Calculations2!H27)","v":0.5254875},{"$f":"IF((OR(Calculations2!N27=\"R6\", Calculations2!N27=\"R7\",)),$S$8/100*Calculations2!H27,Q16)","v":0.5254875}]
[{"$f":"A16+Calculations2!G28","v":0.31728333333333336},{"$f":"B16+Calculations2!C28","v":0.44},{"$f":"C16+Calculations2!D28","v":0},0.44,{"$f":"IF((OR(Calculations2!N28<>\"R3\", Calculations2!N28<>\"R4\", Calculations2!N28<>\"R5\", Calculations2!N28<>\"R6\", Calculations2!N28<>\"R7\")),Calculations2!$L$15/100*Calculations2!H28,Calculations2!$N$15/100*Calculations2!H28)","v":0.58387500000000003},{"$f":"IF(Calculations2!$E27=\"\",$F16+1)","v":false},{"$f":"IF(AND(Calculations2!$E27=\"\",$F17<8),Calculations2!$O28,\"\")","v":""},{"$f":"IF(AND(Calculations2!$E27=\"\",$F17<6),Calculations2!$I27-Calculations2!$O22-$I12-$I13-$I14-$I15,IF(AND(Calculations2!$E28=\"\",Calculations2!$E26<>\"\"),Calculations2!$I28,\"\"))","v":""},{"$f":"Calculations2!$O28","v":0},{"$f":"IF(AND($F17>5,$F17<>FALSE),\"\",IF(Calculations2!$E28=\"\",Calculations2!$H28-Calculations2!I28,Calculations2!$H28-Calculations2!$I28))","v":0.56227416666666663},null,null,null,null,{"$f":"+Calculations2!$H28","v":1.1677500000000001},0.41775000000000007,{"$f":"IF((OR(Calculations2!N28=\"R3\", Calculations2!N28=\"R4\", Calculations2!N28=\"R5\", Calculations2!N28=\"R6\")),Calculations2!$N$15/100*Calculations2!H28,Calculations2!$L$15/100*Calculations2!H28)","v":0.58387500000000003},{"$f":"IF((OR(Calculations2!N28=\"R6\", Calculations2!N28=\"R7\",)),$S$8/100*Calculations2!H28,Q17)","v":0.58387500000000003}]
[{"$f":"A17+Calculations2!G29","v":0.38058333333333338},{"$f":"B17+Calculations2!C29","v":0.44},{"$f":"C17+Calculations2!D29","v":0},0.44,{"$f":"IF((OR(Calculations2!N29<>\"R3\", Calculations2!N29<>\"R4\", Calculations2!N29<>\"R5\", Calculations2!N29<>\"R6\", Calculations2!N29<>\"R7\")),Calculations2!$L$15/100*Calculations2!H29,Calculations2!$N$15/100*Calculations2!H29)","v":0.62302500000000005},{"$f":"IF(Calculations2!$E28=\"\",$F17+1)","v":false},{"$f":"IF(AND(Calculations2!$E28=\"\",$F18<8),Calculations2!$O29,\"\")","v":""},{"$f":"IF(AND(Calculations2!$E28=\"\",$F18<6),Calculations2!$I28-Calculations2!$O23-$I13-$I14-$I15-$I16,IF(AND(Calculations2!$E29=\"\",Calculations2!$E27<>\"\"),Calculations2!$I29,\"\"))","v":""},{"$f":"Calculations2!$O29","v":0},{"$f":"IF(AND($F18>5,$F18<>FALSE),\"\",IF(Calculations2!$E29=\"\",Calculations2!$H29-Calculations2!I29,Calculations2!$H29-Calculations2!$I29))","v":0.64514916666666666},null,null,null,null,{"$f":"+Calculations2!$H29","v":1.2460500000000001},0.4960500000000001,{"$f":"IF((OR(Calculations2!N29=\"R3\", Calculations2!N29=\"R4\", Calculations2!N29=\"R5\", Calculations2!N29=\"R6\")),Calculations2!$N$15/100*Calculations2!H29,Calculations2!$L$15/100*Calculations2!H29)","v":0.62302500000000005},{"$f":"IF((OR(Calculations2!N29=\"R6\", Calculations2!N29=\"R7\",)),$S$8/100*Calculations2!H29,Q18)","v":0.62302500000000005}]
[{"$f":"A18+Calculations2!G30","v":0.44261927346414676},{"$f":"B18+Calculations2!C30","v":0.44},{"$f":"C18+Calculations2!D30","v":0},0.44,{"$f":"IF((OR(Calculations2!N30<>\"R3\", Calculations2!N30<>\"R4\", Calculations2!N30<>\"R5\", Calculations2!N30<>\"R6\", Calculations2!N30<>\"R7\")),Calculations2!$L$15/100*Calculations2!H30,Calculations2!$N$15/100*Calculations2!H30)","v":0.68141249999999998},{"$f":"IF(Calculations2!$E29=\"\",$F18+1)","v":false},{"$f":"IF(AND(Calculations2!$E29=\"\",$F19<8),Calculations2!$O30,\"\")","v":""},{"$f":"IF(AND(Calculations2!$E29=\"\",$F19<6),Calculations2!$I29-Calculations2!$O24-$I14-$I15-$I16-$I17,IF(AND(Calculations2!$E30=\"\",Calculations2!$E28<>\"\"),Calculations2!$I30,\"\"))","v":""},{"$f":"Calculations2!$O30","v":0},{"$f":"IF(AND($F19>5,$F19<>FALSE),\"\",IF(Calculations2!$E30=\"\",Calculations2!$H30-Calculations2!I30,Calculations2!$H30-Calculations2!$I30))","v":0.73637885679748005},null,null,null,null,{"$f":"+Calculations2!$H30","v":1.362825},0.61282499999999995,{"$f":"IF((OR(Calculations2!N30=\"R3\", Calculations2!N30=\"R4\", Calculations2!N30=\"R5\", Calculations2!N30=\"R6\")),Calculations2!$N$15/100*Calculations2!H30,Calculations2!$L$15/100*Calculations2!H30)","v":0.68141249999999998},{"$f":"IF((OR(Calculations2!N30=\"R6\", Calculations2!N30=\"R7\",)),$S$8/100*Calculations2!H30,Q19)","v":0.68141249999999998}]
[{"$f":"A19+Calculations2!G31","v":0.5198341933072369},{"$f":"B19+Calculations2!C31","v":0.69},{"$f":"C19+Calculations2!D31","v":0},0.69,{"$f":"IF((OR(Calculations2!N31<>\"R3\", Calculations2!N31<>\"R4\", Calculations2!N31<>\"R5\", Calculations2!N31<>\"R6\", Calculations2!N31<>\"R7\")),Calculations2!$L$15/100*Calculations2!H31,Calculations2!$N$15/100*Calculations2!H31)","v":0.73980000000000012},{"$f":"IF(Calculations2!$E30=\"\",$F19+1)","v":false},{"$f":"IF(AND(Calculations2!$E30=\"\",$F20<8),Calculations2!$O31,\"\")","v":""},{"$f":"IF(AND(Calculations2!$E30=\"\",$F20<6),Calculations2!$I30-Calculations2!$O25-$I15-$I16-$I17-$I18,IF(AND(Calculations2!$E31=\"\",Calculations2!$E29<>\"\"),Calculations2!$I31,\"\"))","v":""},{"$f":"Calculations2!$O31","v":0},{"$f":"IF(AND($F20>5,$F20<>FALSE),\"\",IF(Calculations2!$E31=\"\",Calculations2!$H31-Calculations2!I31,Calculations2!$H31-Calculations2!$I31))","v":0.59278752664057022},null,null,null,null,{"$f":"+Calculations2!$H31","v":1.4796000000000002},0.72960000000000025,{"$f":"IF((OR(Calculations2!N31=\"R3\", Calculations2!N31=\"R4\", Calculations2!N31=\"R5\", Calculations2!N31=\"R6\")),Calculations2!$N$15/100*Calculations2!H31,Calculations2!$L$15/100*Calculations2!H31)","v":0.73980000000000012},{"$f":"IF((OR(Calculations2!N31=\"R6\", Calculations2!N31=\"R7\",)),$S$8/100*Calculations2!H31,Q20)","v":0.73980000000000012}]
[{"$f":"A20+Calculations2!G32","v":0.60049419330723686},{"$f":"B20+Calculations2!C32","v":1.2599999999999998},{"$f":"C20+Calculations2!D32","v":0},1.2599999999999998,{"$f":"IF((OR(Calculations2!N32<>\"R3\", Calculations2!N32<>\"R4\", Calculations2!N32<>\"R5\", Calculations2!N32<>\"R6\", Calculations2!N32<>\"R7\")),Calculations2!$L$15/100*Calculations2!H32,Calculations2!$N$15/100*Calculations2!H32)","v":0.77895000000000003},{"$f":"IF(Calculations2!$E31=\"\",$F20+1)","v":false},{"$f":"IF(AND(Calculations2!$E31=\"\",$F21<8),Calculations2!$O32,\"\")","v":""},{"$f":"IF(AND(Calculations2!$E31=\"\",$F21<6),Calculations2!$I31-Calculations2!$O26-$I16-$I17-$I18-$I19,IF(AND(Calculations2!$E32=\"\",Calculations2!$E30<>\"\"),Calculations2!$I32,\"\"))","v":""},{"$f":"Calculations2!$O32","v":0},{"$f":"IF(AND($F21>5,$F21<>FALSE),\"\",IF(Calculations2!$E32=\"\",Calculations2!$H32-Calculations2!I32,Calculations2!$H32-Calculations2!$I32))","v":0.12302252664057001},null,null,null,null,{"$f":"+Calculations2!$H32","v":1.5579000000000001},0.80790000000000006,{"$f":"IF((OR(Calculations2!N32=\"R3\", Calculations2!N32=\"R4\", Calculations2!N32=\"R5\", Calculations2!N32=\"R6\")),Calculations2!$N$15/100*Calculations2!H32,Calculations2!$L$15/100*Calculations2!H32)","v":0.77895000000000003},{"$f":"IF((OR(Calculations2!N32=\"R6\", Calculations2!N32=\"R7\",)),$S$8/100*Calculations2!H32,Q21)","v":0.77895000000000003}]
[{"$f":"A21+Calculations2!G33","v":0.66316752664057022},{"$f":"B21+Calculations2!C33","v":1.2799999999999998},{"$f":"C21+Calculations2!D33","v":0},1.2799999999999998,{"$f":"IF((OR(Calculations2!N33<>\"R3\", Calculations2!N33<>\"R4\", Calculations2!N33<>\"R5\", Calculations2!N33<>\"R6\", Calculations2!N33<>\"R7\")),Calculations2!$L$15/100*Calculations2!H33,Calculations2!$N$15/100*Calculations2!H33)","v":0.8184583333333334},{"$f":"IF(Calculations2!$E32=\"\",$F21+1)","v":false},{"$f":"IF(AND(Calculations2!$E32=\"\",$F22<8),Calculations2!$O33,\"\")","v":""},{"$f":"IF(AND(Calculations2!$E32=\"\",$F22<6),Calculations2!$I32-Calculations2!$O27-$I17-$I18-$I19-$I20,IF(AND(Calculations2!$E33=\"\",Calculations2!$E31<>\"\"),Calculations2!$I33,\"\"))","v":""},{"$f":"Calculations2!$O33","v":0},{"$f":"IF(AND($F22>5,$F22<>FALSE),\"\",IF(Calculations2!$E33=\"\",Calculations2!$H33-Calculations2!I33,Calculations2!$H33-Calculations2!$I33))","v":0.18545002664057009},null,null,null,null,{"$f":"+Calculations2!$H33","v":1.6369166666666668},0.8869166666666668,{"$f":"IF((OR(Calculations2!N33=\"R3\", Calculations2!N33=\"R4\", Calculations2!N33=\"R5\", Calculations2!N33=\"R6\")),Calculations2!$N$15/100*Calculations2!H33,Calculations2!$L$15/100*Calculations2!H33)","v":0.8184583333333334},{"$f":"IF((OR(Calculations2!N33=\"R6\", Calculations2!N33=\"R7\",)),$S$8/100*Calculations2!H33,Q22)","v":0.8184583333333334}]
[{"$f":"A22+Calculations2!G34","v":0.74656419330723689},{"$f":"B22+Calculations2!C34","v":1.4099999999999997},{"$f":"C22+Calculations2!D34","v":0},1.4099999999999997,{"$f":"IF((OR(Calculations2!N34<>\"R3\", Calculations2!N34<>\"R4\", Calculations2!N34<>\"R5\", Calculations2!N34<>\"R6\", Calculations2!N34<>\"R7\")),Calculations2!$L$15/100*Calculations2!H34,Calculations2!$N$15/100*Calculations2!H34)","v":0.86026666666666685},{"$f":"IF(Calculations2!$E33=\"\",$F22+1)","v":false},{"$f":"IF(AND(Calculations2!$E33=\"\",$F23<8),Calculations2!$O34,\"\")","v":""},{"$f":"IF(AND(Calculations2!$E33=\"\",$F23<6),Calculations2!$I33-Calculations2!$O28-$I18-$I19-$I20-$I21,IF(AND(Calculations2!$E34=\"\",Calculations2!$E32<>\"\"),Calculations2!$I34,\"\"))","v":""},{"$f":"Calculations2!$O34","v":0},{"$f":"IF(AND($F23>5,$F23<>FALSE),\"\",IF(Calculations2!$E34=\"\",Calculations2!$H34-Calculations2!I34,Calculations2!$H34-Calculations2!$I34))","v":0.15975085997390348},null,null,null,null,{"$f":"+Calculations2!$H34","v":1.7205333333333337},0.97053333333333369,{"$f":"IF((OR(Calculations2!N34=\"R3\", Calculations2!N34=\"R4\", Calculations2!N34=\"R5\", Calculations2!N34=\"R6\")),Calculations2!$N$15/100*Calculations2!H34,Calculations2!$L$15/100*Calculations2!H34)","v":0.86026666666666685},{"$f":"IF((OR(Calculations2!N34=\"R6\", Calculations2!N34=\"R7\",)),$S$8/100*Calculations2!H34,Q23)","v":0.86026666666666685}]
[{"$f":"A23+Calculations2!G35","v":0.82891419330723692},{"$f":"B23+Calculations2!C35","v":1.4499999999999997},{"$f":"C23+Calculations2!D35","v":0},1.4499999999999997,{"$f":"IF((OR(Calculations2!N35<>\"R3\", Calculations2!N35<>\"R4\", Calculations2!N35<>\"R5\", Calculations2!N35<>\"R6\", Calculations2!N35<>\"R7\")),Calculations2!$L$15/100*Calculations2!H35,Calculations2!$N$15/100*Calculations2!H35)","v":0.90207500000000029},{"$f":"IF(Calculations2!$E34=\"\",$F23+1)","v":false},{"$f":"IF(AND(Calculations2!$E34=\"\",$F24<8),Calculations2!$O35,\"\")","v":""},{"$f":"IF(AND(Calculations2!$E34=\"\",$F24<6),Calculations2!$I34-Calculations2!$O29-$I19-$I20-$I21-$I22,IF(AND(Calculations2!$E35=\"\",Calculations2!$E33<>\"\"),Calculations2!$I35,\"\"))","v":""},{"$f":"Calculations2!$O35","v":0},{"$f":"IF(AND($F24>5,$F24<>FALSE),\"\",IF(Calculations2!$E35=\"\",Calculations2!$H35-Calculations2!I35,Calculations2!$H35-Calculations2!$I35))","v":0.22300502664057009},null,null,null,null,{"$f":"+Calculations2!$H35","v":1.8041500000000006},1.0541500000000006,{"$f":"IF((OR(Calculations2!N35=\"R3\", Calculations2!N35=\"R4\", Calculations2!N35=\"R5\", Calculations2!N35=\"R6\")),Calculations2!$N$15/100*Calculations2!H35,Calculations2!$L$15/100*Calculations2!H35)","v":0.90207500000000029},{"$f":"IF((OR(Calculations2!N35=\"R6\", Calculations2!N35=\"R7\",)),$S$8/100*Calculations2!H35,Q24)","v":0.90207500000000029}]
[{"$f":"A24+Calculations2!G36","v":0.91126419330723696},{"$f":"B24+Calculations2!C36","v":1.4499999999999997},{"$f":"C24+Calculations2!D36","v":0},1.4499999999999997,{"$f":"IF((OR(Calculations2!N36<>\"R3\", Calculations2!N36<>\"R4\", Calculations2!N36<>\"R5\", Calculations2!N36<>\"R6\", Calculations2!N36<>\"R7\")),Calculations2!$L$15/100*Calculations2!H36,Calculations2!$N$15/100*Calculations2!H36)","v":0.9441250000000001},{"$f":"IF(Calculations2!$E35=\"\",$F24+1)","v":false},{"$f":"IF(AND(Calculations2!$E35=\"\",$F25<8),Calculations2!$O36,\"\")","v":""},{"$f":"IF(AND(Calculations2!$E35=\"\",$F25<6),Calculations2!$I35-Calculations2!$O30-$I20-$I21-$I22-$I23,IF(AND(Calculations2!$E36=\"\",Calculations2!$E34<>\"\"),Calculations2!$I36,\"\"))","v":""},{"$f":"Calculations2!$O36","v":0},{"$f":"IF(AND($F25>5,$F25<>FALSE),\"\",IF(Calculations2!$E36=\"\",Calculations2!$H36-Calculations2!I36,Calculations2!$H36-Calculations2!$I36))","v":0.32638002664056986},null,null,null,null,{"$f":"+Calculations2!$H36","v":1.8882500000000002},1.1382500000000002,{"$f":"IF((OR(Calculations2!N36=\"R3\", Calculations2!N36=\"R4\", Calculations2!N36=\"R5\", Calculations2!N36=\"R6\")),Calculations2!$N$15/100*Calculations2!H36,Calculations2!$L$15/100*Calculations2!H36)","v":0.9441250000000001},{"$f":"IF((OR(Calculations2!N36=\"R6\", Calculations2!N36=\"R7\",)),$S$8/100*Calculations2!H36,Q25)","v":0.9441250000000001}]
[{"$f":"A25+Calculations2!G37","v":1.003904193307237},{"$f":"B25+Calculations2!C37","v":1.4499999999999997},{"$f":"C25+Calculations2!D37","v":0},1.4499999999999997,{"$f":"IF((OR(Calculations2!N37<>\"R3\", Calculations2!N37<>\"R4\", Calculations2!N37<>\"R5\", Calculations2!N37<>\"R6\", Calculations2!N37<>\"R7\")),Calculations2!$L$15/100*Calculations2!H37,Calculations2!$N$15/100*Calculations2!H37)","v":0.97191666666666676},{"$f":"IF(Calculations2!$E36=\"\",$F25+1)","v":false},{"$f":"IF(AND(Calculations2!$E36=\"\",$F26<8),Calculations2!$O37,\"\")","v":""},{"$f":"IF(AND(Calculations2!$E36=\"\",$F26<6),Calculations2!$I36-Calculations2!$O31-$I21-$I22-$I23-$I24,IF(AND(Calculations2!$E37=\"\",Calculations2!$E35<>\"\"),Calculations2!$I37,\"\"))","v":""},{"$f":"Calculations2!$O37","v":0},{"$f":"IF(AND($F26>5,$F26<>FALSE),\"\",IF(Calculations2!$E37=\"\",Calculations2!$H37-Calculations2!I37,Calculations2!$H37-Calculations2!$I37))","v":0.43291585997390314},null,null,null,null,{"$f":"+Calculations2!$H37","v":1.9438333333333335},1.1938333333333335,{"$f":"IF((OR(Calculations2!N37=\"R3\", Calculations2!N37=\"R4\", Calculations2!N37=\"R5\", Calculations2!N37=\"R6\")),Calculations2!$N$15/100*Calculations2!H37,Calculations2!$L$15/100*Calculations2!H37)","v":0.97191666666666676},{"$f":"IF((OR(Calculations2!N37=\"R6\", Calculations2!N37=\"R7\",)),$S$8/100*Calculations2!H37,Q26)","v":0.97191666666666676}]
[{"$f":"A26+Calculations2!G38","v":1.099784193307237},{"$f":"B26+Calculations2!C38","v":1.4499999999999997},{"$f":"C26+Calculations2!D38","v":0},1.4499999999999997,{"$f":"IF((OR(Calculations2!N38<>\"R3\", Calculations2!N38<>\"R4\", Calculations2!N38<>\"R5\", Calculations2!N38<>\"R6\", Calculations2!N38<>\"R7\")),Calculations2!$L$15/100*Calculations2!H38,Calculations2!$N$15/100*Calculations2!H38)","v":0.99970833333333342},{"$f":"IF(Calculations2!$E37=\"\",$F26+1)","v":false},{"$f":"IF(AND(Calculations2!$E37=\"\",$F27<8),Calculations2!$O38,\"\")","v":""},{"$f":"IF(AND(Calculations2!$E37=\"\",$F27<6),Calculations2!$I37-Calculations2!$O32-$I22-$I23-$I24-$I25,IF(AND(Calculations2!$E38=\"\",Calculations2!$E36<>\"\"),Calculations2!$I38,\"\"))","v":""},{"$f":"Calculations2!$O38","v":0},{"$f":"IF(AND($F27>5,$F27<>FALSE),\"\",IF(Calculations2!$E38=\"\",Calculations2!$H38-Calculations2!I38,Calculations2!$H38-Calculations2!$I38))","v":0.54269169330723632},null,null,null,null,{"$f":"+Calculations2!$H38","v":1.9994166666666668},1.2494166666666668,{"$f":"IF((OR(Calculations2!N38=\"R3\", Calculations2!N38=\"R4\", Calculations2!N38=\"R5\", Calculations2!N38=\"R6\")),Calculations2!$N$15/100*Calculations2!H38,Calculations2!$L$15/100*Calculations2!H38)","v":0.99970833333333342},{"$f":"IF((OR(Calculations2!N38=\"R6\", Calculations2!N38=\"R7\",)),$S$8/100*Calculations2!H38,Q27)","v":0.99970833333333342}]
[{"$f":"A27+Calculations2!G39","v":1.204004193307237},{"$f":"B27+Calculations2!C39","v":1.4499999999999997},{"$f":"C27+Calculations2!D39","v":0},1.4499999999999997,{"$f":"IF((OR(Calculations2!N39<>\"R3\", Calculations2!N39<>\"R4\", Calculations2!N39<>\"R5\", Calculations2!N39<>\"R6\", Calculations2!N39<>\"R7\")),Calculations2!$L$15/100*Calculations2!H39,Calculations2!$N$15/100*Calculations2!H39)","v":1.0275000000000001},{"$f":"IF(Calculations2!$E38=\"\",$F27+1)","v":false},{"$f":"IF(AND(Calculations2!$E38=\"\",$F28<8),Calculations2!$O39,\"\")","v":""},{"$f":"IF(AND(Calculations2!$E38=\"\",$F28<6),Calculations2!$I38-Calculations2!$O33-$I23-$I24-$I25-$I26,IF(AND(Calculations2!$E39=\"\",Calculations2!$E37<>\"\"),Calculations2!$I39,\"\"))","v":""},{"$f":"Calculations2!$O39","v":0},{"$f":"IF(AND($F28>5,$F28<>FALSE),\"\",IF(Calculations2!$E39=\"\",Calculations2!$H39-Calculations2!I39,Calculations2!$H39-Calculations2!$I39))","v":0.66080752664056952},null,null,null,null,{"$f":"+Calculations2!$H39","v":2.0550000000000002},1.3050000000000002,{"$f":"IF((OR(Calculations2!N39=\"R3\", Calculations2!N39=\"R4\", Calculations2!N39=\"R5\", Calculations2!N39=\"R6\")),Calculations2!$N$15/100*Calculations2!H39,Calculations2!$L$15/100*Calculations2!H39)","v":1.0275000000000001},{"$f":"IF((OR(Calculations2!N39=\"R6\", Calculations2!N39=\"R7\",)),$S$8/100*Calculations2!H39,Q28)","v":1.0275000000000001}]
[{"$f":"A28+Calculations2!G40","v":1.3189541933072371},{"$f":"B28+Calculations2!C40","v":1.4499999999999997},{"$f":"C28+Calculations2!D40","v":0},1.4499999999999997,{"$f":"IF((OR(Calculations2!N40<>\"R3\", Calculations2!N40<>\"R4\", Calculations2!N40<>\"R5\", Calculations2!N40<>\"R6\", Calculations2!N40<>\"R7\")),Calculations2!$L$15/100*Calculations2!H40,Calculations2!$N$15/100*Calculations2!H40)","v":1.06955},{"$f":"IF(Calculations2!$E39=\"\",$F28+1)","v":false},{"$f":"IF(AND(Calculations2!$E39=\"\",$F29<8),Calculations2!$O40,\"\")","v":""},{"$f":"IF(AND(Calculations2!$E39=\"\",$F29<6),Calculations2!$I39-Calculations2!$O34-$I24-$I25-$I26-$I27,IF(AND(Calculations2!$E40=\"\",Calculations2!$E38<>\"\"),Calculations2!$I40,\"\"))","v":""},{"$f":"Calculations2!$O40","v":0},{"$f":"IF(AND($F29>5,$F29<>FALSE),\"\",IF(Calculations2!$E40=\"\",Calculations2!$H40-Calculations2!I40,Calculations2!$H40-Calculations2!$I40))","v":0.7967825266405697},null,null,null,null,{"$f":"+Calculations2!$H40","v":2.1391},1.3891,{"$f":"IF((OR(Calculations2!N40=\"R3\", Calculations2!N40=\"R4\", Calculations2!N40=\"R5\", Calculations2!N40=\"R6\")),Calculations2!$N$15/100*Calculations2!H40,Calculations2!$L$15/100*Calculations2!H40)","v":1.06955},{"$f":"IF((OR(Calculations2!N40=\"R6\", Calculations2!N40=\"R7\",)),$S$8/100*Calculations2!H40,Q29)","v":1.06955}]
[{"$f":"A29+Calculations2!G41","v":1.430314193307237},{"$f":"B29+Calculations2!C41","v":1.4499999999999997},{"$f":"C29+Calculations2!D41","v":0},1.4499999999999997,{"$f":"IF((OR(Calculations2!N41<>\"R3\", Calculations2!N41<>\"R4\", Calculations2!N41<>\"R5\", Calculations2!N41<>\"R6\", Calculations2!N41<>\"R7\")),Calculations2!$L$15/100*Calculations2!H41,Calculations2!$N$15/100*Calculations2!H41)","v":1.152925},{"$f":"IF(Calculations2!$E40=\"\",$F29+1)","v":false},{"$f":"IF(AND(Calculations2!$E40=\"\",$F30<8),Calculations2!$O41,\"\")","v":""},{"$f":"IF(AND(Calculations2!$E40=\"\",$F30<6),Calculations2!$I40-Calculations2!$O35-$I25-$I26-$I27-$I28,IF(AND(Calculations2!$E41=\"\",Calculations2!$E39<>\"\"),Calculations2!$I41,\"\"))","v":""},{"$f":"Calculations2!$O41","v":0},{"$f":"IF(AND($F30>5,$F30<>FALSE),\"\",IF(Calculations2!$E41=\"\",Calculations2!$H41-Calculations2!I41,Calculations2!$H41-Calculations2!$I41))","v":0.9498300266405697},null,null,null,null,{"$f":"+Calculations2!$H41","v":2.30585},1.55585,{"$f":"IF((OR(Calculations2!N41=\"R3\", Calculations2!N41=\"R4\", Calculations2!N41=\"R5\", Calculations2!N41=\"R6\")),Calculations2!$N$15/100*Calculations2!H41,Calculations2!$L$15/100*Calculations2!H41)","v":1.152925},{"$f":"IF((OR(Calculations2!N41=\"R6\", Calculations2!N41=\"R7\",)),$S$8/100*Calculations2!H41,Q30)","v":1.152925}]
[{"$f":"A30+Calculations2!G42","v":1.5480741933072371},{"$f":"B30+Calculations2!C42","v":1.4499999999999997},{"$f":"C30+Calculations2!D42","v":0},1.4499999999999997,{"$f":"IF((OR(Calculations2!N42<>\"R3\", Calculations2!N42<>\"R4\", Calculations2!N42<>\"R5\", Calculations2!N42<>\"R6\", Calculations2!N42<>\"R7\")),Calculations2!$L$15/100*Calculations2!H42,Calculations2!$N$15/100*Calculations2!H42)","v":1.1947574999999999},{"$f":"IF(Calculations2!$E41=\"\",$F30+1)","v":false},{"$f":"IF(AND(Calculations2!$E41=\"\",$F31<8),Calculations2!$O42,\"\")","v":""},{"$f":"IF(AND(Calculations2!$E41=\"\",$F31<6),Calculations2!$I41-Calculations2!$O36-$I26-$I27-$I28-$I29,IF(AND(Calculations2!$E42=\"\",Calculations2!$E40<>\"\"),Calculations2!$I42,\"\"))","v":""},{"$f":"Calculations2!$O42","v":0},{"$f":"IF(AND($F31>5,$F31<>FALSE),\"\",IF(Calculations2!$E42=\"\",Calculations2!$H42-Calculations2!I42,Calculations2!$H42-Calculations2!$I42))","v":1.0885062766405698},null,null,null,null,{"$f":"+Calculations2!$H42","v":2.3895149999999998},1.6395149999999998,{"$f":"IF((OR(Calculations2!N42=\"R3\", Calculations2!N42=\"R4\", Calculations2!N42=\"R5\", Calculations2!N42=\"R6\")),Calculations2!$N$15/100*Calculations2!H42,Calculations2!$L$15/100*Calculations2!H42)","v":1.1947574999999999},{"$f":"IF((OR(Calculations2!N42=\"R6\", Calculations2!N42=\"R7\",)),$S$8/100*Calculations2!H42,Q31)","v":1.1947574999999999}]
[{"$f":"A31+Calculations2!G43","v":1.6812441933072371},{"$f":"B31+Calculations2!C43","v":2.4499999999999997},{"$f":"C31+Calculations2!D43","v":0},2.4499999999999997,{"$f":"IF((OR(Calculations2!N43<>\"R3\", Calculations2!N43<>\"R4\", Calculations2!N43<>\"R5\", Calculations2!N43<>\"R6\", Calculations2!N43<>\"R7\")),Calculations2!$L$15/100*Calculations2!H43,Calculations2!$N$15/100*Calculations2!H43)","v":1.2365537499999999},{"$f":"IF(Calculations2!$E42=\"\",$F31+1)","v":false},{"$f":"IF(AND(Calculations2!$E42=\"\",$F32<8),Calculations2!$O43,\"\")","v":""},{"$f":"IF(AND(Calculations2!$E42=\"\",$F32<6),Calculations2!$I42-Calculations2!$O37-$I27-$I28-$I29-$I30,IF(AND(Calculations2!$E43=\"\",Calculations2!$E41<>\"\"),Calculations2!$I43,\"\"))","v":""},{"$f":"Calculations2!$O43","v":0},{"$f":"IF(AND($F32>5,$F32<>FALSE),\"\",IF(Calculations2!$E43=\"\",Calculations2!$H43-Calculations2!I43,Calculations2!$H43-Calculations2!$I43))","v":0.24257440164056954},null,null,null,null,{"$f":"+Calculations2!$H43","v":2.4731074999999998},1.7231074999999998,{"$f":"IF((OR(Calculations2!N43=\"R3\", Calculations2!N43=\"R4\", Calculations2!N43=\"R5\", Calculations2!N43=\"R6\")),Calculations2!$N$15/100*Calculations2!H43,Calculations2!$L$15/100*Calculations2!H43)","v":1.2365537499999999},{"$f":"IF((OR(Calculations2!N43=\"R6\", Calculations2!N43=\"R7\",)),$S$8/100*Calculations2!H43,Q32)","v":1.2365537499999999}]
[{"$f":"A32+Calculations2!G44","v":1.7508041933072371},{"$f":"B32+Calculations2!C44","v":2.6799999999999997},{"$f":"C32+Calculations2!D44","v":0},2.6799999999999997,{"$f":"IF((OR(Calculations2!N44<>\"R3\", Calculations2!N44<>\"R4\", Calculations2!N44<>\"R5\", Calculations2!N44<>\"R6\", Calculations2!N44<>\"R7\")),Calculations2!$L$15/100*Calculations2!H44,Calculations2!$N$15/100*Calculations2!H44)","v":1.2783500000000001},{"$f":"IF(Calculations2!$E43=\"\",$F32+1)","v":false},{"$f":"IF(AND(Calculations2!$E43=\"\",$F33<8),Calculations2!$O44,\"\")","v":""},{"$f":"IF(AND(Calculations2!$E43=\"\",$F33<6),Calculations2!$I43-Calculations2!$O38-$I28-$I29-$I30-$I31,IF(AND(Calculations2!$E44=\"\",Calculations2!$E42<>\"\"),Calculations2!$I44,\"\"))","v":""},{"$f":"Calculations2!$O44","v":0},{"$f":"IF(AND($F33>5,$F33<>FALSE),\"\",IF(Calculations2!$E44=\"\",Calculations2!$H44-Calculations2!I44,Calculations2!$H44-Calculations2!$I44))","v":0.10303252664056961},null,null,null,null,{"$f":"+Calculations2!$H44","v":2.5567000000000002},1.8067000000000002,{"$f":"IF((OR(Calculations2!N44=\"R3\", Calculations2!N44=\"R4\", Calculations2!N44=\"R5\", Calculations2!N44=\"R6\")),Calculations2!$N$15/100*Calculations2!H44,Calculations2!$L$15/100*Calculations2!H44)","v":1.2783500000000001},{"$f":"IF((OR(Calculations2!N44=\"R6\", Calculations2!N44=\"R7\",)),$S$8/100*Calculations2!H44,Q33)","v":1.2783500000000001}]
[{"$f":"A33+Calculations2!G45","v":1.8669841933072371},{"$f":"B33+Calculations2!C45","v":3.11},{"$f":"C33+Calculations2!D45","v":0},3.11,{"$f":"IF((OR(Calculations2!N45<>\"R3\", Calculations2!N45<>\"R4\", Calculations2!N45<>\"R5\", Calculations2!N45<>\"R6\", Calculations2!N45<>\"R7\")),Calculations2!$L$15/100*Calculations2!H45,Calculations2!$N$15/100*Calculations2!H45)","v":1.3202550000000002},{"$f":"IF(Calculations2!$E44=\"\",$F33+1)","v":false},{"$f":"IF(AND(Calculations2!$E44=\"\",$F34<8),Calculations2!$O45,\"\")","v":""},{"$f":"IF(AND(Calculations2!$E44=\"\",$F34<6),Calculations2!$I44-Calculations2!$O39-$I29-$I30-$I31-$I32,IF(AND(Calculations2!$E45=\"\",Calculations2!$E43<>\"\"),Calculations2!$I45,\"\"))","v":""},{"$f":"Calculations2!$O45","v":0},{"$f":"IF(AND($F34>5,$F34<>FALSE),\"\",IF(Calculations2!$E45=\"\",Calculations2!$H45-Calculations2!I45,Calculations2!$H45-Calculations2!$I45))","v":-7.9215299999999989E-2},null,null,null,null,{"$f":"+Calculations2!$H45","v":2.6405100000000004},1.8905100000000004,{"$f":"IF((OR(Calculations2!N45=\"R3\", Calculations2!N45=\"R4\", Calculations2!N45=\"R5\", Calculations2!N45=\"R6\")),Calculations2!$N$15/100*Calculations2!H45,Calculations2!$L$15/100*Calculations2!H45)","v":1.3202550000000002},{"$f":"IF((OR(Calculations2!N45=\"R6\", Calculations2!N45=\"R7\",)),$S$8/100*Calculations2!H45,Q34)","v":1.3202550000000002}]
[{"$f":"A34+Calculations2!G46","v":1.9493108599739037},{"$f":"B34+Calculations2!C46","v":3.11},{"$f":"C34+Calculations2!D46","v":0},3.11,{"$f":"IF((OR(Calculations2!N46<>\"R3\", Calculations2!N46<>\"R4\", Calculations2!N46<>\"R5\", Calculations2!N46<>\"R6\", Calculations2!N46<>\"R7\")),Calculations2!$L$15/100*Calculations2!H46,Calculations2!$N$15/100*Calculations2!H46)","v":1.348095},{"$f":"IF(Calculations2!$E45=\"\",$F34+1)","v":false},{"$f":"IF(AND(Calculations2!$E45=\"\",$F35<8),Calculations2!$O46,\"\")","v":""},{"$f":"IF(AND(Calculations2!$E45=\"\",$F35<6),Calculations2!$I45-Calculations2!$O40-$I30-$I31-$I32-$I33,IF(AND(Calculations2!$E46=\"\",Calculations2!$E44<>\"\"),Calculations2!$I46,\"\"))","v":""},{"$f":"Calculations2!$O46","v":0},{"$f":"IF(AND($F35>5,$F35<>FALSE),\"\",IF(Calculations2!$E46=\"\",Calculations2!$H46-Calculations2!I46,Calculations2!$H46-Calculations2!$I46))","v":1.7031366666666603E-2},null,null,null,null,{"$f":"+Calculations2!$H46","v":2.6961900000000001},1.9461900000000001,{"$f":"IF((OR(Calculations2!N46=\"R3\", Calculations2!N46=\"R4\", Calculations2!N46=\"R5\", Calculations2!N46=\"R6\")),Calculations2!$N$15/100*Calculations2!H46,Calculations2!$L$15/100*Calculations2!H46)","v":1.348095},{"$f":"IF((OR(Calculations2!N46=\"R6\", Calculations2!N46=\"R7\",)),$S$8/100*Calculations2!H46,Q35)","v":1.348095}]
[{"$f":"A35+Calculations2!G47","v":2.0810708599739036},{"$f":"B35+Calculations2!C47","v":3.11},{"$f":"C35+Calculations2!D47","v":0.4},3.51,{"$f":"IF((OR(Calculations2!N47<>\"R3\", Calculations2!N47<>\"R4\", Calculations2!N47<>\"R5\", Calculations2!N47<>\"R6\", Calculations2!N47<>\"R7\")),Calculations2!$L$15/100*Calculations2!H47,Calculations2!$N$15/100*Calculations2!H47)","v":1.3759350000000001},{"$f":"IF(Calculations2!$E46=\"\",$F35+1)","v":false},{"$f":"IF(AND(Calculations2!$E46=\"\",$F36<8),Calculations2!$O47,\"\")","v":""},{"$f":"IF(AND(Calculations2!$E46=\"\",$F36<6),Calculations2!$I46-Calculations2!$O41-$I31-$I32-$I33-$I34,IF(AND(Calculations2!$E47=\"\",Calculations2!$E45<>\"\"),Calculations2!$I47,\"\"))","v":""},{"$f":"Calculations2!$O47","v":0},{"$f":"IF(AND($F36>5,$F36<>FALSE),\"\",IF(Calculations2!$E47=\"\",Calculations2!$H47-Calculations2!I47,Calculations2!$H47-Calculations2!$I47))","v":-8.2556100000000132E-2},null,null,null,null,{"$f":"+Calculations2!$H47","v":2.7518700000000003},2.0018700000000003,{"$f":"IF((OR(Calculations2!N47=\"R3\", Calculations2!N47=\"R4\", Calculations2!N47=\"R5\", Calculations2!N47=\"R6\")),Calculations2!$N$15/100*Calculations2!H47,Calculations2!$L$15/100*Calculations2!H47)","v":1.3759350000000001},{"$f":"IF((OR(Calculations2!N47=\"R6\", Calculations2!N47=\"R7\",)),$S$8/100*Calculations2!H47,Q36)","v":1.3759350000000001}]
[{"$f":"A36+Calculations2!G48","v":2.2298208599739038},{"$f":"B36+Calculations2!C48","v":3.91},{"$f":"C36+Calculations2!D48","v":0.4},4.3100000000000005,{"$f":"IF((OR(Calculations2!N48<>\"R3\", Calculations2!N48<>\"R4\", Calculations2!N48<>\"R5\", Calculations2!N48<>\"R6\", Calculations2!N48<>\"R7\")),Calculations2!$L$15/100*Calculations2!H48,Calculations2!$N$15/100*Calculations2!H48)","v":1.4037750000000002},{"$f":"IF(Calculations2!$E47=\"\",$F36+1)","v":false},{"$f":"IF(AND(Calculations2!$E47=\"\",$F37<8),Calculations2!$O48,\"\")","v":""},{"$f":"IF(AND(Calculations2!$E47=\"\",$F37<6),Calculations2!$I47-Calculations2!$O42-$I32-$I33-$I34-$I35,IF(AND(Calculations2!$E48=\"\",Calculations2!$E46<>\"\"),Calculations2!$I48,\"\"))","v":""},{"$f":"Calculations2!$O48","v":0},{"$f":"IF(AND($F37>5,$F37<>FALSE),\"\",IF(Calculations2!$E48=\"\",Calculations2!$H48-Calculations2!I48,Calculations2!$H48-Calculations2!$I48))","v":-8.4226500000000204E-2},null,null,null,null,{"$f":"+Calculations2!$H48","v":2.8075500000000004},2.0575500000000004,{"$f":"IF((OR(Calculations2!N48=\"R3\", Calculations2!N48=\"R4\", Calculations2!N48=\"R5\", Calculations2!N48=\"R6\")),Calculations2!$N$15/100*Calculations2!H48,Calculations2!$L$15/100*Calculations2!H48)","v":1.4037750000000002},{"$f":"IF((OR(Calculations2!N48=\"R6\", Calculations2!N48=\"R7\",)),$S$8/100*Calculations2!H48,Q37)","v":1.4037750000000002}]
[{"$f":"A37+Calculations2!G49","v":2.3097208599739036},{"$f":"B37+Calculations2!C49","v":4.0200000000000005},{"$f":"C37+Calculations2!D49","v":0.4},4.4200000000000008,{"$f":"IF((OR(Calculations2!N49<>\"R3\", Calculations2!N49<>\"R4\", Calculations2!N49<>\"R5\", Calculations2!N49<>\"R6\", Calculations2!N49<>\"R7\")),Calculations2!$L$15/100*Calculations2!H49,Calculations2!$N$15/100*Calculations2!H49)","v":1.4458250000000001},{"$f":"IF(Calculations2!$E48=\"\",$F37+1)","v":false},{"$f":"IF(AND(Calculations2!$E48=\"\",$F38<8),Calculations2!$O49,\"\")","v":""},{"$f":"IF(AND(Calculations2!$E48=\"\",$F38<6),Calculations2!$I48-Calculations2!$O43-$I33-$I34-$I35-$I36,IF(AND(Calculations2!$E49=\"\",Calculations2!$E47<>\"\"),Calculations2!$I49,\"\"))","v":""},{"$f":"Calculations2!$O49","v":0},{"$f":"IF(AND($F38>5,$F38<>FALSE),\"\",IF(Calculations2!$E49=\"\",Calculations2!$H49-Calculations2!I49,Calculations2!$H49-Calculations2!$I49))","v":-8.6749500000000257E-2},null,null,null,null,{"$f":"+Calculations2!$H49","v":2.8916500000000003},2.1416500000000003,{"$f":"IF((OR(Calculations2!N49=\"R3\", Calculations2!N49=\"R4\", Calculations2!N49=\"R5\", Calculations2!N49=\"R6\")),Calculations2!$N$15/100*Calculations2!H49,Calculations2!$L$15/100*Calculations2!H49)","v":1.4458250000000001},{"$f":"IF((OR(Calculations2!N49=\"R6\", Calculations2!N49=\"R7\",)),$S$8/100*Calculations2!H49,Q38)","v":1.4458250000000001}]
[{"$f":"A38+Calculations2!G50","v":2.4552508599739036},{"$f":"B38+Calculations2!C50","v":4.0200000000000005},{"$f":"C38+Calculations2!D50","v":0.4},4.4200000000000008,{"$f":"IF((OR(Calculations2!N50<>\"R3\", Calculations2!N50<>\"R4\", Calculations2!N50<>\"R5\", Calculations2!N50<>\"R6\", Calculations2!N50<>\"R7\")),Calculations2!$L$15/100*Calculations2!H50,Calculations2!$N$15/100*Calculations2!H50)","v":1.5294175000000001},{"$f":"IF(Calculations2!$E49=\"\",$F38+1)","v":false},{"$f":"IF(AND(Calculations2!$E49=\"\",$F39<8),Calculations2!$O50,\"\")","v":""},{"$f":"IF(AND(Calculations2!$E49=\"\",$F39<6),Calculations2!$I49-Calculations2!$O44-$I34-$I35-$I36-$I37,IF(AND(Calculations2!$E50=\"\",Calculations2!$E48<>\"\"),Calculations2!$I50,\"\"))","v":""},{"$f":"Calculations2!$O50","v":0},{"$f":"IF(AND($F39>5,$F39<>FALSE),\"\",IF(Calculations2!$E50=\"\",Calculations2!$H50-Calculations2!I50,Calculations2!$H50-Calculations2!$I50))","v":0.10057674999999966},null,null,null,null,{"$f":"+Calculations2!$H50","v":3.0588350000000002},2.3088350000000002,{"$f":"IF((OR(Calculations2!N50=\"R3\", Calculations2!N50=\"R4\", Calculations2!N50=\"R5\", Calculations2!N50=\"R6\")),Calculations2!$N$15/100*Calculations2!H50,Calculations2!$L$15/100*Calculations2!H50)","v":1.5294175000000001},{"$f":"IF((OR(Calculations2!N50=\"R6\", Calculations2!N50=\"R7\",)),$S$8/100*Calculations2!H50,Q39)","v":1.5294175000000001}]
[{"$f":"A39+Calculations2!G51","v":2.6502508599739034},{"$f":"B39+Calculations2!C51","v":4.0200000000000005},{"$f":"C39+Calculations2!D51","v":0.4},{"$f":"B40+C40","v":4.4200000000000008},{"$f":"IF((OR(Calculations2!N51<>\"R3\", Calculations2!N51<>\"R4\", Calculations2!N51<>\"R5\", Calculations2!N51<>\"R6\", Calculations2!N51<>\"R7\")),Calculations2!$L$15/100*Calculations2!H51,Calculations2!$N$15/100*Calculations2!H51)","v":1.57125},{"$f":"IF(Calculations2!$E50=\"\",$F39+1)","v":false},{"$f":"IF(AND(Calculations2!$E50=\"\",$F40<8),Calculations2!$O51,\"\")","v":""},{"$f":"IF(AND(Calculations2!$E50=\"\",$F40<6),Calculations2!$I50-Calculations2!$O45-$I35-$I36-$I37-$I38,IF(AND(Calculations2!$E51=\"\",Calculations2!$E49<>\"\"),Calculations2!$I51,\"\"))","v":""},{"$f":"Calculations2!$O51","v":0},{"$f":"IF(AND($F40>5,$F40<>FALSE),\"\",IF(Calculations2!$E51=\"\",Calculations2!$H51-Calculations2!I51,Calculations2!$H51-Calculations2!$I51))","v":0.31649299999999947},null,null,null,null,{"$f":"+Calculations2!$H51","v":3.1425000000000001},2.3925000000000001,{"$f":"IF((OR(Calculations2!N51=\"R3\", Calculations2!N51=\"R4\", Calculations2!N51=\"R5\", Calculations2!N51=\"R6\")),Calculations2!$N$15/100*Calculations2!H51,Calculations2!$L$15/100*Calculations2!H51)","v":1.57125},{"$f":"IF((OR(Calculations2!N51=\"R6\", Calculations2!N51=\"R7\",)),$S$8/100*Calculations2!H51,Q40)","v":1.57125}]
[{"$f":"A40+Calculations2!G52","v":2.8419258599739035},{"$f":"B40+Calculations2!C52","v":4.0200000000000005},{"$f":"C40+Calculations2!D52","v":0.4},4.4200000000000008,{"$f":"IF((OR(Calculations2!N52<>\"R3\", Calculations2!N52<>\"R4\", Calculations2!N52<>\"R5\", Calculations2!N52<>\"R6\", Calculations2!N52<>\"R7\")),Calculations2!$L$15/100*Calculations2!H52,Calculations2!$N$15/100*Calculations2!H52)","v":1.6129375000000001},{"$f":"IF(Calculations2!$E51=\"\",$F40+1)","v":false},{"$f":"IF(AND(Calculations2!$E51=\"\",$F41<8),Calculations2!$O52,\"\")","v":""},{"$f":"IF(AND(Calculations2!$E51=\"\",$F41<6),Calculations2!$I51-Calculations2!$O46-$I36-$I37-$I38-$I39,IF(AND(Calculations2!$E52=\"\",Calculations2!$E50<>\"\"),Calculations2!$I52,\"\"))","v":""},{"$f":"Calculations2!$O52","v":0},{"$f":"IF(AND($F41>5,$F41<>FALSE),\"\",IF(Calculations2!$E52=\"\",Calculations2!$H52-Calculations2!I52,Calculations2!$H52-Calculations2!$I52))","v":0.52901174999999956},null,null,null,null,{"$f":"+Calculations2!$H52","v":3.2258750000000003},2.4758750000000003,{"$f":"IF((OR(Calculations2!N52=\"R3\", Calculations2!N52=\"R4\", Calculations2!N52=\"R5\", Calculations2!N52=\"R6\")),Calculations2!$N$15/100*Calculations2!H52,Calculations2!$L$15/100*Calculations2!H52)","v":1.6129375000000001},{"$f":"IF((OR(Calculations2!N52=\"R6\", Calculations2!N52=\"R7\",)),$S$8/100*Calculations2!H52,Q41)","v":1.6129375000000001}]
[{"$f":"A41+Calculations2!G53","v":3.0529758599739036},{"$f":"B41+Calculations2!C53","v":4.0200000000000005},{"$f":"C41+Calculations2!D53","v":0.4},4.4200000000000008,{"$f":"IF((OR(Calculations2!N53<>\"R3\", Calculations2!N53<>\"R4\", Calculations2!N53<>\"R5\", Calculations2!N53<>\"R6\", Calculations2!N53<>\"R7\")),Calculations2!$L$15/100*Calculations2!H53,Calculations2!$N$15/100*Calculations2!H53)","v":1.654625},{"$f":"IF(Calculations2!$E52=\"\",$F41+1)","v":false},{"$f":"IF(AND(Calculations2!$E52=\"\",$F42<8),Calculations2!$O53,\"\")","v":""},{"$f":"IF(AND(Calculations2!$E52=\"\",$F42<6),Calculations2!$I52-Calculations2!$O47-$I37-$I38-$I39-$I40,IF(AND(Calculations2!$E53=\"\",Calculations2!$E51<>\"\"),Calculations2!$I53,\"\"))","v":""},{"$f":"Calculations2!$O53","v":0},{"$f":"IF(AND($F42>5,$F42<>FALSE),\"\",IF(Calculations2!$E53=\"\",Calculations2!$H53-Calculations2!I53,Calculations2!$H53-Calculations2!$I53))","v":0.76090549999999979},null,null,null,null,{"$f":"+Calculations2!$H53","v":3.30925},2.55925,{"$f":"IF((OR(Calculations2!N53=\"R3\", Calculations2!N53=\"R4\", Calculations2!N53=\"R5\", Calculations2!N53=\"R6\")),Calculations2!$N$15/100*Calculations2!H53,Calculations2!$L$15/100*Calculations2!H53)","v":1.654625},{"$f":"IF((OR(Calculations2!N53=\"R6\", Calculations2!N53=\"R7\",)),$S$8/100*Calculations2!H53,Q42)","v":1.654625}]
[{"$f":"A42+Calculations2!G54","v":3.2619258599739038},{"$f":"B42+Calculations2!C54","v":4.0200000000000005},{"$f":"C42+Calculations2!D54","v":0.4},4.4200000000000008,{"$f":"IF((OR(Calculations2!N54<>\"R3\", Calculations2!N54<>\"R4\", Calculations2!N54<>\"R5\", Calculations2!N54<>\"R6\", Calculations2!N54<>\"R7\")),Calculations2!$L$15/100*Calculations2!H54,Calculations2!$N$15/100*Calculations2!H54)","v":1.6903500000000002},{"$f":"IF(Calculations2!$E53=\"\",$F42+1)","v":false},{"$f":"IF(AND(Calculations2!$E53=\"\",$F43<8),Calculations2!$O54,\"\")","v":""},{"$f":"IF(AND(Calculations2!$E53=\"\",$F43<6),Calculations2!$I53-Calculations2!$O48-$I38-$I39-$I40-$I41,IF(AND(Calculations2!$E54=\"\",Calculations2!$E52<>\"\"),Calculations2!$I54,\"\"))","v":""},{"$f":"Calculations2!$O54","v":0},{"$f":"IF(AND($F43>5,$F43<>FALSE),\"\",IF(Calculations2!$E54=\"\",Calculations2!$H54-Calculations2!I54,Calculations2!$H54-Calculations2!$I54))","v":0.9877180000000001},null,null,null,null,{"$f":"+Calculations2!$H54","v":3.3807000000000005},2.6307000000000005,{"$f":"IF((OR(Calculations2!N54=\"R3\", Calculations2!N54=\"R4\", Calculations2!N54=\"R5\", Calculations2!N54=\"R6\")),Calculations2!$N$15/100*Calculations2!H54,Calculations2!$L$15/100*Calculations2!H54)","v":1.6903500000000002},{"$f":"IF((OR(Calculations2!N54=\"R6\", Calculations2!N54=\"R7\",)),$S$8/100*Calculations2!H54,Q43)","v":1.6903500000000002}]
[{"$f":"A43+Calculations2!G55","v":3.4742258599739038},{"$f":"B43+Calculations2!C55","v":4.0200000000000005},{"$f":"C43+Calculations2!D55","v":0.4},4.4200000000000008,{"$f":"IF((OR(Calculations2!N55<>\"R3\", Calculations2!N55<>\"R4\", Calculations2!N55<>\"R5\", Calculations2!N55<>\"R6\", Calculations2!N55<>\"R7\")),Calculations2!$L$15/100*Calculations2!H55,Calculations2!$N$15/100*Calculations2!H55)","v":1.7421000000000002},{"$f":"IF(Calculations2!$E54=\"\",$F43+1)","v":false},{"$f":"IF(AND(Calculations2!$E54=\"\",$F44<8),Calculations2!$O55,\"\")","v":""},{"$f":"IF(AND(Calculations2!$E54=\"\",$F44<6),Calculations2!$I54-Calculations2!$O49-$I39-$I40-$I41-$I42,IF(AND(Calculations2!$E55=\"\",Calculations2!$E53<>\"\"),Calculations2!$I55,\"\"))","v":""},{"$f":"Calculations2!$O55","v":0},{"$f":"IF(AND($F44>5,$F44<>FALSE),\"\",IF(Calculations2!$E55=\"\",Calculations2!$H55-Calculations2!I55,Calculations2!$H55-Calculations2!$I55))","v":1.2258930000000001},null,null,null,null,{"$f":"+Calculations2!$H55","v":3.4842000000000004},2.7342000000000004,{"$f":"IF((OR(Calculations2!N55=\"R3\", Calculations2!N55=\"R4\", Calculations2!N55=\"R5\", Calculations2!N55=\"R6\")),Calculations2!$N$15/100*Calculations2!H55,Calculations2!$L$15/100*Calculations2!H55)","v":1.7421000000000002},{"$f":"IF((OR(Calculations2!N55=\"R6\", Calculations2!N55=\"R7\",)),$S$8/100*Calculations2!H55,Q44)","v":1.7421000000000002}]
[{"$f":"A44+Calculations2!G56","v":3.6898258599739036},{"$f":"B44+Calculations2!C56","v":4.0200000000000005},{"$f":"C44+Calculations2!D56","v":0.4},4.4200000000000008,{"$f":"IF((OR(Calculations2!N56<>\"R3\", Calculations2!N56<>\"R4\", Calculations2!N56<>\"R5\", Calculations2!N56<>\"R6\", Calculations2!N56<>\"R7\")),Calculations2!$L$15/100*Calculations2!H56,Calculations2!$N$15/100*Calculations2!H56)","v":1.7682000000000002},{"$f":"IF(Calculations2!$E55=\"\",$F44+1)","v":false},{"$f":"IF(AND(Calculations2!$E55=\"\",$F45<8),Calculations2!$O56,\"\")","v":""},{"$f":"IF(AND(Calculations2!$E55=\"\",$F45<6),Calculations2!$I55-Calculations2!$O50-$I40-$I41-$I42-$I43,IF(AND(Calculations2!$E56=\"\",Calculations2!$E54<>\"\"),Calculations2!$I56,\"\"))","v":""},{"$f":"Calculations2!$O56","v":0},{"$f":"IF(AND($F45>5,$F45<>FALSE),\"\",IF(Calculations2!$E56=\"\",Calculations2!$H56-Calculations2!I56,Calculations2!$H56-Calculations2!$I56))","v":1.4545430000000001},null,null,null,null,{"$f":"+Calculations2!$H56","v":3.5364000000000004},2.7864000000000004,{"$f":"IF((OR(Calculations2!N56=\"R3\", Calculations2!N56=\"R4\", Calculations2!N56=\"R5\", Calculations2!N56=\"R6\")),Calculations2!$N$15/100*Calculations2!H56,Calculations2!$L$15/100*Calculations2!H56)","v":1.7682000000000002},{"$f":"IF((OR(Calculations2!N56=\"R6\", Calculations2!N56=\"R7\",)),$S$8/100*Calculations2!H56,Q45)","v":1.7682000000000002}]
[{"$f":"A45+Calculations2!G57","v":3.8933758599739035},{"$f":"B45+Calculations2!C57","v":4.0200000000000005},{"$f":"C45+Calculations2!D57","v":0.4},4.4200000000000008,{"$f":"IF((OR(Calculations2!N57<>\"R3\", Calculations2!N57<>\"R4\", Calculations2!N57<>\"R5\", Calculations2!N57<>\"R6\", Calculations2!N57<>\"R7\")),Calculations2!$L$15/100*Calculations2!H57,Calculations2!$N$15/100*Calculations2!H57)","v":1.84605},{"$f":"IF(Calculations2!$E56=\"\",$F45+1)","v":false},{"$f":"IF(AND(Calculations2!$E56=\"\",$F46<8),Calculations2!$O57,\"\")","v":""},{"$f":"IF(AND(Calculations2!$E56=\"\",$F46<6),Calculations2!$I56-Calculations2!$O51-$I41-$I42-$I43-$I44,IF(AND(Calculations2!$E57=\"\",Calculations2!$E55<>\"\"),Calculations2!$I57,\"\"))","v":""},{"$f":"Calculations2!$O57","v":0},{"$f":"IF(AND($F46>5,$F46<>FALSE),\"\",IF(Calculations2!$E57=\"\",Calculations2!$H57-Calculations2!I57,Calculations2!$H57-Calculations2!$I57))","v":1.6970179999999999},null,null,null,null,{"$f":"+Calculations2!$H57","v":3.6920999999999999},2.9420999999999999,{"$f":"IF((OR(Calculations2!N57=\"R3\", Calculations2!N57=\"R4\", Calculations2!N57=\"R5\", Calculations2!N57=\"R6\")),Calculations2!$N$15/100*Calculations2!H57,Calculations2!$L$15/100*Calculations2!H57)","v":1.84605},{"$f":"IF((OR(Calculations2!N57=\"R6\", Calculations2!N57=\"R7\",)),$S$8/100*Calculations2!H57,Q46)","v":1.84605}]
[{"$f":"A46+Calculations2!G58","v":4.1285758599739033},{"$f":"B46+Calculations2!C58","v":4.0200000000000005},{"$f":"C46+Calculations2!D58","v":1},5.0200000000000005,{"$f":"IF((OR(Calculations2!N58<>\"R3\", Calculations2!N58<>\"R4\", Calculations2!N58<>\"R5\", Calculations2!N58<>\"R6\", Calculations2!N58<>\"R7\")),Calculations2!$L$15/100*Calculations2!H58,Calculations2!$N$15/100*Calculations2!H58)","v":1.8982500000000002},{"$f":"IF(Calculations2!$E57=\"\",$F46+1)","v":false},{"$f":"IF(AND(Calculations2!$E57=\"\",$F47<8),Calculations2!$O58,\"\")","v":""},{"$f":"IF(AND(Calculations2!$E57=\"\",$F47<6),Calculations2!$I57-Calculations2!$O52-$I42-$I43-$I44-$I45,IF(AND(Calculations2!$E58=\"\",Calculations2!$E56<>\"\"),Calculations2!$I58,\"\"))","v":""},{"$f":"Calculations2!$O58","v":0},{"$f":"IF(AND($F47>5,$F47<>FALSE),\"\",IF(Calculations2!$E58=\"\",Calculations2!$H58-Calculations2!I58,Calculations2!$H58-Calculations2!$I58))","v":1.3583179999999997},null,null,null,null,{"$f":"+Calculations2!$H58","v":3.7965000000000004},3.0465000000000004,{"$f":"IF((OR(Calculations2!N58=\"R3\", Calculations2!N58=\"R4\", Calculations2!N58=\"R5\", Calculations2!N58=\"R6\")),Calculations2!$N$15/100*Calculations2!H58,Calculations2!$L$15/100*Calculations2!H58)","v":1.8982500000000002},{"$f":"IF((OR(Calculations2!N58=\"R6\", Calculations2!N58=\"R7\",)),$S$8/100*Calculations2!H58,Q47)","v":1.8982500000000002}]
[{"$f":"A47+Calculations2!G59","v":4.3757758599739036},{"$f":"B47+Calculations2!C59","v":4.0200000000000005},{"$f":"C47+Calculations2!D59","v":1},5.0200000000000005,{"$f":"IF((OR(Calculations2!N59<>\"R3\", Calculations2!N59<>\"R4\", Calculations2!N59<>\"R5\", Calculations2!N59<>\"R6\", Calculations2!N59<>\"R7\")),Calculations2!$L$15/100*Calculations2!H59,Calculations2!$N$15/100*Calculations2!H59)","v":1.9239000000000002},{"$f":"IF(Calculations2!$E58=\"\",$F47+1)","v":false},{"$f":"IF(AND(Calculations2!$E58=\"\",$F48<8),Calculations2!$O59,\"\")","v":""},{"$f":"IF(AND(Calculations2!$E58=\"\",$F48<6),Calculations2!$I58-Calculations2!$O53-$I43-$I44-$I45-$I46,IF(AND(Calculations2!$E59=\"\",Calculations2!$E57<>\"\"),Calculations2!$I59,\"\"))","v":""},{"$f":"Calculations2!$O59","v":0},{"$f":"IF(AND($F48>5,$F48<>FALSE),\"\",IF(Calculations2!$E59=\"\",Calculations2!$H59-Calculations2!I59,Calculations2!$H59-Calculations2!$I59))","v":1.6183429999999994},null,null,null,null,{"$f":"+Calculations2!$H59","v":3.8478000000000003},3.0978000000000003,{"$f":"IF((OR(Calculations2!N59=\"R3\", Calculations2!N59=\"R4\", Calculations2!N59=\"R5\", Calculations2!N59=\"R6\")),Calculations2!$N$15/100*Calculations2!H59,Calculations2!$L$15/100*Calculations2!H59)","v":1.9239000000000002},{"$f":"IF((OR(Calculations2!N59=\"R6\", Calculations2!N59=\"R7\",)),$S$8/100*Calculations2!H59,Q48)","v":1.9239000000000002}]
[{"$f":"A48+Calculations2!G60","v":4.5893758599739032},{"$f":"B48+Calculations2!C60","v":4.0200000000000005},{"$f":"C48+Calculations2!D60","v":1},5.0200000000000005,{"$f":"IF((OR(Calculations2!N60<>\"R3\", Calculations2!N60<>\"R4\", Calculations2!N60<>\"R5\", Calculations2!N60<>\"R6\", Calculations2!N60<>\"R7\")),Calculations2!$L$15/100*Calculations2!H60,Calculations2!$N$15/100*Calculations2!H60)","v":1.9500000000000002},{"$f":"IF(Calculations2!$E59=\"\",$F48+1)","v":false},{"$f":"IF(AND(Calculations2!$E59=\"\",$F49<8),Calculations2!$O60,\"\")","v":""},{"$f":"IF(AND(Calculations2!$E59=\"\",$F49<6),Calculations2!$I59-Calculations2!$O54-$I44-$I45-$I46-$I47,IF(AND(Calculations2!$E60=\"\",Calculations2!$E58<>\"\"),Calculations2!$I60,\"\"))","v":""},{"$f":"Calculations2!$O60","v":0},{"$f":"IF(AND($F49>5,$F49<>FALSE),\"\",IF(Calculations2!$E60=\"\",Calculations2!$H60-Calculations2!I60,Calculations2!$H60-Calculations2!$I60))","v":1.8449929999999997},null,null,null,null,{"$f":"+Calculations2!$H60","v":3.9000000000000004},3.1500000000000004,{"$f":"IF((OR(Calculations2!N60=\"R3\", Calculations2!N60=\"R4\", Calculations2!N60=\"R5\", Calculations2!N60=\"R6\")),Calculations2!$N$15/100*Calculations2!H60,Calculations2!$L$15/100*Calculations2!H60)","v":1.9500000000000002},{"$f":"IF((OR(Calculations2!N60=\"R6\", Calculations2!N60=\"R7\",)),$S$8/100*Calculations2!H60,Q49)","v":1.9500000000000002}]
[{"$f":"A49+Calculations2!G61","v":4.8137758599739033},{"$f":"B49+Calculations2!C61","v":4.0200000000000005},{"$f":"C49+Calculations2!D61","v":1},5.0200000000000005,{"$f":"IF((OR(Calculations2!N61<>\"R3\", Calculations2!N61<>\"R4\", Calculations2!N61<>\"R5\", Calculations2!N61<>\"R6\", Calculations2!N61<>\"R7\")),Calculations2!$L$15/100*Calculations2!H61,Calculations2!$N$15/100*Calculations2!H61)","v":1.9500000000000002},{"$f":"IF(Calculations2!$E60=\"\",$F49+1)","v":false},{"$f":"IF(AND(Calculations2!$E60=\"\",$F50<8),Calculations2!$O61,\"\")","v":""},{"$f":"IF(AND(Calculations2!$E60=\"\",$F50<6),Calculations2!$I60-Calculations2!$O55-$I45-$I46-$I47-$I48,IF(AND(Calculations2!$E61=\"\",Calculations2!$E59<>\"\"),Calculations2!$I61,\"\"))","v":""},{"$f":"Calculations2!$O61","v":0},{"$f":"IF(AND($F50>5,$F50<>FALSE),\"\",IF(Calculations2!$E61=\"\",Calculations2!$H61-Calculations2!I61,Calculations2!$H61-Calculations2!$I61))","v":2.0693929999999998},null,null,null,null,{"$f":"+Calculations2!$H61","v":3.9000000000000004},3.1500000000000004,{"$f":"IF((OR(Calculations2!N61=\"R3\", Calculations2!N61=\"R4\", Calculations2!N61=\"R5\", Calculations2!N61=\"R6\")),Calculations2!$N$15/100*Calculations2!H61,Calculations2!$L$15/100*Calculations2!H61)","v":1.9500000000000002},{"$f":"IF((OR(Calculations2!N61=\"R6\", Calculations2!N61=\"R7\",)),$S$8/100*Calculations2!H61,Q50)","v":1.9500000000000002}]
[{"$f":"A50+Calculations2!G62","v":5.0503466107431345},{"$f":"B50+Calculations2!C62","v":5.0200000000000005},{"$f":"C50+Calculations2!D62","v":1},6.0200000000000005,{"$f":"IF((OR(Calculations2!N62<>\"R3\", Calculations2!N62<>\"R4\", Calculations2!N62<>\"R5\", Calculations2!N62<>\"R6\", Calculations2!N62<>\"R7\")),Calculations2!$L$15/100*Calculations2!H62,Calculations2!$N$15/100*Calculations2!H62)","v":1.9500000000000002},{"$f":"IF(Calculations2!$E61=\"\",$F50+1)","v":false},{"$f":"IF(AND(Calculations2!$E61=\"\",$F51<8),Calculations2!$O62,\"\")","v":""},{"$f":"IF(AND(Calculations2!$E61=\"\",$F51<6),Calculations2!$I61-Calculations2!$O56-$I46-$I47-$I48-$I49,IF(AND(Calculations2!$E62=\"\",Calculations2!$E60<>\"\"),Calculations2!$I62,\"\"))","v":""},{"$f":"Calculations2!$O62","v":0},{"$f":"IF(AND($F51>5,$F51<>FALSE),\"\",IF(Calculations2!$E62=\"\",Calculations2!$H62-Calculations2!I62,Calculations2!$H62-Calculations2!$I62))","v":1.3059637507692305},null,null,null,null,{"$f":"+Calculations2!$H62","v":3.9000000000000004},3.1500000000000004,{"$f":"IF((OR(Calculations2!N62=\"R3\", Calculations2!N62=\"R4\", Calculations2!N62=\"R5\", Calculations2!N62=\"R6\")),Calculations2!$N$15/100*Calculations2!H62,Calculations2!$L$15/100*Calculations2!H62)","v":1.9500000000000002},{"$f":"IF((OR(Calculations2!N62=\"R6\", Calculations2!N62=\"R7\",)),$S$8/100*Calculations2!H62,Q51)","v":1.9500000000000002}]
[{"$f":"A51+Calculations2!G63","v":5.1319466107431344},{"$f":"B51+Calculations2!C63","v":5.0200000000000005},{"$f":"C51+Calculations2!D63","v":1},6.0200000000000005,{"$f":"IF((OR(Calculations2!N63<>\"R3\", Calculations2!N63<>\"R4\", Calculations2!N63<>\"R5\", Calculations2!N63<>\"R6\", Calculations2!N63<>\"R7\")),Calculations2!$L$15/100*Calculations2!H63,Calculations2!$N$15/100*Calculations2!H63)","v":1.9500000000000002},{"$f":"IF(Calculations2!$E62=\"\",$F51+1)","v":false},{"$f":"IF(AND(Calculations2!$E62=\"\",$F52<8),Calculations2!$O63,\"\")","v":""},{"$f":"IF(AND(Calculations2!$E62=\"\",$F52<6),Calculations2!$I62-Calculations2!$O57-$I47-$I48-$I49-$I50,IF(AND(Calculations2!$E63=\"\",Calculations2!$E61<>\"\"),Calculations2!$I63,\"\"))","v":""},{"$f":"Calculations2!$O63","v":0},{"$f":"IF(AND($F52>5,$F52<>FALSE),\"\",IF(Calculations2!$E63=\"\",Calculations2!$H63-Calculations2!I63,Calculations2!$H63-Calculations2!$I63))","v":1.3875637507692304},null,null,null,null,{"$f":"+Calculations2!$H63","v":3.9000000000000004},3.1500000000000004,{"$f":"IF((OR(Calculations2!N63=\"R3\", Calculations2!N63=\"R4\", Calculations2!N63=\"R5\", Calculations2!N63=\"R6\")),Calculations2!$N$15/100*Calculations2!H63,Calculations2!$L$15/100*Calculations2!H63)","v":1.9500000000000002},{"$f":"IF((OR(Calculations2!N63=\"R6\", Calculations2!N63=\"R7\",)),$S$8/100*Calculations2!H63,Q52)","v":1.9500000000000002}]
[{"$f":"A52+Calculations2!G64","v":5.3491466107431345},{"$f":"B52+Calculations2!C64","v":5.0200000000000005},{"$f":"C52+Calculations2!D64","v":1},6.0200000000000005,{"$f":"IF((OR(Calculations2!N64<>\"R3\", Calculations2!N64<>\"R4\", Calculations2!N64<>\"R5\", Calculations2!N64<>\"R6\", Calculations2!N64<>\"R7\")),Calculations2!$L$15/100*Calculations2!H64,Calculations2!$N$15/100*Calculations2!H64)","v":1.9500000000000002},{"$f":"IF(Calculations2!$E63=\"\",$F52+1)","v":false},{"$f":"IF(AND(Calculations2!$E63=\"\",$F53<8),Calculations2!$O64,\"\")","v":""},{"$f":"IF(AND(Calculations2!$E63=\"\",$F53<6),Calculations2!$I63-Calculations2!$O58-$I48-$I49-$I50-$I51,IF(AND(Calculations2!$E64=\"\",Calculations2!$E62<>\"\"),Calculations2!$I64,\"\"))","v":""},{"$f":"Calculations2!$O64","v":0},{"$f":"IF(AND($F53>5,$F53<>FALSE),\"\",IF(Calculations2!$E64=\"\",Calculations2!$H64-Calculations2!I64,Calculations2!$H64-Calculations2!$I64))","v":1.6047637507692305},null,null,null,null,{"$f":"+Calculations2!$H64","v":3.9000000000000004},3.1500000000000004,{"$f":"IF((OR(Calculations2!N64=\"R3\", Calculations2!N64=\"R4\", Calculations2!N64=\"R5\", Calculations2!N64=\"R6\")),Calculations2!$N$15/100*Calculations2!H64,Calculations2!$L$15/100*Calculations2!H64)","v":1.9500000000000002},{"$f":"IF((OR(Calculations2!N64=\"R6\", Calculations2!N64=\"R7\",)),$S$8/100*Calculations2!H64,Q53)","v":1.9500000000000002}]
[{"$f":"A53+Calculations2!G65","v":5.5555466107431348},{"$f":"B53+Calculations2!C65","v":5.0200000000000005},{"$f":"C53+Calculations2!D65","v":1},6.0200000000000005,{"$f":"IF((OR(Calculations2!N65<>\"R3\", Calculations2!N65<>\"R4\", Calculations2!N65<>\"R5\", Calculations2!N65<>\"R6\", Calculations2!N65<>\"R7\")),Calculations2!$L$15/100*Calculations2!H65,Calculations2!$N$15/100*Calculations2!H65)","v":1.9500000000000002},{"$f":"IF(Calculations2!$E64=\"\",$F53+1)","v":false},{"$f":"IF(AND(Calculations2!$E64=\"\",$F54<8),Calculations2!$O65,\"\")","v":""},{"$f":"IF(AND(Calculations2!$E64=\"\",$F54<6),Calculations2!$I64-Calculations2!$O59-$I49-$I50-$I51-$I52,IF(AND(Calculations2!$E65=\"\",Calculations2!$E63<>\"\"),Calculations2!$I65,\"\"))","v":""},{"$f":"Calculations2!$O65","v":0},{"$f":"IF(AND($F54>5,$F54<>FALSE),\"\",IF(Calculations2!$E65=\"\",Calculations2!$H65-Calculations2!I65,Calculations2!$H65-Calculations2!$I65))","v":1.8111637507692304},{"$f":"+H53-H54","v":{"$error":"#VALUE!"}},null,null,null,{"$f":"+Calculations2!$H65","v":3.9000000000000004},3.1500000000000004,{"$f":"IF((OR(Calculations2!N65=\"R3\", Calculations2!N65=\"R4\", Calculations2!N65=\"R5\", Calculations2!N65=\"R6\")),Calculations2!$N$15/100*Calculations2!H65,Calculations2!$L$15/100*Calculations2!H65)","v":1.9500000000000002},{"$f":"IF((OR(Calculations2!N65=\"R6\", Calculations2!N65=\"R7\",)),$S$8/100*Calculations2!H65,Q54)","v":1.9500000000000002}]
[{"$f":"A54+Calculations2!G66","v":5.7523466107431345},{"$f":"B54+Calculations2!C66","v":5.0200000000000005},{"$f":"C54+Calculations2!D66","v":1},6.0200000000000005,{"$f":"IF((OR(Calculations2!N66<>\"R3\", Calculations2!N66<>\"R4\", Calculations2!N66<>\"R5\", Calculations2!N66<>\"R6\", Calculations2!N66<>\"R7\")),Calculations2!$L$15/100*Calculations2!H66,Calculations2!$N$15/100*Calculations2!H66)","v":1.9500000000000002},{"$f":"IF(Calculations2!$E65=\"\",$F54+1)","v":false},{"$f":"IF(AND(Calculations2!$E65=\"\",$F55<8),Calculations2!$O66,\"\")","v":""},{"$f":"IF(AND(Calculations2!$E65=\"\",$F55<6),Calculations2!$I65-Calculations2!$O60-$I50-$I51-$I52-$I53,IF(AND(Calculations2!$E66=\"\",Calculations2!$E64<>\"\"),Calculations2!$I66,\"\"))","v":""},{"$f":"Calculations2!$O66","v":0},{"$f":"IF(AND($F55>5,$F55<>FALSE),\"\",IF(Calculations2!$E66=\"\",Calculations2!$H66-Calculations2!I66,Calculations2!$H66-Calculations2!$I66))","v":2.0079637507692305},{"$f":"+H54-H55","v":{"$error":"#VALUE!"}},null,null,null,{"$f":"+Calculations2!$H66","v":3.9000000000000004},3.1500000000000004,{"$f":"IF((OR(Calculations2!N66=\"R3\", Calculations2!N66=\"R4\", Calculations2!N66=\"R5\", Calculations2!N66=\"R6\")),Calculations2!$N$15/100*Calculations2!H66,Calculations2!$L$15/100*Calculations2!H66)","v":1.9500000000000002},{"$f":"IF((OR(Calculations2!N66=\"R6\", Calculations2!N66=\"R7\",)),$S$8/100*Calculations2!H66,Q55)","v":1.9500000000000002}]
[{"$f":"A55+Calculations2!G67","v":5.9409680706664485},{"$f":"B55+Calculations2!C67","v":5.0200000000000005},{"$f":"C55+Calculations2!D67","v":1},6.0200000000000005,{"$f":"IF((OR(Calculations2!N67<>\"R3\", Calculations2!N67<>\"R4\", Calculations2!N67<>\"R5\", Calculations2!N67<>\"R6\", Calculations2!N67<>\"R7\")),Calculations2!$L$15/100*Calculations2!H67,Calculations2!$N$15/100*Calculations2!H67)","v":1.9500000000000002},{"$f":"IF(Calculations2!$E66=\"\",$F55+1)","v":false},{"$f":"IF(AND(Calculations2!$E66=\"\",$F56<8),Calculations2!$O67,\"\")","v":""},{"$f":"IF(AND(Calculations2!$E66=\"\",$F56<6),Calculations2!$I66-Calculations2!$O61-$I51-$I52-$I53-$I54,IF(AND(Calculations2!$E67=\"\",Calculations2!$E65<>\"\"),Calculations2!$I67,\"\"))","v":""},{"$f":"Calculations2!$O67","v":0},{"$f":"IF(AND($F56>5,$F56<>FALSE),\"\",IF(Calculations2!$E67=\"\",Calculations2!$H67-Calculations2!I67,Calculations2!$H67-Calculations2!$I67))","v":2.1965852106925441},{"$f":"+H55-H56","v":{"$error":"#VALUE!"}},null,null,null,{"$f":"+Calculations2!$H67","v":3.9000000000000004},3.1500000000000004,{"$f":"IF((OR(Calculations2!N67=\"R3\", Calculations2!N67=\"R4\", Calculations2!N67=\"R5\", Calculations2!N67=\"R6\")),Calculations2!$N$15/100*Calculations2!H67,Calculations2!$L$15/100*Calculations2!H67)","v":1.9500000000000002},{"$f":"IF((OR(Calculations2!N67=\"R6\", Calculations2!N67=\"R7\",)),$S$8/100*Calculations2!H67,Q56)","v":1.9500000000000002}]
[{"$f":"A56+Calculations2!G68","v":6.1086889114597982},{"$f":"B56+Calculations2!C68","v":6.82},{"$f":"C56+Calculations2!D68","v":1},7.82,{"$f":"IF((OR(Calculations2!N68<>\"R3\", Calculations2!N68<>\"R4\", Calculations2!N68<>\"R5\", Calculations2!N68<>\"R6\", Calculations2!N68<>\"R7\")),Calculations2!$L$15/100*Calculations2!H68,Calculations2!$N$15/100*Calculations2!H68)","v":1.9500000000000002},{"$f":"IF(Calculations2!$E67=\"\",$F56+1)","v":false},{"$f":"IF(AND(Calculations2!$E67=\"\",$F57<8),Calculations2!$O68,\"\")","v":""},{"$f":"IF(AND(Calculations2!$E67=\"\",$F57<6),Calculations2!$I67-Calculations2!$O62-$I52-$I53-$I54-$I55,IF(AND(Calculations2!$E68=\"\",Calculations2!$E66<>\"\"),Calculations2!$I68,\"\"))","v":""},{"$f":"Calculations2!$O68","v":0},{"$f":"IF(AND($F57>5,$F57<>FALSE),\"\",IF(Calculations2!$E68=\"\",Calculations2!$H68-Calculations2!I68,Calculations2!$H68-Calculations2!$I68))","v":0.56430605148589397},{"$f":"+H56-H57","v":{"$error":"#VALUE!"}},null,null,null,{"$f":"+Calculations2!$H68","v":3.9000000000000004},3.1500000000000004,{"$f":"IF((OR(Calculations2!N68=\"R3\", Calculations2!N68=\"R4\", Calculations2!N68=\"R5\", Calculations2!N68=\"R6\")),Calculations2!$N$15/100*Calculations2!H68,Calculations2!$L$15/100*Calculations2!H68)","v":1.9500000000000002},{"$f":"IF((OR(Calculations2!N68=\"R6\", Calculations2!N68=\"R7\",)),$S$8/100*Calculations2!H68,Q57)","v":1.9500000000000002}]
[{"$f":"A57+Calculations2!G69","v":6.1950889114597985},{"$f":"B57+Calculations2!C69","v":6.82},{"$f":"C57+Calculations2!D69","v":1},7.82,{"$f":"IF((OR(Calculations2!N69<>\"R3\", Calculations2!N69<>\"R4\", Calculations2!N69<>\"R5\", Calculations2!N69<>\"R6\", Calculations2!N69<>\"R7\")),Calculations2!$L$15/100*Calculations2!H69,Calculations2!$N$15/100*Calculations2!H69)","v":1.9500000000000002},{"$f":"IF(Calculations2!$E68=\"\",$F57+1)","v":false},{"$f":"IF(AND(Calculations2!$E68=\"\",$F58<8),Calculations2!$O69,\"\")","v":""},{"$f":"IF(AND(Calculations2!$E68=\"\",$F58<6),Calculations2!$I68-Calculations2!$O63-$I53-$I54-$I55-$I56,IF(AND(Calculations2!$E69=\"\",Calculations2!$E67<>\"\"),Calculations2!$I69,\"\"))","v":""},{"$f":"Calculations2!$O69","v":0},{"$f":"IF(AND($F58>5,$F58<>FALSE),\"\",IF(Calculations2!$E69=\"\",Calculations2!$H69-Calculations2!I69,Calculations2!$H69-Calculations2!$I69))","v":0.65070605148589378},null,null,null,null,{"$f":"+Calculations2!$H69","v":3.9000000000000004},3.1500000000000004,{"$f":"IF((OR(Calculations2!N69=\"R3\", Calculations2!N69=\"R4\", Calculations2!N69=\"R5\", Calculations2!N69=\"R6\")),Calculations2!$N$15/100*Calculations2!H69,Calculations2!$L$15/100*Calculations2!H69)","v":1.9500000000000002},{"$f":"IF((OR(Calculations2!N69=\"R6\", Calculations2!N69=\"R7\",)),$S$8/100*Calculations2!H69,Q58)","v":1.9500000000000002}]
[{"$f":"A58+Calculations2!G70","v":6.4122889114597985},{"$f":"B58+Calculations2!C70","v":6.82},{"$f":"C58+Calculations2!D70","v":1},7.82,{"$f":"IF((OR(Calculations2!N70<>\"R3\", Calculations2!N70<>\"R4\", Calculations2!N70<>\"R5\", Calculations2!N70<>\"R6\", Calculations2!N70<>\"R7\")),Calculations2!$L$15/100*Calculations2!H70,Calculations2!$N$15/100*Calculations2!H70)","v":1.9500000000000002},{"$f":"IF(Calculations2!$E69=\"\",$F58+1)","v":false},{"$f":"IF(AND(Calculations2!$E69=\"\",$F59<8),Calculations2!$O70,\"\")","v":""},{"$f":"IF(AND(Calculations2!$E69=\"\",$F59<6),Calculations2!$I69-Calculations2!$O64-$I54-$I55-$I56-$I57,IF(AND(Calculations2!$E70=\"\",Calculations2!$E68<>\"\"),Calculations2!$I70,\"\"))","v":""},{"$f":"Calculations2!$O70","v":0},{"$f":"IF(AND($F59>5,$F59<>FALSE),\"\",IF(Calculations2!$E70=\"\",Calculations2!$H70-Calculations2!I70,Calculations2!$H70-Calculations2!$I70))","v":0.86790605148589384},null,null,null,null,{"$f":"+Calculations2!$H70","v":3.9000000000000004},3.1500000000000004,{"$f":"IF((OR(Calculations2!N70=\"R3\", Calculations2!N70=\"R4\", Calculations2!N70=\"R5\", Calculations2!N70=\"R6\")),Calculations2!$N$15/100*Calculations2!H70,Calculations2!$L$15/100*Calculations2!H70)","v":1.9500000000000002},{"$f":"IF((OR(Calculations2!N70=\"R6\", Calculations2!N70=\"R7\",)),$S$8/100*Calculations2!H70,Q59)","v":1.9500000000000002}]
[{"$f":"A59+Calculations2!G71","v":6.5970889114597986},{"$f":"B59+Calculations2!C71","v":6.92},{"$f":"C59+Calculations2!D71","v":1},7.92,{"$f":"IF((OR(Calculations2!N71<>\"R3\", Calculations2!N71<>\"R4\", Calculations2!N71<>\"R5\", Calculations2!N71<>\"R6\", Calculations2!N71<>\"R7\")),Calculations2!$L$15/100*Calculations2!H71,Calculations2!$N$15/100*Calculations2!H71)","v":1.9500000000000002},{"$f":"IF(Calculations2!$E70=\"\",$F59+1)","v":false},{"$f":"IF(AND(Calculations2!$E70=\"\",$F60<8),Calculations2!$O71,\"\")","v":""},{"$f":"IF(AND(Calculations2!$E70=\"\",$F60<6),Calculations2!$I70-Calculations2!$O65-$I55-$I56-$I57-$I58,IF(AND(Calculations2!$E71=\"\",Calculations2!$E69<>\"\"),Calculations2!$I71,\"\"))","v":""},{"$f":"Calculations2!$O71","v":0},{"$f":"IF(AND($F60>5,$F60<>FALSE),\"\",IF(Calculations2!$E71=\"\",Calculations2!$H71-Calculations2!I71,Calculations2!$H71-Calculations2!$I71))","v":0.95270605148589382},null,null,null,null,{"$f":"+Calculations2!$H71","v":3.9000000000000004},3.1500000000000004,{"$f":"IF((OR(Calculations2!N71=\"R3\", Calculations2!N71=\"R4\", Calculations2!N71=\"R5\", Calculations2!N71=\"R6\")),Calculations2!$N$15/100*Calculations2!H71,Calculations2!$L$15/100*Calculations2!H71)","v":1.9500000000000002},{"$f":"IF((OR(Calculations2!N71=\"R6\", Calculations2!N71=\"R7\",)),$S$8/100*Calculations2!H71,Q60)","v":1.9500000000000002}]
[{"$f":"A60+Calculations2!G72","v":6.6774889114597986},{"$f":"B60+Calculations2!C72","v":6.92},{"$f":"C60+Calculations2!D72","v":1},7.92,{"$f":"IF((OR(Calculations2!N72<>\"R3\", Calculations2!N72<>\"R4\", Calculations2!N72<>\"R5\", Calculations2!N72<>\"R6\", Calculations2!N72<>\"R7\")),Calculations2!$L$15/100*Calculations2!H72,Calculations2!$N$15/100*Calculations2!H72)","v":1.9500000000000002},{"$f":"IF(Calculations2!$E71=\"\",$F60+1)","v":false},{"$f":"IF(AND(Calculations2!$E71=\"\",$F61<8),Calculations2!$O72,\"\")","v":""},{"$f":"IF(AND(Calculations2!$E71=\"\",$F61<6),Calculations2!$I71-Calculations2!$O66-$I56-$I57-$I58-$I59,IF(AND(Calculations2!$E72=\"\",Calculations2!$E70<>\"\"),Calculations2!$I72,\"\"))","v":""},{"$f":"Calculations2!$O72","v":0},{"$f":"IF(AND($F61>5,$F61<>FALSE),\"\",IF(Calculations2!$E72=\"\",Calculations2!$H72-Calculations2!I72,Calculations2!$H72-Calculations2!$I72))","v":1.0331060514858939},null,null,null,null,{"$f":"+Calculations2!$H72","v":3.9000000000000004},3.1500000000000004,{"$f":"IF((OR(Calculations2!N72=\"R3\", Calculations2!N72=\"R4\", Calculations2!N72=\"R5\", Calculations2!N72=\"R6\")),Calculations2!$N$15/100*Calculations2!H72,Calculations2!$L$15/100*Calculations2!H72)","v":1.9500000000000002},{"$f":"IF((OR(Calculations2!N72=\"R6\", Calculations2!N72=\"R7\",)),$S$8/100*Calculations2!H72,Q61)","v":1.9500000000000002}]
[{"$f":"A61+Calculations2!G73","v":6.8778889114597987},{"$f":"B61+Calculations2!C73","v":6.92},{"$f":"C61+Calculations2!D73","v":1},7.92,{"$f":"IF((OR(Calculations2!N73<>\"R3\", Calculations2!N73<>\"R4\", Calculations2!N73<>\"R5\", Calculations2!N73<>\"R6\", Calculations2!N73<>\"R7\")),Calculations2!$L$15/100*Calculations2!H73,Calculations2!$N$15/100*Calculations2!H73)","v":1.9500000000000002},{"$f":"IF(Calculations2!$E72=\"\",$F61+1)","v":false},{"$f":"IF(AND(Calculations2!$E72=\"\",$F62<8),Calculations2!$O73,\"\")","v":""},{"$f":"IF(AND(Calculations2!$E72=\"\",$F62<6),Calculations2!$I72-Calculations2!$O67-$I57-$I58-$I59-$I60,IF(AND(Calculations2!$E73=\"\",Calculations2!$E71<>\"\"),Calculations2!$I73,\"\"))","v":""},{"$f":"Calculations2!$O73","v":0},{"$f":"IF(AND($F62>5,$F62<>FALSE),\"\",IF(Calculations2!$E73=\"\",Calculations2!$H73-Calculations2!I73,Calculations2!$H73-Calculations2!$I73))","v":1.233506051485894},null,null,null,null,{"$f":"+Calculations2!$H73","v":3.9000000000000004},3.1500000000000004,{"$f":"IF((OR(Calculations2!N73=\"R3\", Calculations2!N73=\"R4\", Calculations2!N73=\"R5\", Calculations2!N73=\"R6\")),Calculations2!$N$15/100*Calculations2!H73,Calculations2!$L$15/100*Calculations2!H73)","v":1.9500000000000002},{"$f":"IF((OR(Calculations2!N73=\"R6\", Calculations2!N73=\"R7\",)),$S$8/100*Calculations2!H73,Q62)","v":1.9500000000000002}]
[{"$f":"A62+Calculations2!G74","v":7.0170889114597985},{"$f":"B62+Calculations2!C74","v":6.92},{"$f":"C62+Calculations2!D74","v":1},7.92,{"$f":"IF((OR(Calculations2!N74<>\"R3\", Calculations2!N74<>\"R4\", Calculations2!N74<>\"R5\", Calculations2!N74<>\"R6\", Calculations2!N74<>\"R7\")),Calculations2!$L$15/100*Calculations2!H74,Calculations2!$N$15/100*Calculations2!H74)","v":1.9500000000000002},{"$f":"IF(Calculations2!$E73=\"\",$F62+1)","v":false},{"$f":"IF(AND(Calculations2!$E73=\"\",$F63<8),Calculations2!$O74,\"\")","v":""},{"$f":"IF(AND(Calculations2!$E73=\"\",$F63<6),Calculations2!$I73-Calculations2!$O68-$I58-$I59-$I60-$I61,IF(AND(Calculations2!$E74=\"\",Calculations2!$E72<>\"\"),Calculations2!$I74,\"\"))","v":""},{"$f":"Calculations2!$O74","v":0},{"$f":"IF(AND($F63>5,$F63<>FALSE),\"\",IF(Calculations2!$E74=\"\",Calculations2!$H74-Calculations2!I74,Calculations2!$H74-Calculations2!$I74))","v":1.3727060514858938},null,null,null,null,{"$f":"+Calculations2!$H74","v":3.9000000000000004},3.1500000000000004,{"$f":"IF((OR(Calculations2!N74=\"R3\", Calculations2!N74=\"R4\", Calculations2!N74=\"R5\", Calculations2!N74=\"R6\")),Calculations2!$N$15/100*Calculations2!H74,Calculations2!$L$15/100*Calculations2!H74)","v":1.9500000000000002},{"$f":"IF((OR(Calculations2!N74=\"R6\", Calculations2!N74=\"R7\",)),$S$8/100*Calculations2!H74,Q63)","v":1.9500000000000002}]
[{"$f":"A63+Calculations2!G75","v":7.1514889114597988},{"$f":"B63+Calculations2!C75","v":6.92},{"$f":"C63+Calculations2!D75","v":1},7.92,{"$f":"IF((OR(Calculations2!N75<>\"R3\", Calculations2!N75<>\"R4\", Calculations2!N75<>\"R5\", Calculations2!N75<>\"R6\", Calculations2!N75<>\"R7\")),Calculations2!$L$15/100*Calculations2!H75,Calculations2!$N$15/100*Calculations2!H75)","v":1.9500000000000002},{"$f":"IF(Calculations2!$E74=\"\",$F63+1)","v":false},{"$f":"IF(AND(Calculations2!$E74=\"\",$F64<8),Calculations2!$O75,\"\")","v":""},{"$f":"IF(AND(Calculations2!$E74=\"\",$F64<6),Calculations2!$I74-Calculations2!$O69-$I59-$I60-$I61-$I62,IF(AND(Calculations2!$E75=\"\",Calculations2!$E73<>\"\"),Calculations2!$I75,\"\"))","v":""},{"$f":"Calculations2!$O75","v":0},{"$f":"IF(AND($F64>5,$F64<>FALSE),\"\",IF(Calculations2!$E75=\"\",Calculations2!$H75-Calculations2!I75,Calculations2!$H75-Calculations2!$I75))","v":1.5071060514858936},null,null,null,null,{"$f":"+Calculations2!$H75","v":3.9000000000000004},3.1500000000000004,{"$f":"IF((OR(Calculations2!N75=\"R3\", Calculations2!N75=\"R4\", Calculations2!N75=\"R5\", Calculations2!N75=\"R6\")),Calculations2!$N$15/100*Calculations2!H75,Calculations2!$L$15/100*Calculations2!H75)","v":1.9500000000000002},{"$f":"IF((OR(Calculations2!N75=\"R6\", Calculations2!N75=\"R7\",)),$S$8/100*Calculations2!H75,Q64)","v":1.9500000000000002}]
[{"$f":"A64+Calculations2!G76","v":7.3686889114597989},{"$f":"B64+Calculations2!C76","v":6.92},{"$f":"C64+Calculations2!D76","v":1},7.92,{"$f":"IF((OR(Calculations2!N76<>\"R3\", Calculations2!N76<>\"R4\", Calculations2!N76<>\"R5\", Calculations2!N76<>\"R6\", Calculations2!N76<>\"R7\")),Calculations2!$L$15/100*Calculations2!H76,Calculations2!$N$15/100*Calculations2!H76)","v":1.9500000000000002},{"$f":"IF(Calculations2!$E75=\"\",$F64+1)","v":false},{"$f":"IF(AND(Calculations2!$E75=\"\",$F65<8),Calculations2!$O76,\"\")","v":""},{"$f":"IF(AND(Calculations2!$E75=\"\",$F65<6),Calculations2!$I75-Calculations2!$O70-$I60-$I61-$I62-$I63,IF(AND(Calculations2!$E76=\"\",Calculations2!$E74<>\"\"),Calculations2!$I76,\"\"))","v":""},{"$f":"Calculations2!$O76","v":0},{"$f":"IF(AND($F65>5,$F65<>FALSE),\"\",IF(Calculations2!$E76=\"\",Calculations2!$H76-Calculations2!I76,Calculations2!$H76-Calculations2!$I76))","v":1.7243060514858937},null,null,null,null,{"$f":"+Calculations2!$H76","v":3.9000000000000004},3.1500000000000004,{"$f":"IF((OR(Calculations2!N76=\"R3\", Calculations2!N76=\"R4\", Calculations2!N76=\"R5\", Calculations2!N76=\"R6\")),Calculations2!$N$15/100*Calculations2!H76,Calculations2!$L$15/100*Calculations2!H76)","v":1.9500000000000002},{"$f":"IF((OR(Calculations2!N76=\"R6\", Calculations2!N76=\"R7\",)),$S$8/100*Calculations2!H76,Q65)","v":1.9500000000000002}]
[{"$f":"A65+Calculations2!G77","v":7.5858889114597989},{"$f":"B65+Calculations2!C77","v":6.92},{"$f":"C65+Calculations2!D77","v":1},7.92,{"$f":"IF((OR(Calculations2!N77<>\"R3\", Calculations2!N77<>\"R4\", Calculations2!N77<>\"R5\", Calculations2!N77<>\"R6\", Calculations2!N77<>\"R7\")),Calculations2!$L$15/100*Calculations2!H77,Calculations2!$N$15/100*Calculations2!H77)","v":1.9500000000000002},{"$f":"IF(Calculations2!$E76=\"\",$F65+1)","v":false},{"$f":"IF(AND(Calculations2!$E76=\"\",$F66<8),Calculations2!$O77,\"\")","v":""},{"$f":"IF(AND(Calculations2!$E76=\"\",$F66<6),Calculations2!$I76-Calculations2!$O71-$I61-$I62-$I63-$I64,IF(AND(Calculations2!$E77=\"\",Calculations2!$E75<>\"\"),Calculations2!$I77,\"\"))","v":""},{"$f":"Calculations2!$O77","v":0},{"$f":"IF(AND($F66>5,$F66<>FALSE),\"\",IF(Calculations2!$E77=\"\",Calculations2!$H77-Calculations2!I77,Calculations2!$H77-Calculations2!$I77))","v":1.9415060514858937},null,null,null,null,{"$f":"+Calculations2!$H77","v":3.9000000000000004},3.1500000000000004,{"$f":"IF((OR(Calculations2!N77=\"R3\", Calculations2!N77=\"R4\", Calculations2!N77=\"R5\", Calculations2!N77=\"R6\")),Calculations2!$N$15/100*Calculations2!H77,Calculations2!$L$15/100*Calculations2!H77)","v":1.9500000000000002},{"$f":"IF((OR(Calculations2!N77=\"R6\", Calculations2!N77=\"R7\",)),$S$8/100*Calculations2!H77,Q66)","v":1.9500000000000002}]
[{"$f":"A66+Calculations2!G78","v":7.7874889114597989},{"$f":"B66+Calculations2!C78","v":6.92},{"$f":"C66+Calculations2!D78","v":1},7.92,{"$f":"IF((OR(Calculations2!N78<>\"R3\", Calculations2!N78<>\"R4\", Calculations2!N78<>\"R5\", Calculations2!N78<>\"R6\", Calculations2!N78<>\"R7\")),Calculations2!$L$15/100*Calculations2!H78,Calculations2!$N$15/100*Calculations2!H78)","v":1.9500000000000002},{"$f":"IF(Calculations2!$E77=\"\",$F66+1)","v":false},{"$f":"IF(AND(Calculations2!$E77=\"\",$F67<8),Calculations2!$O78,\"\")","v":""},{"$f":"IF(AND(Calculations2!$E77=\"\",$F67<6),Calculations2!$I77-Calculations2!$O72-$I62-$I63-$I64-$I65,IF(AND(Calculations2!$E78=\"\",Calculations2!$E76<>\"\"),Calculations2!$I78,\"\"))","v":""},{"$f":"Calculations2!$O78","v":0},{"$f":"IF(AND($F67>5,$F67<>FALSE),\"\",IF(Calculations2!$E78=\"\",Calculations2!$H78-Calculations2!I78,Calculations2!$H78-Calculations2!$I78))","v":2.1431060514858937},null,null,null,null,{"$f":"+Calculations2!$H78","v":3.9000000000000004},3.1500000000000004,{"$f":"IF((OR(Calculations2!N78=\"R3\", Calculations2!N78=\"R4\", Calculations2!N78=\"R5\", Calculations2!N78=\"R6\")),Calculations2!$N$15/100*Calculations2!H78,Calculations2!$L$15/100*Calculations2!H78)","v":1.9500000000000002},{"$f":"IF((OR(Calculations2!N78=\"R6\", Calculations2!N78=\"R7\",)),$S$8/100*Calculations2!H78,Q67)","v":1.9500000000000002}]
[{"$f":"A67+Calculations2!G79","v":7.9723682131188216},{"$f":"B67+Calculations2!C79","v":6.92},{"$f":"C67+Calculations2!D79","v":1},7.92,{"$f":"IF((OR(Calculations2!N79<>\"R3\", Calculations2!N79<>\"R4\", Calculations2!N79<>\"R5\", Calculations2!N79<>\"R6\", Calculations2!N79<>\"R7\")),Calculations2!$L$15/100*Calculations2!H79,Calculations2!$N$15/100*Calculations2!H79)","v":1.9500000000000002},{"$f":"IF(Calculations2!$E78=\"\",$F67+1)","v":false},{"$f":"IF(AND(Calculations2!$E78=\"\",$F68<8),Calculations2!$O79,\"\")","v":""},{"$f":"IF(AND(Calculations2!$E78=\"\",$F68<6),Calculations2!$I78-Calculations2!$O73-$I63-$I64-$I65-$I66,IF(AND(Calculations2!$E79=\"\",Calculations2!$E77<>\"\"),Calculations2!$I79,\"\"))","v":""},{"$f":"Calculations2!$O79","v":0},{"$f":"IF(AND($F68>5,$F68<>FALSE),\"\",IF(Calculations2!$E79=\"\",Calculations2!$H79-Calculations2!I79,Calculations2!$H79-Calculations2!$I79))","v":2.3279853531449168},null,null,null,null,{"$f":"+Calculations2!$H79","v":3.9000000000000004},3.1500000000000004,{"$f":"IF((OR(Calculations2!N79=\"R3\", Calculations2!N79=\"R4\", Calculations2!N79=\"R5\", Calculations2!N79=\"R6\")),Calculations2!$N$15/100*Calculations2!H79,Calculations2!$L$15/100*Calculations2!H79)","v":1.9500000000000002},{"$f":"IF((OR(Calculations2!N79=\"R6\", Calculations2!N79=\"R7\",)),$S$8/100*Calculations2!H79,Q68)","v":1.9500000000000002}]
[{"$f":"A68+Calculations2!G80","v":8.0642706078580417},{"$f":"B68+Calculations2!C80","v":6.92},{"$f":"C68+Calculations2!D80","v":1},7.92,{"$f":"IF((OR(Calculations2!N80<>\"R3\", Calculations2!N80<>\"R4\", Calculations2!N80<>\"R5\", Calculations2!N80<>\"R6\", Calculations2!N80<>\"R7\")),Calculations2!$L$15/100*Calculations2!H80,Calculations2!$N$15/100*Calculations2!H80)","v":1.9500000000000002},{"$f":"IF(Calculations2!$E79=\"\",$F68+1)","v":false},{"$f":"IF(AND(Calculations2!$E79=\"\",$F69<8),Calculations2!$O80,\"\")","v":""},{"$f":"IF(AND(Calculations2!$E79=\"\",$F69<6),Calculations2!$I79-Calculations2!$O74-$I64-$I65-$I66-$I67,IF(AND(Calculations2!$E80=\"\",Calculations2!$E78<>\"\"),Calculations2!$I80,\"\"))","v":1.4801122521158634},{"$f":"Calculations2!$O80","v":0},{"$f":"IF(AND($F69>5,$F69<>FALSE),\"\",IF(Calculations2!$E80=\"\",Calculations2!$H80-Calculations2!I80,Calculations2!$H80-Calculations2!$I80))","v":2.419887747884137},null,null,null,null,{"$f":"+Calculations2!$H80","v":3.9000000000000004},3.1500000000000004,{"$f":"IF((OR(Calculations2!N80=\"R3\", Calculations2!N80=\"R4\", Calculations2!N80=\"R5\", Calculations2!N80=\"R6\")),Calculations2!$N$15/100*Calculations2!H80,Calculations2!$L$15/100*Calculations2!H80)","v":1.9500000000000002},{"$f":"IF((OR(Calculations2!N80=\"R6\", Calculations2!N80=\"R7\",)),$S$8/100*Calculations2!H80,Q69)","v":1.9500000000000002}]
[{"$f":"A69+Calculations2!G81","v":8.0642706078580417},{"$f":"B69+Calculations2!C81","v":6.92},{"$f":"C69+Calculations2!D81","v":1},7.92,{"$f":"IF((OR(Calculations2!N81<>\"R3\", Calculations2!N81<>\"R4\", Calculations2!N81<>\"R5\", Calculations2!N81<>\"R6\", Calculations2!N81<>\"R7\")),Calculations2!$L$15/100*Calculations2!H81,Calculations2!$N$15/100*Calculations2!H81)","v":1.9500000000000002},{"$f":"IF(Calculations2!$E80=\"\",$F69+1)","v":1},{"$f":"IF(AND(Calculations2!$E80=\"\",$F70<8),Calculations2!$O81,\"\")","v":0.2268},{"$f":"IF(AND(Calculations2!$E80=\"\",$F70<6),Calculations2!$I80-Calculations2!$O75-$I65-$I66-$I67-$I68,IF(AND(Calculations2!$E81=\"\",Calculations2!$E79<>\"\"),Calculations2!$I81,\"\"))","v":1.4801122521158634},{"$f":"Calculations2!$O81","v":0.2268},{"$f":"IF(AND($F70>5,$F70<>FALSE),\"\",IF(Calculations2!$E81=\"\",Calculations2!$H81-Calculations2!I81,Calculations2!$H81-Calculations2!$I81))","v":2.6466877478841369},null,null,null,null,{"$f":"+Calculations2!$H81","v":3.9000000000000004},3.1500000000000004,{"$f":"IF((OR(Calculations2!N81=\"R3\", Calculations2!N81=\"R4\", Calculations2!N81=\"R5\", Calculations2!N81=\"R6\")),Calculations2!$N$15/100*Calculations2!H81,Calculations2!$L$15/100*Calculations2!H81)","v":1.9500000000000002},{"$f":"IF((OR(Calculations2!N81=\"R6\", Calculations2!N81=\"R7\",)),$S$8/100*Calculations2!H81,Q70)","v":1.9500000000000002}]
[{"$f":"A70+Calculations2!G82","v":8.0642706078580417},{"$f":"B70+Calculations2!C82","v":6.92},{"$f":"C70+Calculations2!D82","v":1},7.92,{"$f":"IF((OR(Calculations2!N82<>\"R3\", Calculations2!N82<>\"R4\", Calculations2!N82<>\"R5\", Calculations2!N82<>\"R6\", Calculations2!N82<>\"R7\")),Calculations2!$L$15/100*Calculations2!H82,Calculations2!$N$15/100*Calculations2!H82)","v":1.9500000000000002},{"$f":"IF(Calculations2!$E81=\"\",$F70+1)","v":2},{"$f":"IF(AND(Calculations2!$E81=\"\",$F71<8),Calculations2!$O82,\"\")","v":0.20280000000000001},{"$f":"IF(AND(Calculations2!$E81=\"\",$F71<6),Calculations2!$I81-Calculations2!$O76-$I66-$I67-$I68-$I69,IF(AND(Calculations2!$E82=\"\",Calculations2!$E80<>\"\"),Calculations2!$I82,\"\"))","v":1.2533122521158635},{"$f":"Calculations2!$O82","v":0.20280000000000001},{"$f":"IF(AND($F71>5,$F71<>FALSE),\"\",IF(Calculations2!$E82=\"\",Calculations2!$H82-Calculations2!I82,Calculations2!$H82-Calculations2!$I82))","v":2.8494877478841367},null,null,null,null,{"$f":"+Calculations2!$H82","v":3.9000000000000004},3.1500000000000004,{"$f":"IF((OR(Calculations2!N82=\"R3\", Calculations2!N82=\"R4\", Calculations2!N82=\"R5\", Calculations2!N82=\"R6\")),Calculations2!$N$15/100*Calculations2!H82,Calculations2!$L$15/100*Calculations2!H82)","v":1.9500000000000002},{"$f":"IF((OR(Calculations2!N82=\"R6\", Calculations2!N82=\"R7\",)),$S$8/100*Calculations2!H82,Q71)","v":1.9500000000000002}]
[{"$f":"A71+Calculations2!G83","v":8.0642706078580417},{"$f":"B71+Calculations2!C83","v":6.92},{"$f":"C71+Calculations2!D83","v":1},{"$f":"B72+C72","v":7.92},{"$f":"IF((OR(Calculations2!N83<>\"R3\", Calculations2!N83<>\"R4\", Calculations2!N83<>\"R5\", Calculations2!N83<>\"R6\", Calculations2!N83<>\"R7\")),Calculations2!$L$15/100*Calculations2!H83,Calculations2!$N$15/100*Calculations2!H83)","v":1.9500000000000002},{"$f":"IF(Calculations2!$E82=\"\",$F71+1)","v":3},{"$f":"IF(AND(Calculations2!$E82=\"\",$F72<8),Calculations2!$O83,\"\")","v":0.186},{"$f":"IF(AND(Calculations2!$E82=\"\",$F72<6),Calculations2!$I82-Calculations2!$O77-$I67-$I68-$I69-$I70,IF(AND(Calculations2!$E83=\"\",Calculations2!$E81<>\"\"),Calculations2!$I83,\"\"))","v":0.82371225211586341},{"$f":"Calculations2!$O83","v":0.186},{"$f":"IF(AND($F72>5,$F72<>FALSE),\"\",IF(Calculations2!$E83=\"\",Calculations2!$H83-Calculations2!I83,Calculations2!$H83-Calculations2!$I83))","v":3.0354877478841367},null,null,null,null,{"$f":"+Calculations2!$H83","v":3.9000000000000004},3.1500000000000004,{"$f":"IF((OR(Calculations2!N83=\"R3\", Calculations2!N83=\"R4\", Calculations2!N83=\"R5\", Calculations2!N83=\"R6\")),Calculations2!$N$15/100*Calculations2!H83,Calculations2!$L$15/100*Calculations2!H83)","v":1.9500000000000002},{"$f":"IF((OR(Calculations2!N83=\"R6\", Calculations2!N83=\"R7\",)),$S$8/100*Calculations2!H83,Q72)","v":1.9500000000000002}]
[{"$f":"A72+Calculations2!G84","v":8.0642706078580417},{"$f":"B72+Calculations2!C84","v":6.92},{"$f":"C72+Calculations2!D84","v":1},7.92,{"$f":"IF((OR(Calculations2!N84<>\"R3\", Calculations2!N84<>\"R4\", Calculations2!N84<>\"R5\", Calculations2!N84<>\"R6\", Calculations2!N84<>\"R7\")),Calculations2!$L$15/100*Calculations2!H84,Calculations2!$N$15/100*Calculations2!H84)","v":1.9500000000000002},{"$f":"IF(Calculations2!$E83=\"\",$F72+1)","v":4},{"$f":"IF(AND(Calculations2!$E83=\"\",$F73<8),Calculations2!$O84,\"\")","v":0.16440000000000002},{"$f":"IF(AND(Calculations2!$E83=\"\",$F73<6),Calculations2!$I83-Calculations2!$O78-$I68-$I69-$I70-$I71,IF(AND(Calculations2!$E84=\"\",Calculations2!$E82<>\"\"),Calculations2!$I84,\"\"))","v":0.43491225211586348},{"$f":"Calculations2!$O84","v":0.16440000000000002},{"$f":"IF(AND($F73>5,$F73<>FALSE),\"\",IF(Calculations2!$E84=\"\",Calculations2!$H84-Calculations2!I84,Calculations2!$H84-Calculations2!$I84))","v":3.1998877478841368},null,null,null,null,{"$f":"+Calculations2!$H84","v":3.9000000000000004},{"$f":"+(O73-0.75)","v":3.1500000000000004},{"$f":"IF((OR(Calculations2!N84=\"R3\", Calculations2!N84=\"R4\", Calculations2!N84=\"R5\", Calculations2!N84=\"R6\")),Calculations2!$N$15/100*Calculations2!H84,Calculations2!$L$15/100*Calculations2!H84)","v":1.9500000000000002},{"$f":"IF((OR(Calculations2!N84=\"R6\", Calculations2!N84=\"R7\",)),$S$8/100*Calculations2!H84,Q73)","v":1.9500000000000002}]
[{"$f":"A73+Calculations2!G85","v":8.0642706078580417},{"$f":"B73+Calculations2!C85","v":6.92},{"$f":"C73+Calculations2!D85","v":1},7.92,{"$f":"IF((OR(Calculations2!N85<>\"R3\", Calculations2!N85<>\"R4\", Calculations2!N85<>\"R5\", Calculations2!N85<>\"R6\", Calculations2!N85<>\"R7\")),Calculations2!$L$15/100*Calculations2!H85,Calculations2!$N$15/100*Calculations2!H85)","v":1.9500000000000002},{"$f":"IF(Calculations2!$E84=\"\",$F73+1)","v":5},{"$f":"IF(AND(Calculations2!$E84=\"\",$F74<8),Calculations2!$O85,\"\")","v":0},{"$f":"IF(AND(Calculations2!$E84=\"\",$F74<6),Calculations2!$I84-Calculations2!$O79-$I69-$I70-$I71-$I72,IF(AND(Calculations2!$E85=\"\",Calculations2!$E83<>\"\"),Calculations2!$I85,\"\"))","v":8.4512252115863495E-2},{"$f":"Calculations2!$O85","v":0},{"$f":"IF(AND($F74>5,$F74<>FALSE),\"\",IF(Calculations2!$E85=\"\",Calculations2!$H85-Calculations2!I85,Calculations2!$H85-Calculations2!$I85))","v":3.1998877478841368},null,null,null,null,{"$f":"+Calculations2!$H85","v":3.9000000000000004},3.1500000000000004,{"$f":"IF((OR(Calculations2!N85=\"R3\", Calculations2!N85=\"R4\", Calculations2!N85=\"R5\", Calculations2!N85=\"R6\")),Calculations2!$N$15/100*Calculations2!H85,Calculations2!$L$15/100*Calculations2!H85)","v":1.9500000000000002},{"$f":"IF((OR(Calculations2!N85=\"R6\", Calculations2!N85=\"R7\",)),$S$8/100*Calculations2!H85,Q74)","v":1.9500000000000002}]
[{"$f":"A74+Calculations2!G86","v":8.0642706078580417},{"$f":"B74+Calculations2!C86","v":6.92},{"$f":"C74+Calculations2!D86","v":1},7.92,{"$f":"IF((OR(Calculations2!N86<>\"R3\", Calculations2!N86<>\"R4\", Calculations2!N86<>\"R5\", Calculations2!N86<>\"R6\", Calculations2!N86<>\"R7\")),Calculations2!$L$15/100*Calculations2!H86,Calculations2!$N$15/100*Calculations2!H86)","v":1.9500000000000002},{"$f":"IF(Calculations2!$E85=\"\",$F74+1)","v":6},{"$f":"IF(AND(Calculations2!$E85=\"\",$F75<8),Calculations2!$O86,\"\")","v":0},{"$f":"IF(AND(Calculations2!$E85=\"\",$F75<6),Calculations2!$I85-Calculations2!$O80-$I70-$I71-$I72-$I73,IF(AND(Calculations2!$E86=\"\",Calculations2!$E84<>\"\"),Calculations2!$I86,\"\"))","v":""},{"$f":"Calculations2!$O86","v":0},{"$f":"IF(AND($F75>5,$F75<>FALSE),\"\",IF(Calculations2!$E86=\"\",Calculations2!$H86-Calculations2!I86,Calculations2!$H86-Calculations2!$I86))","v":""},null,null,null,null,{"$f":"+Calculations2!$H86","v":3.9000000000000004},3.1500000000000004,{"$f":"IF((OR(Calculations2!N86=\"R3\", Calculations2!N86=\"R4\", Calculations2!N86=\"R5\", Calculations2!N86=\"R6\")),Calculations2!$N$15/100*Calculations2!H86,Calculations2!$L$15/100*Calculations2!H86)","v":1.9500000000000002},{"$f":"IF((OR(Calculations2!N86=\"R6\", Calculations2!N86=\"R7\",)),$S$8/100*Calculations2!H86,Q75)","v":1.9500000000000002}]
[{"$f":"A75+Calculations2!G87","v":8.0642706078580417},{"$f":"B75+Calculations2!C87","v":6.92},{"$f":"C75+Calculations2!D87","v":1},7.92,{"$f":"IF((OR(Calculations2!N87<>\"R3\", Calculations2!N87<>\"R4\", Calculations2!N87<>\"R5\", Calculations2!N87<>\"R6\", Calculations2!N87<>\"R7\")),Calculations2!$L$15/100*Calculations2!H87,Calculations2!$N$15/100*Calculations2!H87)","v":1.9500000000000002},{"$f":"IF(Calculations2!$E86=\"\",$F75+1)","v":7},{"$f":"IF(AND(Calculations2!$E86=\"\",$F76<8),Calculations2!$O87,\"\")","v":0},{"$f":"IF(AND(Calculations2!$E86=\"\",$F76<6),Calculations2!$I86-Calculations2!$O81-$I71-$I72-$I73-$I74,IF(AND(Calculations2!$E87=\"\",Calculations2!$E85<>\"\"),Calculations2!$I87,\"\"))","v":""},{"$f":"Calculations2!$O87","v":0},{"$f":"IF(AND($F76>5,$F76<>FALSE),\"\",IF(Calculations2!$E87=\"\",Calculations2!$H87-Calculations2!I87,Calculations2!$H87-Calculations2!$I87))","v":""},null,null,null,null,{"$f":"+Calculations2!$H87","v":3.9000000000000004},3.1500000000000004,{"$f":"IF((OR(Calculations2!N87=\"R3\", Calculations2!N87=\"R4\", Calculations2!N87=\"R5\", Calculations2!N87=\"R6\")),Calculations2!$N$15/100*Calculations2!H87,Calculations2!$L$15/100*Calculations2!H87)","v":1.9500000000000002},{"$f":"IF((OR(Calculations2!N87=\"R6\", Calculations2!N87=\"R7\",)),$S$8/100*Calculations2!H87,Q76)","v":1.9500000000000002}]
[{"$f":"A76+Calculations2!G88","v":8.0642706078580417},{"$f":"B76+Calculations2!C88","v":6.92},{"$f":"C76+Calculations2!D88","v":1},7.92,{"$f":"IF((OR(Calculations2!N88<>\"R3\", Calculations2!N88<>\"R4\", Calculations2!N88<>\"R5\", Calculations2!N88<>\"R6\", Calculations2!N88<>\"R7\")),Calculations2!$L$15/100*Calculations2!H88,Calculations2!$N$15/100*Calculations2!H88)","v":1.9500000000000002},{"$f":"IF(Calculations2!$E87=\"\",$F76+1)","v":8},{"$f":"IF(AND(Calculations2!$E87=\"\",$F77<8),Calculations2!$O88,\"\")","v":""},{"$f":"IF(AND(Calculations2!$E87=\"\",$F77<6),Calculations2!$I87-Calculations2!$O82-$I72-$I73-$I74-$I75,IF(AND(Calculations2!$E88=\"\",Calculations2!$E86<>\"\"),Calculations2!$I88,\"\"))","v":""},{"$f":"Calculations2!$O88","v":0},{"$f":"IF(AND($F77>5,$F77<>FALSE),\"\",IF(Calculations2!$E88=\"\",Calculations2!$H88-Calculations2!I88,Calculations2!$H88-Calculations2!$I88))","v":""},null,null,null,null,{"$f":"+Calculations2!$H88","v":3.9000000000000004},3.1500000000000004,{"$f":"IF((OR(Calculations2!N88=\"R3\", Calculations2!N88=\"R4\", Calculations2!N88=\"R5\", Calculations2!N88=\"R6\")),Calculations2!$N$15/100*Calculations2!H88,Calculations2!$L$15/100*Calculations2!H88)","v":1.9500000000000002},{"$f":"IF((OR(Calculations2!N88=\"R6\", Calculations2!N88=\"R7\",)),$S$8/100*Calculations2!H88,Q77)","v":1.9500000000000002}]
[{"$f":"A77+Calculations2!G89","v":8.0642706078580417},{"$f":"B77+Calculations2!C89","v":6.92},{"$f":"C77+Calculations2!D89","v":1},7.92,{"$f":"IF((OR(Calculations2!N89<>\"R3\", Calculations2!N89<>\"R4\", Calculations2!N89<>\"R5\", Calculations2!N89<>\"R6\", Calculations2!N89<>\"R7\")),Calculations2!$L$15/100*Calculations2!H89,Calculations2!$N$15/100*Calculations2!H89)","v":1.9500000000000002},{"$f":"IF(Calculations2!$E88=\"\",$F77+1)","v":9},{"$f":"IF(AND(Calculations2!$E88=\"\",$F78<8),Calculations2!$O89,\"\")","v":""},{"$f":"IF(AND(Calculations2!$E88=\"\",$F78<6),Calculations2!$I88-Calculations2!$O83-$I73-$I74-$I75-$I76,IF(AND(Calculations2!$E89=\"\",Calculations2!$E87<>\"\"),Calculations2!$I89,\"\"))","v":""},{"$f":"Calculations2!$O89","v":0},{"$f":"IF(AND($F78>5,$F78<>FALSE),\"\",IF(Calculations2!$E89=\"\",Calculations2!$H89-Calculations2!I89,Calculations2!$H89-Calculations2!$I89))","v":""},null,null,null,null,{"$f":"+Calculations2!$H89","v":3.9000000000000004},3.1500000000000004,{"$f":"IF((OR(Calculations2!N89=\"R3\", Calculations2!N89=\"R4\", Calculations2!N89=\"R5\", Calculations2!N89=\"R6\")),Calculations2!$N$15/100*Calculations2!H89,Calculations2!$L$15/100*Calculations2!H89)","v":1.9500000000000002},{"$f":"IF((OR(Calculations2!N89=\"R6\", Calculations2!N89=\"R7\",)),$S$8/100*Calculations2!H89,Q78)","v":1.9500000000000002}]
[{"$f":"A78+Calculations2!G90","v":8.0642706078580417},{"$f":"B78+Calculations2!C90","v":6.92},{"$f":"C78+Calculations2!D90","v":1},7.92,{"$f":"IF((OR(Calculations2!N90<>\"R3\", Calculations2!N90<>\"R4\", Calculations2!N90<>\"R5\", Calculations2!N90<>\"R6\", Calculations2!N90<>\"R7\")),Calculations2!$L$15/100*Calculations2!H90,Calculations2!$N$15/100*Calculations2!H90)","v":1.9500000000000002},{"$f":"IF(Calculations2!$E89=\"\",$F78+1)","v":10},{"$f":"IF(AND(Calculations2!$E89=\"\",$F79<8),Calculations2!$O90,\"\")","v":""},{"$f":"IF(AND(Calculations2!$E89=\"\",$F79<6),Calculations2!$I89-Calculations2!$O84-$I74-$I75-$I76-$I77,IF(AND(Calculations2!$E90=\"\",Calculations2!$E88<>\"\"),Calculations2!$I90,\"\"))","v":""},{"$f":"Calculations2!$O90","v":0},{"$f":"IF(AND($F79>5,$F79<>FALSE),\"\",IF(Calculations2!$E90=\"\",Calculations2!$H90-Calculations2!I90,Calculations2!$H90-Calculations2!$I90))","v":""},null,null,null,null,{"$f":"+Calculations2!$H90","v":3.9000000000000004},3.1500000000000004,{"$f":"IF((OR(Calculations2!N90=\"R3\", Calculations2!N90=\"R4\", Calculations2!N90=\"R5\", Calculations2!N90=\"R6\")),Calculations2!$N$15/100*Calculations2!H90,Calculations2!$L$15/100*Calculations2!H90)","v":1.9500000000000002},{"$f":"IF((OR(Calculations2!N90=\"R6\", Calculations2!N90=\"R7\",)),$S$8/100*Calculations2!H90,Q79)","v":1.9500000000000002}]
[{"$f":"A79+Calculations2!G91","v":8.0642706078580417},{"$f":"B79+Calculations2!C91","v":6.92},{"$f":"C79+Calculations2!D91","v":1},7.92,{"$f":"IF((OR(Calculations2!N91<>\"R3\", Calculations2!N91<>\"R4\", Calculations2!N91<>\"R5\", Calculations2!N91<>\"R6\", Calculations2!N91<>\"R7\")),Calculations2!$L$15/100*Calculations2!H91,Calculations2!$N$15/100*Calculations2!H91)","v":1.9500000000000002},{"$f":"IF(Calculations2!$E90=\"\",$F79+1)","v":11},{"$f":"IF(AND(Calculations2!$E90=\"\",$F80<8),Calculations2!$O91,\"\")","v":""},{"$f":"IF(AND(Calculations2!$E90=\"\",$F80<6),Calculations2!$I90-Calculations2!$O85-$I75-$I76-$I77-$I78,IF(AND(Calculations2!$E91=\"\",Calculations2!$E89<>\"\"),Calculations2!$I91,\"\"))","v":""},{"$f":"Calculations2!$O91","v":0},{"$f":"IF(AND($F80>5,$F80<>FALSE),\"\",IF(Calculations2!$E91=\"\",Calculations2!$H91-Calculations2!I91,Calculations2!$H91-Calculations2!$I91))","v":""},null,null,null,null,{"$f":"+Calculations2!$H91","v":3.9000000000000004},3.1500000000000004,{"$f":"IF((OR(Calculations2!N91=\"R3\", Calculations2!N91=\"R4\", Calculations2!N91=\"R5\", Calculations2!N91=\"R6\")),Calculations2!$N$15/100*Calculations2!H91,Calculations2!$L$15/100*Calculations2!H91)","v":1.9500000000000002},{"$f":"IF((OR(Calculations2!N91=\"R6\", Calculations2!N91=\"R7\",)),$S$8/100*Calculations2!H91,Q80)","v":1.9500000000000002}]
[{"$f":"A80+Calculations2!G92","v":8.0642706078580417},{"$f":"B80+Calculations2!C92","v":6.92},{"$f":"C80+Calculations2!D92","v":1},7.92,{"$f":"IF((OR(Calculations2!N92<>\"R3\", Calculations2!N92<>\"R4\", Calculations2!N92<>\"R5\", Calculations2!N92<>\"R6\", Calculations2!N92<>\"R7\")),Calculations2!$L$15/100*Calculations2!H92,Calculations2!$N$15/100*Calculations2!H92)","v":1.9500000000000002},{"$f":"IF(Calculations2!$E91=\"\",$F80+1)","v":12},{"$f":"IF(AND(Calculations2!$E91=\"\",$F81<8),Calculations2!$O92,\"\")","v":""},{"$f":"IF(AND(Calculations2!$E91=\"\",$F81<6),Calculations2!$I91-Calculations2!$O86-$I76-$I77-$I78-$I79,IF(AND(Calculations2!$E92=\"\",Calculations2!$E90<>\"\"),Calculations2!$I92,\"\"))","v":""},{"$f":"Calculations2!$O92","v":0},{"$f":"IF(AND($F81>5,$F81<>FALSE),\"\",IF(Calculations2!$E92=\"\",Calculations2!$H92-Calculations2!I92,Calculations2!$H92-Calculations2!$I92))","v":""},null,null,null,null,{"$f":"+Calculations2!$H92","v":3.9000000000000004},3.1500000000000004,{"$f":"IF((OR(Calculations2!N92=\"R3\", Calculations2!N92=\"R4\", Calculations2!N92=\"R5\", Calculations2!N92=\"R6\")),Calculations2!$N$15/100*Calculations2!H92,Calculations2!$L$15/100*Calculations2!H92)","v":1.9500000000000002},{"$f":"IF((OR(Calculations2!N92=\"R6\", Calculations2!N92=\"R7\",)),$S$8/100*Calculations2!H92,Q81)","v":1.9500000000000002}]
[{"$f":"A81+Calculations2!G93","v":8.0642706078580417},{"$f":"B81+Calculations2!C93","v":6.92},{"$f":"C81+Calculations2!D93","v":1},7.92,{"$f":"IF((OR(Calculations2!N93<>\"R3\", Calculations2!N93<>\"R4\", Calculations2!N93<>\"R5\", Calculations2!N93<>\"R6\", Calculations2!N93<>\"R7\")),Calculations2!$L$15/100*Calculations2!H93,Calculations2!$N$15/100*Calculations2!H93)","v":1.9500000000000002},{"$f":"IF(Calculations2!$E92=\"\",$F81+1)","v":13},{"$f":"IF(AND(Calculations2!$E92=\"\",$F82<8),Calculations2!$O93,\"\")","v":""},{"$f":"IF(AND(Calculations2!$E92=\"\",$F82<6),Calculations2!$I92-Calculations2!$O87-$I77-$I78-$I79-$I80,IF(AND(Calculations2!$E93=\"\",Calculations2!$E91<>\"\"),Calculations2!$I93,\"\"))","v":""},{"$f":"Calculations2!$O93","v":0},{"$f":"IF(AND($F82>5,$F82<>FALSE),\"\",IF(Calculations2!$E93=\"\",Calculations2!$H93-Calculations2!I93,Calculations2!$H93-Calculations2!$I93))","v":""},null,null,null,null,{"$f":"+Calculations2!$H93","v":3.9000000000000004},3.1500000000000004,{"$f":"IF((OR(Calculations2!N93=\"R3\", Calculations2!N93=\"R4\", Calculations2!N93=\"R5\", Calculations2!N93=\"R6\")),Calculations2!$N$15/100*Calculations2!H93,Calculations2!$L$15/100*Calculations2!H93)","v":1.9500000000000002},{"$f":"IF((OR(Calculations2!N93=\"R6\", Calculations2!N93=\"R7\",)),$S$8/100*Calculations2!H93,Q82)","v":1.9500000000000002}]
[{"$f":"A82+Calculations2!G94","v":8.0642706078580417},{"$f":"B82+Calculations2!C94","v":6.92},{"$f":"C82+Calculations2!D94","v":1},7.92,{"$f":"IF((OR(Calculations2!N94<>\"R3\", Calculations2!N94<>\"R4\", Calculations2!N94<>\"R5\", Calculations2!N94<>\"R6\", Calculations2!N94<>\"R7\")),Calculations2!$L$15/100*Calculations2!H94,Calculations2!$N$15/100*Calculations2!H94)","v":1.9500000000000002},{"$f":"IF(Calculations2!$E93=\"\",$F82+1)","v":14},{"$f":"IF(AND(Calculations2!$E93=\"\",$F83<8),Calculations2!$O94,\"\")","v":""},{"$f":"IF(AND(Calculations2!$E93=\"\",$F83<6),Calculations2!$I93-Calculations2!$O88-$I78-$I79-$I80-$I81,IF(AND(Calculations2!$E94=\"\",Calculations2!$E92<>\"\"),Calculations2!$I94,\"\"))","v":""},{"$f":"Calculations2!$O94","v":0},{"$f":"IF(AND($F83>5,$F83<>FALSE),\"\",IF(Calculations2!$E94=\"\",Calculations2!$H94-Calculations2!I94,Calculations2!$H94-Calculations2!$I94))","v":""},null,null,null,null,{"$f":"+Calculations2!$H94","v":3.9000000000000004},3.1500000000000004,{"$f":"IF((OR(Calculations2!N94=\"R3\", Calculations2!N94=\"R4\", Calculations2!N94=\"R5\", Calculations2!N94=\"R6\")),Calculations2!$N$15/100*Calculations2!H94,Calculations2!$L$15/100*Calculations2!H94)","v":1.9500000000000002},{"$f":"IF((OR(Calculations2!N94=\"R6\", Calculations2!N94=\"R7\",)),$S$8/100*Calculations2!H94,Q83)","v":1.9500000000000002}]
[{"$f":"A83+Calculations2!G95","v":8.0642706078580417},{"$f":"B83+Calculations2!C95","v":6.92},{"$f":"C83+Calculations2!D95","v":1},7.92,{"$f":"IF((OR(Calculations2!N95<>\"R3\", Calculations2!N95<>\"R4\", Calculations2!N95<>\"R5\", Calculations2!N95<>\"R6\", Calculations2!N95<>\"R7\")),Calculations2!$L$15/100*Calculations2!H95,Calculations2!$N$15/100*Calculations2!H95)","v":1.9500000000000002},{"$f":"IF(Calculations2!$E94=\"\",$F83+1)","v":15},{"$f":"IF(AND(Calculations2!$E94=\"\",$F84<8),Calculations2!$O95,\"\")","v":""},{"$f":"IF(AND(Calculations2!$E94=\"\",$F84<6),Calculations2!$I94-Calculations2!$O89-$I79-$I80-$I81-$I82,IF(AND(Calculations2!$E95=\"\",Calculations2!$E93<>\"\"),Calculations2!$I95,\"\"))","v":""},{"$f":"Calculations2!$O95","v":0},{"$f":"IF(AND($F84>5,$F84<>FALSE),\"\",IF(Calculations2!$E95=\"\",Calculations2!$H95-Calculations2!I95,Calculations2!$H95-Calculations2!$I95))","v":""},null,null,null,null,{"$f":"+Calculations2!$H95","v":3.9000000000000004},3.1500000000000004,{"$f":"IF((OR(Calculations2!N95=\"R3\", Calculations2!N95=\"R4\", Calculations2!N95=\"R5\", Calculations2!N95=\"R6\")),Calculations2!$N$15/100*Calculations2!H95,Calculations2!$L$15/100*Calculations2!H95)","v":1.9500000000000002},{"$f":"IF((OR(Calculations2!N95=\"R6\", Calculations2!N95=\"R7\",)),$S$8/100*Calculations2!H95,Q84)","v":1.9500000000000002}]
[{"$f":"A84+Calculations2!G96","v":8.0642706078580417},{"$f":"B84+Calculations2!C96","v":6.92},{"$f":"C84+Calculations2!D96","v":1},7.92,{"$f":"IF((OR(Calculations2!N96<>\"R3\", Calculations2!N96<>\"R4\", Calculations2!N96<>\"R5\", Calculations2!N96<>\"R6\", Calculations2!N96<>\"R7\")),Calculations2!$L$15/100*Calculations2!H96,Calculations2!$N$15/100*Calculations2!H96)","v":1.9500000000000002},{"$f":"IF(Calculations2!$E95=\"\",$F84+1)","v":16},{"$f":"IF(AND(Calculations2!$E95=\"\",$F85<8),Calculations2!$O96,\"\")","v":""},{"$f":"IF(AND(Calculations2!$E95=\"\",$F85<6),Calculations2!$I95-Calculations2!$O90-$I80-$I81-$I82-$I83,IF(AND(Calculations2!$E96=\"\",Calculations2!$E94<>\"\"),Calculations2!$I96,\"\"))","v":""},{"$f":"Calculations2!$O96","v":0},{"$f":"IF(AND($F85>5,$F85<>FALSE),\"\",IF(Calculations2!$E96=\"\",Calculations2!$H96-Calculations2!I96,Calculations2!$H96-Calculations2!$I96))","v":""},null,null,null,null,{"$f":"+Calculations2!$H96","v":3.9000000000000004},3.1500000000000004,{"$f":"IF((OR(Calculations2!N96=\"R3\", Calculations2!N96=\"R4\", Calculations2!N96=\"R5\", Calculations2!N96=\"R6\")),Calculations2!$N$15/100*Calculations2!H96,Calculations2!$L$15/100*Calculations2!H96)","v":1.9500000000000002},{"$f":"IF((OR(Calculations2!N96=\"R6\", Calculations2!N96=\"R7\",)),$S$8/100*Calculations2!H96,Q85)","v":1.9500000000000002}]
[{"$f":"A85+Calculations2!G97","v":8.0642706078580417},{"$f":"B85+Calculations2!C97","v":6.92},{"$f":"C85+Calculations2!D97","v":1},7.92,{"$f":"IF((OR(Calculations2!N97<>\"R3\", Calculations2!N97<>\"R4\", Calculations2!N97<>\"R5\", Calculations2!N97<>\"R6\", Calculations2!N97<>\"R7\")),Calculations2!$L$15/100*Calculations2!H97,Calculations2!$N$15/100*Calculations2!H97)","v":1.9500000000000002},{"$f":"IF(Calculations2!$E96=\"\",$F85+1)","v":17},{"$f":"IF(AND(Calculations2!$E96=\"\",$F86<8),Calculations2!$O97,\"\")","v":""},{"$f":"IF(AND(Calculations2!$E96=\"\",$F86<6),Calculations2!$I96-Calculations2!$O91-$I81-$I82-$I83-$I84,IF(AND(Calculations2!$E97=\"\",Calculations2!$E95<>\"\"),Calculations2!$I97,\"\"))","v":""},{"$f":"Calculations2!$O97","v":0},{"$f":"IF(AND($F86>5,$F86<>FALSE),\"\",IF(Calculations2!$E97=\"\",Calculations2!$H97-Calculations2!I97,Calculations2!$H97-Calculations2!$I97))","v":""},null,null,null,null,{"$f":"+Calculations2!$H97","v":3.9000000000000004},3.1500000000000004,{"$f":"IF((OR(Calculations2!N97=\"R3\", Calculations2!N97=\"R4\", Calculations2!N97=\"R5\", Calculations2!N97=\"R6\")),Calculations2!$N$15/100*Calculations2!H97,Calculations2!$L$15/100*Calculations2!H97)","v":1.9500000000000002},{"$f":"IF((OR(Calculations2!N97=\"R6\", Calculations2!N97=\"R7\",)),$S$8/100*Calculations2!H97,Q86)","v":1.9500000000000002}]
[{"$f":"A86+Calculations2!G98","v":8.0642706078580417},{"$f":"B86+Calculations2!C98","v":6.92},{"$f":"C86+Calculations2!D98","v":1},7.92,{"$f":"IF((OR(Calculations2!N98<>\"R3\", Calculations2!N98<>\"R4\", Calculations2!N98<>\"R5\", Calculations2!N98<>\"R6\", Calculations2!N98<>\"R7\")),Calculations2!$L$15/100*Calculations2!H98,Calculations2!$N$15/100*Calculations2!H98)","v":1.9500000000000002},{"$f":"IF(Calculations2!$E97=\"\",$F86+1)","v":18},{"$f":"IF(AND(Calculations2!$E97=\"\",$F87<8),Calculations2!$O98,\"\")","v":""},{"$f":"IF(AND(Calculations2!$E97=\"\",$F87<6),Calculations2!$I97-Calculations2!$O92-$I82-$I83-$I84-$I85,IF(AND(Calculations2!$E98=\"\",Calculations2!$E96<>\"\"),Calculations2!$I98,\"\"))","v":""},{"$f":"Calculations2!$O98","v":0},{"$f":"IF(AND($F87>5,$F87<>FALSE),\"\",IF(Calculations2!$E98=\"\",Calculations2!$H98-Calculations2!I98,Calculations2!$H98-Calculations2!$I98))","v":""},null,null,null,null,{"$f":"+Calculations2!$H98","v":3.9000000000000004},3.1500000000000004,{"$f":"IF((OR(Calculations2!N98=\"R3\", Calculations2!N98=\"R4\", Calculations2!N98=\"R5\", Calculations2!N98=\"R6\")),Calculations2!$N$15/100*Calculations2!H98,Calculations2!$L$15/100*Calculations2!H98)","v":1.9500000000000002},{"$f":"IF((OR(Calculations2!N98=\"R6\", Calculations2!N98=\"R7\",)),$S$8/100*Calculations2!H98,Q87)","v":1.9500000000000002}]
[{"$f":"A87+Calculations2!G99","v":8.0642706078580417},{"$f":"B87+Calculations2!C99","v":6.92},{"$f":"C87+Calculations2!D99","v":1},7.92,{"$f":"IF((OR(Calculations2!N99<>\"R3\", Calculations2!N99<>\"R4\", Calculations2!N99<>\"R5\", Calculations2!N99<>\"R6\", Calculations2!N99<>\"R7\")),Calculations2!$L$15/100*Calculations2!H99,Calculations2!$N$15/100*Calculations2!H99)","v":1.9500000000000002},{"$f":"IF(Calculations2!$E98=\"\",$F87+1)","v":19},{"$f":"IF(AND(Calculations2!$E98=\"\",$F88<8),Calculations2!$O99,\"\")","v":""},{"$f":"IF(AND(Calculations2!$E98=\"\",$F88<6),Calculations2!$I98-Calculations2!$O93-$I83-$I84-$I85-$I86,IF(AND(Calculations2!$E99=\"\",Calculations2!$E97<>\"\"),Calculations2!$I99,\"\"))","v":""},{"$f":"Calculations2!$O99","v":0},{"$f":"IF(AND($F88>5,$F88<>FALSE),\"\",IF(Calculations2!$E99=\"\",Calculations2!$H99-Calculations2!I99,Calculations2!$H99-Calculations2!$I99))","v":""},null,null,null,null,{"$f":"+Calculations2!$H99","v":3.9000000000000004},3.1500000000000004,{"$f":"IF((OR(Calculations2!N99=\"R3\", Calculations2!N99=\"R4\", Calculations2!N99=\"R5\", Calculations2!N99=\"R6\")),Calculations2!$N$15/100*Calculations2!H99,Calculations2!$L$15/100*Calculations2!H99)","v":1.9500000000000002},{"$f":"IF((OR(Calculations2!N99=\"R6\", Calculations2!N99=\"R7\",)),$S$8/100*Calculations2!H99,Q88)","v":1.9500000000000002}]
[{"$f":"A88+Calculations2!G100","v":8.0642706078580417},{"$f":"B88+Calculations2!C100","v":6.92},{"$f":"C88+Calculations2!D100","v":1},7.92,{"$f":"IF((OR(Calculations2!N100<>\"R3\", Calculations2!N100<>\"R4\", Calculations2!N100<>\"R5\", Calculations2!N100<>\"R6\", Calculations2!N100<>\"R7\")),Calculations2!$L$15/100*Calculations2!H100,Calculations2!$N$15/100*Calculations2!H100)","v":1.9500000000000002},{"$f":"IF(Calculations2!$E99=\"\",$F88+1)","v":20},{"$f":"IF(AND(Calculations2!$E99=\"\",$F89<8),Calculations2!$O100,\"\")","v":""},{"$f":"IF(AND(Calculations2!$E99=\"\",$F89<6),Calculations2!$I99-Calculations2!$O94-$I84-$I85-$I86-$I87,IF(AND(Calculations2!$E100=\"\",Calculations2!$E98<>\"\"),Calculations2!$I100,\"\"))","v":""},{"$f":"Calculations2!$O100","v":0},{"$f":"IF(AND($F89>5,$F89<>FALSE),\"\",IF(Calculations2!$E100=\"\",Calculations2!$H100-Calculations2!I100,Calculations2!$H100-Calculations2!$I100))","v":""},null,null,null,null,{"$f":"+Calculations2!$H100","v":3.9000000000000004},3.1500000000000004,{"$f":"IF((OR(Calculations2!N100=\"R3\", Calculations2!N100=\"R4\", Calculations2!N100=\"R5\", Calculations2!N100=\"R6\")),Calculations2!$N$15/100*Calculations2!H100,Calculations2!$L$15/100*Calculations2!H100)","v":1.9500000000000002},{"$f":"IF((OR(Calculations2!N100=\"R6\", Calculations2!N100=\"R7\",)),$S$8/100*Calculations2!H100,Q89)","v":1.9500000000000002}]
[{"$f":"A89+Calculations2!G101","v":8.0642706078580417},{"$f":"B89+Calculations2!C101","v":6.92},{"$f":"C89+Calculations2!D101","v":1},7.92,{"$f":"IF((OR(Calculations2!N101<>\"R3\", Calculations2!N101<>\"R4\", Calculations2!N101<>\"R5\", Calculations2!N101<>\"R6\", Calculations2!N101<>\"R7\")),Calculations2!$L$15/100*Calculations2!H101,Calculations2!$N$15/100*Calculations2!H101)","v":1.9500000000000002},{"$f":"IF(Calculations2!$E100=\"\",$F89+1)","v":21},{"$f":"IF(AND(Calculations2!$E100=\"\",$F90<8),Calculations2!$O101,\"\")","v":""},{"$f":"IF(AND(Calculations2!$E100=\"\",$F90<6),Calculations2!$I100-Calculations2!$O95-$I85-$I86-$I87-$I88,IF(AND(Calculations2!$E101=\"\",Calculations2!$E99<>\"\"),Calculations2!$I101,\"\"))","v":""},{"$f":"Calculations2!$O101","v":0},{"$f":"IF(AND($F90>5,$F90<>FALSE),\"\",IF(Calculations2!$E101=\"\",Calculations2!$H101-Calculations2!I101,Calculations2!$H101-Calculations2!$I101))","v":""},null,null,null,null,{"$f":"+Calculations2!$H101","v":3.9000000000000004},3.1500000000000004,{"$f":"IF((OR(Calculations2!N101=\"R3\", Calculations2!N101=\"R4\", Calculations2!N101=\"R5\", Calculations2!N101=\"R6\")),Calculations2!$N$15/100*Calculations2!H101,Calculations2!$L$15/100*Calculations2!H101)","v":1.9500000000000002},{"$f":"IF((OR(Calculations2!N101=\"R6\", Calculations2!N101=\"R7\",)),$S$8/100*Calculations2!H101,Q90)","v":1.9500000000000002}]
[{"$f":"A90+Calculations2!G102","v":8.0642706078580417},{"$f":"B90+Calculations2!C102","v":6.92},{"$f":"C90+Calculations2!D102","v":1},7.92,{"$f":"IF((OR(Calculations2!N102<>\"R3\", Calculations2!N102<>\"R4\", Calculations2!N102<>\"R5\", Calculations2!N102<>\"R6\", Calculations2!N102<>\"R7\")),Calculations2!$L$15/100*Calculations2!H102,Calculations2!$N$15/100*Calculations2!H102)","v":1.9500000000000002},{"$f":"IF(Calculations2!$E101=\"\",$F90+1)","v":22},{"$f":"IF(AND(Calculations2!$E101=\"\",$F91<8),Calculations2!$O102,\"\")","v":""},{"$f":"IF(AND(Calculations2!$E101=\"\",$F91<6),Calculations2!$I101-Calculations2!$O96-$I86-$I87-$I88-$I89,IF(AND(Calculations2!$E102=\"\",Calculations2!$E100<>\"\"),Calculations2!$I102,\"\"))","v":""},{"$f":"Calculations2!$O102","v":0},{"$f":"IF(AND($F91>5,$F91<>FALSE),\"\",IF(Calculations2!$E102=\"\",Calculations2!$H102-Calculations2!I102,Calculations2!$H102-Calculations2!$I102))","v":""},null,null,null,null,{"$f":"+Calculations2!$H102","v":3.9000000000000004},3.1500000000000004,{"$f":"IF((OR(Calculations2!N102=\"R3\", Calculations2!N102=\"R4\", Calculations2!N102=\"R5\", Calculations2!N102=\"R6\")),Calculations2!$N$15/100*Calculations2!H102,Calculations2!$L$15/100*Calculations2!H102)","v":1.9500000000000002},{"$f":"IF((OR(Calculations2!N102=\"R6\", Calculations2!N102=\"R7\",)),$S$8/100*Calculations2!H102,Q91)","v":1.9500000000000002}]
[{"$f":"A91+Calculations2!G103","v":8.0642706078580417},{"$f":"B91+Calculations2!C103","v":6.92},{"$f":"C91+Calculations2!D103","v":1},7.92,{"$f":"IF((OR(Calculations2!N103<>\"R3\", Calculations2!N103<>\"R4\", Calculations2!N103<>\"R5\", Calculations2!N103<>\"R6\", Calculations2!N103<>\"R7\")),Calculations2!$L$15/100*Calculations2!H103,Calculations2!$N$15/100*Calculations2!H103)","v":1.9500000000000002},{"$f":"IF(Calculations2!$E102=\"\",$F91+1)","v":23},{"$f":"IF(AND(Calculations2!$E102=\"\",$F92<8),Calculations2!$O103,\"\")","v":""},{"$f":"IF(AND(Calculations2!$E102=\"\",$F92<6),Calculations2!$I102-Calculations2!$O97-$I87-$I88-$I89-$I90,IF(AND(Calculations2!$E103=\"\",Calculations2!$E101<>\"\"),Calculations2!$I103,\"\"))","v":""},{"$f":"Calculations2!$O103","v":0},{"$f":"IF(AND($F92>5,$F92<>FALSE),\"\",IF(Calculations2!$E103=\"\",Calculations2!$H103-Calculations2!I103,Calculations2!$H103-Calculations2!$I103))","v":""},null,null,null,null,{"$f":"+Calculations2!$H103","v":3.9000000000000004},3.1500000000000004,{"$f":"IF((OR(Calculations2!N103=\"R3\", Calculations2!N103=\"R4\", Calculations2!N103=\"R5\", Calculations2!N103=\"R6\")),Calculations2!$N$15/100*Calculations2!H103,Calculations2!$L$15/100*Calculations2!H103)","v":1.9500000000000002},{"$f":"IF((OR(Calculations2!N103=\"R6\", Calculations2!N103=\"R7\",)),$S$8/100*Calculations2!H103,Q92)","v":1.9500000000000002}]
[{"$f":"A92+Calculations2!G104","v":8.0642706078580417},{"$f":"B92+Calculations2!C104","v":6.92},{"$f":"C92+Calculations2!D104","v":1},7.92,{"$f":"IF((OR(Calculations2!N104<>\"R3\", Calculations2!N104<>\"R4\", Calculations2!N104<>\"R5\", Calculations2!N104<>\"R6\", Calculations2!N104<>\"R7\")),Calculations2!$L$15/100*Calculations2!H104,Calculations2!$N$15/100*Calculations2!H104)","v":1.9500000000000002},{"$f":"IF(Calculations2!$E103=\"\",$F92+1)","v":24},{"$f":"IF(AND(Calculations2!$E103=\"\",$F93<8),Calculations2!$O104,\"\")","v":""},{"$f":"IF(AND(Calculations2!$E103=\"\",$F93<6),Calculations2!$I103-Calculations2!$O98-$I88-$I89-$I90-$I91,IF(AND(Calculations2!$E104=\"\",Calculations2!$E102<>\"\"),Calculations2!$I104,\"\"))","v":""},{"$f":"Calculations2!$O104","v":0},{"$f":"IF(AND($F93>5,$F93<>FALSE),\"\",IF(Calculations2!$E104=\"\",Calculations2!$H104-Calculations2!I104,Calculations2!$H104-Calculations2!$I104))","v":""},null,null,null,null,{"$f":"+Calculations2!$H104","v":3.9000000000000004},3.1500000000000004,{"$f":"IF((OR(Calculations2!N104=\"R3\", Calculations2!N104=\"R4\", Calculations2!N104=\"R5\", Calculations2!N104=\"R6\")),Calculations2!$N$15/100*Calculations2!H104,Calculations2!$L$15/100*Calculations2!H104)","v":1.9500000000000002},{"$f":"IF((OR(Calculations2!N104=\"R6\", Calculations2!N104=\"R7\",)),$S$8/100*Calculations2!H104,Q93)","v":1.9500000000000002}]
[{"$f":"A93+Calculations2!G105","v":8.0642706078580417},{"$f":"B93+Calculations2!C105","v":6.92},{"$f":"C93+Calculations2!D105","v":1},7.92,{"$f":"IF((OR(Calculations2!N105<>\"R3\", Calculations2!N105<>\"R4\", Calculations2!N105<>\"R5\", Calculations2!N105<>\"R6\", Calculations2!N105<>\"R7\")),Calculations2!$L$15/100*Calculations2!H105,Calculations2!$N$15/100*Calculations2!H105)","v":1.9500000000000002},{"$f":"IF(Calculations2!$E104=\"\",$F93+1)","v":25},{"$f":"IF(AND(Calculations2!$E104=\"\",$F94<8),Calculations2!$O105,\"\")","v":""},{"$f":"IF(AND(Calculations2!$E104=\"\",$F94<6),Calculations2!$I104-Calculations2!$O99-$I89-$I90-$I91-$I92,IF(AND(Calculations2!$E105=\"\",Calculations2!$E103<>\"\"),Calculations2!$I105,\"\"))","v":""},{"$f":"Calculations2!$O105","v":0},{"$f":"IF(AND($F94>5,$F94<>FALSE),\"\",IF(Calculations2!$E105=\"\",Calculations2!$H105-Calculations2!I105,Calculations2!$H105-Calculations2!$I105))","v":""},null,null,null,null,{"$f":"+Calculations2!$H105","v":3.9000000000000004},3.1500000000000004,{"$f":"IF((OR(Calculations2!N105=\"R3\", Calculations2!N105=\"R4\", Calculations2!N105=\"R5\", Calculations2!N105=\"R6\")),Calculations2!$N$15/100*Calculations2!H105,Calculations2!$L$15/100*Calculations2!H105)","v":1.9500000000000002},{"$f":"IF((OR(Calculations2!N105=\"R6\", Calculations2!N105=\"R7\",)),$S$8/100*Calculations2!H105,Q94)","v":1.9500000000000002}]
[{"$f":"A94+Calculations2!G106","v":8.0642706078580417},{"$f":"B94+Calculations2!C106","v":6.92},{"$f":"C94+Calculations2!D106","v":1},7.92,{"$f":"IF((OR(Calculations2!N106<>\"R3\", Calculations2!N106<>\"R4\", Calculations2!N106<>\"R5\", Calculations2!N106<>\"R6\", Calculations2!N106<>\"R7\")),Calculations2!$L$15/100*Calculations2!H106,Calculations2!$N$15/100*Calculations2!H106)","v":1.9500000000000002},{"$f":"IF(Calculations2!$E105=\"\",$F94+1)","v":26},{"$f":"IF(AND(Calculations2!$E105=\"\",$F95<8),Calculations2!$O106,\"\")","v":""},{"$f":"IF(AND(Calculations2!$E105=\"\",$F95<6),Calculations2!$I105-Calculations2!$O100-$I90-$I91-$I92-$I93,IF(AND(Calculations2!$E106=\"\",Calculations2!$E104<>\"\"),Calculations2!$I106,\"\"))","v":""},{"$f":"Calculations2!$O106","v":0},{"$f":"IF(AND($F95>5,$F95<>FALSE),\"\",IF(Calculations2!$E106=\"\",Calculations2!$H106-Calculations2!I106,Calculations2!$H106-Calculations2!$I106))","v":""},null,null,null,null,{"$f":"+Calculations2!$H106","v":3.9000000000000004},3.1500000000000004,{"$f":"IF((OR(Calculations2!N106=\"R3\", Calculations2!N106=\"R4\", Calculations2!N106=\"R5\", Calculations2!N106=\"R6\")),Calculations2!$N$15/100*Calculations2!H106,Calculations2!$L$15/100*Calculations2!H106)","v":1.9500000000000002},{"$f":"IF((OR(Calculations2!N106=\"R6\", Calculations2!N106=\"R7\",)),$S$8/100*Calculations2!H106,Q95)","v":1.9500000000000002}]
[{"$f":"A95+Calculations2!G107","v":8.0642706078580417},{"$f":"B95+Calculations2!C107","v":6.92},{"$f":"C95+Calculations2!D107","v":1},7.92,{"$f":"IF((OR(Calculations2!N107<>\"R3\", Calculations2!N107<>\"R4\", Calculations2!N107<>\"R5\", Calculations2!N107<>\"R6\", Calculations2!N107<>\"R7\")),Calculations2!$L$15/100*Calculations2!H107,Calculations2!$N$15/100*Calculations2!H107)","v":1.9500000000000002},{"$f":"IF(Calculations2!$E106=\"\",$F95+1)","v":27},{"$f":"IF(AND(Calculations2!$E106=\"\",$F96<8),Calculations2!$O107,\"\")","v":""},{"$f":"IF(AND(Calculations2!$E106=\"\",$F96<6),Calculations2!$I106-Calculations2!$O101-$I91-$I92-$I93-$I94,IF(AND(Calculations2!$E107=\"\",Calculations2!$E105<>\"\"),Calculations2!$I107,\"\"))","v":""},{"$f":"Calculations2!$O107","v":0},{"$f":"IF(AND($F96>5,$F96<>FALSE),\"\",IF(Calculations2!$E107=\"\",Calculations2!$H107-Calculations2!I107,Calculations2!$H107-Calculations2!$I107))","v":""},null,null,null,null,{"$f":"+Calculations2!$H107","v":3.9000000000000004},3.1500000000000004,{"$f":"IF((OR(Calculations2!N107=\"R3\", Calculations2!N107=\"R4\", Calculations2!N107=\"R5\", Calculations2!N107=\"R6\")),Calculations2!$N$15/100*Calculations2!H107,Calculations2!$L$15/100*Calculations2!H107)","v":1.9500000000000002},{"$f":"IF((OR(Calculations2!N107=\"R6\", Calculations2!N107=\"R7\",)),$S$8/100*Calculations2!H107,Q96)","v":1.9500000000000002}]
[{"$f":"A96+Calculations2!G108","v":8.0642706078580417},{"$f":"B96+Calculations2!C108","v":6.92},{"$f":"C96+Calculations2!D108","v":1},7.92,{"$f":"IF((OR(Calculations2!N108<>\"R3\", Calculations2!N108<>\"R4\", Calculations2!N108<>\"R5\", Calculations2!N108<>\"R6\", Calculations2!N108<>\"R7\")),Calculations2!$L$15/100*Calculations2!H108,Calculations2!$N$15/100*Calculations2!H108)","v":1.9500000000000002},{"$f":"IF(Calculations2!$E107=\"\",$F96+1)","v":28},{"$f":"IF(AND(Calculations2!$E107=\"\",$F97<8),Calculations2!$O108,\"\")","v":""},{"$f":"IF(AND(Calculations2!$E107=\"\",$F97<6),Calculations2!$I107-Calculations2!$O102-$I92-$I93-$I94-$I95,IF(AND(Calculations2!$E108=\"\",Calculations2!$E106<>\"\"),Calculations2!$I108,\"\"))","v":""},{"$f":"Calculations2!$O108","v":0},{"$f":"IF(AND($F97>5,$F97<>FALSE),\"\",IF(Calculations2!$E108=\"\",Calculations2!$H108-Calculations2!I108,Calculations2!$H108-Calculations2!$I108))","v":""},null,null,null,null,{"$f":"+Calculations2!$H108","v":3.9000000000000004},3.1500000000000004,{"$f":"IF((OR(Calculations2!N108=\"R3\", Calculations2!N108=\"R4\", Calculations2!N108=\"R5\", Calculations2!N108=\"R6\")),Calculations2!$N$15/100*Calculations2!H108,Calculations2!$L$15/100*Calculations2!H108)","v":1.9500000000000002},{"$f":"IF((OR(Calculations2!N108=\"R6\", Calculations2!N108=\"R7\",)),$S$8/100*Calculations2!H108,Q97)","v":1.9500000000000002}]
[{"$f":"A97+Calculations2!G109","v":8.0642706078580417},{"$f":"B97+Calculations2!C109","v":6.92},{"$f":"C97+Calculations2!D109","v":1},7.92,{"$f":"IF((OR(Calculations2!N109<>\"R3\", Calculations2!N109<>\"R4\", Calculations2!N109<>\"R5\", Calculations2!N109<>\"R6\", Calculations2!N109<>\"R7\")),Calculations2!$L$15/100*Calculations2!H109,Calculations2!$N$15/100*Calculations2!H109)","v":1.9500000000000002},{"$f":"IF(Calculations2!$E108=\"\",$F97+1)","v":29},{"$f":"IF(AND(Calculations2!$E108=\"\",$F98<8),Calculations2!$O109,\"\")","v":""},{"$f":"IF(AND(Calculations2!$E108=\"\",$F98<6),Calculations2!$I108-Calculations2!$O103-$I93-$I94-$I95-$I96,IF(AND(Calculations2!$E109=\"\",Calculations2!$E107<>\"\"),Calculations2!$I109,\"\"))","v":""},{"$f":"Calculations2!$O109","v":0},{"$f":"IF(AND($F98>5,$F98<>FALSE),\"\",IF(Calculations2!$E109=\"\",Calculations2!$H109-Calculations2!I109,Calculations2!$H109-Calculations2!$I109))","v":""},null,null,null,null,{"$f":"+Calculations2!$H109","v":3.9000000000000004},3.1500000000000004,{"$f":"IF((OR(Calculations2!N109=\"R3\", Calculations2!N109=\"R4\", Calculations2!N109=\"R5\", Calculations2!N109=\"R6\")),Calculations2!$N$15/100*Calculations2!H109,Calculations2!$L$15/100*Calculations2!H109)","v":1.9500000000000002},{"$f":"IF((OR(Calculations2!N109=\"R6\", Calculations2!N109=\"R7\",)),$S$8/100*Calculations2!H109,Q98)","v":1.9500000000000002}]
[{"$f":"A98+Calculations2!G110","v":8.0642706078580417},{"$f":"B98+Calculations2!C110","v":6.92},{"$f":"C98+Calculations2!D110","v":1},7.92,{"$f":"IF((OR(Calculations2!N110<>\"R3\", Calculations2!N110<>\"R4\", Calculations2!N110<>\"R5\", Calculations2!N110<>\"R6\", Calculations2!N110<>\"R7\")),Calculations2!$L$15/100*Calculations2!H110,Calculations2!$N$15/100*Calculations2!H110)","v":1.9500000000000002},{"$f":"IF(Calculations2!$E109=\"\",$F98+1)","v":30},{"$f":"IF(AND(Calculations2!$E109=\"\",$F99<8),Calculations2!$O110,\"\")","v":""},{"$f":"IF(AND(Calculations2!$E109=\"\",$F99<6),Calculations2!$I109-Calculations2!$O104-$I94-$I95-$I96-$I97,IF(AND(Calculations2!$E110=\"\",Calculations2!$E108<>\"\"),Calculations2!$I110,\"\"))","v":""},{"$f":"Calculations2!$O110","v":0},{"$f":"IF(AND($F99>5,$F99<>FALSE),\"\",IF(Calculations2!$E110=\"\",Calculations2!$H110-Calculations2!I110,Calculations2!$H110-Calculations2!$I110))","v":""},null,null,null,null,{"$f":"+Calculations2!$H110","v":3.9000000000000004},3.1500000000000004,{"$f":"IF((OR(Calculations2!N110=\"R3\", Calculations2!N110=\"R4\", Calculations2!N110=\"R5\", Calculations2!N110=\"R6\")),Calculations2!$N$15/100*Calculations2!H110,Calculations2!$L$15/100*Calculations2!H110)","v":1.9500000000000002},{"$f":"IF((OR(Calculations2!N110=\"R6\", Calculations2!N110=\"R7\",)),$S$8/100*Calculations2!H110,Q99)","v":1.9500000000000002}]
[{"$f":"A99+Calculations2!G111","v":8.0642706078580417},{"$f":"B99+Calculations2!C111","v":6.92},{"$f":"C99+Calculations2!D111","v":1},7.92,{"$f":"IF((OR(Calculations2!N111<>\"R3\", Calculations2!N111<>\"R4\", Calculations2!N111<>\"R5\", Calculations2!N111<>\"R6\", Calculations2!N111<>\"R7\")),Calculations2!$L$15/100*Calculations2!H111,Calculations2!$N$15/100*Calculations2!H111)","v":1.9500000000000002},{"$f":"IF(Calculations2!$E110=\"\",$F99+1)","v":31},{"$f":"IF(AND(Calculations2!$E110=\"\",$F100<8),Calculations2!$O111,\"\")","v":""},{"$f":"IF(AND(Calculations2!$E110=\"\",$F100<6),Calculations2!$I110-Calculations2!$O105-$I95-$I96-$I97-$I98,IF(AND(Calculations2!$E111=\"\",Calculations2!$E109<>\"\"),Calculations2!$I111,\"\"))","v":""},{"$f":"Calculations2!$O111","v":0},{"$f":"IF(AND($F100>5,$F100<>FALSE),\"\",IF(Calculations2!$E111=\"\",Calculations2!$H111-Calculations2!I111,Calculations2!$H111-Calculations2!$I111))","v":""},null,null,null,null,{"$f":"+Calculations2!$H111","v":3.9000000000000004},3.1500000000000004,{"$f":"IF((OR(Calculations2!N111=\"R3\", Calculations2!N111=\"R4\", Calculations2!N111=\"R5\", Calculations2!N111=\"R6\")),Calculations2!$N$15/100*Calculations2!H111,Calculations2!$L$15/100*Calculations2!H111)","v":1.9500000000000002},{"$f":"IF((OR(Calculations2!N111=\"R6\", Calculations2!N111=\"R7\",)),$S$8/100*Calculations2!H111,Q100)","v":1.9500000000000002}]
[{"$f":"A100+Calculations2!G112","v":8.0642706078580417},{"$f":"B100+Calculations2!C112","v":6.92},{"$f":"C100+Calculations2!D112","v":1},7.92,{"$f":"IF((OR(Calculations2!N112<>\"R3\", Calculations2!N112<>\"R4\", Calculations2!N112<>\"R5\", Calculations2!N112<>\"R6\", Calculations2!N112<>\"R7\")),Calculations2!$L$15/100*Calculations2!H112,Calculations2!$N$15/100*Calculations2!H112)","v":1.9500000000000002},{"$f":"IF(Calculations2!$E111=\"\",$F100+1)","v":32},{"$f":"IF(AND(Calculations2!$E111=\"\",$F101<8),Calculations2!$O112,\"\")","v":""},{"$f":"IF(AND(Calculations2!$E111=\"\",$F101<6),Calculations2!$I111-Calculations2!$O106-$I96-$I97-$I98-$I99,IF(AND(Calculations2!$E112=\"\",Calculations2!$E110<>\"\"),Calculations2!$I112,\"\"))","v":""},{"$f":"Calculations2!$O112","v":0},{"$f":"IF(AND($F101>5,$F101<>FALSE),\"\",IF(Calculations2!$E112=\"\",Calculations2!$H112-Calculations2!I112,Calculations2!$H112-Calculations2!$I112))","v":""},null,null,null,null,{"$f":"+Calculations2!$H112","v":3.9000000000000004},3.1500000000000004,{"$f":"IF((OR(Calculations2!N112=\"R3\", Calculations2!N112=\"R4\", Calculations2!N112=\"R5\", Calculations2!N112=\"R6\")),Calculations2!$N$15/100*Calculations2!H112,Calculations2!$L$15/100*Calculations2!H112)","v":1.9500000000000002},{"$f":"IF((OR(Calculations2!N112=\"R6\", Calculations2!N112=\"R7\",)),$S$8/100*Calculations2!H112,Q101)","v":1.9500000000000002}]
[{"$f":"A101+Calculations2!G113","v":8.0642706078580417},{"$f":"B101+Calculations2!C113","v":6.92},{"$f":"C101+Calculations2!D113","v":1},7.92,{"$f":"IF((OR(Calculations2!N113<>\"R3\", Calculations2!N113<>\"R4\", Calculations2!N113<>\"R5\", Calculations2!N113<>\"R6\", Calculations2!N113<>\"R7\")),Calculations2!$L$15/100*Calculations2!H113,Calculations2!$N$15/100*Calculations2!H113)","v":1.9500000000000002},{"$f":"IF(Calculations2!$E112=\"\",$F101+1)","v":33},{"$f":"IF(AND(Calculations2!$E112=\"\",$F102<8),Calculations2!$O113,\"\")","v":""},{"$f":"IF(AND(Calculations2!$E112=\"\",$F102<6),Calculations2!$I112-Calculations2!$O107-$I97-$I98-$I99-$I100,IF(AND(Calculations2!$E113=\"\",Calculations2!$E111<>\"\"),Calculations2!$I113,\"\"))","v":""},{"$f":"Calculations2!$O113","v":0},{"$f":"IF(AND($F102>5,$F102<>FALSE),\"\",IF(Calculations2!$E113=\"\",Calculations2!$H113-Calculations2!I113,Calculations2!$H113-Calculations2!$I113))","v":""},null,null,null,null,{"$f":"+Calculations2!$H113","v":3.9000000000000004},3.1500000000000004,{"$f":"IF((OR(Calculations2!N113=\"R3\", Calculations2!N113=\"R4\", Calculations2!N113=\"R5\", Calculations2!N113=\"R6\")),Calculations2!$N$15/100*Calculations2!H113,Calculations2!$L$15/100*Calculations2!H113)","v":1.9500000000000002},{"$f":"IF((OR(Calculations2!N113=\"R6\", Calculations2!N113=\"R7\",)),$S$8/100*Calculations2!H113,Q102)","v":1.9500000000000002}]
[{"$f":"A102+Calculations2!G114","v":8.0642706078580417},{"$f":"B102+Calculations2!C114","v":6.92},{"$f":"C102+Calculations2!D114","v":1},7.92,{"$f":"IF((OR(Calculations2!N114<>\"R3\", Calculations2!N114<>\"R4\", Calculations2!N114<>\"R5\", Calculations2!N114<>\"R6\", Calculations2!N114<>\"R7\")),Calculations2!$L$15/100*Calculations2!H114,Calculations2!$N$15/100*Calculations2!H114)","v":1.9500000000000002},{"$f":"IF(Calculations2!$E113=\"\",$F102+1)","v":34},{"$f":"IF(AND(Calculations2!$E113=\"\",$F103<8),Calculations2!$O114,\"\")","v":""},{"$f":"IF(AND(Calculations2!$E113=\"\",$F103<6),Calculations2!$I113-Calculations2!$O108-$I98-$I99-$I100-$I101,IF(AND(Calculations2!$E114=\"\",Calculations2!$E112<>\"\"),Calculations2!$I114,\"\"))","v":""},{"$f":"Calculations2!$O114","v":0},{"$f":"IF(AND($F103>5,$F103<>FALSE),\"\",IF(Calculations2!$E114=\"\",Calculations2!$H114-Calculations2!I114,Calculations2!$H114-Calculations2!$I114))","v":""},null,null,null,null,{"$f":"+Calculations2!$H114","v":3.9000000000000004},3.1500000000000004,{"$f":"IF((OR(Calculations2!N114=\"R3\", Calculations2!N114=\"R4\", Calculations2!N114=\"R5\", Calculations2!N114=\"R6\")),Calculations2!$N$15/100*Calculations2!H114,Calculations2!$L$15/100*Calculations2!H114)","v":1.9500000000000002},{"$f":"IF((OR(Calculations2!N114=\"R6\", Calculations2!N114=\"R7\",)),$S$8/100*Calculations2!H114,Q103)","v":1.9500000000000002}]
[{"$f":"A103+Calculations2!G115","v":8.0642706078580417},{"$f":"B103+Calculations2!C115","v":6.92},{"$f":"C103+Calculations2!D115","v":1},{"$f":"B104+C104","v":7.92},{"$f":"IF((OR(Calculations2!N115<>\"R3\", Calculations2!N115<>\"R4\", Calculations2!N115<>\"R5\", Calculations2!N115<>\"R6\", Calculations2!N115<>\"R7\")),Calculations2!$L$15/100*Calculations2!H115,Calculations2!$N$15/100*Calculations2!H115)","v":1.9500000000000002},{"$f":"IF(Calculations2!$E114=\"\",$F103+1)","v":35},{"$f":"IF(AND(Calculations2!$E114=\"\",$F104<8),Calculations2!$O115,\"\")","v":""},{"$f":"IF(AND(Calculations2!$E114=\"\",$F104<6),Calculations2!$I114-Calculations2!$O109-$I99-$I100-$I101-$I102,IF(AND(Calculations2!$E115=\"\",Calculations2!$E113<>\"\"),Calculations2!$I115,\"\"))","v":""},{"$f":"Calculations2!$O115","v":0},{"$f":"IF(AND($F104>5,$F104<>FALSE),\"\",IF(Calculations2!$E115=\"\",Calculations2!$H115-Calculations2!I115,Calculations2!$H115-Calculations2!$I115))","v":""},null,null,null,null,{"$f":"+Calculations2!$H115","v":3.9000000000000004},3.1500000000000004,{"$f":"IF((OR(Calculations2!N115=\"R3\", Calculations2!N115=\"R4\", Calculations2!N115=\"R5\", Calculations2!N115=\"R6\")),Calculations2!$N$15/100*Calculations2!H115,Calculations2!$L$15/100*Calculations2!H115)","v":1.9500000000000002},{"$f":"IF((OR(Calculations2!N115=\"R6\", Calculations2!N115=\"R7\",)),$S$8/100*Calculations2!H115,Q104)","v":1.9500000000000002}]
[{"$f":"A104+Calculations2!G116","v":8.0642706078580417},{"$f":"B104+Calculations2!C116","v":6.92},{"$f":"C104+Calculations2!D116","v":1},7.92,{"$f":"IF((OR(Calculations2!N116<>\"R3\", Calculations2!N116<>\"R4\", Calculations2!N116<>\"R5\", Calculations2!N116<>\"R6\", Calculations2!N116<>\"R7\")),Calculations2!$L$15/100*Calculations2!H116,Calculations2!$N$15/100*Calculations2!H116)","v":1.9500000000000002},{"$f":"IF(Calculations2!$E115=\"\",$F104+1)","v":36},{"$f":"IF(AND(Calculations2!$E115=\"\",$F105<8),Calculations2!$O116,\"\")","v":""},{"$f":"IF(AND(Calculations2!$E115=\"\",$F105<6),Calculations2!$I115-Calculations2!$O110-$I100-$I101-$I102-$I103,IF(AND(Calculations2!$E116=\"\",Calculations2!$E114<>\"\"),Calculations2!$I116,\"\"))","v":""},{"$f":"Calculations2!$O116","v":0},{"$f":"IF(AND($F105>5,$F105<>FALSE),\"\",IF(Calculations2!$E116=\"\",Calculations2!$H116-Calculations2!I116,Calculations2!$H116-Calculations2!$I116))","v":""},null,null,null,null,{"$f":"+Calculations2!$H116","v":3.9000000000000004},3.1500000000000004,{"$f":"IF((OR(Calculations2!N116=\"R3\", Calculations2!N116=\"R4\", Calculations2!N116=\"R5\", Calculations2!N116=\"R6\")),Calculations2!$N$15/100*Calculations2!H116,Calculations2!$L$15/100*Calculations2!H116)","v":1.9500000000000002},{"$f":"IF((OR(Calculations2!N116=\"R6\", Calculations2!N116=\"R7\",)),$S$8/100*Calculations2!H116,Q105)","v":1.9500000000000002}]
[{"$f":"A105+Calculations2!G117","v":8.0642706078580417},{"$f":"B105+Calculations2!C117","v":6.92},{"$f":"C105+Calculations2!D117","v":1},7.92,{"$f":"IF((OR(Calculations2!N117<>\"R3\", Calculations2!N117<>\"R4\", Calculations2!N117<>\"R5\", Calculations2!N117<>\"R6\", Calculations2!N117<>\"R7\")),Calculations2!$L$15/100*Calculations2!H117,Calculations2!$N$15/100*Calculations2!H117)","v":1.9500000000000002},{"$f":"IF(Calculations2!$E116=\"\",$F105+1)","v":37},{"$f":"IF(AND(Calculations2!$E116=\"\",$F106<8),Calculations2!$O117,\"\")","v":""},{"$f":"IF(AND(Calculations2!$E116=\"\",$F106<6),Calculations2!$I116-Calculations2!$O111-$I101-$I102-$I103-$I104,IF(AND(Calculations2!$E117=\"\",Calculations2!$E115<>\"\"),Calculations2!$I117,\"\"))","v":""},{"$f":"Calculations2!$O117","v":0},{"$f":"IF(AND($F106>5,$F106<>FALSE),\"\",IF(Calculations2!$E117=\"\",Calculations2!$H117-Calculations2!I117,Calculations2!$H117-Calculations2!$I117))","v":""},null,null,null,null,{"$f":"+Calculations2!$H117","v":3.9000000000000004},3.1500000000000004,{"$f":"IF((OR(Calculations2!N117=\"R3\", Calculations2!N117=\"R4\", Calculations2!N117=\"R5\", Calculations2!N117=\"R6\")),Calculations2!$N$15/100*Calculations2!H117,Calculations2!$L$15/100*Calculations2!H117)","v":1.9500000000000002},{"$f":"IF((OR(Calculations2!N117=\"R6\", Calculations2!N117=\"R7\",)),$S$8/100*Calculations2!H117,Q106)","v":1.9500000000000002}]
[{"$f":"A106+Calculations2!G118","v":8.0642706078580417},{"$f":"B106+Calculations2!C118","v":6.92},{"$f":"C106+Calculations2!D118","v":1},7.92,{"$f":"IF((OR(Calculations2!N118<>\"R3\", Calculations2!N118<>\"R4\", Calculations2!N118<>\"R5\", Calculations2!N118<>\"R6\", Calculations2!N118<>\"R7\")),Calculations2!$L$15/100*Calculations2!H118,Calculations2!$N$15/100*Calculations2!H118)","v":1.9500000000000002},{"$f":"IF(Calculations2!$E117=\"\",$F106+1)","v":38},{"$f":"IF(AND(Calculations2!$E117=\"\",$F107<8),Calculations2!$O118,\"\")","v":""},{"$f":"IF(AND(Calculations2!$E117=\"\",$F107<6),Calculations2!$I117-Calculations2!$O112-$I102-$I103-$I104-$I105,IF(AND(Calculations2!$E118=\"\",Calculations2!$E116<>\"\"),Calculations2!$I118,\"\"))","v":""},{"$f":"Calculations2!$O118","v":0},{"$f":"IF(AND($F107>5,$F107<>FALSE),\"\",IF(Calculations2!$E118=\"\",Calculations2!$H118-Calculations2!I118,Calculations2!$H118-Calculations2!$I118))","v":""},null,null,null,null,{"$f":"+Calculations2!$H118","v":3.9000000000000004},3.1500000000000004,{"$f":"IF((OR(Calculations2!N118=\"R3\", Calculations2!N118=\"R4\", Calculations2!N118=\"R5\", Calculations2!N118=\"R6\")),Calculations2!$N$15/100*Calculations2!H118,Calculations2!$L$15/100*Calculations2!H118)","v":1.9500000000000002},{"$f":"IF((OR(Calculations2!N118=\"R6\", Calculations2!N118=\"R7\",)),$S$8/100*Calculations2!H118,Q107)","v":1.9500000000000002}]
[{"$f":"A107+Calculations2!G119","v":8.0642706078580417},{"$f":"B107+Calculations2!C119","v":6.92},{"$f":"C107+Calculations2!D119","v":1},7.92,{"$f":"IF((OR(Calculations2!N119<>\"R3\", Calculations2!N119<>\"R4\", Calculations2!N119<>\"R5\", Calculations2!N119<>\"R6\", Calculations2!N119<>\"R7\")),Calculations2!$L$15/100*Calculations2!H119,Calculations2!$N$15/100*Calculations2!H119)","v":1.9500000000000002},{"$f":"IF(Calculations2!$E118=\"\",$F107+1)","v":39},{"$f":"IF(AND(Calculations2!$E118=\"\",$F108<8),Calculations2!$O119,\"\")","v":""},{"$f":"IF(AND(Calculations2!$E118=\"\",$F108<6),Calculations2!$I118-Calculations2!$O113-$I103-$I104-$I105-$I106,IF(AND(Calculations2!$E119=\"\",Calculations2!$E117<>\"\"),Calculations2!$I119,\"\"))","v":""},{"$f":"Calculations2!$O119","v":0},{"$f":"IF(AND($F108>5,$F108<>FALSE),\"\",IF(Calculations2!$E119=\"\",Calculations2!$H119-Calculations2!I119,Calculations2!$H119-Calculations2!$I119))","v":""},null,null,null,null,{"$f":"+Calculations2!$H119","v":3.9000000000000004},3.1500000000000004,{"$f":"IF((OR(Calculations2!N119=\"R3\", Calculations2!N119=\"R4\", Calculations2!N119=\"R5\", Calculations2!N119=\"R6\")),Calculations2!$N$15/100*Calculations2!H119,Calculations2!$L$15/100*Calculations2!H119)","v":1.9500000000000002},{"$f":"IF((OR(Calculations2!N119=\"R6\", Calculations2!N119=\"R7\",)),$S$8/100*Calculations2!H119,Q108)","v":1.9500000000000002}]
[{"$f":"A108+Calculations2!G120","v":8.0642706078580417},{"$f":"B108+Calculations2!C120","v":6.92},{"$f":"C108+Calculations2!D120","v":1},7.92,{"$f":"IF((OR(Calculations2!N120<>\"R3\", Calculations2!N120<>\"R4\", Calculations2!N120<>\"R5\", Calculations2!N120<>\"R6\", Calculations2!N120<>\"R7\")),Calculations2!$L$15/100*Calculations2!H120,Calculations2!$N$15/100*Calculations2!H120)","v":1.9500000000000002},{"$f":"IF(Calculations2!$E119=\"\",$F108+1)","v":40},{"$f":"IF(AND(Calculations2!$E119=\"\",$F109<8),Calculations2!$O120,\"\")","v":""},{"$f":"IF(AND(Calculations2!$E119=\"\",$F109<6),Calculations2!$I119-Calculations2!$O114-$I104-$I105-$I106-$I107,IF(AND(Calculations2!$E120=\"\",Calculations2!$E118<>\"\"),Calculations2!$I120,\"\"))","v":""},{"$f":"Calculations2!$O120","v":0},{"$f":"IF(AND($F109>5,$F109<>FALSE),\"\",IF(Calculations2!$E120=\"\",Calculations2!$H120-Calculations2!I120,Calculations2!$H120-Calculations2!$I120))","v":""},null,null,null,null,{"$f":"+Calculations2!$H120","v":3.9000000000000004},3.1500000000000004,{"$f":"IF((OR(Calculations2!N120=\"R3\", Calculations2!N120=\"R4\", Calculations2!N120=\"R5\", Calculations2!N120=\"R6\")),Calculations2!$N$15/100*Calculations2!H120,Calculations2!$L$15/100*Calculations2!H120)","v":1.9500000000000002},{"$f":"IF((OR(Calculations2!N120=\"R6\", Calculations2!N120=\"R7\",)),$S$8/100*Calculations2!H120,Q109)","v":1.9500000000000002}]
[{"$f":"A109+Calculations2!G121","v":8.0642706078580417},{"$f":"B109+Calculations2!C121","v":6.92},{"$f":"C109+Calculations2!D121","v":1},7.92,{"$f":"IF((OR(Calculations2!N121<>\"R3\", Calculations2!N121<>\"R4\", Calculations2!N121<>\"R5\", Calculations2!N121<>\"R6\", Calculations2!N121<>\"R7\")),Calculations2!$L$15/100*Calculations2!H121,Calculations2!$N$15/100*Calculations2!H121)","v":1.9500000000000002},{"$f":"IF(Calculations2!$E120=\"\",$F109+1)","v":41},{"$f":"IF(AND(Calculations2!$E120=\"\",$F110<8),Calculations2!$O121,\"\")","v":""},{"$f":"IF(AND(Calculations2!$E120=\"\",$F110<6),Calculations2!$I120-Calculations2!$O115-$I105-$I106-$I107-$I108,IF(AND(Calculations2!$E121=\"\",Calculations2!$E119<>\"\"),Calculations2!$I121,\"\"))","v":""},{"$f":"Calculations2!$O121","v":0},{"$f":"IF(AND($F110>5,$F110<>FALSE),\"\",IF(Calculations2!$E121=\"\",Calculations2!$H121-Calculations2!I121,Calculations2!$H121-Calculations2!$I121))","v":""},null,null,null,null,{"$f":"+Calculations2!$H121","v":3.9000000000000004},3.1500000000000004,{"$f":"IF((OR(Calculations2!N121=\"R3\", Calculations2!N121=\"R4\", Calculations2!N121=\"R5\", Calculations2!N121=\"R6\")),Calculations2!$N$15/100*Calculations2!H121,Calculations2!$L$15/100*Calculations2!H121)","v":1.9500000000000002},{"$f":"IF((OR(Calculations2!N121=\"R6\", Calculations2!N121=\"R7\",)),$S$8/100*Calculations2!H121,Q110)","v":1.9500000000000002}]
[{"$f":"A110+Calculations2!G122","v":8.0642706078580417},{"$f":"B110+Calculations2!C122","v":6.92},{"$f":"C110+Calculations2!D122","v":1},7.92,{"$f":"IF((OR(Calculations2!N122<>\"R3\", Calculations2!N122<>\"R4\", Calculations2!N122<>\"R5\", Calculations2!N122<>\"R6\", Calculations2!N122<>\"R7\")),Calculations2!$L$15/100*Calculations2!H122,Calculations2!$N$15/100*Calculations2!H122)","v":1.9500000000000002},{"$f":"IF(Calculations2!$E121=\"\",$F110+1)","v":42},{"$f":"IF(AND(Calculations2!$E121=\"\",$F111<8),Calculations2!$O122,\"\")","v":""},{"$f":"IF(AND(Calculations2!$E121=\"\",$F111<6),Calculations2!$I121-Calculations2!$O116-$I106-$I107-$I108-$I109,IF(AND(Calculations2!$E122=\"\",Calculations2!$E120<>\"\"),Calculations2!$I122,\"\"))","v":""},{"$f":"Calculations2!$O122","v":0},{"$f":"IF(AND($F111>5,$F111<>FALSE),\"\",IF(Calculations2!$E122=\"\",Calculations2!$H122-Calculations2!I122,Calculations2!$H122-Calculations2!$I122))","v":""},null,null,null,null,{"$f":"+Calculations2!$H122","v":3.9000000000000004},3.1500000000000004,{"$f":"IF((OR(Calculations2!N122=\"R3\", Calculations2!N122=\"R4\", Calculations2!N122=\"R5\", Calculations2!N122=\"R6\")),Calculations2!$N$15/100*Calculations2!H122,Calculations2!$L$15/100*Calculations2!H122)","v":1.9500000000000002},{"$f":"IF((OR(Calculations2!N122=\"R6\", Calculations2!N122=\"R7\",)),$S$8/100*Calculations2!H122,Q111)","v":1.9500000000000002}]
[{"$f":"A111+Calculations2!G123","v":8.0642706078580417},{"$f":"B111+Calculations2!C123","v":6.92},{"$f":"C111+Calculations2!D123","v":1},7.92,{"$f":"IF((OR(Calculations2!N123<>\"R3\", Calculations2!N123<>\"R4\", Calculations2!N123<>\"R5\", Calculations2!N123<>\"R6\", Calculations2!N123<>\"R7\")),Calculations2!$L$15/100*Calculations2!H123,Calculations2!$N$15/100*Calculations2!H123)","v":1.9500000000000002},{"$f":"IF(Calculations2!$E122=\"\",$F111+1)","v":43},{"$f":"IF(AND(Calculations2!$E122=\"\",$F112<8),Calculations2!$O123,\"\")","v":""},{"$f":"IF(AND(Calculations2!$E122=\"\",$F112<6),Calculations2!$I122-Calculations2!$O117-$I107-$I108-$I109-$I110,IF(AND(Calculations2!$E123=\"\",Calculations2!$E121<>\"\"),Calculations2!$I123,\"\"))","v":""},{"$f":"Calculations2!$O123","v":0},{"$f":"IF(AND($F112>5,$F112<>FALSE),\"\",IF(Calculations2!$E123=\"\",Calculations2!$H123-Calculations2!I123,Calculations2!$H123-Calculations2!$I123))","v":""},null,null,null,null,{"$f":"+Calculations2!$H123","v":3.9000000000000004},3.1500000000000004,{"$f":"IF((OR(Calculations2!N123=\"R3\", Calculations2!N123=\"R4\", Calculations2!N123=\"R5\", Calculations2!N123=\"R6\")),Calculations2!$N$15/100*Calculations2!H123,Calculations2!$L$15/100*Calculations2!H123)","v":1.9500000000000002},{"$f":"IF((OR(Calculations2!N123=\"R6\", Calculations2!N123=\"R7\",)),$S$8/100*Calculations2!H123,Q112)","v":1.9500000000000002}]
[{"$f":"A112+Calculations2!G124","v":8.0642706078580417},{"$f":"B112+Calculations2!C124","v":6.92},{"$f":"C112+Calculations2!D124","v":1},7.92,{"$f":"IF((OR(Calculations2!N124<>\"R3\", Calculations2!N124<>\"R4\", Calculations2!N124<>\"R5\", Calculations2!N124<>\"R6\", Calculations2!N124<>\"R7\")),Calculations2!$L$15/100*Calculations2!H124,Calculations2!$N$15/100*Calculations2!H124)","v":1.9500000000000002},{"$f":"IF(Calculations2!$E123=\"\",$F112+1)","v":44},{"$f":"IF(AND(Calculations2!$E123=\"\",$F113<8),Calculations2!$O124,\"\")","v":""},{"$f":"IF(AND(Calculations2!$E123=\"\",$F113<6),Calculations2!$I123-Calculations2!$O118-$I108-$I109-$I110-$I111,IF(AND(Calculations2!$E124=\"\",Calculations2!$E122<>\"\"),Calculations2!$I124,\"\"))","v":""},{"$f":"Calculations2!$O124","v":0},{"$f":"IF(AND($F113>5,$F113<>FALSE),\"\",IF(Calculations2!$E124=\"\",Calculations2!$H124-Calculations2!I124,Calculations2!$H124-Calculations2!$I124))","v":""},null,null,null,null,{"$f":"+Calculations2!$H124","v":3.9000000000000004},3.1500000000000004,{"$f":"IF((OR(Calculations2!N124=\"R3\", Calculations2!N124=\"R4\", Calculations2!N124=\"R5\", Calculations2!N124=\"R6\")),Calculations2!$N$15/100*Calculations2!H124,Calculations2!$L$15/100*Calculations2!H124)","v":1.9500000000000002},{"$f":"IF((OR(Calculations2!N124=\"R6\", Calculations2!N124=\"R7\",)),$S$8/100*Calculations2!H124,Q113)","v":1.9500000000000002}]
[{"$f":"A113+Calculations2!G125","v":8.0642706078580417},{"$f":"B113+Calculations2!C125","v":6.92},{"$f":"C113+Calculations2!D125","v":1},7.92,{"$f":"IF((OR(Calculations2!N125<>\"R3\", Calculations2!N125<>\"R4\", Calculations2!N125<>\"R5\", Calculations2!N125<>\"R6\", Calculations2!N125<>\"R7\")),Calculations2!$L$15/100*Calculations2!H125,Calculations2!$N$15/100*Calculations2!H125)","v":1.9500000000000002},{"$f":"IF(Calculations2!$E124=\"\",$F113+1)","v":45},{"$f":"IF(AND(Calculations2!$E124=\"\",$F114<8),Calculations2!$O125,\"\")","v":""},{"$f":"IF(AND(Calculations2!$E124=\"\",$F114<6),Calculations2!$I124-Calculations2!$O119-$I109-$I110-$I111-$I112,IF(AND(Calculations2!$E125=\"\",Calculations2!$E123<>\"\"),Calculations2!$I125,\"\"))","v":""},{"$f":"Calculations2!$O125","v":0},{"$f":"IF(AND($F114>5,$F114<>FALSE),\"\",IF(Calculations2!$E125=\"\",Calculations2!$H125-Calculations2!I125,Calculations2!$H125-Calculations2!$I125))","v":""},null,null,null,null,{"$f":"+Calculations2!$H125","v":3.9000000000000004},3.1500000000000004,{"$f":"IF((OR(Calculations2!N125=\"R3\", Calculations2!N125=\"R4\", Calculations2!N125=\"R5\", Calculations2!N125=\"R6\")),Calculations2!$N$15/100*Calculations2!H125,Calculations2!$L$15/100*Calculations2!H125)","v":1.9500000000000002},{"$f":"IF((OR(Calculations2!N125=\"R6\", Calculations2!N125=\"R7\",)),$S$8/100*Calculations2!H125,Q114)","v":1.9500000000000002}]
[{"$f":"A114+Calculations2!G126","v":8.0642706078580417},{"$f":"B114+Calculations2!C126","v":6.92},{"$f":"C114+Calculations2!D126","v":1},7.92,{"$f":"IF((OR(Calculations2!N126<>\"R3\", Calculations2!N126<>\"R4\", Calculations2!N126<>\"R5\", Calculations2!N126<>\"R6\", Calculations2!N126<>\"R7\")),Calculations2!$L$15/100*Calculations2!H126,Calculations2!$N$15/100*Calculations2!H126)","v":1.9500000000000002},{"$f":"IF(Calculations2!$E125=\"\",$F114+1)","v":46},{"$f":"IF(AND(Calculations2!$E125=\"\",$F115<8),Calculations2!$O126,\"\")","v":""},{"$f":"IF(AND(Calculations2!$E125=\"\",$F115<6),Calculations2!$I125-Calculations2!$O120-$I110-$I111-$I112-$I113,IF(AND(Calculations2!$E126=\"\",Calculations2!$E124<>\"\"),Calculations2!$I126,\"\"))","v":""},{"$f":"Calculations2!$O126","v":0},{"$f":"IF(AND($F115>5,$F115<>FALSE),\"\",IF(Calculations2!$E126=\"\",Calculations2!$H126-Calculations2!I126,Calculations2!$H126-Calculations2!$I126))","v":""},null,null,null,null,{"$f":"+Calculations2!$H126","v":3.9000000000000004},3.1500000000000004,{"$f":"IF((OR(Calculations2!N126=\"R3\", Calculations2!N126=\"R4\", Calculations2!N126=\"R5\", Calculations2!N126=\"R6\")),Calculations2!$N$15/100*Calculations2!H126,Calculations2!$L$15/100*Calculations2!H126)","v":1.9500000000000002},{"$f":"IF((OR(Calculations2!N126=\"R6\", Calculations2!N126=\"R7\",)),$S$8/100*Calculations2!H126,Q115)","v":1.9500000000000002}]
[{"$f":"A115+Calculations2!G127","v":8.0642706078580417},{"$f":"B115+Calculations2!C127","v":6.92},{"$f":"C115+Calculations2!D127","v":1},7.92,{"$f":"IF((OR(Calculations2!N127<>\"R3\", Calculations2!N127<>\"R4\", Calculations2!N127<>\"R5\", Calculations2!N127<>\"R6\", Calculations2!N127<>\"R7\")),Calculations2!$L$15/100*Calculations2!H127,Calculations2!$N$15/100*Calculations2!H127)","v":1.9500000000000002},{"$f":"IF(Calculations2!$E126=\"\",$F115+1)","v":47},{"$f":"IF(AND(Calculations2!$E126=\"\",$F116<8),Calculations2!$O127,\"\")","v":""},{"$f":"IF(AND(Calculations2!$E126=\"\",$F116<6),Calculations2!$I126-Calculations2!$O121-$I111-$I112-$I113-$I114,IF(AND(Calculations2!$E127=\"\",Calculations2!$E125<>\"\"),Calculations2!$I127,\"\"))","v":""},{"$f":"Calculations2!$O127","v":0},{"$f":"IF(AND($F116>5,$F116<>FALSE),\"\",IF(Calculations2!$E127=\"\",Calculations2!$H127-Calculations2!I127,Calculations2!$H127-Calculations2!$I127))","v":""},null,null,null,null,{"$f":"+Calculations2!$H127","v":3.9000000000000004},3.1500000000000004,{"$f":"IF((OR(Calculations2!N127=\"R3\", Calculations2!N127=\"R4\", Calculations2!N127=\"R5\", Calculations2!N127=\"R6\")),Calculations2!$N$15/100*Calculations2!H127,Calculations2!$L$15/100*Calculations2!H127)","v":1.9500000000000002},{"$f":"IF((OR(Calculations2!N127=\"R6\", Calculations2!N127=\"R7\",)),$S$8/100*Calculations2!H127,Q116)","v":1.9500000000000002}]
[{"$f":"A116+Calculations2!G128","v":8.0642706078580417},{"$f":"B116+Calculations2!C128","v":6.92},{"$f":"C116+Calculations2!D128","v":1},7.92,{"$f":"IF((OR(Calculations2!N128<>\"R3\", Calculations2!N128<>\"R4\", Calculations2!N128<>\"R5\", Calculations2!N128<>\"R6\", Calculations2!N128<>\"R7\")),Calculations2!$L$15/100*Calculations2!H128,Calculations2!$N$15/100*Calculations2!H128)","v":1.9500000000000002},{"$f":"IF(Calculations2!$E127=\"\",$F116+1)","v":48},{"$f":"IF(AND(Calculations2!$E127=\"\",$F117<8),Calculations2!$O128,\"\")","v":""},{"$f":"IF(AND(Calculations2!$E127=\"\",$F117<6),Calculations2!$I127-Calculations2!$O122-$I112-$I113-$I114-$I115,IF(AND(Calculations2!$E128=\"\",Calculations2!$E126<>\"\"),Calculations2!$I128,\"\"))","v":""},{"$f":"Calculations2!$O128","v":0},{"$f":"IF(AND($F117>5,$F117<>FALSE),\"\",IF(Calculations2!$E128=\"\",Calculations2!$H128-Calculations2!I128,Calculations2!$H128-Calculations2!$I128))","v":""},null,null,null,null,{"$f":"+Calculations2!$H128","v":3.9000000000000004},3.1500000000000004,{"$f":"IF((OR(Calculations2!N128=\"R3\", Calculations2!N128=\"R4\", Calculations2!N128=\"R5\", Calculations2!N128=\"R6\")),Calculations2!$N$15/100*Calculations2!H128,Calculations2!$L$15/100*Calculations2!H128)","v":1.9500000000000002},{"$f":"IF((OR(Calculations2!N128=\"R6\", Calculations2!N128=\"R7\",)),$S$8/100*Calculations2!H128,Q117)","v":1.9500000000000002}]
[{"$f":"A117+Calculations2!G129","v":8.0642706078580417},{"$f":"B117+Calculations2!C129","v":6.92},{"$f":"C117+Calculations2!D129","v":1},7.92,{"$f":"IF((OR(Calculations2!N129<>\"R3\", Calculations2!N129<>\"R4\", Calculations2!N129<>\"R5\", Calculations2!N129<>\"R6\", Calculations2!N129<>\"R7\")),Calculations2!$L$15/100*Calculations2!H129,Calculations2!$N$15/100*Calculations2!H129)","v":1.9500000000000002},{"$f":"IF(Calculations2!$E128=\"\",$F117+1)","v":49},{"$f":"IF(AND(Calculations2!$E128=\"\",$F118<8),Calculations2!$O129,\"\")","v":""},{"$f":"IF(AND(Calculations2!$E128=\"\",$F118<6),Calculations2!$I128-Calculations2!$O123-$I113-$I114-$I115-$I116,IF(AND(Calculations2!$E129=\"\",Calculations2!$E127<>\"\"),Calculations2!$I129,\"\"))","v":""},{"$f":"Calculations2!$O129","v":0},{"$f":"IF(AND($F118>5,$F118<>FALSE),\"\",IF(Calculations2!$E129=\"\",Calculations2!$H129-Calculations2!I129,Calculations2!$H129-Calculations2!$I129))","v":""},null,null,null,null,{"$f":"+Calculations2!$H129","v":3.9000000000000004},3.1500000000000004,{"$f":"IF((OR(Calculations2!N129=\"R3\", Calculations2!N129=\"R4\", Calculations2!N129=\"R5\", Calculations2!N129=\"R6\")),Calculations2!$N$15/100*Calculations2!H129,Calculations2!$L$15/100*Calculations2!H129)","v":1.9500000000000002},{"$f":"IF((OR(Calculations2!N129=\"R6\", Calculations2!N129=\"R7\",)),$S$8/100*Calculations2!H129,Q118)","v":1.9500000000000002}]
[{"$f":"A118+Calculations2!G130","v":8.0642706078580417},{"$f":"B118+Calculations2!C130","v":6.92},{"$f":"C118+Calculations2!D130","v":1},7.92,{"$f":"IF((OR(Calculations2!N130<>\"R3\", Calculations2!N130<>\"R4\", Calculations2!N130<>\"R5\", Calculations2!N130<>\"R6\", Calculations2!N130<>\"R7\")),Calculations2!$L$15/100*Calculations2!H130,Calculations2!$N$15/100*Calculations2!H130)","v":1.9500000000000002},{"$f":"IF(Calculations2!$E129=\"\",$F118+1)","v":50},{"$f":"IF(AND(Calculations2!$E129=\"\",$F119<8),Calculations2!$O130,\"\")","v":""},{"$f":"IF(AND(Calculations2!$E129=\"\",$F119<6),Calculations2!$I129-Calculations2!$O124-$I114-$I115-$I116-$I117,IF(AND(Calculations2!$E130=\"\",Calculations2!$E128<>\"\"),Calculations2!$I130,\"\"))","v":""},{"$f":"Calculations2!$O130","v":0},{"$f":"IF(AND($F119>5,$F119<>FALSE),\"\",IF(Calculations2!$E130=\"\",Calculations2!$H130-Calculations2!I130,Calculations2!$H130-Calculations2!$I130))","v":""},null,null,null,null,{"$f":"+Calculations2!$H130","v":3.9000000000000004},3.1500000000000004,{"$f":"IF((OR(Calculations2!N130=\"R3\", Calculations2!N130=\"R4\", Calculations2!N130=\"R5\", Calculations2!N130=\"R6\")),Calculations2!$N$15/100*Calculations2!H130,Calculations2!$L$15/100*Calculations2!H130)","v":1.9500000000000002},{"$f":"IF((OR(Calculations2!N130=\"R6\", Calculations2!N130=\"R7\",)),$S$8/100*Calculations2!H130,Q119)","v":1.9500000000000002}]
[{"$f":"A119+Calculations2!G131","v":8.0642706078580417},{"$f":"B119+Calculations2!C131","v":6.92},{"$f":"C119+Calculations2!D131","v":1},7.92,{"$f":"IF((OR(Calculations2!N131<>\"R3\", Calculations2!N131<>\"R4\", Calculations2!N131<>\"R5\", Calculations2!N131<>\"R6\", Calculations2!N131<>\"R7\")),Calculations2!$L$15/100*Calculations2!H131,Calculations2!$N$15/100*Calculations2!H131)","v":1.9500000000000002},{"$f":"IF(Calculations2!$E130=\"\",$F119+1)","v":51},{"$f":"IF(AND(Calculations2!$E130=\"\",$F120<8),Calculations2!$O131,\"\")","v":""},{"$f":"IF(AND(Calculations2!$E130=\"\",$F120<6),Calculations2!$I130-Calculations2!$O125-$I115-$I116-$I117-$I118,IF(AND(Calculations2!$E131=\"\",Calculations2!$E129<>\"\"),Calculations2!$I131,\"\"))","v":""},{"$f":"Calculations2!$O131","v":0},{"$f":"IF(AND($F120>5,$F120<>FALSE),\"\",IF(Calculations2!$E131=\"\",Calculations2!$H131-Calculations2!I131,Calculations2!$H131-Calculations2!$I131))","v":""},null,null,null,null,{"$f":"+Calculations2!$H131","v":3.9000000000000004},3.1500000000000004,{"$f":"IF((OR(Calculations2!N131=\"R3\", Calculations2!N131=\"R4\", Calculations2!N131=\"R5\", Calculations2!N131=\"R6\")),Calculations2!$N$15/100*Calculations2!H131,Calculations2!$L$15/100*Calculations2!H131)","v":1.9500000000000002},{"$f":"IF((OR(Calculations2!N131=\"R6\", Calculations2!N131=\"R7\",)),$S$8/100*Calculations2!H131,Q120)","v":1.9500000000000002}]
[{"$f":"A120+Calculations2!G132","v":8.0642706078580417},{"$f":"B120+Calculations2!C132","v":6.92},{"$f":"C120+Calculations2!D132","v":1},7.92,{"$f":"IF((OR(Calculations2!N132<>\"R3\", Calculations2!N132<>\"R4\", Calculations2!N132<>\"R5\", Calculations2!N132<>\"R6\", Calculations2!N132<>\"R7\")),Calculations2!$L$15/100*Calculations2!H132,Calculations2!$N$15/100*Calculations2!H132)","v":1.9500000000000002},{"$f":"IF(Calculations2!$E131=\"\",$F120+1)","v":52},{"$f":"IF(AND(Calculations2!$E131=\"\",$F121<8),Calculations2!$O132,\"\")","v":""},{"$f":"IF(AND(Calculations2!$E131=\"\",$F121<6),Calculations2!$I131-Calculations2!$O126-$I116-$I117-$I118-$I119,IF(AND(Calculations2!$E132=\"\",Calculations2!$E130<>\"\"),Calculations2!$I132,\"\"))","v":""},{"$f":"Calculations2!$O132","v":0},{"$f":"IF(AND($F121>5,$F121<>FALSE),\"\",IF(Calculations2!$E132=\"\",Calculations2!$H132-Calculations2!I132,Calculations2!$H132-Calculations2!$I132))","v":""},null,null,null,null,{"$f":"+Calculations2!$H132","v":3.9000000000000004},3.1500000000000004,{"$f":"IF((OR(Calculations2!N132=\"R3\", Calculations2!N132=\"R4\", Calculations2!N132=\"R5\", Calculations2!N132=\"R6\")),Calculations2!$N$15/100*Calculations2!H132,Calculations2!$L$15/100*Calculations2!H132)","v":1.9500000000000002},{"$f":"IF((OR(Calculations2!N132=\"R6\", Calculations2!N132=\"R7\",)),$S$8/100*Calculations2!H132,Q121)","v":1.9500000000000002}]
[{"$f":"A121+Calculations2!G133","v":8.0642706078580417},{"$f":"B121+Calculations2!C133","v":6.92},{"$f":"C121+Calculations2!D133","v":1},7.92,{"$f":"IF((OR(Calculations2!N133<>\"R3\", Calculations2!N133<>\"R4\", Calculations2!N133<>\"R5\", Calculations2!N133<>\"R6\", Calculations2!N133<>\"R7\")),Calculations2!$L$15/100*Calculations2!H133,Calculations2!$N$15/100*Calculations2!H133)","v":1.9500000000000002},{"$f":"IF(Calculations2!$E132=\"\",$F121+1)","v":53},{"$f":"IF(AND(Calculations2!$E132=\"\",$F122<8),Calculations2!$O133,\"\")","v":""},{"$f":"IF(AND(Calculations2!$E132=\"\",$F122<6),Calculations2!$I132-Calculations2!$O127-$I117-$I118-$I119-$I120,IF(AND(Calculations2!$E133=\"\",Calculations2!$E131<>\"\"),Calculations2!$I133,\"\"))","v":""},{"$f":"Calculations2!$O133","v":0},{"$f":"IF(AND($F122>5,$F122<>FALSE),\"\",IF(Calculations2!$E133=\"\",Calculations2!$H133-Calculations2!I133,Calculations2!$H133-Calculations2!$I133))","v":""},null,null,null,null,{"$f":"+Calculations2!$H133","v":3.9000000000000004},3.1500000000000004,{"$f":"IF((OR(Calculations2!N133=\"R3\", Calculations2!N133=\"R4\", Calculations2!N133=\"R5\", Calculations2!N133=\"R6\")),Calculations2!$N$15/100*Calculations2!H133,Calculations2!$L$15/100*Calculations2!H133)","v":1.9500000000000002},{"$f":"IF((OR(Calculations2!N133=\"R6\", Calculations2!N133=\"R7\",)),$S$8/100*Calculations2!H133,Q122)","v":1.9500000000000002}]
[{"$f":"A122+Calculations2!G134","v":8.0642706078580417},{"$f":"B122+Calculations2!C134","v":6.92},{"$f":"C122+Calculations2!D134","v":1},7.92,{"$f":"IF((OR(Calculations2!N134<>\"R3\", Calculations2!N134<>\"R4\", Calculations2!N134<>\"R5\", Calculations2!N134<>\"R6\", Calculations2!N134<>\"R7\")),Calculations2!$L$15/100*Calculations2!H134,Calculations2!$N$15/100*Calculations2!H134)","v":1.9500000000000002},{"$f":"IF(Calculations2!$E133=\"\",$F122+1)","v":54},{"$f":"IF(AND(Calculations2!$E133=\"\",$F123<8),Calculations2!$O134,\"\")","v":""},{"$f":"IF(AND(Calculations2!$E133=\"\",$F123<6),Calculations2!$I133-Calculations2!$O128-$I118-$I119-$I120-$I121,IF(AND(Calculations2!$E134=\"\",Calculations2!$E132<>\"\"),Calculations2!$I134,\"\"))","v":""},{"$f":"Calculations2!$O134","v":0},{"$f":"IF(AND($F123>5,$F123<>FALSE),\"\",IF(Calculations2!$E134=\"\",Calculations2!$H134-Calculations2!I134,Calculations2!$H134-Calculations2!$I134))","v":""},null,null,null,null,{"$f":"+Calculations2!$H134","v":3.9000000000000004},3.1500000000000004,{"$f":"IF((OR(Calculations2!N134=\"R3\", Calculations2!N134=\"R4\", Calculations2!N134=\"R5\", Calculations2!N134=\"R6\")),Calculations2!$N$15/100*Calculations2!H134,Calculations2!$L$15/100*Calculations2!H134)","v":1.9500000000000002},{"$f":"IF((OR(Calculations2!N134=\"R6\", Calculations2!N134=\"R7\",)),$S$8/100*Calculations2!H134,Q123)","v":1.9500000000000002}]
[{"$f":"A123+Calculations2!G135","v":8.0642706078580417},{"$f":"B123+Calculations2!C135","v":6.92},{"$f":"C123+Calculations2!D135","v":1},7.92,{"$f":"IF((OR(Calculations2!N135<>\"R3\", Calculations2!N135<>\"R4\", Calculations2!N135<>\"R5\", Calculations2!N135<>\"R6\", Calculations2!N135<>\"R7\")),Calculations2!$L$15/100*Calculations2!H135,Calculations2!$N$15/100*Calculations2!H135)","v":1.9500000000000002},{"$f":"IF(Calculations2!$E134=\"\",$F123+1)","v":55},{"$f":"IF(AND(Calculations2!$E134=\"\",$F124<8),Calculations2!$O135,\"\")","v":""},{"$f":"IF(AND(Calculations2!$E134=\"\",$F124<6),Calculations2!$I134-Calculations2!$O129-$I119-$I120-$I121-$I122,IF(AND(Calculations2!$E135=\"\",Calculations2!$E133<>\"\"),Calculations2!$I135,\"\"))","v":""},{"$f":"Calculations2!$O135","v":0},{"$f":"IF(AND($F124>5,$F124<>FALSE),\"\",IF(Calculations2!$E135=\"\",Calculations2!$H135-Calculations2!I135,Calculations2!$H135-Calculations2!$I135))","v":""},null,null,null,null,{"$f":"+Calculations2!$H135","v":3.9000000000000004},3.1500000000000004,{"$f":"IF((OR(Calculations2!N135=\"R3\", Calculations2!N135=\"R4\", Calculations2!N135=\"R5\", Calculations2!N135=\"R6\")),Calculations2!$N$15/100*Calculations2!H135,Calculations2!$L$15/100*Calculations2!H135)","v":1.9500000000000002},{"$f":"IF((OR(Calculations2!N135=\"R6\", Calculations2!N135=\"R7\",)),$S$8/100*Calculations2!H135,Q124)","v":1.9500000000000002}]
[{"$f":"A124+Calculations2!G136","v":8.0642706078580417},{"$f":"B124+Calculations2!C136","v":6.92},{"$f":"C124+Calculations2!D136","v":1},7.92,{"$f":"IF((OR(Calculations2!N136<>\"R3\", Calculations2!N136<>\"R4\", Calculations2!N136<>\"R5\", Calculations2!N136<>\"R6\", Calculations2!N136<>\"R7\")),Calculations2!$L$15/100*Calculations2!H136,Calculations2!$N$15/100*Calculations2!H136)","v":1.9500000000000002},{"$f":"IF(Calculations2!$E135=\"\",$F124+1)","v":56},{"$f":"IF(AND(Calculations2!$E135=\"\",$F125<8),Calculations2!$O136,\"\")","v":""},{"$f":"IF(AND(Calculations2!$E135=\"\",$F125<6),Calculations2!$I135-Calculations2!$O130-$I120-$I121-$I122-$I123,IF(AND(Calculations2!$E136=\"\",Calculations2!$E134<>\"\"),Calculations2!$I136,\"\"))","v":""},{"$f":"Calculations2!$O136","v":0},{"$f":"IF(AND($F125>5,$F125<>FALSE),\"\",IF(Calculations2!$E136=\"\",Calculations2!$H136-Calculations2!I136,Calculations2!$H136-Calculations2!$I136))","v":""},null,null,null,null,{"$f":"+Calculations2!$H136","v":3.9000000000000004},3.1500000000000004,{"$f":"IF((OR(Calculations2!N136=\"R3\", Calculations2!N136=\"R4\", Calculations2!N136=\"R5\", Calculations2!N136=\"R6\")),Calculations2!$N$15/100*Calculations2!H136,Calculations2!$L$15/100*Calculations2!H136)","v":1.9500000000000002},{"$f":"IF((OR(Calculations2!N136=\"R6\", Calculations2!N136=\"R7\",)),$S$8/100*Calculations2!H136,Q125)","v":1.9500000000000002}]
[{"$f":"A125+Calculations2!G137","v":8.0642706078580417},{"$f":"B125+Calculations2!C137","v":6.92},{"$f":"C125+Calculations2!D137","v":1},7.92,{"$f":"IF((OR(Calculations2!N137<>\"R3\", Calculations2!N137<>\"R4\", Calculations2!N137<>\"R5\", Calculations2!N137<>\"R6\", Calculations2!N137<>\"R7\")),Calculations2!$L$15/100*Calculations2!H137,Calculations2!$N$15/100*Calculations2!H137)","v":1.9500000000000002},{"$f":"IF(Calculations2!$E136=\"\",$F125+1)","v":57},{"$f":"IF(AND(Calculations2!$E136=\"\",$F126<8),Calculations2!$O137,\"\")","v":""},{"$f":"IF(AND(Calculations2!$E136=\"\",$F126<6),Calculations2!$I136-Calculations2!$O131-$I121-$I122-$I123-$I124,IF(AND(Calculations2!$E137=\"\",Calculations2!$E135<>\"\"),Calculations2!$I137,\"\"))","v":""},{"$f":"Calculations2!$O137","v":0},{"$f":"IF(AND($F126>5,$F126<>FALSE),\"\",IF(Calculations2!$E137=\"\",Calculations2!$H137-Calculations2!I137,Calculations2!$H137-Calculations2!$I137))","v":""},null,null,null,null,{"$f":"+Calculations2!$H137","v":3.9000000000000004},3.1500000000000004,{"$f":"IF((OR(Calculations2!N137=\"R3\", Calculations2!N137=\"R4\", Calculations2!N137=\"R5\", Calculations2!N137=\"R6\")),Calculations2!$N$15/100*Calculations2!H137,Calculations2!$L$15/100*Calculations2!H137)","v":1.9500000000000002},{"$f":"IF((OR(Calculations2!N137=\"R6\", Calculations2!N137=\"R7\",)),$S$8/100*Calculations2!H137,Q126)","v":1.9500000000000002}]
[{"$f":"A126+Calculations2!G138","v":8.0642706078580417},{"$f":"B126+Calculations2!C138","v":6.92},{"$f":"C126+Calculations2!D138","v":1},7.92,{"$f":"IF((OR(Calculations2!N138<>\"R3\", Calculations2!N138<>\"R4\", Calculations2!N138<>\"R5\", Calculations2!N138<>\"R6\", Calculations2!N138<>\"R7\")),Calculations2!$L$15/100*Calculations2!H138,Calculations2!$N$15/100*Calculations2!H138)","v":1.9500000000000002},{"$f":"IF(Calculations2!$E137=\"\",$F126+1)","v":58},{"$f":"IF(AND(Calculations2!$E137=\"\",$F127<8),Calculations2!$O138,\"\")","v":""},{"$f":"IF(AND(Calculations2!$E137=\"\",$F127<6),Calculations2!$I137-Calculations2!$O132-$I122-$I123-$I124-$I125,IF(AND(Calculations2!$E138=\"\",Calculations2!$E136<>\"\"),Calculations2!$I138,\"\"))","v":""},{"$f":"Calculations2!$O138","v":0},{"$f":"IF(AND($F127>5,$F127<>FALSE),\"\",IF(Calculations2!$E138=\"\",Calculations2!$H138-Calculations2!I138,Calculations2!$H138-Calculations2!$I138))","v":""},null,null,null,null,{"$f":"+Calculations2!$H138","v":3.9000000000000004},3.1500000000000004,{"$f":"IF((OR(Calculations2!N138=\"R3\", Calculations2!N138=\"R4\", Calculations2!N138=\"R5\", Calculations2!N138=\"R6\")),Calculations2!$N$15/100*Calculations2!H138,Calculations2!$L$15/100*Calculations2!H138)","v":1.9500000000000002},{"$f":"IF((OR(Calculations2!N138=\"R6\", Calculations2!N138=\"R7\",)),$S$8/100*Calculations2!H138,Q127)","v":1.5600000000000003}]
[{"$f":"A127+Calculations2!G139","v":8.0642706078580417},{"$f":"B127+Calculations2!C139","v":6.92},{"$f":"C127+Calculations2!D139","v":1},7.92,{"$f":"IF((OR(Calculations2!N139<>\"R3\", Calculations2!N139<>\"R4\", Calculations2!N139<>\"R5\", Calculations2!N139<>\"R6\", Calculations2!N139<>\"R7\")),Calculations2!$L$15/100*Calculations2!H139,Calculations2!$N$15/100*Calculations2!H139)","v":1.9500000000000002},{"$f":"IF(Calculations2!$E138=\"\",$F127+1)","v":59},{"$f":"IF(AND(Calculations2!$E138=\"\",$F128<8),Calculations2!$O139,\"\")","v":""},{"$f":"IF(AND(Calculations2!$E138=\"\",$F128<6),Calculations2!$I138-Calculations2!$O133-$I123-$I124-$I125-$I126,IF(AND(Calculations2!$E139=\"\",Calculations2!$E137<>\"\"),Calculations2!$I139,\"\"))","v":""},{"$f":"Calculations2!$O139","v":0},{"$f":"IF(AND($F128>5,$F128<>FALSE),\"\",IF(Calculations2!$E139=\"\",Calculations2!$H139-Calculations2!I139,Calculations2!$H139-Calculations2!$I139))","v":""},null,null,null,null,{"$f":"+Calculations2!$H139","v":3.9000000000000004},3.1500000000000004,{"$f":"IF((OR(Calculations2!N139=\"R3\", Calculations2!N139=\"R4\", Calculations2!N139=\"R5\", Calculations2!N139=\"R6\")),Calculations2!$N$15/100*Calculations2!H139,Calculations2!$L$15/100*Calculations2!H139)","v":1.9500000000000002},{"$f":"IF((OR(Calculations2!N139=\"R6\", Calculations2!N139=\"R7\",)),$S$8/100*Calculations2!H139,Q128)","v":1.5600000000000003}]
[{"$f":"A128+Calculations2!G140","v":8.0642706078580417},{"$f":"B128+Calculations2!C140","v":6.92},{"$f":"C128+Calculations2!D140","v":1},7.92,{"$f":"IF((OR(Calculations2!N140<>\"R3\", Calculations2!N140<>\"R4\", Calculations2!N140<>\"R5\", Calculations2!N140<>\"R6\", Calculations2!N140<>\"R7\")),Calculations2!$L$15/100*Calculations2!H140,Calculations2!$N$15/100*Calculations2!H140)","v":1.9500000000000002},{"$f":"IF(Calculations2!$E139=\"\",$F128+1)","v":60},{"$f":"IF(AND(Calculations2!$E139=\"\",$F129<8),Calculations2!$O140,\"\")","v":""},{"$f":"IF(AND(Calculations2!$E139=\"\",$F129<6),Calculations2!$I139-Calculations2!$O134-$I124-$I125-$I126-$I127,IF(AND(Calculations2!$E140=\"\",Calculations2!$E138<>\"\"),Calculations2!$I140,\"\"))","v":""},{"$f":"Calculations2!$O140","v":0},{"$f":"IF(AND($F129>5,$F129<>FALSE),\"\",IF(Calculations2!$E140=\"\",Calculations2!$H140-Calculations2!I140,Calculations2!$H140-Calculations2!$I140))","v":""},null,null,null,null,{"$f":"+Calculations2!$H140","v":3.9000000000000004},3.1500000000000004,{"$f":"IF((OR(Calculations2!N140=\"R3\", Calculations2!N140=\"R4\", Calculations2!N140=\"R5\", Calculations2!N140=\"R6\")),Calculations2!$N$15/100*Calculations2!H140,Calculations2!$L$15/100*Calculations2!H140)","v":1.9500000000000002},{"$f":"IF((OR(Calculations2!N140=\"R6\", Calculations2!N140=\"R7\",)),$S$8/100*Calculations2!H140,Q129)","v":1.5600000000000003}]
[{"$f":"A129+Calculations2!G141","v":8.0642706078580417},{"$f":"B129+Calculations2!C141","v":6.92},{"$f":"C129+Calculations2!D141","v":1},7.92,{"$f":"IF((OR(Calculations2!N141<>\"R3\", Calculations2!N141<>\"R4\", Calculations2!N141<>\"R5\", Calculations2!N141<>\"R6\", Calculations2!N141<>\"R7\")),Calculations2!$L$15/100*Calculations2!H141,Calculations2!$N$15/100*Calculations2!H141)","v":1.9500000000000002},{"$f":"IF(Calculations2!$E140=\"\",$F129+1)","v":61},{"$f":"IF(AND(Calculations2!$E140=\"\",$F130<8),Calculations2!$O141,\"\")","v":""},{"$f":"IF(AND(Calculations2!$E140=\"\",$F130<6),Calculations2!$I140-Calculations2!$O135-$I125-$I126-$I127-$I128,IF(AND(Calculations2!$E141=\"\",Calculations2!$E139<>\"\"),Calculations2!$I141,\"\"))","v":""},{"$f":"Calculations2!$O141","v":0},{"$f":"IF(AND($F130>5,$F130<>FALSE),\"\",IF(Calculations2!$E141=\"\",Calculations2!$H141-Calculations2!I141,Calculations2!$H141-Calculations2!$I141))","v":""},null,null,null,null,{"$f":"+Calculations2!$H141","v":3.9000000000000004},3.1500000000000004,{"$f":"IF((OR(Calculations2!N141=\"R3\", Calculations2!N141=\"R4\", Calculations2!N141=\"R5\", Calculations2!N141=\"R6\")),Calculations2!$N$15/100*Calculations2!H141,Calculations2!$L$15/100*Calculations2!H141)","v":1.9500000000000002},{"$f":"IF((OR(Calculations2!N141=\"R6\", Calculations2!N141=\"R7\",)),$S$8/100*Calculations2!H141,Q130)","v":1.5600000000000003}]
[{"$f":"A130+Calculations2!G142","v":8.0642706078580417},{"$f":"B130+Calculations2!C142","v":6.92},{"$f":"C130+Calculations2!D142","v":1},7.92,{"$f":"IF((OR(Calculations2!N142<>\"R3\", Calculations2!N142<>\"R4\", Calculations2!N142<>\"R5\", Calculations2!N142<>\"R6\", Calculations2!N142<>\"R7\")),Calculations2!$L$15/100*Calculations2!H142,Calculations2!$N$15/100*Calculations2!H142)","v":1.9500000000000002},{"$f":"IF(Calculations2!$E141=\"\",$F130+1)","v":62},{"$f":"IF(AND(Calculations2!$E141=\"\",$F131<8),Calculations2!$O142,\"\")","v":""},{"$f":"IF(AND(Calculations2!$E141=\"\",$F131<6),Calculations2!$I141-Calculations2!$O136-$I126-$I127-$I128-$I129,IF(AND(Calculations2!$E142=\"\",Calculations2!$E140<>\"\"),Calculations2!$I142,\"\"))","v":""},{"$f":"Calculations2!$O142","v":0},{"$f":"IF(AND($F131>5,$F131<>FALSE),\"\",IF(Calculations2!$E142=\"\",Calculations2!$H142-Calculations2!I142,Calculations2!$H142-Calculations2!$I142))","v":""},null,null,null,null,{"$f":"+Calculations2!$H142","v":3.9000000000000004},3.1500000000000004,{"$f":"IF((OR(Calculations2!N142=\"R3\", Calculations2!N142=\"R4\", Calculations2!N142=\"R5\", Calculations2!N142=\"R6\")),Calculations2!$N$15/100*Calculations2!H142,Calculations2!$L$15/100*Calculations2!H142)","v":1.9500000000000002},{"$f":"IF((OR(Calculations2!N142=\"R6\", Calculations2!N142=\"R7\",)),$S$8/100*Calculations2!H142,Q131)","v":1.5600000000000003}]
[{"$f":"A131+Calculations2!G143","v":8.0642706078580417},{"$f":"B131+Calculations2!C143","v":6.92},{"$f":"C131+Calculations2!D143","v":1},7.92,{"$f":"IF((OR(Calculations2!N143<>\"R3\", Calculations2!N143<>\"R4\", Calculations2!N143<>\"R5\", Calculations2!N143<>\"R6\", Calculations2!N143<>\"R7\")),Calculations2!$L$15/100*Calculations2!H143,Calculations2!$N$15/100*Calculations2!H143)","v":1.9500000000000002},{"$f":"IF(Calculations2!$E142=\"\",$F131+1)","v":63},{"$f":"IF(AND(Calculations2!$E142=\"\",$F132<8),Calculations2!$O143,\"\")","v":""},{"$f":"IF(AND(Calculations2!$E142=\"\",$F132<6),Calculations2!$I142-Calculations2!$O137-$I127-$I128-$I129-$I130,IF(AND(Calculations2!$E143=\"\",Calculations2!$E141<>\"\"),Calculations2!$I143,\"\"))","v":""},{"$f":"Calculations2!$O143","v":0},{"$f":"IF(AND($F132>5,$F132<>FALSE),\"\",IF(Calculations2!$E143=\"\",Calculations2!$H143-Calculations2!I143,Calculations2!$H143-Calculations2!$I143))","v":""},null,null,null,null,{"$f":"+Calculations2!$H143","v":3.9000000000000004},3.1500000000000004,{"$f":"IF((OR(Calculations2!N143=\"R3\", Calculations2!N143=\"R4\", Calculations2!N143=\"R5\", Calculations2!N143=\"R6\")),Calculations2!$N$15/100*Calculations2!H143,Calculations2!$L$15/100*Calculations2!H143)","v":1.9500000000000002},{"$f":"IF((OR(Calculations2!N143=\"R6\", Calculations2!N143=\"R7\",)),$S$8/100*Calculations2!H143,Q132)","v":1.5600000000000003}]
[{"$f":"A132+Calculations2!G144","v":8.0642706078580417},{"$f":"B132+Calculations2!C144","v":6.92},{"$f":"C132+Calculations2!D144","v":1},7.92,{"$f":"IF((OR(Calculations2!N144<>\"R3\", Calculations2!N144<>\"R4\", Calculations2!N144<>\"R5\", Calculations2!N144<>\"R6\", Calculations2!N144<>\"R7\")),Calculations2!$L$15/100*Calculations2!H144,Calculations2!$N$15/100*Calculations2!H144)","v":1.9500000000000002},{"$f":"IF(Calculations2!$E143=\"\",$F132+1)","v":64},{"$f":"IF(AND(Calculations2!$E143=\"\",$F133<8),Calculations2!$O144,\"\")","v":""},{"$f":"IF(AND(Calculations2!$E143=\"\",$F133<6),Calculations2!$I143-Calculations2!$O138-$I128-$I129-$I130-$I131,IF(AND(Calculations2!$E144=\"\",Calculations2!$E142<>\"\"),Calculations2!$I144,\"\"))","v":""},{"$f":"Calculations2!$O144","v":0},{"$f":"IF(AND($F133>5,$F133<>FALSE),\"\",IF(Calculations2!$E144=\"\",Calculations2!$H144-Calculations2!I144,Calculations2!$H144-Calculations2!$I144))","v":""},null,null,null,null,{"$f":"+Calculations2!$H144","v":3.9000000000000004},3.1500000000000004,{"$f":"IF((OR(Calculations2!N144=\"R3\", Calculations2!N144=\"R4\", Calculations2!N144=\"R5\", Calculations2!N144=\"R6\")),Calculations2!$N$15/100*Calculations2!H144,Calculations2!$L$15/100*Calculations2!H144)","v":1.9500000000000002},{"$f":"IF((OR(Calculations2!N144=\"R6\", Calculations2!N144=\"R7\",)),$S$8/100*Calculations2!H144,Q133)","v":1.5600000000000003}]
[{"$f":"A133+Calculations2!G145","v":8.0642706078580417},{"$f":"B133+Calculations2!C145","v":6.92},{"$f":"C133+Calculations2!D145","v":1},7.92,{"$f":"IF((OR(Calculations2!N145<>\"R3\", Calculations2!N145<>\"R4\", Calculations2!N145<>\"R5\", Calculations2!N145<>\"R6\", Calculations2!N145<>\"R7\")),Calculations2!$L$15/100*Calculations2!H145,Calculations2!$N$15/100*Calculations2!H145)","v":1.9500000000000002},{"$f":"IF(Calculations2!$E144=\"\",$F133+1)","v":65},{"$f":"IF(AND(Calculations2!$E144=\"\",$F134<8),Calculations2!$O145,\"\")","v":""},{"$f":"IF(AND(Calculations2!$E144=\"\",$F134<6),Calculations2!$I144-Calculations2!$O139-$I129-$I130-$I131-$I132,IF(AND(Calculations2!$E145=\"\",Calculations2!$E143<>\"\"),Calculations2!$I145,\"\"))","v":""},{"$f":"Calculations2!$O145","v":0},{"$f":"IF(AND($F134>5,$F134<>FALSE),\"\",IF(Calculations2!$E145=\"\",Calculations2!$H145-Calculations2!I145,Calculations2!$H145-Calculations2!$I145))","v":""},null,null,null,null,{"$f":"+Calculations2!$H145","v":3.9000000000000004},3.1500000000000004,{"$f":"IF((OR(Calculations2!N145=\"R3\", Calculations2!N145=\"R4\", Calculations2!N145=\"R5\", Calculations2!N145=\"R6\")),Calculations2!$N$15/100*Calculations2!H145,Calculations2!$L$15/100*Calculations2!H145)","v":1.9500000000000002},{"$f":"IF((OR(Calculations2!N145=\"R6\", Calculations2!N145=\"R7\",)),$S$8/100*Calculations2!H145,Q134)","v":1.5600000000000003}]
[{"$f":"A134+Calculations2!G146","v":8.0642706078580417},{"$f":"B134+Calculations2!C146","v":6.92},{"$f":"C134+Calculations2!D146","v":1},7.92,{"$f":"IF((OR(Calculations2!N146<>\"R3\", Calculations2!N146<>\"R4\", Calculations2!N146<>\"R5\", Calculations2!N146<>\"R6\", Calculations2!N146<>\"R7\")),Calculations2!$L$15/100*Calculations2!H146,Calculations2!$N$15/100*Calculations2!H146)","v":1.9500000000000002},{"$f":"IF(Calculations2!$E145=\"\",$F134+1)","v":66},{"$f":"IF(AND(Calculations2!$E145=\"\",$F135<8),Calculations2!$O146,\"\")","v":""},{"$f":"IF(AND(Calculations2!$E145=\"\",$F135<6),Calculations2!$I145-Calculations2!$O140-$I130-$I131-$I132-$I133,IF(AND(Calculations2!$E146=\"\",Calculations2!$E144<>\"\"),Calculations2!$I146,\"\"))","v":""},{"$f":"Calculations2!$O146","v":0},{"$f":"IF(AND($F135>5,$F135<>FALSE),\"\",IF(Calculations2!$E146=\"\",Calculations2!$H146-Calculations2!I146,Calculations2!$H146-Calculations2!$I146))","v":""},null,null,null,null,{"$f":"+Calculations2!$H146","v":3.9000000000000004},3.1500000000000004,{"$f":"IF((OR(Calculations2!N146=\"R3\", Calculations2!N146=\"R4\", Calculations2!N146=\"R5\", Calculations2!N146=\"R6\")),Calculations2!$N$15/100*Calculations2!H146,Calculations2!$L$15/100*Calculations2!H146)","v":1.9500000000000002},{"$f":"IF((OR(Calculations2!N146=\"R6\", Calculations2!N146=\"R7\",)),$S$8/100*Calculations2!H146,Q135)","v":1.5600000000000003}]
[{"$f":"A135+Calculations2!G147","v":8.0642706078580417},{"$f":"B135+Calculations2!C147","v":6.92},{"$f":"C135+Calculations2!D147","v":1},{"$f":"B136+C136","v":7.92},{"$f":"IF((OR(Calculations2!N147<>\"R3\", Calculations2!N147<>\"R4\", Calculations2!N147<>\"R5\", Calculations2!N147<>\"R6\", Calculations2!N147<>\"R7\")),Calculations2!$L$15/100*Calculations2!H147,Calculations2!$N$15/100*Calculations2!H147)","v":1.9500000000000002},{"$f":"IF(Calculations2!$E146=\"\",$F135+1)","v":67},{"$f":"IF(AND(Calculations2!$E146=\"\",$F136<8),Calculations2!$O147,\"\")","v":""},{"$f":"IF(AND(Calculations2!$E146=\"\",$F136<6),Calculations2!$I146-Calculations2!$O141-$I131-$I132-$I133-$I134,IF(AND(Calculations2!$E147=\"\",Calculations2!$E145<>\"\"),Calculations2!$I147,\"\"))","v":""},{"$f":"Calculations2!$O147","v":0},{"$f":"IF(AND($F136>5,$F136<>FALSE),\"\",IF(Calculations2!$E147=\"\",Calculations2!$H147-Calculations2!I147,Calculations2!$H147-Calculations2!$I147))","v":""},null,null,null,null,{"$f":"+Calculations2!$H147","v":3.9000000000000004},3.1500000000000004,{"$f":"IF((OR(Calculations2!N147=\"R3\", Calculations2!N147=\"R4\", Calculations2!N147=\"R5\", Calculations2!N147=\"R6\")),Calculations2!$N$15/100*Calculations2!H147,Calculations2!$L$15/100*Calculations2!H147)","v":1.9500000000000002},{"$f":"IF((OR(Calculations2!N147=\"R6\", Calculations2!N147=\"R7\",)),$S$8/100*Calculations2!H147,Q136)","v":1.5600000000000003}]
[{"$f":"A136+Calculations2!G148","v":8.0642706078580417},{"$f":"B136+Calculations2!C148","v":6.92},{"$f":"C136+Calculations2!D148","v":1},7.92,{"$f":"IF((OR(Calculations2!N148<>\"R3\", Calculations2!N148<>\"R4\", Calculations2!N148<>\"R5\", Calculations2!N148<>\"R6\", Calculations2!N148<>\"R7\")),Calculations2!$L$15/100*Calculations2!H148,Calculations2!$N$15/100*Calculations2!H148)","v":1.9500000000000002},{"$f":"IF(Calculations2!$E147=\"\",$F136+1)","v":68},{"$f":"IF(AND(Calculations2!$E147=\"\",$F137<8),Calculations2!$O148,\"\")","v":""},{"$f":"IF(AND(Calculations2!$E147=\"\",$F137<6),Calculations2!$I147-Calculations2!$O142-$I132-$I133-$I134-$I135,IF(AND(Calculations2!$E148=\"\",Calculations2!$E146<>\"\"),Calculations2!$I148,\"\"))","v":""},{"$f":"Calculations2!$O148","v":0},{"$f":"IF(AND($F137>5,$F137<>FALSE),\"\",IF(Calculations2!$E148=\"\",Calculations2!$H148-Calculations2!I148,Calculations2!$H148-Calculations2!$I148))","v":""},null,null,null,null,{"$f":"+Calculations2!$H148","v":3.9000000000000004},{"$f":"+(O137-0.75)","v":3.1500000000000004},{"$f":"IF((OR(Calculations2!N148=\"R3\", Calculations2!N148=\"R4\", Calculations2!N148=\"R5\", Calculations2!N148=\"R6\")),Calculations2!$N$15/100*Calculations2!H148,Calculations2!$L$15/100*Calculations2!H148)","v":1.9500000000000002},{"$f":"IF((OR(Calculations2!N148=\"R6\", Calculations2!N148=\"R7\",)),$S$8/100*Calculations2!H148,Q137)","v":1.5600000000000003}]
[{"$f":"A137+Calculations2!G149","v":8.0642706078580417},{"$f":"B137+Calculations2!C149","v":6.92},{"$f":"C137+Calculations2!D149","v":1},7.92,{"$f":"IF((OR(Calculations2!N149<>\"R3\", Calculations2!N149<>\"R4\", Calculations2!N149<>\"R5\", Calculations2!N149<>\"R6\", Calculations2!N149<>\"R7\")),Calculations2!$L$15/100*Calculations2!H149,Calculations2!$N$15/100*Calculations2!H149)","v":1.9500000000000002},{"$f":"IF(Calculations2!$E148=\"\",$F137+1)","v":69},{"$f":"IF(AND(Calculations2!$E148=\"\",$F138<8),Calculations2!$O149,\"\")","v":""},{"$f":"IF(AND(Calculations2!$E148=\"\",$F138<6),Calculations2!$I148-Calculations2!$O143-$I133-$I134-$I135-$I136,IF(AND(Calculations2!$E149=\"\",Calculations2!$E147<>\"\"),Calculations2!$I149,\"\"))","v":""},{"$f":"Calculations2!$O149","v":0},{"$f":"IF(AND($F138>5,$F138<>FALSE),\"\",IF(Calculations2!$E149=\"\",Calculations2!$H149-Calculations2!I149,Calculations2!$H149-Calculations2!$I149))","v":""},null,null,null,null,{"$f":"+Calculations2!$H149","v":3.9000000000000004},3.1500000000000004,{"$f":"IF((OR(Calculations2!N149=\"R3\", Calculations2!N149=\"R4\", Calculations2!N149=\"R5\", Calculations2!N149=\"R6\")),Calculations2!$N$15/100*Calculations2!H149,Calculations2!$L$15/100*Calculations2!H149)","v":1.9500000000000002},{"$f":"IF((OR(Calculations2!N149=\"R6\", Calculations2!N149=\"R7\",)),$S$8/100*Calculations2!H149,Q138)","v":1.5600000000000003}]
[{"$f":"A138+Calculations2!G150","v":8.0642706078580417},{"$f":"B138+Calculations2!C150","v":6.92},{"$f":"C138+Calculations2!D150","v":1},7.92,{"$f":"IF((OR(Calculations2!N150<>\"R3\", Calculations2!N150<>\"R4\", Calculations2!N150<>\"R5\", Calculations2!N150<>\"R6\", Calculations2!N150<>\"R7\")),Calculations2!$L$15/100*Calculations2!H150,Calculations2!$N$15/100*Calculations2!H150)","v":1.9500000000000002},{"$f":"IF(Calculations2!$E149=\"\",$F138+1)","v":70},{"$f":"IF(AND(Calculations2!$E149=\"\",$F139<8),Calculations2!$O150,\"\")","v":""},{"$f":"IF(AND(Calculations2!$E149=\"\",$F139<6),Calculations2!$I149-Calculations2!$O144-$I134-$I135-$I136-$I137,IF(AND(Calculations2!$E150=\"\",Calculations2!$E148<>\"\"),Calculations2!$I150,\"\"))","v":""},{"$f":"Calculations2!$O150","v":0},{"$f":"IF(AND($F139>5,$F139<>FALSE),\"\",IF(Calculations2!$E150=\"\",Calculations2!$H150-Calculations2!I150,Calculations2!$H150-Calculations2!$I150))","v":""},null,null,null,null,{"$f":"+Calculations2!$H150","v":3.9000000000000004},3.1500000000000004,{"$f":"IF((OR(Calculations2!N150=\"R3\", Calculations2!N150=\"R4\", Calculations2!N150=\"R5\", Calculations2!N150=\"R6\")),Calculations2!$N$15/100*Calculations2!H150,Calculations2!$L$15/100*Calculations2!H150)","v":1.9500000000000002},{"$f":"IF((OR(Calculations2!N150=\"R6\", Calculations2!N150=\"R7\",)),$S$8/100*Calculations2!H150,Q139)","v":1.5600000000000003}]
[{"$f":"A139+Calculations2!G151","v":8.0642706078580417},{"$f":"B139+Calculations2!C151","v":6.92},{"$f":"C139+Calculations2!D151","v":1},7.92,{"$f":"IF((OR(Calculations2!N151<>\"R3\", Calculations2!N151<>\"R4\", Calculations2!N151<>\"R5\", Calculations2!N151<>\"R6\", Calculations2!N151<>\"R7\")),Calculations2!$L$15/100*Calculations2!H151,Calculations2!$N$15/100*Calculations2!H151)","v":1.9500000000000002},{"$f":"IF(Calculations2!$E150=\"\",$F139+1)","v":71},{"$f":"IF(AND(Calculations2!$E150=\"\",$F140<8),Calculations2!$O151,\"\")","v":""},{"$f":"IF(AND(Calculations2!$E150=\"\",$F140<6),Calculations2!$I150-Calculations2!$O145-$I135-$I136-$I137-$I138,IF(AND(Calculations2!$E151=\"\",Calculations2!$E149<>\"\"),Calculations2!$I151,\"\"))","v":""},{"$f":"Calculations2!$O151","v":0},{"$f":"IF(AND($F140>5,$F140<>FALSE),\"\",IF(Calculations2!$E151=\"\",Calculations2!$H151-Calculations2!I151,Calculations2!$H151-Calculations2!$I151))","v":""},null,null,null,null,{"$f":"+Calculations2!$H151","v":3.9000000000000004},3.1500000000000004,{"$f":"IF((OR(Calculations2!N151=\"R3\", Calculations2!N151=\"R4\", Calculations2!N151=\"R5\", Calculations2!N151=\"R6\")),Calculations2!$N$15/100*Calculations2!H151,Calculations2!$L$15/100*Calculations2!H151)","v":1.9500000000000002},{"$f":"IF((OR(Calculations2!N151=\"R6\", Calculations2!N151=\"R7\",)),$S$8/100*Calculations2!H151,Q140)","v":1.5600000000000003}]
[{"$f":"A140+Calculations2!G152","v":8.0642706078580417},{"$f":"B140+Calculations2!C152","v":6.92},{"$f":"C140+Calculations2!D152","v":1},7.92,{"$f":"IF((OR(Calculations2!N152<>\"R3\", Calculations2!N152<>\"R4\", Calculations2!N152<>\"R5\", Calculations2!N152<>\"R6\", Calculations2!N152<>\"R7\")),Calculations2!$L$15/100*Calculations2!H152,Calculations2!$N$15/100*Calculations2!H152)","v":1.9500000000000002},{"$f":"IF(Calculations2!$E151=\"\",$F140+1)","v":72},{"$f":"IF(AND(Calculations2!$E151=\"\",$F141<8),Calculations2!$O152,\"\")","v":""},{"$f":"IF(AND(Calculations2!$E151=\"\",$F141<6),Calculations2!$I151-Calculations2!$O146-$I136-$I137-$I138-$I139,IF(AND(Calculations2!$E152=\"\",Calculations2!$E150<>\"\"),Calculations2!$I152,\"\"))","v":""},{"$f":"Calculations2!$O152","v":0},{"$f":"IF(AND($F141>5,$F141<>FALSE),\"\",IF(Calculations2!$E152=\"\",Calculations2!$H152-Calculations2!I152,Calculations2!$H152-Calculations2!$I152))","v":""},null,null,null,null,{"$f":"+Calculations2!$H152","v":3.9000000000000004},3.1500000000000004,{"$f":"IF((OR(Calculations2!N152=\"R3\", Calculations2!N152=\"R4\", Calculations2!N152=\"R5\", Calculations2!N152=\"R6\")),Calculations2!$N$15/100*Calculations2!H152,Calculations2!$L$15/100*Calculations2!H152)","v":1.9500000000000002},{"$f":"IF((OR(Calculations2!N152=\"R6\", Calculations2!N152=\"R7\",)),$S$8/100*Calculations2!H152,Q141)","v":1.5600000000000003}]
[{"$f":"A141+Calculations2!G153","v":8.0642706078580417},{"$f":"B141+Calculations2!C153","v":6.92},{"$f":"C141+Calculations2!D153","v":1},7.92,{"$f":"IF((OR(Calculations2!N153<>\"R3\", Calculations2!N153<>\"R4\", Calculations2!N153<>\"R5\", Calculations2!N153<>\"R6\", Calculations2!N153<>\"R7\")),Calculations2!$L$15/100*Calculations2!H153,Calculations2!$N$15/100*Calculations2!H153)","v":1.9500000000000002},{"$f":"IF(Calculations2!$E152=\"\",$F141+1)","v":73},{"$f":"IF(AND(Calculations2!$E152=\"\",$F142<8),Calculations2!$O153,\"\")","v":""},{"$f":"IF(AND(Calculations2!$E152=\"\",$F142<6),Calculations2!$I152-Calculations2!$O147-$I137-$I138-$I139-$I140,IF(AND(Calculations2!$E153=\"\",Calculations2!$E151<>\"\"),Calculations2!$I153,\"\"))","v":""},{"$f":"Calculations2!$O153","v":0},{"$f":"IF(AND($F142>5,$F142<>FALSE),\"\",IF(Calculations2!$E153=\"\",Calculations2!$H153-Calculations2!I153,Calculations2!$H153-Calculations2!$I153))","v":""},null,null,null,null,{"$f":"+Calculations2!$H153","v":3.9000000000000004},3.1500000000000004,{"$f":"IF((OR(Calculations2!N153=\"R3\", Calculations2!N153=\"R4\", Calculations2!N153=\"R5\", Calculations2!N153=\"R6\")),Calculations2!$N$15/100*Calculations2!H153,Calculations2!$L$15/100*Calculations2!H153)","v":1.9500000000000002},{"$f":"IF((OR(Calculations2!N153=\"R6\", Calculations2!N153=\"R7\",)),$S$8/100*Calculations2!H153,Q142)","v":1.5600000000000003}]
[{"$f":"A142+Calculations2!G154","v":8.0642706078580417},{"$f":"B142+Calculations2!C154","v":6.92},{"$f":"C142+Calculations2!D154","v":1},7.92,{"$f":"IF((OR(Calculations2!N154<>\"R3\", Calculations2!N154<>\"R4\", Calculations2!N154<>\"R5\", Calculations2!N154<>\"R6\", Calculations2!N154<>\"R7\")),Calculations2!$L$15/100*Calculations2!H154,Calculations2!$N$15/100*Calculations2!H154)","v":1.9500000000000002},{"$f":"IF(Calculations2!$E153=\"\",$F142+1)","v":74},{"$f":"IF(AND(Calculations2!$E153=\"\",$F143<8),Calculations2!$O154,\"\")","v":""},{"$f":"IF(AND(Calculations2!$E153=\"\",$F143<6),Calculations2!$I153-Calculations2!$O148-$I138-$I139-$I140-$I141,IF(AND(Calculations2!$E154=\"\",Calculations2!$E152<>\"\"),Calculations2!$I154,\"\"))","v":""},{"$f":"Calculations2!$O154","v":0},{"$f":"IF(AND($F143>5,$F143<>FALSE),\"\",IF(Calculations2!$E154=\"\",Calculations2!$H154-Calculations2!I154,Calculations2!$H154-Calculations2!$I154))","v":""},null,null,null,null,{"$f":"+Calculations2!$H154","v":3.9000000000000004},3.1500000000000004,{"$f":"IF((OR(Calculations2!N154=\"R3\", Calculations2!N154=\"R4\", Calculations2!N154=\"R5\", Calculations2!N154=\"R6\")),Calculations2!$N$15/100*Calculations2!H154,Calculations2!$L$15/100*Calculations2!H154)","v":1.9500000000000002},{"$f":"IF((OR(Calculations2!N154=\"R6\", Calculations2!N154=\"R7\",)),$S$8/100*Calculations2!H154,Q143)","v":1.5600000000000003}]
[{"$f":"A143+Calculations2!G155","v":8.0642706078580417},{"$f":"B143+Calculations2!C155","v":6.92},{"$f":"C143+Calculations2!D155","v":1},7.92,{"$f":"IF((OR(Calculations2!N155<>\"R3\", Calculations2!N155<>\"R4\", Calculations2!N155<>\"R5\", Calculations2!N155<>\"R6\", Calculations2!N155<>\"R7\")),Calculations2!$L$15/100*Calculations2!H155,Calculations2!$N$15/100*Calculations2!H155)","v":1.9500000000000002},{"$f":"IF(Calculations2!$E154=\"\",$F143+1)","v":75},{"$f":"IF(AND(Calculations2!$E154=\"\",$F144<8),Calculations2!$O155,\"\")","v":""},{"$f":"IF(AND(Calculations2!$E154=\"\",$F144<6),Calculations2!$I154-Calculations2!$O149-$I139-$I140-$I141-$I142,IF(AND(Calculations2!$E156=\"\",Calculations2!$E153<>\"\"),Calculations2!$I155,\"\"))","v":""},{"$f":"Calculations2!$O155","v":0},{"$f":"IF(AND($F144>5,$F144<>FALSE),\"\",IF(Calculations2!$E156=\"\",Calculations2!$H155-Calculations2!I155,Calculations2!$H155-Calculations2!$I155))","v":""},null,null,null,null,{"$f":"+Calculations2!$H155","v":3.9000000000000004},3.1500000000000004,{"$f":"IF((OR(Calculations2!N155=\"R3\", Calculations2!N155=\"R4\", Calculations2!N155=\"R5\", Calculations2!N155=\"R6\")),Calculations2!$N$15/100*Calculations2!H155,Calculations2!$L$15/100*Calculations2!H155)","v":1.9500000000000002},{"$f":"IF((OR(Calculations2!N155=\"R6\", Calculations2!N155=\"R7\",)),$S$8/100*Calculations2!H155,Q144)","v":1.5600000000000003}]
[{"$f":"A144+Calculations2!G156","v":8.0642706078580417},{"$f":"B144+Calculations2!C156","v":6.92},{"$f":"C144+Calculations2!D156","v":1},7.92,{"$f":"IF((OR(Calculations2!N156<>\"R3\", Calculations2!N156<>\"R4\", Calculations2!N156<>\"R5\", Calculations2!N156<>\"R6\", Calculations2!N156<>\"R7\")),Calculations2!$L$15/100*Calculations2!H156,Calculations2!$N$15/100*Calculations2!H156)","v":1.9500000000000002},{"$f":"IF(Calculations2!$E156=\"\",$F144+1)","v":76},{"$f":"IF(AND(Calculations2!$E156=\"\",$F145<8),Calculations2!$O156,\"\")","v":""},{"$f":"IF(AND(Calculations2!$E156=\"\",$F145<6),Calculations2!$I155-Calculations2!$O150-$I140-$I141-$I142-$I143,IF(AND(Calculations2!$E157=\"\",Calculations2!$E154<>\"\"),Calculations2!$I156,\"\"))","v":""},{"$f":"Calculations2!$O156","v":0},{"$f":"IF(AND($F145>5,$F145<>FALSE),\"\",IF(Calculations2!$E157=\"\",Calculations2!$H156-Calculations2!I156,Calculations2!$H156-Calculations2!$I156))","v":""},null,null,null,null,{"$f":"+Calculations2!$H156","v":3.9000000000000004},3.1500000000000004,{"$f":"IF((OR(Calculations2!N156=\"R3\", Calculations2!N156=\"R4\", Calculations2!N156=\"R5\", Calculations2!N156=\"R6\")),Calculations2!$N$15/100*Calculations2!H156,Calculations2!$L$15/100*Calculations2!H156)","v":1.9500000000000002},{"$f":"IF((OR(Calculations2!N156=\"R6\", Calculations2!N156=\"R7\",)),$S$8/100*Calculations2!H156,Q145)","v":1.5600000000000003}]
[{"$f":"A145+Calculations2!G157","v":8.0642706078580417},{"$f":"B145+Calculations2!C157","v":6.92},{"$f":"C145+Calculations2!D157","v":1},7.92,{"$f":"IF((OR(Calculations2!N157<>\"R3\", Calculations2!N157<>\"R4\", Calculations2!N157<>\"R5\", Calculations2!N157<>\"R6\", Calculations2!N157<>\"R7\")),Calculations2!$L$15/100*Calculations2!H157,Calculations2!$N$15/100*Calculations2!H157)","v":1.9500000000000002},{"$f":"IF(Calculations2!$E157=\"\",$F145+1)","v":77},{"$f":"IF(AND(Calculations2!$E157=\"\",$F146<8),Calculations2!$O157,\"\")","v":""},{"$f":"IF(AND(Calculations2!$E157=\"\",$F146<6),Calculations2!$I156-Calculations2!$O151-$I141-$I142-$I143-$I144,IF(AND(Calculations2!$E202=\"\",Calculations2!$E156<>\"\"),Calculations2!$I157,\"\"))","v":""},{"$f":"Calculations2!$O157","v":0},{"$f":"IF(AND($F146>5,$F146<>FALSE),\"\",IF(Calculations2!$E202=\"\",Calculations2!$H157-Calculations2!I157,Calculations2!$H157-Calculations2!$I157))","v":""},null,null,null,null,{"$f":"+Calculations2!$H157","v":3.9000000000000004},3.1500000000000004,{"$f":"IF((OR(Calculations2!N157=\"R3\", Calculations2!N157=\"R4\", Calculations2!N157=\"R5\", Calculations2!N157=\"R6\")),Calculations2!$N$15/100*Calculations2!H157,Calculations2!$L$15/100*Calculations2!H157)","v":1.9500000000000002},{"$f":"IF((OR(Calculations2!N157=\"R6\", Calculations2!N157=\"R7\",)),$S$8/100*Calculations2!H157,Q146)","v":1.5600000000000003}]
[{"$f":"A146+Calculations2!G158","v":8.0642706078580417},{"$f":"B146+Calculations2!C158","v":6.92},{"$f":"C146+Calculations2!D158","v":1},{"$f":"B147+C147","v":7.92},{"$f":"IF((OR(Calculations2!N158<>\"R3\", Calculations2!N158<>\"R4\", Calculations2!N158<>\"R5\", Calculations2!N158<>\"R6\", Calculations2!N158<>\"R7\")),Calculations2!$L$15/100*Calculations2!H158,Calculations2!$N$15/100*Calculations2!H158)","v":1.9500000000000002},{"$f":"IF(Calculations2!$E158=\"\",$F146+1)","v":78},{"$f":"IF(AND(Calculations2!$E158=\"\",$F147<8),Calculations2!$O158,\"\")","v":""},{"$f":"IF(AND(Calculations2!$E158=\"\",$F147<6),Calculations2!$I157-Calculations2!$O152-$I142-$I143-$I144-$I145,IF(AND(Calculations2!$E203=\"\",Calculations2!$E157<>\"\"),Calculations2!$I158,\"\"))","v":""},{"$f":"Calculations2!$O158","v":0},{"$f":"IF(AND($F147>5,$F147<>FALSE),\"\",IF(Calculations2!$E203=\"\",Calculations2!$H158-Calculations2!I158,Calculations2!$H158-Calculations2!$I158))","v":""},null,null,null,null,{"$f":"+Calculations2!$H158","v":3.9000000000000004},{"$f":"+(O147-0.75)","v":3.1500000000000004},{"$f":"IF((OR(Calculations2!N158=\"R3\", Calculations2!N158=\"R4\", Calculations2!N158=\"R5\", Calculations2!N158=\"R6\")),Calculations2!$N$15/100*Calculations2!H158,Calculations2!$L$15/100*Calculations2!H158)","v":1.9500000000000002},{"$f":"IF((OR(Calculations2!N158=\"R6\", Calculations2!N158=\"R7\",)),$S$8/100*Calculations2!H158,Q147)","v":1.5600000000000003}]
[{"$f":"A147+Calculations2!G159","v":8.0642706078580417},{"$f":"B147+Calculations2!C159","v":6.92},{"$f":"C147+Calculations2!D159","v":1},7.92,{"$f":"IF((OR(Calculations2!N159<>\"R3\", Calculations2!N159<>\"R4\", Calculations2!N159<>\"R5\", Calculations2!N159<>\"R6\", Calculations2!N159<>\"R7\")),Calculations2!$L$15/100*Calculations2!H159,Calculations2!$N$15/100*Calculations2!H159)","v":1.9500000000000002},{"$f":"IF(Calculations2!$E159=\"\",$F147+1)","v":79},{"$f":"IF(AND(Calculations2!$E159=\"\",$F148<8),Calculations2!$O159,\"\")","v":""},{"$f":"IF(AND(Calculations2!$E159=\"\",$F148<6),Calculations2!$I158-Calculations2!$O153-$I143-$I144-$I145-$I146,IF(AND(Calculations2!$E204=\"\",Calculations2!$E158<>\"\"),Calculations2!$I159,\"\"))","v":""},{"$f":"Calculations2!$O159","v":0},{"$f":"IF(AND($F148>5,$F148<>FALSE),\"\",IF(Calculations2!$E204=\"\",Calculations2!$H159-Calculations2!I159,Calculations2!$H159-Calculations2!$I159))","v":""},null,null,null,null,{"$f":"+Calculations2!$H159","v":3.9000000000000004},3.1500000000000004,{"$f":"IF((OR(Calculations2!N159=\"R3\", Calculations2!N159=\"R4\", Calculations2!N159=\"R5\", Calculations2!N159=\"R6\")),Calculations2!$N$15/100*Calculations2!H159,Calculations2!$L$15/100*Calculations2!H159)","v":1.9500000000000002},{"$f":"IF((OR(Calculations2!N159=\"R6\", Calculations2!N159=\"R7\",)),$S$8/100*Calculations2!H159,Q148)","v":1.5600000000000003}]
[{"$f":"A148+Calculations2!G160","v":8.0642706078580417},{"$f":"B148+Calculations2!C160","v":6.92},{"$f":"C148+Calculations2!D160","v":1},7.92,{"$f":"IF((OR(Calculations2!N160<>\"R3\", Calculations2!N160<>\"R4\", Calculations2!N160<>\"R5\", Calculations2!N160<>\"R6\", Calculations2!N160<>\"R7\")),Calculations2!$L$15/100*Calculations2!H160,Calculations2!$N$15/100*Calculations2!H160)","v":1.9500000000000002},{"$f":"IF(Calculations2!$E160=\"\",$F148+1)","v":80},{"$f":"IF(AND(Calculations2!$E160=\"\",$F149<8),Calculations2!$O160,\"\")","v":""},{"$f":"IF(AND(Calculations2!$E160=\"\",$F149<6),Calculations2!$I159-Calculations2!$O154-$I144-$I145-$I146-$I147,IF(AND(Calculations2!$E205=\"\",Calculations2!$E159<>\"\"),Calculations2!$I160,\"\"))","v":""},{"$f":"Calculations2!$O160","v":0},{"$f":"IF(AND($F149>5,$F149<>FALSE),\"\",IF(Calculations2!$E205=\"\",Calculations2!$H160-Calculations2!I160,Calculations2!$H160-Calculations2!$I160))","v":""},null,null,null,null,{"$f":"+Calculations2!$H160","v":3.9000000000000004},3.1500000000000004,{"$f":"IF((OR(Calculations2!N160=\"R3\", Calculations2!N160=\"R4\", Calculations2!N160=\"R5\", Calculations2!N160=\"R6\")),Calculations2!$N$15/100*Calculations2!H160,Calculations2!$L$15/100*Calculations2!H160)","v":1.9500000000000002},{"$f":"IF((OR(Calculations2!N160=\"R6\", Calculations2!N160=\"R7\",)),$S$8/100*Calculations2!H160,Q149)","v":1.5600000000000003}]
[{"$f":"A149+Calculations2!G161","v":8.0642706078580417},{"$f":"B149+Calculations2!C161","v":6.92},{"$f":"C149+Calculations2!D161","v":1},7.92,{"$f":"IF((OR(Calculations2!N161<>\"R3\", Calculations2!N161<>\"R4\", Calculations2!N161<>\"R5\", Calculations2!N161<>\"R6\", Calculations2!N161<>\"R7\")),Calculations2!$L$15/100*Calculations2!H161,Calculations2!$N$15/100*Calculations2!H161)","v":1.9500000000000002},{"$f":"IF(Calculations2!$E161=\"\",$F149+1)","v":81},{"$f":"IF(AND(Calculations2!$E161=\"\",$F150<8),Calculations2!$O161,\"\")","v":""},{"$f":"IF(AND(Calculations2!$E161=\"\",$F150<6),Calculations2!$I160-Calculations2!$O155-$I145-$I146-$I147-$I148,IF(AND(Calculations2!$E206=\"\",Calculations2!$E160<>\"\"),Calculations2!$I161,\"\"))","v":""},{"$f":"Calculations2!$O161","v":0},{"$f":"IF(AND($F150>5,$F150<>FALSE),\"\",IF(Calculations2!$E206=\"\",Calculations2!$H161-Calculations2!I161,Calculations2!$H161-Calculations2!$I161))","v":""},null,null,null,null,{"$f":"+Calculations2!$H161","v":3.9000000000000004},3.1500000000000004,{"$f":"IF((OR(Calculations2!N161=\"R3\", Calculations2!N161=\"R4\", Calculations2!N161=\"R5\", Calculations2!N161=\"R6\")),Calculations2!$N$15/100*Calculations2!H161,Calculations2!$L$15/100*Calculations2!H161)","v":1.9500000000000002},{"$f":"IF((OR(Calculations2!N161=\"R6\", Calculations2!N161=\"R7\",)),$S$8/100*Calculations2!H161,Q150)","v":1.5600000000000003}]
[{"$f":"A150+Calculations2!G162","v":8.0642706078580417},{"$f":"B150+Calculations2!C162","v":6.92},{"$f":"C150+Calculations2!D162","v":1},7.92,{"$f":"IF((OR(Calculations2!N162<>\"R3\", Calculations2!N162<>\"R4\", Calculations2!N162<>\"R5\", Calculations2!N162<>\"R6\", Calculations2!N162<>\"R7\")),Calculations2!$L$15/100*Calculations2!H162,Calculations2!$N$15/100*Calculations2!H162)","v":1.9500000000000002},{"$f":"IF(Calculations2!$E162=\"\",$F150+1)","v":82},{"$f":"IF(AND(Calculations2!$E162=\"\",$F151<8),Calculations2!$O162,\"\")","v":""},{"$f":"IF(AND(Calculations2!$E162=\"\",$F151<6),Calculations2!$I161-Calculations2!$O156-$I146-$I147-$I148-$I149,IF(AND(Calculations2!$E207=\"\",Calculations2!$E161<>\"\"),Calculations2!$I162,\"\"))","v":""},{"$f":"Calculations2!$O162","v":0},{"$f":"IF(AND($F151>5,$F151<>FALSE),\"\",IF(Calculations2!$E207=\"\",Calculations2!$H162-Calculations2!I162,Calculations2!$H162-Calculations2!$I162))","v":""},null,null,null,null,{"$f":"+Calculations2!$H162","v":3.9000000000000004},3.1500000000000004,{"$f":"IF((OR(Calculations2!N162=\"R3\", Calculations2!N162=\"R4\", Calculations2!N162=\"R5\", Calculations2!N162=\"R6\")),Calculations2!$N$15/100*Calculations2!H162,Calculations2!$L$15/100*Calculations2!H162)","v":1.9500000000000002},{"$f":"IF((OR(Calculations2!N162=\"R6\", Calculations2!N162=\"R7\",)),$S$8/100*Calculations2!H162,Q151)","v":1.5600000000000003}]
[{"$f":"A151+Calculations2!G163","v":8.0642706078580417},{"$f":"B151+Calculations2!C163","v":6.92},{"$f":"C151+Calculations2!D163","v":1},7.92,{"$f":"IF((OR(Calculations2!N163<>\"R3\", Calculations2!N163<>\"R4\", Calculations2!N163<>\"R5\", Calculations2!N163<>\"R6\", Calculations2!N163<>\"R7\")),Calculations2!$L$15/100*Calculations2!H163,Calculations2!$N$15/100*Calculations2!H163)","v":1.9500000000000002},{"$f":"IF(Calculations2!$E163=\"\",$F151+1)","v":83},{"$f":"IF(AND(Calculations2!$E163=\"\",$F152<8),Calculations2!$O163,\"\")","v":""},{"$f":"IF(AND(Calculations2!$E163=\"\",$F152<6),Calculations2!$I162-Calculations2!$O157-$I147-$I148-$I149-$I150,IF(AND(Calculations2!$E208=\"\",Calculations2!$E162<>\"\"),Calculations2!$I163,\"\"))","v":""},{"$f":"Calculations2!$O163","v":0},{"$f":"IF(AND($F152>5,$F152<>FALSE),\"\",IF(Calculations2!$E208=\"\",Calculations2!$H163-Calculations2!I163,Calculations2!$H163-Calculations2!$I163))","v":""},null,null,null,null,{"$f":"+Calculations2!$H163","v":3.9000000000000004},3.1500000000000004,{"$f":"IF((OR(Calculations2!N163=\"R3\", Calculations2!N163=\"R4\", Calculations2!N163=\"R5\", Calculations2!N163=\"R6\")),Calculations2!$N$15/100*Calculations2!H163,Calculations2!$L$15/100*Calculations2!H163)","v":1.9500000000000002},{"$f":"IF((OR(Calculations2!N163=\"R6\", Calculations2!N163=\"R7\",)),$S$8/100*Calculations2!H163,Q152)","v":1.5600000000000003}]
[{"$f":"A152+Calculations2!G164","v":8.0642706078580417},{"$f":"B152+Calculations2!C164","v":6.92},{"$f":"C152+Calculations2!D164","v":1},7.92,{"$f":"IF((OR(Calculations2!N164<>\"R3\", Calculations2!N164<>\"R4\", Calculations2!N164<>\"R5\", Calculations2!N164<>\"R6\", Calculations2!N164<>\"R7\")),Calculations2!$L$15/100*Calculations2!H164,Calculations2!$N$15/100*Calculations2!H164)","v":1.9500000000000002},{"$f":"IF(Calculations2!$E164=\"\",$F152+1)","v":84},{"$f":"IF(AND(Calculations2!$E164=\"\",$F153<8),Calculations2!$O164,\"\")","v":""},{"$f":"IF(AND(Calculations2!$E164=\"\",$F153<6),Calculations2!$I163-Calculations2!$O158-$I148-$I149-$I150-$I151,IF(AND(Calculations2!$E209=\"\",Calculations2!$E163<>\"\"),Calculations2!$I164,\"\"))","v":""},{"$f":"Calculations2!$O164","v":0},{"$f":"IF(AND($F153>5,$F153<>FALSE),\"\",IF(Calculations2!$E209=\"\",Calculations2!$H164-Calculations2!I164,Calculations2!$H164-Calculations2!$I164))","v":""},null,null,null,null,{"$f":"+Calculations2!$H164","v":3.9000000000000004},3.1500000000000004,{"$f":"IF((OR(Calculations2!N164=\"R3\", Calculations2!N164=\"R4\", Calculations2!N164=\"R5\", Calculations2!N164=\"R6\")),Calculations2!$N$15/100*Calculations2!H164,Calculations2!$L$15/100*Calculations2!H164)","v":1.9500000000000002},{"$f":"IF((OR(Calculations2!N164=\"R6\", Calculations2!N164=\"R7\",)),$S$8/100*Calculations2!H164,Q153)","v":1.5600000000000003}]
[{"$f":"A153+Calculations2!G165","v":8.0642706078580417},{"$f":"B153+Calculations2!C165","v":6.92},{"$f":"C153+Calculations2!D165","v":1},7.92,{"$f":"IF((OR(Calculations2!N165<>\"R3\", Calculations2!N165<>\"R4\", Calculations2!N165<>\"R5\", Calculations2!N165<>\"R6\", Calculations2!N165<>\"R7\")),Calculations2!$L$15/100*Calculations2!H165,Calculations2!$N$15/100*Calculations2!H165)","v":1.9500000000000002},{"$f":"IF(Calculations2!$E165=\"\",$F153+1)","v":85},{"$f":"IF(AND(Calculations2!$E165=\"\",$F154<8),Calculations2!$O165,\"\")","v":""},{"$f":"IF(AND(Calculations2!$E165=\"\",$F154<6),Calculations2!$I164-Calculations2!$O159-$I149-$I150-$I151-$I152,IF(AND(Calculations2!$E210=\"\",Calculations2!$E164<>\"\"),Calculations2!$I165,\"\"))","v":""},{"$f":"Calculations2!$O165","v":0},{"$f":"IF(AND($F154>5,$F154<>FALSE),\"\",IF(Calculations2!$E210=\"\",Calculations2!$H165-Calculations2!I165,Calculations2!$H165-Calculations2!$I165))","v":""},null,null,null,null,{"$f":"+Calculations2!$H165","v":3.9000000000000004},3.1500000000000004,{"$f":"IF((OR(Calculations2!N165=\"R3\", Calculations2!N165=\"R4\", Calculations2!N165=\"R5\", Calculations2!N165=\"R6\")),Calculations2!$N$15/100*Calculations2!H165,Calculations2!$L$15/100*Calculations2!H165)","v":1.9500000000000002},{"$f":"IF((OR(Calculations2!N165=\"R6\", Calculations2!N165=\"R7\",)),$S$8/100*Calculations2!H165,Q154)","v":1.5600000000000003}]
[{"$f":"A154+Calculations2!G166","v":8.0642706078580417},{"$f":"B154+Calculations2!C166","v":6.92},{"$f":"C154+Calculations2!D166","v":1},7.92,{"$f":"IF((OR(Calculations2!N166<>\"R3\", Calculations2!N166<>\"R4\", Calculations2!N166<>\"R5\", Calculations2!N166<>\"R6\", Calculations2!N166<>\"R7\")),Calculations2!$L$15/100*Calculations2!H166,Calculations2!$N$15/100*Calculations2!H166)","v":1.9500000000000002},{"$f":"IF(Calculations2!$E166=\"\",$F154+1)","v":86},{"$f":"IF(AND(Calculations2!$E166=\"\",$F155<8),Calculations2!$O166,\"\")","v":""},{"$f":"IF(AND(Calculations2!$E166=\"\",$F155<6),Calculations2!$I165-Calculations2!$O160-$I150-$I151-$I152-$I153,IF(AND(Calculations2!$E211=\"\",Calculations2!$E165<>\"\"),Calculations2!$I166,\"\"))","v":""},{"$f":"Calculations2!$O166","v":0},{"$f":"IF(AND($F155>5,$F155<>FALSE),\"\",IF(Calculations2!$E211=\"\",Calculations2!$H166-Calculations2!I166,Calculations2!$H166-Calculations2!$I166))","v":""},null,null,null,null,{"$f":"+Calculations2!$H166","v":3.9000000000000004},3.1500000000000004,{"$f":"IF((OR(Calculations2!N166=\"R3\", Calculations2!N166=\"R4\", Calculations2!N166=\"R5\", Calculations2!N166=\"R6\")),Calculations2!$N$15/100*Calculations2!H166,Calculations2!$L$15/100*Calculations2!H166)","v":1.9500000000000002},{"$f":"IF((OR(Calculations2!N166=\"R6\", Calculations2!N166=\"R7\",)),$S$8/100*Calculations2!H166,Q155)","v":1.5600000000000003}]
[{"$f":"A155+Calculations2!G167","v":8.0642706078580417},{"$f":"B155+Calculations2!C167","v":6.92},{"$f":"C155+Calculations2!D167","v":1},7.92,{"$f":"IF((OR(Calculations2!N167<>\"R3\", Calculations2!N167<>\"R4\", Calculations2!N167<>\"R5\", Calculations2!N167<>\"R6\", Calculations2!N167<>\"R7\")),Calculations2!$L$15/100*Calculations2!H167,Calculations2!$N$15/100*Calculations2!H167)","v":1.9500000000000002},{"$f":"IF(Calculations2!$E167=\"\",$F155+1)","v":87},{"$f":"IF(AND(Calculations2!$E167=\"\",$F156<8),Calculations2!$O167,\"\")","v":""},{"$f":"IF(AND(Calculations2!$E167=\"\",$F156<6),Calculations2!$I166-Calculations2!$O161-$I151-$I152-$I153-$I154,IF(AND(Calculations2!$E212=\"\",Calculations2!$E166<>\"\"),Calculations2!$I167,\"\"))","v":""},{"$f":"Calculations2!$O167","v":0},{"$f":"IF(AND($F156>5,$F156<>FALSE),\"\",IF(Calculations2!$E212=\"\",Calculations2!$H167-Calculations2!I167,Calculations2!$H167-Calculations2!$I167))","v":""},null,null,null,null,{"$f":"+Calculations2!$H167","v":3.9000000000000004},3.1500000000000004,{"$f":"IF((OR(Calculations2!N167=\"R3\", Calculations2!N167=\"R4\", Calculations2!N167=\"R5\", Calculations2!N167=\"R6\")),Calculations2!$N$15/100*Calculations2!H167,Calculations2!$L$15/100*Calculations2!H167)","v":1.9500000000000002},{"$f":"IF((OR(Calculations2!N167=\"R6\", Calculations2!N167=\"R7\",)),$S$8/100*Calculations2!H167,Q156)","v":1.5600000000000003}]
[{"$f":"A156+Calculations2!G168","v":8.0642706078580417},{"$f":"B156+Calculations2!C168","v":6.92},{"$f":"C156+Calculations2!D168","v":1},7.92,{"$f":"IF((OR(Calculations2!N168<>\"R3\", Calculations2!N168<>\"R4\", Calculations2!N168<>\"R5\", Calculations2!N168<>\"R6\", Calculations2!N168<>\"R7\")),Calculations2!$L$15/100*Calculations2!H168,Calculations2!$N$15/100*Calculations2!H168)","v":1.9500000000000002},{"$f":"IF(Calculations2!$E168=\"\",$F156+1)","v":88},{"$f":"IF(AND(Calculations2!$E168=\"\",$F157<8),Calculations2!$O168,\"\")","v":""},{"$f":"IF(AND(Calculations2!$E168=\"\",$F157<6),Calculations2!$I167-Calculations2!$O162-$I152-$I153-$I154-$I155,IF(AND(Calculations2!$E213=\"\",Calculations2!$E167<>\"\"),Calculations2!$I168,\"\"))","v":""},{"$f":"Calculations2!$O168","v":0},{"$f":"IF(AND($F157>5,$F157<>FALSE),\"\",IF(Calculations2!$E213=\"\",Calculations2!$H168-Calculations2!I168,Calculations2!$H168-Calculations2!$I168))","v":""},null,null,null,null,{"$f":"+Calculations2!$H168","v":3.9000000000000004},3.1500000000000004,{"$f":"IF((OR(Calculations2!N168=\"R3\", Calculations2!N168=\"R4\", Calculations2!N168=\"R5\", Calculations2!N168=\"R6\")),Calculations2!$N$15/100*Calculations2!H168,Calculations2!$L$15/100*Calculations2!H168)","v":1.9500000000000002},{"$f":"IF((OR(Calculations2!N168=\"R6\", Calculations2!N168=\"R7\",)),$S$8/100*Calculations2!H168,Q157)","v":1.5600000000000003}]
[{"$f":"A157+Calculations2!G169","v":8.0642706078580417},{"$f":"B157+Calculations2!C169","v":6.92},{"$f":"C157+Calculations2!D169","v":1},7.92,{"$f":"IF((OR(Calculations2!N169<>\"R3\", Calculations2!N169<>\"R4\", Calculations2!N169<>\"R5\", Calculations2!N169<>\"R6\", Calculations2!N169<>\"R7\")),Calculations2!$L$15/100*Calculations2!H169,Calculations2!$N$15/100*Calculations2!H169)","v":1.9500000000000002},{"$f":"IF(Calculations2!$E169=\"\",$F157+1)","v":89},{"$f":"IF(AND(Calculations2!$E169=\"\",$F158<8),Calculations2!$O169,\"\")","v":""},{"$f":"IF(AND(Calculations2!$E169=\"\",$F158<6),Calculations2!$I168-Calculations2!$O163-$I153-$I154-$I155-$I156,IF(AND(Calculations2!$E214=\"\",Calculations2!$E168<>\"\"),Calculations2!$I169,\"\"))","v":""},{"$f":"Calculations2!$O169","v":0},{"$f":"IF(AND($F158>5,$F158<>FALSE),\"\",IF(Calculations2!$E214=\"\",Calculations2!$H169-Calculations2!I169,Calculations2!$H169-Calculations2!$I169))","v":""},null,null,null,null,{"$f":"+Calculations2!$H169","v":3.9000000000000004},3.1500000000000004,{"$f":"IF((OR(Calculations2!N169=\"R3\", Calculations2!N169=\"R4\", Calculations2!N169=\"R5\", Calculations2!N169=\"R6\")),Calculations2!$N$15/100*Calculations2!H169,Calculations2!$L$15/100*Calculations2!H169)","v":1.9500000000000002},{"$f":"IF((OR(Calculations2!N169=\"R6\", Calculations2!N169=\"R7\",)),$S$8/100*Calculations2!H169,Q158)","v":1.5600000000000003}]
[{"$f":"A158+Calculations2!G170","v":8.0642706078580417},{"$f":"B158+Calculations2!C170","v":6.92},{"$f":"C158+Calculations2!D170","v":1},7.92,{"$f":"IF((OR(Calculations2!N170<>\"R3\", Calculations2!N170<>\"R4\", Calculations2!N170<>\"R5\", Calculations2!N170<>\"R6\", Calculations2!N170<>\"R7\")),Calculations2!$L$15/100*Calculations2!H170,Calculations2!$N$15/100*Calculations2!H170)","v":1.9500000000000002},{"$f":"IF(Calculations2!$E170=\"\",$F158+1)","v":90},{"$f":"IF(AND(Calculations2!$E170=\"\",$F159<8),Calculations2!$O170,\"\")","v":""},{"$f":"IF(AND(Calculations2!$E170=\"\",$F159<6),Calculations2!$I169-Calculations2!$O164-$I154-$I155-$I156-$I157,IF(AND(Calculations2!$E215=\"\",Calculations2!$E169<>\"\"),Calculations2!$I170,\"\"))","v":""},{"$f":"Calculations2!$O170","v":0},{"$f":"IF(AND($F159>5,$F159<>FALSE),\"\",IF(Calculations2!$E215=\"\",Calculations2!$H170-Calculations2!I170,Calculations2!$H170-Calculations2!$I170))","v":""},null,null,null,null,{"$f":"+Calculations2!$H170","v":3.9000000000000004},3.1500000000000004,{"$f":"IF((OR(Calculations2!N170=\"R3\", Calculations2!N170=\"R4\", Calculations2!N170=\"R5\", Calculations2!N170=\"R6\")),Calculations2!$N$15/100*Calculations2!H170,Calculations2!$L$15/100*Calculations2!H170)","v":1.9500000000000002},{"$f":"IF((OR(Calculations2!N170=\"R6\", Calculations2!N170=\"R7\",)),$S$8/100*Calculations2!H170,Q159)","v":1.5600000000000003}]
[{"$f":"A159+Calculations2!G171","v":8.0642706078580417},{"$f":"B159+Calculations2!C171","v":6.92},{"$f":"C159+Calculations2!D171","v":1},7.92,{"$f":"IF((OR(Calculations2!N171<>\"R3\", Calculations2!N171<>\"R4\", Calculations2!N171<>\"R5\", Calculations2!N171<>\"R6\", Calculations2!N171<>\"R7\")),Calculations2!$L$15/100*Calculations2!H171,Calculations2!$N$15/100*Calculations2!H171)","v":1.9500000000000002},{"$f":"IF(Calculations2!$E171=\"\",$F159+1)","v":91},{"$f":"IF(AND(Calculations2!$E171=\"\",$F160<8),Calculations2!$O171,\"\")","v":""},{"$f":"IF(AND(Calculations2!$E171=\"\",$F160<6),Calculations2!$I170-Calculations2!$O165-$I155-$I156-$I157-$I158,IF(AND(Calculations2!$E216=\"\",Calculations2!$E170<>\"\"),Calculations2!$I171,\"\"))","v":""},{"$f":"Calculations2!$O171","v":0},{"$f":"IF(AND($F160>5,$F160<>FALSE),\"\",IF(Calculations2!$E216=\"\",Calculations2!$H171-Calculations2!I171,Calculations2!$H171-Calculations2!$I171))","v":""},null,null,null,null,{"$f":"+Calculations2!$H171","v":3.9000000000000004},3.1500000000000004,{"$f":"IF((OR(Calculations2!N171=\"R3\", Calculations2!N171=\"R4\", Calculations2!N171=\"R5\", Calculations2!N171=\"R6\")),Calculations2!$N$15/100*Calculations2!H171,Calculations2!$L$15/100*Calculations2!H171)","v":1.9500000000000002},{"$f":"IF((OR(Calculations2!N171=\"R6\", Calculations2!N171=\"R7\",)),$S$8/100*Calculations2!H171,Q160)","v":1.5600000000000003}]
[{"$f":"A160+Calculations2!G172","v":8.0642706078580417},{"$f":"B160+Calculations2!C172","v":6.92},{"$f":"C160+Calculations2!D172","v":1},7.92,{"$f":"IF((OR(Calculations2!N172<>\"R3\", Calculations2!N172<>\"R4\", Calculations2!N172<>\"R5\", Calculations2!N172<>\"R6\", Calculations2!N172<>\"R7\")),Calculations2!$L$15/100*Calculations2!H172,Calculations2!$N$15/100*Calculations2!H172)","v":1.9500000000000002},{"$f":"IF(Calculations2!$E172=\"\",$F160+1)","v":92},{"$f":"IF(AND(Calculations2!$E172=\"\",$F161<8),Calculations2!$O172,\"\")","v":""},{"$f":"IF(AND(Calculations2!$E172=\"\",$F161<6),Calculations2!$I171-Calculations2!$O166-$I156-$I157-$I158-$I159,IF(AND(Calculations2!$E217=\"\",Calculations2!$E171<>\"\"),Calculations2!$I172,\"\"))","v":""},{"$f":"Calculations2!$O172","v":0},{"$f":"IF(AND($F161>5,$F161<>FALSE),\"\",IF(Calculations2!$E217=\"\",Calculations2!$H172-Calculations2!I172,Calculations2!$H172-Calculations2!$I172))","v":""},null,null,null,null,{"$f":"+Calculations2!$H172","v":3.9000000000000004},3.1500000000000004,{"$f":"IF((OR(Calculations2!N172=\"R3\", Calculations2!N172=\"R4\", Calculations2!N172=\"R5\", Calculations2!N172=\"R6\")),Calculations2!$N$15/100*Calculations2!H172,Calculations2!$L$15/100*Calculations2!H172)","v":1.9500000000000002},{"$f":"IF((OR(Calculations2!N172=\"R6\", Calculations2!N172=\"R7\",)),$S$8/100*Calculations2!H172,Q161)","v":1.5600000000000003}]
[{"$f":"A161+Calculations2!G173","v":8.0642706078580417},{"$f":"B161+Calculations2!C173","v":6.92},{"$f":"C161+Calculations2!D173","v":1},7.92,{"$f":"IF((OR(Calculations2!N173<>\"R3\", Calculations2!N173<>\"R4\", Calculations2!N173<>\"R5\", Calculations2!N173<>\"R6\", Calculations2!N173<>\"R7\")),Calculations2!$L$15/100*Calculations2!H173,Calculations2!$N$15/100*Calculations2!H173)","v":1.9500000000000002},{"$f":"IF(Calculations2!$E173=\"\",$F161+1)","v":93},{"$f":"IF(AND(Calculations2!$E173=\"\",$F162<8),Calculations2!$O173,\"\")","v":""},{"$f":"IF(AND(Calculations2!$E173=\"\",$F162<6),Calculations2!$I172-Calculations2!$O167-$I157-$I158-$I159-$I160,IF(AND(Calculations2!$E218=\"\",Calculations2!$E172<>\"\"),Calculations2!$I173,\"\"))","v":""},{"$f":"Calculations2!$O173","v":0},{"$f":"IF(AND($F162>5,$F162<>FALSE),\"\",IF(Calculations2!$E218=\"\",Calculations2!$H173-Calculations2!I173,Calculations2!$H173-Calculations2!$I173))","v":""},null,null,null,null,{"$f":"+Calculations2!$H173","v":3.9000000000000004},3.1500000000000004,{"$f":"IF((OR(Calculations2!N173=\"R3\", Calculations2!N173=\"R4\", Calculations2!N173=\"R5\", Calculations2!N173=\"R6\")),Calculations2!$N$15/100*Calculations2!H173,Calculations2!$L$15/100*Calculations2!H173)","v":1.9500000000000002},{"$f":"IF((OR(Calculations2!N173=\"R6\", Calculations2!N173=\"R7\",)),$S$8/100*Calculations2!H173,Q162)","v":1.5600000000000003}]
[{"$f":"A162+Calculations2!G174","v":8.0642706078580417},{"$f":"B162+Calculations2!C174","v":6.92},{"$f":"C162+Calculations2!D174","v":1},7.92,{"$f":"IF((OR(Calculations2!N174<>\"R3\", Calculations2!N174<>\"R4\", Calculations2!N174<>\"R5\", Calculations2!N174<>\"R6\", Calculations2!N174<>\"R7\")),Calculations2!$L$15/100*Calculations2!H174,Calculations2!$N$15/100*Calculations2!H174)","v":1.9500000000000002},{"$f":"IF(Calculations2!$E174=\"\",$F162+1)","v":94},{"$f":"IF(AND(Calculations2!$E174=\"\",$F163<8),Calculations2!$O174,\"\")","v":""},{"$f":"IF(AND(Calculations2!$E174=\"\",$F163<6),Calculations2!$I173-Calculations2!$O168-$I158-$I159-$I160-$I161,IF(AND(Calculations2!$E219=\"\",Calculations2!$E173<>\"\"),Calculations2!$I174,\"\"))","v":""},{"$f":"Calculations2!$O174","v":0},{"$f":"IF(AND($F163>5,$F163<>FALSE),\"\",IF(Calculations2!$E219=\"\",Calculations2!$H174-Calculations2!I174,Calculations2!$H174-Calculations2!$I174))","v":""},null,null,null,null,{"$f":"+Calculations2!$H174","v":3.9000000000000004},3.1500000000000004,{"$f":"IF((OR(Calculations2!N174=\"R3\", Calculations2!N174=\"R4\", Calculations2!N174=\"R5\", Calculations2!N174=\"R6\")),Calculations2!$N$15/100*Calculations2!H174,Calculations2!$L$15/100*Calculations2!H174)","v":1.9500000000000002},{"$f":"IF((OR(Calculations2!N174=\"R6\", Calculations2!N174=\"R7\",)),$S$8/100*Calculations2!H174,Q163)","v":1.5600000000000003}]
[{"$f":"A163+Calculations2!G175","v":8.0642706078580417},{"$f":"B163+Calculations2!C175","v":6.92},{"$f":"C163+Calculations2!D175","v":1},7.92,{"$f":"IF((OR(Calculations2!N175<>\"R3\", Calculations2!N175<>\"R4\", Calculations2!N175<>\"R5\", Calculations2!N175<>\"R6\", Calculations2!N175<>\"R7\")),Calculations2!$L$15/100*Calculations2!H175,Calculations2!$N$15/100*Calculations2!H175)","v":1.9500000000000002},{"$f":"IF(Calculations2!$E175=\"\",$F163+1)","v":95},{"$f":"IF(AND(Calculations2!$E175=\"\",$F164<8),Calculations2!$O175,\"\")","v":""},{"$f":"IF(AND(Calculations2!$E175=\"\",$F164<6),Calculations2!$I174-Calculations2!$O169-$I159-$I160-$I161-$I162,IF(AND(Calculations2!$E220=\"\",Calculations2!$E174<>\"\"),Calculations2!$I175,\"\"))","v":""},{"$f":"Calculations2!$O175","v":0},{"$f":"IF(AND($F164>5,$F164<>FALSE),\"\",IF(Calculations2!$E220=\"\",Calculations2!$H175-Calculations2!I175,Calculations2!$H175-Calculations2!$I175))","v":""},null,null,null,null,{"$f":"+Calculations2!$H175","v":3.9000000000000004},3.1500000000000004,{"$f":"IF((OR(Calculations2!N175=\"R3\", Calculations2!N175=\"R4\", Calculations2!N175=\"R5\", Calculations2!N175=\"R6\")),Calculations2!$N$15/100*Calculations2!H175,Calculations2!$L$15/100*Calculations2!H175)","v":1.9500000000000002},{"$f":"IF((OR(Calculations2!N175=\"R6\", Calculations2!N175=\"R7\",)),$S$8/100*Calculations2!H175,Q164)","v":1.5600000000000003}]
[{"$f":"A164+Calculations2!G176","v":8.0642706078580417},{"$f":"B164+Calculations2!C176","v":6.92},{"$f":"C164+Calculations2!D176","v":1},7.92,{"$f":"IF((OR(Calculations2!N176<>\"R3\", Calculations2!N176<>\"R4\", Calculations2!N176<>\"R5\", Calculations2!N176<>\"R6\", Calculations2!N176<>\"R7\")),Calculations2!$L$15/100*Calculations2!H176,Calculations2!$N$15/100*Calculations2!H176)","v":1.9500000000000002},{"$f":"IF(Calculations2!$E176=\"\",$F164+1)","v":96},{"$f":"IF(AND(Calculations2!$E176=\"\",$F165<8),Calculations2!$O176,\"\")","v":""},{"$f":"IF(AND(Calculations2!$E176=\"\",$F165<6),Calculations2!$I175-Calculations2!$O170-$I160-$I161-$I162-$I163,IF(AND(Calculations2!$E221=\"\",Calculations2!$E175<>\"\"),Calculations2!$I176,\"\"))","v":""},{"$f":"Calculations2!$O176","v":0},{"$f":"IF(AND($F165>5,$F165<>FALSE),\"\",IF(Calculations2!$E221=\"\",Calculations2!$H176-Calculations2!I176,Calculations2!$H176-Calculations2!$I176))","v":""},null,null,null,null,{"$f":"+Calculations2!$H176","v":3.9000000000000004},3.1500000000000004,{"$f":"IF((OR(Calculations2!N176=\"R3\", Calculations2!N176=\"R4\", Calculations2!N176=\"R5\", Calculations2!N176=\"R6\")),Calculations2!$N$15/100*Calculations2!H176,Calculations2!$L$15/100*Calculations2!H176)","v":1.9500000000000002},{"$f":"IF((OR(Calculations2!N176=\"R6\", Calculations2!N176=\"R7\",)),$S$8/100*Calculations2!H176,Q165)","v":1.5600000000000003}]
[{"$f":"A165+Calculations2!G177","v":8.0642706078580417},{"$f":"B165+Calculations2!C177","v":6.92},{"$f":"C165+Calculations2!D177","v":1},7.92,{"$f":"IF((OR(Calculations2!N177<>\"R3\", Calculations2!N177<>\"R4\", Calculations2!N177<>\"R5\", Calculations2!N177<>\"R6\", Calculations2!N177<>\"R7\")),Calculations2!$L$15/100*Calculations2!H177,Calculations2!$N$15/100*Calculations2!H177)","v":1.9500000000000002},{"$f":"IF(Calculations2!$E177=\"\",$F165+1)","v":97},{"$f":"IF(AND(Calculations2!$E177=\"\",$F166<8),Calculations2!$O177,\"\")","v":""},{"$f":"IF(AND(Calculations2!$E177=\"\",$F166<6),Calculations2!$I176-Calculations2!$O171-$I161-$I162-$I163-$I164,IF(AND(Calculations2!$E222=\"\",Calculations2!$E176<>\"\"),Calculations2!$I177,\"\"))","v":""},{"$f":"Calculations2!$O177","v":0},{"$f":"IF(AND($F166>5,$F166<>FALSE),\"\",IF(Calculations2!$E222=\"\",Calculations2!$H177-Calculations2!I177,Calculations2!$H177-Calculations2!$I177))","v":""},null,null,null,null,{"$f":"+Calculations2!$H177","v":3.9000000000000004},3.1500000000000004,{"$f":"IF((OR(Calculations2!N177=\"R3\", Calculations2!N177=\"R4\", Calculations2!N177=\"R5\", Calculations2!N177=\"R6\")),Calculations2!$N$15/100*Calculations2!H177,Calculations2!$L$15/100*Calculations2!H177)","v":1.9500000000000002},{"$f":"IF((OR(Calculations2!N177=\"R6\", Calculations2!N177=\"R7\",)),$S$8/100*Calculations2!H177,Q166)","v":1.5600000000000003}]
[{"$f":"A166+Calculations2!G178","v":8.0642706078580417},{"$f":"B166+Calculations2!C178","v":6.92},{"$f":"C166+Calculations2!D178","v":1},7.92,{"$f":"IF((OR(Calculations2!N178<>\"R3\", Calculations2!N178<>\"R4\", Calculations2!N178<>\"R5\", Calculations2!N178<>\"R6\", Calculations2!N178<>\"R7\")),Calculations2!$L$15/100*Calculations2!H178,Calculations2!$N$15/100*Calculations2!H178)","v":1.9500000000000002},{"$f":"IF(Calculations2!$E178=\"\",$F166+1)","v":98},{"$f":"IF(AND(Calculations2!$E178=\"\",$F167<8),Calculations2!$O178,\"\")","v":""},{"$f":"IF(AND(Calculations2!$E178=\"\",$F167<6),Calculations2!$I177-Calculations2!$O172-$I162-$I163-$I164-$I165,IF(AND(Calculations2!$E223=\"\",Calculations2!$E177<>\"\"),Calculations2!$I178,\"\"))","v":""},{"$f":"Calculations2!$O178","v":0},{"$f":"IF(AND($F167>5,$F167<>FALSE),\"\",IF(Calculations2!$E223=\"\",Calculations2!$H178-Calculations2!I178,Calculations2!$H178-Calculations2!$I178))","v":""},null,null,null,null,{"$f":"+Calculations2!$H178","v":3.9000000000000004},3.1500000000000004,{"$f":"IF((OR(Calculations2!N178=\"R3\", Calculations2!N178=\"R4\", Calculations2!N178=\"R5\", Calculations2!N178=\"R6\")),Calculations2!$N$15/100*Calculations2!H178,Calculations2!$L$15/100*Calculations2!H178)","v":1.9500000000000002},{"$f":"IF((OR(Calculations2!N178=\"R6\", Calculations2!N178=\"R7\",)),$S$8/100*Calculations2!H178,Q167)","v":1.5600000000000003}]
[{"$f":"A167+Calculations2!G179","v":8.0642706078580417},{"$f":"B167+Calculations2!C179","v":6.92},{"$f":"C167+Calculations2!D179","v":1},7.92,{"$f":"IF((OR(Calculations2!N179<>\"R3\", Calculations2!N179<>\"R4\", Calculations2!N179<>\"R5\", Calculations2!N179<>\"R6\", Calculations2!N179<>\"R7\")),Calculations2!$L$15/100*Calculations2!H179,Calculations2!$N$15/100*Calculations2!H179)","v":1.9500000000000002},{"$f":"IF(Calculations2!$E179=\"\",$F167+1)","v":99},{"$f":"IF(AND(Calculations2!$E179=\"\",$F168<8),Calculations2!$O179,\"\")","v":""},{"$f":"IF(AND(Calculations2!$E179=\"\",$F168<6),Calculations2!$I178-Calculations2!$O173-$I163-$I164-$I165-$I166,IF(AND(Calculations2!$E224=\"\",Calculations2!$E178<>\"\"),Calculations2!$I179,\"\"))","v":""},{"$f":"Calculations2!$O179","v":0},{"$f":"IF(AND($F168>5,$F168<>FALSE),\"\",IF(Calculations2!$E224=\"\",Calculations2!$H179-Calculations2!I179,Calculations2!$H179-Calculations2!$I179))","v":""},null,null,null,null,{"$f":"+Calculations2!$H179","v":3.9000000000000004},3.1500000000000004,{"$f":"IF((OR(Calculations2!N179=\"R3\", Calculations2!N179=\"R4\", Calculations2!N179=\"R5\", Calculations2!N179=\"R6\")),Calculations2!$N$15/100*Calculations2!H179,Calculations2!$L$15/100*Calculations2!H179)","v":1.9500000000000002},{"$f":"IF((OR(Calculations2!N179=\"R6\", Calculations2!N179=\"R7\",)),$S$8/100*Calculations2!H179,Q168)","v":1.5600000000000003}]
[{"$f":"A168+Calculations2!G180","v":8.0642706078580417},{"$f":"B168+Calculations2!C180","v":6.92},{"$f":"C168+Calculations2!D180","v":1},7.92,{"$f":"IF((OR(Calculations2!N180<>\"R3\", Calculations2!N180<>\"R4\", Calculations2!N180<>\"R5\", Calculations2!N180<>\"R6\", Calculations2!N180<>\"R7\")),Calculations2!$L$15/100*Calculations2!H180,Calculations2!$N$15/100*Calculations2!H180)","v":1.9500000000000002},{"$f":"IF(Calculations2!$E180=\"\",$F168+1)","v":100},{"$f":"IF(AND(Calculations2!$E180=\"\",$F169<8),Calculations2!$O180,\"\")","v":""},{"$f":"IF(AND(Calculations2!$E180=\"\",$F169<6),Calculations2!$I179-Calculations2!$O174-$I164-$I165-$I166-$I167,IF(AND(Calculations2!$E225=\"\",Calculations2!$E179<>\"\"),Calculations2!$I180,\"\"))","v":""},{"$f":"Calculations2!$O180","v":0},{"$f":"IF(AND($F169>5,$F169<>FALSE),\"\",IF(Calculations2!$E225=\"\",Calculations2!$H180-Calculations2!I180,Calculations2!$H180-Calculations2!$I180))","v":""},null,null,null,null,{"$f":"+Calculations2!$H180","v":3.9000000000000004},3.1500000000000004,{"$f":"IF((OR(Calculations2!N180=\"R3\", Calculations2!N180=\"R4\", Calculations2!N180=\"R5\", Calculations2!N180=\"R6\")),Calculations2!$N$15/100*Calculations2!H180,Calculations2!$L$15/100*Calculations2!H180)","v":1.9500000000000002},{"$f":"IF((OR(Calculations2!N180=\"R6\", Calculations2!N180=\"R7\",)),$S$8/100*Calculations2!H180,Q169)","v":1.5600000000000003}]
[{"$f":"A169+Calculations2!G181","v":8.0642706078580417},{"$f":"B169+Calculations2!C181","v":6.92},{"$f":"C169+Calculations2!D181","v":1},7.92,{"$f":"IF((OR(Calculations2!N181<>\"R3\", Calculations2!N181<>\"R4\", Calculations2!N181<>\"R5\", Calculations2!N181<>\"R6\", Calculations2!N181<>\"R7\")),Calculations2!$L$15/100*Calculations2!H181,Calculations2!$N$15/100*Calculations2!H181)","v":1.9500000000000002},{"$f":"IF(Calculations2!$E181=\"\",$F169+1)","v":101},{"$f":"IF(AND(Calculations2!$E181=\"\",$F170<8),Calculations2!$O181,\"\")","v":""},{"$f":"IF(AND(Calculations2!$E181=\"\",$F170<6),Calculations2!$I180-Calculations2!$O175-$I165-$I166-$I167-$I168,IF(AND(Calculations2!$E226=\"\",Calculations2!$E180<>\"\"),Calculations2!$I181,\"\"))","v":""},{"$f":"Calculations2!$O181","v":0},{"$f":"IF(AND($F170>5,$F170<>FALSE),\"\",IF(Calculations2!$E226=\"\",Calculations2!$H181-Calculations2!I181,Calculations2!$H181-Calculations2!$I181))","v":""},null,null,null,null,{"$f":"+Calculations2!$H181","v":3.9000000000000004},3.1500000000000004,{"$f":"IF((OR(Calculations2!N181=\"R3\", Calculations2!N181=\"R4\", Calculations2!N181=\"R5\", Calculations2!N181=\"R6\")),Calculations2!$N$15/100*Calculations2!H181,Calculations2!$L$15/100*Calculations2!H181)","v":1.9500000000000002},{"$f":"IF((OR(Calculations2!N181=\"R6\", Calculations2!N181=\"R7\",)),$S$8/100*Calculations2!H181,Q170)","v":1.5600000000000003}]
[{"$f":"A170+Calculations2!G182","v":8.0642706078580417},{"$f":"B170+Calculations2!C182","v":6.92},{"$f":"C170+Calculations2!D182","v":1},{"$f":"B171+C171","v":7.92},{"$f":"IF((OR(Calculations2!N182<>\"R3\", Calculations2!N182<>\"R4\", Calculations2!N182<>\"R5\", Calculations2!N182<>\"R6\", Calculations2!N182<>\"R7\")),Calculations2!$L$15/100*Calculations2!H182,Calculations2!$N$15/100*Calculations2!H182)","v":1.9500000000000002},{"$f":"IF(Calculations2!$E182=\"\",$F170+1)","v":102},{"$f":"IF(AND(Calculations2!$E182=\"\",$F171<8),Calculations2!$O182,\"\")","v":""},{"$f":"IF(AND(Calculations2!$E182=\"\",$F171<6),Calculations2!$I181-Calculations2!$O176-$I166-$I167-$I168-$I169,IF(AND(Calculations2!$E227=\"\",Calculations2!$E181<>\"\"),Calculations2!$I182,\"\"))","v":""},{"$f":"Calculations2!$O182","v":0},{"$f":"IF(AND($F171>5,$F171<>FALSE),\"\",IF(Calculations2!$E227=\"\",Calculations2!$H182-Calculations2!I182,Calculations2!$H182-Calculations2!$I182))","v":""},null,null,null,null,{"$f":"+Calculations2!$H182","v":3.9000000000000004},{"$f":"+(O171-0.75)","v":3.1500000000000004},{"$f":"IF((OR(Calculations2!N182=\"R3\", Calculations2!N182=\"R4\", Calculations2!N182=\"R5\", Calculations2!N182=\"R6\")),Calculations2!$N$15/100*Calculations2!H182,Calculations2!$L$15/100*Calculations2!H182)","v":1.9500000000000002},{"$f":"IF((OR(Calculations2!N182=\"R6\", Calculations2!N182=\"R7\",)),$S$8/100*Calculations2!H182,Q171)","v":1.5600000000000003}]
[{"$f":"A171+Calculations2!G183","v":8.0642706078580417},{"$f":"B171+Calculations2!C183","v":6.92},{"$f":"C171+Calculations2!D183","v":1},7.92,{"$f":"IF((OR(Calculations2!N183<>\"R3\", Calculations2!N183<>\"R4\", Calculations2!N183<>\"R5\", Calculations2!N183<>\"R6\", Calculations2!N183<>\"R7\")),Calculations2!$L$15/100*Calculations2!H183,Calculations2!$N$15/100*Calculations2!H183)","v":1.9500000000000002},{"$f":"IF(Calculations2!$E183=\"\",$F171+1)","v":103},{"$f":"IF(AND(Calculations2!$E183=\"\",$F172<8),Calculations2!$O183,\"\")","v":""},{"$f":"IF(AND(Calculations2!$E183=\"\",$F172<6),Calculations2!$I182-Calculations2!$O177-$I167-$I168-$I169-$I170,IF(AND(Calculations2!$E228=\"\",Calculations2!$E182<>\"\"),Calculations2!$I183,\"\"))","v":""},{"$f":"Calculations2!$O183","v":0},{"$f":"IF(AND($F172>5,$F172<>FALSE),\"\",IF(Calculations2!$E228=\"\",Calculations2!$H183-Calculations2!I183,Calculations2!$H183-Calculations2!$I183))","v":""},null,null,null,null,{"$f":"+Calculations2!$H183","v":3.9000000000000004},3.1500000000000004,{"$f":"IF((OR(Calculations2!N183=\"R3\", Calculations2!N183=\"R4\", Calculations2!N183=\"R5\", Calculations2!N183=\"R6\")),Calculations2!$N$15/100*Calculations2!H183,Calculations2!$L$15/100*Calculations2!H183)","v":1.9500000000000002},{"$f":"IF((OR(Calculations2!N183=\"R6\", Calculations2!N183=\"R7\",)),$S$8/100*Calculations2!H183,Q172)","v":1.5600000000000003}]
[{"$f":"A172+Calculations2!G184","v":8.0642706078580417},{"$f":"B172+Calculations2!C184","v":6.92},{"$f":"C172+Calculations2!D184","v":1},7.92,{"$f":"IF((OR(Calculations2!N184<>\"R3\", Calculations2!N184<>\"R4\", Calculations2!N184<>\"R5\", Calculations2!N184<>\"R6\", Calculations2!N184<>\"R7\")),Calculations2!$L$15/100*Calculations2!H184,Calculations2!$N$15/100*Calculations2!H184)","v":1.9500000000000002},{"$f":"IF(Calculations2!$E184=\"\",$F172+1)","v":104},{"$f":"IF(AND(Calculations2!$E184=\"\",$F173<8),Calculations2!$O184,\"\")","v":""},{"$f":"IF(AND(Calculations2!$E184=\"\",$F173<6),Calculations2!$I183-Calculations2!$O178-$I168-$I169-$I170-$I171,IF(AND(Calculations2!$E229=\"\",Calculations2!$E183<>\"\"),Calculations2!$I184,\"\"))","v":""},{"$f":"Calculations2!$O184","v":0},{"$f":"IF(AND($F173>5,$F173<>FALSE),\"\",IF(Calculations2!$E229=\"\",Calculations2!$H184-Calculations2!I184,Calculations2!$H184-Calculations2!$I184))","v":""},null,null,null,null,{"$f":"+Calculations2!$H184","v":3.9000000000000004},3.1500000000000004,{"$f":"IF((OR(Calculations2!N184=\"R3\", Calculations2!N184=\"R4\", Calculations2!N184=\"R5\", Calculations2!N184=\"R6\")),Calculations2!$N$15/100*Calculations2!H184,Calculations2!$L$15/100*Calculations2!H184)","v":1.9500000000000002},{"$f":"IF((OR(Calculations2!N184=\"R6\", Calculations2!N184=\"R7\",)),$S$8/100*Calculations2!H184,Q173)","v":1.5600000000000003}]
[{"$f":"A173+Calculations2!G185","v":8.0642706078580417},{"$f":"B173+Calculations2!C185","v":6.92},{"$f":"C173+Calculations2!D185","v":1},7.92,{"$f":"IF((OR(Calculations2!N185<>\"R3\", Calculations2!N185<>\"R4\", Calculations2!N185<>\"R5\", Calculations2!N185<>\"R6\", Calculations2!N185<>\"R7\")),Calculations2!$L$15/100*Calculations2!H185,Calculations2!$N$15/100*Calculations2!H185)","v":1.9500000000000002},{"$f":"IF(Calculations2!$E185=\"\",$F173+1)","v":105},{"$f":"IF(AND(Calculations2!$E185=\"\",$F174<8),Calculations2!$O185,\"\")","v":""},{"$f":"IF(AND(Calculations2!$E185=\"\",$F174<6),Calculations2!$I184-Calculations2!$O179-$I169-$I170-$I171-$I172,IF(AND(Calculations2!$E230=\"\",Calculations2!$E184<>\"\"),Calculations2!$I185,\"\"))","v":""},{"$f":"Calculations2!$O185","v":0},{"$f":"IF(AND($F174>5,$F174<>FALSE),\"\",IF(Calculations2!$E230=\"\",Calculations2!$H185-Calculations2!I185,Calculations2!$H185-Calculations2!$I185))","v":""},null,null,null,null,{"$f":"+Calculations2!$H185","v":3.9000000000000004},3.1500000000000004,{"$f":"IF((OR(Calculations2!N185=\"R3\", Calculations2!N185=\"R4\", Calculations2!N185=\"R5\", Calculations2!N185=\"R6\")),Calculations2!$N$15/100*Calculations2!H185,Calculations2!$L$15/100*Calculations2!H185)","v":1.9500000000000002},{"$f":"IF((OR(Calculations2!N185=\"R6\", Calculations2!N185=\"R7\",)),$S$8/100*Calculations2!H185,Q174)","v":1.5600000000000003}]
[{"$f":"A174+Calculations2!G186","v":8.0642706078580417},{"$f":"B174+Calculations2!C186","v":6.92},{"$f":"C174+Calculations2!D186","v":1},7.92,{"$f":"IF((OR(Calculations2!N186<>\"R3\", Calculations2!N186<>\"R4\", Calculations2!N186<>\"R5\", Calculations2!N186<>\"R6\", Calculations2!N186<>\"R7\")),Calculations2!$L$15/100*Calculations2!H186,Calculations2!$N$15/100*Calculations2!H186)","v":1.9500000000000002},{"$f":"IF(Calculations2!$E186=\"\",$F174+1)","v":106},{"$f":"IF(AND(Calculations2!$E186=\"\",$F175<8),Calculations2!$O186,\"\")","v":""},{"$f":"IF(AND(Calculations2!$E186=\"\",$F175<6),Calculations2!$I185-Calculations2!$O180-$I170-$I171-$I172-$I173,IF(AND(Calculations2!$E231=\"\",Calculations2!$E185<>\"\"),Calculations2!$I186,\"\"))","v":""},{"$f":"Calculations2!$O186","v":0},{"$f":"IF(AND($F175>5,$F175<>FALSE),\"\",IF(Calculations2!$E231=\"\",Calculations2!$H186-Calculations2!I186,Calculations2!$H186-Calculations2!$I186))","v":""},null,null,null,null,{"$f":"+Calculations2!$H186","v":3.9000000000000004},3.1500000000000004,{"$f":"IF((OR(Calculations2!N186=\"R3\", Calculations2!N186=\"R4\", Calculations2!N186=\"R5\", Calculations2!N186=\"R6\")),Calculations2!$N$15/100*Calculations2!H186,Calculations2!$L$15/100*Calculations2!H186)","v":1.9500000000000002},{"$f":"IF((OR(Calculations2!N186=\"R6\", Calculations2!N186=\"R7\",)),$S$8/100*Calculations2!H186,Q175)","v":1.5600000000000003}]
[{"$f":"A175+Calculations2!G187","v":8.0642706078580417},{"$f":"B175+Calculations2!C187","v":6.92},{"$f":"C175+Calculations2!D187","v":1},7.92,{"$f":"IF((OR(Calculations2!N187<>\"R3\", Calculations2!N187<>\"R4\", Calculations2!N187<>\"R5\", Calculations2!N187<>\"R6\", Calculations2!N187<>\"R7\")),Calculations2!$L$15/100*Calculations2!H187,Calculations2!$N$15/100*Calculations2!H187)","v":1.9500000000000002},{"$f":"IF(Calculations2!$E187=\"\",$F175+1)","v":107},{"$f":"IF(AND(Calculations2!$E187=\"\",$F176<8),Calculations2!$O187,\"\")","v":""},{"$f":"IF(AND(Calculations2!$E187=\"\",$F176<6),Calculations2!$I186-Calculations2!$O181-$I171-$I172-$I173-$I174,IF(AND(Calculations2!$E232=\"\",Calculations2!$E186<>\"\"),Calculations2!$I187,\"\"))","v":""},{"$f":"Calculations2!$O187","v":0},{"$f":"IF(AND($F176>5,$F176<>FALSE),\"\",IF(Calculations2!$E232=\"\",Calculations2!$H187-Calculations2!I187,Calculations2!$H187-Calculations2!$I187))","v":""},null,null,null,null,{"$f":"+Calculations2!$H187","v":3.9000000000000004},3.1500000000000004,{"$f":"IF((OR(Calculations2!N187=\"R3\", Calculations2!N187=\"R4\", Calculations2!N187=\"R5\", Calculations2!N187=\"R6\")),Calculations2!$N$15/100*Calculations2!H187,Calculations2!$L$15/100*Calculations2!H187)","v":1.9500000000000002},{"$f":"IF((OR(Calculations2!N187=\"R6\", Calculations2!N187=\"R7\",)),$S$8/100*Calculations2!H187,Q176)","v":1.5600000000000003}]
[{"$f":"A176+Calculations2!G188","v":8.0642706078580417},{"$f":"B176+Calculations2!C188","v":6.92},{"$f":"C176+Calculations2!D188","v":1},7.92,{"$f":"IF((OR(Calculations2!N188<>\"R3\", Calculations2!N188<>\"R4\", Calculations2!N188<>\"R5\", Calculations2!N188<>\"R6\", Calculations2!N188<>\"R7\")),Calculations2!$L$15/100*Calculations2!H188,Calculations2!$N$15/100*Calculations2!H188)","v":1.9500000000000002},{"$f":"IF(Calculations2!$E188=\"\",$F176+1)","v":108},{"$f":"IF(AND(Calculations2!$E188=\"\",$F177<8),Calculations2!$O188,\"\")","v":""},{"$f":"IF(AND(Calculations2!$E188=\"\",$F177<6),Calculations2!$I187-Calculations2!$O182-$I172-$I173-$I174-$I175,IF(AND(Calculations2!$E233=\"\",Calculations2!$E187<>\"\"),Calculations2!$I188,\"\"))","v":""},{"$f":"Calculations2!$O188","v":0},{"$f":"IF(AND($F177>5,$F177<>FALSE),\"\",IF(Calculations2!$E233=\"\",Calculations2!$H188-Calculations2!I188,Calculations2!$H188-Calculations2!$I188))","v":""},null,null,null,null,{"$f":"+Calculations2!$H188","v":3.9000000000000004},3.1500000000000004,{"$f":"IF((OR(Calculations2!N188=\"R3\", Calculations2!N188=\"R4\", Calculations2!N188=\"R5\", Calculations2!N188=\"R6\")),Calculations2!$N$15/100*Calculations2!H188,Calculations2!$L$15/100*Calculations2!H188)","v":1.9500000000000002},{"$f":"IF((OR(Calculations2!N188=\"R6\", Calculations2!N188=\"R7\",)),$S$8/100*Calculations2!H188,Q177)","v":1.5600000000000003}]
[{"$f":"A177+Calculations2!G189","v":8.0642706078580417},{"$f":"B177+Calculations2!C189","v":6.92},{"$f":"C177+Calculations2!D189","v":1},7.92,{"$f":"IF((OR(Calculations2!N189<>\"R3\", Calculations2!N189<>\"R4\", Calculations2!N189<>\"R5\", Calculations2!N189<>\"R6\", Calculations2!N189<>\"R7\")),Calculations2!$L$15/100*Calculations2!H189,Calculations2!$N$15/100*Calculations2!H189)","v":1.9500000000000002},{"$f":"IF(Calculations2!$E189=\"\",$F177+1)","v":109},{"$f":"IF(AND(Calculations2!$E189=\"\",$F178<8),Calculations2!$O189,\"\")","v":""},{"$f":"IF(AND(Calculations2!$E189=\"\",$F178<6),Calculations2!$I188-Calculations2!$O183-$I173-$I174-$I175-$I176,IF(AND(Calculations2!$E234=\"\",Calculations2!$E188<>\"\"),Calculations2!$I189,\"\"))","v":""},{"$f":"Calculations2!$O189","v":0},{"$f":"IF(AND($F178>5,$F178<>FALSE),\"\",IF(Calculations2!$E234=\"\",Calculations2!$H189-Calculations2!I189,Calculations2!$H189-Calculations2!$I189))","v":""},null,null,null,null,{"$f":"+Calculations2!$H189","v":3.9000000000000004},3.1500000000000004,{"$f":"IF((OR(Calculations2!N189=\"R3\", Calculations2!N189=\"R4\", Calculations2!N189=\"R5\", Calculations2!N189=\"R6\")),Calculations2!$N$15/100*Calculations2!H189,Calculations2!$L$15/100*Calculations2!H189)","v":1.9500000000000002},{"$f":"IF((OR(Calculations2!N189=\"R6\", Calculations2!N189=\"R7\",)),$S$8/100*Calculations2!H189,Q178)","v":1.5600000000000003}]
[{"$f":"A178+Calculations2!G190","v":8.0642706078580417},{"$f":"B178+Calculations2!C190","v":6.92},{"$f":"C178+Calculations2!D190","v":1},7.92,{"$f":"IF((OR(Calculations2!N190<>\"R3\", Calculations2!N190<>\"R4\", Calculations2!N190<>\"R5\", Calculations2!N190<>\"R6\", Calculations2!N190<>\"R7\")),Calculations2!$L$15/100*Calculations2!H190,Calculations2!$N$15/100*Calculations2!H190)","v":1.9500000000000002},{"$f":"IF(Calculations2!$E190=\"\",$F178+1)","v":110},{"$f":"IF(AND(Calculations2!$E190=\"\",$F179<8),Calculations2!$O190,\"\")","v":""},{"$f":"IF(AND(Calculations2!$E190=\"\",$F179<6),Calculations2!$I189-Calculations2!$O184-$I174-$I175-$I176-$I177,IF(AND(Calculations2!$E235=\"\",Calculations2!$E189<>\"\"),Calculations2!$I190,\"\"))","v":""},{"$f":"Calculations2!$O190","v":0},{"$f":"IF(AND($F179>5,$F179<>FALSE),\"\",IF(Calculations2!$E235=\"\",Calculations2!$H190-Calculations2!I190,Calculations2!$H190-Calculations2!$I190))","v":""},null,null,null,null,{"$f":"+Calculations2!$H190","v":3.9000000000000004},3.1500000000000004,{"$f":"IF((OR(Calculations2!N190=\"R3\", Calculations2!N190=\"R4\", Calculations2!N190=\"R5\", Calculations2!N190=\"R6\")),Calculations2!$N$15/100*Calculations2!H190,Calculations2!$L$15/100*Calculations2!H190)","v":1.9500000000000002},{"$f":"IF((OR(Calculations2!N190=\"R6\", Calculations2!N190=\"R7\",)),$S$8/100*Calculations2!H190,Q179)","v":1.5600000000000003}]
[{"$f":"A179+Calculations2!G191","v":8.0642706078580417},{"$f":"B179+Calculations2!C191","v":6.92},{"$f":"C179+Calculations2!D191","v":1},7.92,{"$f":"IF((OR(Calculations2!N191<>\"R3\", Calculations2!N191<>\"R4\", Calculations2!N191<>\"R5\", Calculations2!N191<>\"R6\", Calculations2!N191<>\"R7\")),Calculations2!$L$15/100*Calculations2!H191,Calculations2!$N$15/100*Calculations2!H191)","v":1.9500000000000002},{"$f":"IF(Calculations2!$E191=\"\",$F179+1)","v":111},{"$f":"IF(AND(Calculations2!$E191=\"\",$F180<8),Calculations2!$O191,\"\")","v":""},{"$f":"IF(AND(Calculations2!$E191=\"\",$F180<6),Calculations2!$I190-Calculations2!$O185-$I175-$I176-$I177-$I178,IF(AND(Calculations2!$E236=\"\",Calculations2!$E190<>\"\"),Calculations2!$I191,\"\"))","v":""},{"$f":"Calculations2!$O191","v":0},{"$f":"IF(AND($F180>5,$F180<>FALSE),\"\",IF(Calculations2!$E236=\"\",Calculations2!$H191-Calculations2!I191,Calculations2!$H191-Calculations2!$I191))","v":""},null,null,null,null,{"$f":"+Calculations2!$H191","v":3.9000000000000004},3.1500000000000004,{"$f":"IF((OR(Calculations2!N191=\"R3\", Calculations2!N191=\"R4\", Calculations2!N191=\"R5\", Calculations2!N191=\"R6\")),Calculations2!$N$15/100*Calculations2!H191,Calculations2!$L$15/100*Calculations2!H191)","v":1.9500000000000002},{"$f":"IF((OR(Calculations2!N191=\"R6\", Calculations2!N191=\"R7\",)),$S$8/100*Calculations2!H191,Q180)","v":1.5600000000000003}]
[{"$f":"A180+Calculations2!G192","v":8.0642706078580417},{"$f":"B180+Calculations2!C192","v":6.92},{"$f":"C180+Calculations2!D192","v":1},{"$f":"B181+C181","v":7.92},{"$f":"IF((OR(Calculations2!N192<>\"R3\", Calculations2!N192<>\"R4\", Calculations2!N192<>\"R5\", Calculations2!N192<>\"R6\", Calculations2!N192<>\"R7\")),Calculations2!$L$15/100*Calculations2!H192,Calculations2!$N$15/100*Calculations2!H192)","v":1.9500000000000002},{"$f":"IF(Calculations2!$E192=\"\",$F180+1)","v":112},{"$f":"IF(AND(Calculations2!$E192=\"\",$F181<8),Calculations2!$O192,\"\")","v":""},{"$f":"IF(AND(Calculations2!$E192=\"\",$F181<6),Calculations2!$I191-Calculations2!$O186-$I176-$I177-$I178-$I179,IF(AND(Calculations2!$E237=\"\",Calculations2!$E191<>\"\"),Calculations2!$I192,\"\"))","v":""},{"$f":"Calculations2!$O192","v":0},{"$f":"IF(AND($F181>5,$F181<>FALSE),\"\",IF(Calculations2!$E237=\"\",Calculations2!$H192-Calculations2!I192,Calculations2!$H192-Calculations2!$I192))","v":""},null,null,null,null,{"$f":"+Calculations2!$H192","v":3.9000000000000004},{"$f":"+(O181-0.75)","v":3.1500000000000004},{"$f":"IF((OR(Calculations2!N192=\"R3\", Calculations2!N192=\"R4\", Calculations2!N192=\"R5\", Calculations2!N192=\"R6\")),Calculations2!$N$15/100*Calculations2!H192,Calculations2!$L$15/100*Calculations2!H192)","v":1.9500000000000002},{"$f":"IF((OR(Calculations2!N192=\"R6\", Calculations2!N192=\"R7\",)),$S$8/100*Calculations2!H192,Q181)","v":1.5600000000000003}]
[{"$f":"A181+Calculations2!G193","v":8.0642706078580417},{"$f":"B181+Calculations2!C193","v":6.92},{"$f":"C181+Calculations2!D193","v":1},7.92,{"$f":"IF((OR(Calculations2!N193<>\"R3\", Calculations2!N193<>\"R4\", Calculations2!N193<>\"R5\", Calculations2!N193<>\"R6\", Calculations2!N193<>\"R7\")),Calculations2!$L$15/100*Calculations2!H193,Calculations2!$N$15/100*Calculations2!H193)","v":1.9500000000000002},{"$f":"IF(Calculations2!$E193=\"\",$F181+1)","v":113},{"$f":"IF(AND(Calculations2!$E193=\"\",$F182<8),Calculations2!$O193,\"\")","v":""},{"$f":"IF(AND(Calculations2!$E193=\"\",$F182<6),Calculations2!$I192-Calculations2!$O187-$I177-$I178-$I179-$I180,IF(AND(Calculations2!$E238=\"\",Calculations2!$E192<>\"\"),Calculations2!$I193,\"\"))","v":""},{"$f":"Calculations2!$O193","v":0},{"$f":"IF(AND($F182>5,$F182<>FALSE),\"\",IF(Calculations2!$E238=\"\",Calculations2!$H193-Calculations2!I193,Calculations2!$H193-Calculations2!$I193))","v":""},null,null,null,null,{"$f":"+Calculations2!$H193","v":3.9000000000000004},3.1500000000000004,{"$f":"IF((OR(Calculations2!N193=\"R3\", Calculations2!N193=\"R4\", Calculations2!N193=\"R5\", Calculations2!N193=\"R6\")),Calculations2!$N$15/100*Calculations2!H193,Calculations2!$L$15/100*Calculations2!H193)","v":1.9500000000000002},{"$f":"IF((OR(Calculations2!N193=\"R6\", Calculations2!N193=\"R7\",)),$S$8/100*Calculations2!H193,Q182)","v":1.5600000000000003}]
[{"$f":"A182+Calculations2!G194","v":8.0642706078580417},{"$f":"B182+Calculations2!C194","v":6.92},{"$f":"C182+Calculations2!D194","v":1},7.92,{"$f":"IF((OR(Calculations2!N194<>\"R3\", Calculations2!N194<>\"R4\", Calculations2!N194<>\"R5\", Calculations2!N194<>\"R6\", Calculations2!N194<>\"R7\")),Calculations2!$L$15/100*Calculations2!H194,Calculations2!$N$15/100*Calculations2!H194)","v":1.9500000000000002},{"$f":"IF(Calculations2!$E194=\"\",$F182+1)","v":114},{"$f":"IF(AND(Calculations2!$E194=\"\",$F183<8),Calculations2!$O194,\"\")","v":""},{"$f":"IF(AND(Calculations2!$E194=\"\",$F183<6),Calculations2!$I193-Calculations2!$O188-$I178-$I179-$I180-$I181,IF(AND(Calculations2!$E239=\"\",Calculations2!$E193<>\"\"),Calculations2!$I194,\"\"))","v":""},{"$f":"Calculations2!$O194","v":0},{"$f":"IF(AND($F183>5,$F183<>FALSE),\"\",IF(Calculations2!$E239=\"\",Calculations2!$H194-Calculations2!I194,Calculations2!$H194-Calculations2!$I194))","v":""},null,null,null,null,{"$f":"+Calculations2!$H194","v":3.9000000000000004},3.1500000000000004,{"$f":"IF((OR(Calculations2!N194=\"R3\", Calculations2!N194=\"R4\", Calculations2!N194=\"R5\", Calculations2!N194=\"R6\")),Calculations2!$N$15/100*Calculations2!H194,Calculations2!$L$15/100*Calculations2!H194)","v":1.9500000000000002},{"$f":"IF((OR(Calculations2!N194=\"R6\", Calculations2!N194=\"R7\",)),$S$8/100*Calculations2!H194,Q183)","v":1.5600000000000003}]
[{"$f":"A183+Calculations2!G195","v":8.0642706078580417},{"$f":"B183+Calculations2!C195","v":6.92},{"$f":"C183+Calculations2!D195","v":1},7.92,{"$f":"IF((OR(Calculations2!N195<>\"R3\", Calculations2!N195<>\"R4\", Calculations2!N195<>\"R5\", Calculations2!N195<>\"R6\", Calculations2!N195<>\"R7\")),Calculations2!$L$15/100*Calculations2!H195,Calculations2!$N$15/100*Calculations2!H195)","v":1.9500000000000002},{"$f":"IF(Calculations2!$E195=\"\",$F183+1)","v":115},{"$f":"IF(AND(Calculations2!$E195=\"\",$F184<8),Calculations2!$O195,\"\")","v":""},{"$f":"IF(AND(Calculations2!$E195=\"\",$F184<6),Calculations2!$I194-Calculations2!$O189-$I179-$I180-$I181-$I182,IF(AND(Calculations2!$E240=\"\",Calculations2!$E194<>\"\"),Calculations2!$I195,\"\"))","v":""},{"$f":"Calculations2!$O195","v":0},{"$f":"IF(AND($F184>5,$F184<>FALSE),\"\",IF(Calculations2!$E240=\"\",Calculations2!$H195-Calculations2!I195,Calculations2!$H195-Calculations2!$I195))","v":""},null,null,null,null,{"$f":"+Calculations2!$H195","v":3.9000000000000004},3.1500000000000004,{"$f":"IF((OR(Calculations2!N195=\"R3\", Calculations2!N195=\"R4\", Calculations2!N195=\"R5\", Calculations2!N195=\"R6\")),Calculations2!$N$15/100*Calculations2!H195,Calculations2!$L$15/100*Calculations2!H195)","v":1.9500000000000002},{"$f":"IF((OR(Calculations2!N195=\"R6\", Calculations2!N195=\"R7\",)),$S$8/100*Calculations2!H195,Q184)","v":1.5600000000000003}]
[{"$f":"A184+Calculations2!G196","v":8.0642706078580417},{"$f":"B184+Calculations2!C196","v":6.92},{"$f":"C184+Calculations2!D196","v":1},7.92,{"$f":"IF((OR(Calculations2!N196<>\"R3\", Calculations2!N196<>\"R4\", Calculations2!N196<>\"R5\", Calculations2!N196<>\"R6\", Calculations2!N196<>\"R7\")),Calculations2!$L$15/100*Calculations2!H196,Calculations2!$N$15/100*Calculations2!H196)","v":1.9500000000000002},{"$f":"IF(Calculations2!$E196=\"\",$F184+1)","v":116},{"$f":"IF(AND(Calculations2!$E196=\"\",$F185<8),Calculations2!$O196,\"\")","v":""},{"$f":"IF(AND(Calculations2!$E196=\"\",$F185<6),Calculations2!$I195-Calculations2!$O190-$I180-$I181-$I182-$I183,IF(AND(Calculations2!$E241=\"\",Calculations2!$E195<>\"\"),Calculations2!$I196,\"\"))","v":""},{"$f":"Calculations2!$O196","v":0},{"$f":"IF(AND($F185>5,$F185<>FALSE),\"\",IF(Calculations2!$E241=\"\",Calculations2!$H196-Calculations2!I196,Calculations2!$H196-Calculations2!$I196))","v":""},null,null,null,null,{"$f":"+Calculations2!$H196","v":3.9000000000000004},3.1500000000000004,{"$f":"IF((OR(Calculations2!N196=\"R3\", Calculations2!N196=\"R4\", Calculations2!N196=\"R5\", Calculations2!N196=\"R6\")),Calculations2!$N$15/100*Calculations2!H196,Calculations2!$L$15/100*Calculations2!H196)","v":1.9500000000000002},{"$f":"IF((OR(Calculations2!N196=\"R6\", Calculations2!N196=\"R7\",)),$S$8/100*Calculations2!H196,Q185)","v":1.5600000000000003}]
[{"$f":"A185+Calculations2!G197","v":8.0642706078580417},{"$f":"B185+Calculations2!C197","v":6.92},{"$f":"C185+Calculations2!D197","v":1},7.92,{"$f":"IF((OR(Calculations2!N197<>\"R3\", Calculations2!N197<>\"R4\", Calculations2!N197<>\"R5\", Calculations2!N197<>\"R6\", Calculations2!N197<>\"R7\")),Calculations2!$L$15/100*Calculations2!H197,Calculations2!$N$15/100*Calculations2!H197)","v":1.9500000000000002},{"$f":"IF(Calculations2!$E197=\"\",$F185+1)","v":117},{"$f":"IF(AND(Calculations2!$E197=\"\",$F186<8),Calculations2!$O197,\"\")","v":""},{"$f":"IF(AND(Calculations2!$E197=\"\",$F186<6),Calculations2!$I196-Calculations2!$O191-$I181-$I182-$I183-$I184,IF(AND(Calculations2!$E242=\"\",Calculations2!$E196<>\"\"),Calculations2!$I197,\"\"))","v":""},{"$f":"Calculations2!$O197","v":0},{"$f":"IF(AND($F186>5,$F186<>FALSE),\"\",IF(Calculations2!$E242=\"\",Calculations2!$H197-Calculations2!I197,Calculations2!$H197-Calculations2!$I197))","v":""},null,null,null,null,{"$f":"+Calculations2!$H197","v":3.9000000000000004},3.1500000000000004,{"$f":"IF((OR(Calculations2!N197=\"R3\", Calculations2!N197=\"R4\", Calculations2!N197=\"R5\", Calculations2!N197=\"R6\")),Calculations2!$N$15/100*Calculations2!H197,Calculations2!$L$15/100*Calculations2!H197)","v":1.9500000000000002},{"$f":"IF((OR(Calculations2!N197=\"R6\", Calculations2!N197=\"R7\",)),$S$8/100*Calculations2!H197,Q186)","v":1.5600000000000003}]
[{"$f":"A186+Calculations2!G198","v":8.0642706078580417},{"$f":"B186+Calculations2!C198","v":6.92},{"$f":"C186+Calculations2!D198","v":1},{"$f":"B187+C187","v":7.92},{"$f":"IF((OR(Calculations2!N198<>\"R3\", Calculations2!N198<>\"R4\", Calculations2!N198<>\"R5\", Calculations2!N198<>\"R6\", Calculations2!N198<>\"R7\")),Calculations2!$L$15/100*Calculations2!H198,Calculations2!$N$15/100*Calculations2!H198)","v":1.9500000000000002},{"$f":"IF(Calculations2!$E198=\"\",$F186+1)","v":118},{"$f":"IF(AND(Calculations2!$E198=\"\",$F187<8),Calculations2!$O198,\"\")","v":""},{"$f":"IF(AND(Calculations2!$E198=\"\",$F187<6),Calculations2!$I197-Calculations2!$O192-$I182-$I183-$I184-$I185,IF(AND(Calculations2!$E243=\"\",Calculations2!$E197<>\"\"),Calculations2!$I198,\"\"))","v":""},{"$f":"Calculations2!$O198","v":0},{"$f":"IF(AND($F187>5,$F187<>FALSE),\"\",IF(Calculations2!$E243=\"\",Calculations2!$H198-Calculations2!I198,Calculations2!$H198-Calculations2!$I198))","v":""},null,null,null,null,{"$f":"+Calculations2!$H198","v":3.9000000000000004},{"$f":"+(O187-0.75)","v":3.1500000000000004},{"$f":"IF((OR(Calculations2!N198=\"R3\", Calculations2!N198=\"R4\", Calculations2!N198=\"R5\", Calculations2!N198=\"R6\")),Calculations2!$N$15/100*Calculations2!H198,Calculations2!$L$15/100*Calculations2!H198)","v":1.9500000000000002},{"$f":"IF((OR(Calculations2!N198=\"R6\", Calculations2!N198=\"R7\",)),$S$8/100*Calculations2!H198,Q187)","v":1.5600000000000003}]
[{"$f":"A187+Calculations2!G199","v":8.0642706078580417},{"$f":"B187+Calculations2!C199","v":6.92},{"$f":"C187+Calculations2!D199","v":1},{"$f":"B188+C188","v":7.92},{"$f":"IF((OR(Calculations2!N199<>\"R3\", Calculations2!N199<>\"R4\", Calculations2!N199<>\"R5\", Calculations2!N199<>\"R6\", Calculations2!N199<>\"R7\")),Calculations2!$L$15/100*Calculations2!H199,Calculations2!$N$15/100*Calculations2!H199)","v":1.9500000000000002},{"$f":"IF(Calculations2!$E199=\"\",$F187+1)","v":119},{"$f":"IF(AND(Calculations2!$E199=\"\",$F188<8),Calculations2!$O199,\"\")","v":""},{"$f":"IF(AND(Calculations2!$E199=\"\",$F188<6),Calculations2!$I198-Calculations2!$O193-$I183-$I184-$I185-$I186,IF(AND(Calculations2!$E244=\"\",Calculations2!$E198<>\"\"),Calculations2!$I199,\"\"))","v":""},{"$f":"Calculations2!$O199","v":0},{"$f":"IF(AND($F188>5,$F188<>FALSE),\"\",IF(Calculations2!$E244=\"\",Calculations2!$H199-Calculations2!I199,Calculations2!$H199-Calculations2!$I199))","v":""},null,null,null,null,{"$f":"+Calculations2!$H199","v":3.9000000000000004},{"$f":"+(O188-0.75)","v":3.1500000000000004},{"$f":"IF((OR(Calculations2!N199=\"R3\", Calculations2!N199=\"R4\", Calculations2!N199=\"R5\", Calculations2!N199=\"R6\")),Calculations2!$N$15/100*Calculations2!H199,Calculations2!$L$15/100*Calculations2!H199)","v":1.9500000000000002},{"$f":"IF((OR(Calculations2!N199=\"R6\", Calculations2!N199=\"R7\",)),$S$8/100*Calculations2!H199,Q188)","v":1.5600000000000003}]

{"sheet":"Table1","index":11,"n_rows":19,"n_cols":3,"rows_kept":19,"cut":false,"hidden":false,"merged":[]}
["General Range of Available Moisture-Holding Capacities"]
["and Average Design Values for Normal Soil Conditions."]
["Reference: USDA, NRCS, Engineering Field Manual"]
[]
[null,"   Available Water"]
["Soil Texture","Range","Average"]
[null,"in./in.","in./in."]
["Very coarse-textured sands and"]
["      fine sands","0.04-0.08",0.06]
["Coarse-textured loamy sands"]
["      and loamy fine sands","0.06-0.10",0.08]
["Moderately coarse-textured "]
["      sandy loams and fine sandy loams","0.10-0.15",0.13]
["Medium textured very fine sandy loams,"]
["      loam and silt loams","0.13-0.19",0.16]
["Moderately fine-textured sandy clay loams,"]
["      clay loams, and silty clay loams","0.15-0.21",0.18]
["Fine-textured sandy clays, silty clays, "]
["      and clay","0.13-0.21",0.17]

{"sheet":"Crop & Soil Tables","index":12,"n_rows":846,"n_cols":10,"rows_kept":846,"cut":false,"hidden":true,"merged":[]}
[null,"Crop","Percent of Growth","Root Depth (in)","coeff",null,null,"Soil Type","Depth Range","AW capacity (in/in)"]
[null,"Alfalfa",0,48,0.6,null,null,"Au Gres","0 - 6",8.5000000000000006E-2]
[null,"Alfalfa",10,48,0.64,null,null,"Au Gres","6 -12",0.08]
[null,"Alfalfa",20,48,0.71,null,null,"Au Gres","12 - 18",7.4999999999999997E-2]
[null,"Alfalfa",30,48,0.78,null,null,"Au Gres","18 - 24",6.5000000000000002E-2]
[null,"Alfalfa",40,48,0.85,null,null,"Au Gres","24-30",6.5000000000000002E-2]
[null,"Alfalfa",50,48,0.92,null,null,"Au Gres","30 - 36",6.5000000000000002E-2]
[null,"Alfalfa",60,48,0.99,null,null,"Au Gres","36 - 42",6.5000000000000002E-2]
[null,"Alfalfa",70,48,1.05,null,null,"Au Gres","42 - 48",6.5000000000000002E-2]
[null,"Alfalfa",80,48,1.05]
[null,"Alfalfa",90,48,1.05,null,null,"Brady","0 - 6",0.13500000000000001]
[null,"Alfalfa",100,48,1.05,null,null,"Brady","6 -12",0.13500000000000001]
[null,null,null,null,null,null,null,"Brady","12 - 18",0.14499999999999999]
[null,"Alfalfa1",0,6,0.2,null,null,"Brady","18 - 24",0.14499999999999999]
[null,"Alfalfa1",10,12,0.28999999999999998,null,null,"Brady","24-30",0.09]
[null,"Alfalfa1",20,18,0.39,null,null,"Brady","30 - 36",0.09]
[null,"Alfalfa1",30,24,0.5,null,null,"Brady","36 - 42",0.09]
[null,"Alfalfa1",40,30,0.63,null,null,"Brady","42 - 48",0.09]
[null,"Alfalfa1",50,36,0.77]
[null,"Alfalfa1",60,42,0.93,null,null,"Bronson","0 - 6",0.14000000000000001]
[null,"Alfalfa1",70,48,1.05,null,null,"Bronson","6 -12",0.14000000000000001]
[null,"Alfalfa1",80,48,1.06,null,null,"Bronson","12 - 18",0.14166699999999999]
[null,"Alfalfa1",90,48,1.05,null,null,"Bronson","18 - 24",0.15]
[null,"Alfalfa1",100,48,1.05,null,null,"Bronson","24-30",0.15]
[null,null,null,null,null,null,null,"Bronson","30 - 36",0.11]
[null,"Apple",0,48,0.66,null,null,"Bronson","36 - 42",7.0000000000000007E-2]
[null,"Apple",10,48,0.68,null,null,"Bronson","42 - 48",7.0000000000000007E-2]
[null,"Apple",20,48,0.76]
[null,"Apple",30,48,0.88,null,null,"Croswell","0 - 6",0.105]
[null,"Apple",40,48,0.99,null,null,"Croswell","6 -12",7.0000000000000007E-2]
[null,"Apple",50,48,1.02,null,null,"Croswell","12 - 18",6.5000000000000002E-2]
[null,"Apple",60,48,1.02,null,null,"Croswell","18 - 24",6.5000000000000002E-2]
[null,"Apple",70,48,1.02,null,null,"Croswell","24-30",6.5000000000000002E-2]
[null,"Apple",80,48,1.02,null,null,"Croswell","30 - 36",6.5000000000000002E-2]
[null,"Apple",90,48,1.01,null,null,"Croswell","36 - 42",5.5E-2]
[null,"Apple",100,48,0.95,null,null,"Croswell","42 - 48",5.5E-2]
[]
[null,"Blueberries12",0,12,0.46,null,null,"Grayling","0 - 6",6.5000000000000002E-2]
[null,"Blueberries12",10,12,1.1000000000000001,null,null,"Grayling","6 -12",5.5E-2]
[null,"Blueberries12",20,12,1.1000000000000001,null,null,"Grayling","12 - 18",5.5E-2]
[null,"Blueberries12",30,12,1.1000000000000001,null,null,"Grayling","18 - 24",5.5E-2]
[null,"Blueberries12",40,12,1.04,null,null,"Grayling","24-30",5.5E-2]
[null,"Blueberries12",50,12,0.97,null,null,"Grayling","30 - 36",0.05]
[null,"Blueberries12",60,12,0.87,null,null,"Grayling","36 - 42",0.05]
[null,"Blueberries12",70,12,0.82,null,null,"Grayling","42 - 48",0.05]
[null,"Blueberries12",80,12,0.75]
[null,"Blueberries12",90,12,0.67,null,null,"Hillsdale","0 - 6",0.155]
[null,"Blueberries12",100,12,0.6,null,null,"Hillsdale","6 -12",0.1525]
[null,null,null,null,null,null,null,"Hillsdale","12 - 18",0.15]
[null,"Blueberries18",0,18,0.46,null,null,"Hillsdale","18 - 24",0.15]
[null,"Blueberries18",10,18,1.1000000000000001,null,null,"Hillsdale","24-30",0.14299999999999999]
[null,"Blueberries18",20,18,1.1000000000000001,null,null,"Hillsdale","30 - 36",0.13]
[null,"Blueberries18",30,18,1.1000000000000001,null,null,"Hillsdale","36 - 42",0.13]
[null,"Blueberries18",40,18,1.04,null,null,"Hillsdale","42 - 48",0.109]
[null,"Blueberries18",50,18,0.97]
[null,"Blueberries18",60,18,0.87,null,null,"Kalamazoo","0 - 6",0.19]
[null,"Blueberries18",70,18,0.82,null,null,"Kalamazoo","6 -12",0.19]
[null,"Blueberries18",80,18,0.75,null,null,"Kalamazoo","12 - 18",0.17333000000000001]
[null,"Blueberries18",90,18,0.67,null,null,"Kalamazoo","18 - 24",0.14000000000000001]
[null,"Blueberries18",100,18,0.6,null,null,"Kalamazoo","24-30",0.14000000000000001]
[null,null,null,null,null,null,null,"Kalamazoo","30 - 36",0.14000000000000001]
[null,"Blueberries24",0,24,0.46,null,null,"Kalamazoo","36 - 42",0.08]
[null,"Blueberries24",10,24,1.1000000000000001,null,null,"Kalamazoo","42 - 48",0.05]
[null,"Blueberries24",20,24,1.1000000000000001]
[null,"Blueberries24",30,24,1.1000000000000001,null,null,"McBride","0 - 6",0.14000000000000001]
[null,"Blueberries24",40,24,1.04,null,null,"McBride","6 -12",0.125]
[null,"Blueberries24",50,24,0.97,null,null,"McBride","12 - 18",0.125]
[null,"Blueberries24",60,24,0.87,null,null,"McBride","18 - 24",0.125]
[null,"Blueberries24",70,24,0.82,null,null,"McBride","24-30",0.125]
[null,"Blueberries24",80,24,0.75,null,null,"McBride","30 - 36",0.125]
[null,"Blueberries24",90,24,0.67,null,null,"McBride","36 - 42",0.125]
[null,"Blueberries24",100,24,0.6,null,null,"McBride","42 - 48",0.13500000000000001]
[]
[null,"Broccoli",0,6,0.19,null,null,"Melita","0 - 6",9.5000000000000001E-2]
[null,"Broccoli",10,8.4,0.28999999999999998,null,null,"Melita","6 -12",0.06]
[null,"Broccoli",20,10.8,0.42,null,null,"Melita","12 - 18",0.06]
[null,"Broccoli",30,13.2,0.56999999999999995,null,null,"Melita","18 - 24",0.06]
[null,"Broccoli",40,15.6,0.76,null,null,"Melita","24-30",0.06]
[null,"Broccoli",50,18,0.95,null,null,"Melita","30 - 36",0.06]
[null,"Broccoli",60,18,0.95,null,null,"Melita","36 - 42",0.06]
[null,"Broccoli",70,18,0.95,null,null,"Melita","42 - 48",0.06]
[null,"Broccoli",80,18,0.95]
[null,"Broccoli",90,18,0.89,null,null,"Montcalm","0 - 6",0.09]
[null,"Broccoli",100,18,0.8,null,null,"Montcalm","6 -12",7.4999999999999997E-2]
[null,null,null,null,null,null,null,"Montcalm","12 - 18",7.4999999999999997E-2]
[null,"Carrot12",0,6,0.22,null,null,"Montcalm","18 - 24",7.4999999999999997E-2]
[null,"Carrot12",10,7.67,0.32,null,null,"Montcalm","24-30",7.4999999999999997E-2]
[null,"Carrot12",20,9.33,0.49,null,null,"Montcalm","30 - 36",0.06]
[null,"Carrot12",30,11,0.76,null,null,"Montcalm","36 - 42",0.06]
[null,"Carrot12",40,12,1,null,null,"Montcalm","42 - 48",0.06]
[null,"Carrot12",50,12,1]
[null,"Carrot12",60,12,1,null,null,"Nottawa","0 - 6",0.125]
[null,"Carrot12",70,12,1,null,null,"Nottawa","6 -12",0.129]
[null,"Carrot12",80,12,0.98,null,null,"Nottawa","12 - 18",0.15]
[null,"Carrot12",90,12,0.84,null,null,"Nottawa","18 - 24",0.13800000000000001]
[null,"Carrot12",100,12,0.7,null,null,"Nottawa","24-30",0.08]
[null,null,null,null,null,null,null,"Nottawa","30 - 36",0.08]
[null,"Carrot18",0,6,0.22,null,null,"Nottawa","36 - 42",0.08]
[null,"Carrot18",10,9.33,0.32,null,null,"Nottawa","42 - 48",7.1999999999999995E-2]
[null,"Carrot18",20,12.67,0.49]
[null,"Carrot18",30,16,0.76,null,null,"Oshtemo","0 - 6",0.125]
[null,"Carrot18",40,18,1,null,null,"Oshtemo","6 -12",0.125]
[null,"Carrot18",50,18,1,null,null,"Oshtemo","12 - 18",0.125]
[null,"Carrot18",60,18,1,null,null,"Oshtemo","18 - 24",0.15]
[null,"Carrot18",70,18,1,null,null,"Oshtemo","24-30",8.4167000000000006E-2]
[null,"Carrot18",80,18,0.98,null,null,"Oshtemo","30 - 36",7.0000000000000007E-2]
[null,"Carrot18",90,18,0.84,null,null,"Oshtemo","36 - 42",7.0000000000000007E-2]
[null,"Carrot18",100,18,0.7,null,null,"Oshtemo","42 - 48",0.03]
[]
[null,"Carrot24",0,6,0.22,null,null,"Sandy Loam","0 - 6",0.13]
[null,"Carrot24",10,11,0.32,null,null,"Sandy Loam","6 -12",0.13]
[null,"Carrot24",20,16,0.49,null,null,"Sandy Loam","12 - 18",0.13]
[null,"Carrot24",30,21,0.76,null,null,"Sandy Loam","18 - 24",0.13]
[null,"Carrot24",40,24,1,null,null,"Sandy Loam","24-30",0.13]
[null,"Carrot24",50,24,1,null,null,"Sandy Loam","30 - 36",0.1]
[null,"Carrot24",60,24,1,null,null,"Sandy Loam","36 - 42",0.1]
[null,"Carrot24",70,24,1,null,null,"Sandy Loam","42 - 48",0.08]
[null,"Carrot24",80,24,0.98]
[null,"Carrot24",90,24,0.84,null,null,"Sandy Loam / Coarse Loam","0 - 6",0.13]
[null,"Carrot24",100,24,0.7,null,null,"Sandy Loam / Coarse Loam","6 -12",0.13]
[null,null,null,null,null,null,null,"Sandy Loam / Coarse Loam","12 - 18",0.13]
[null,"Carrot36",0,6,0.22,null,null,"Sandy Loam / Coarse Loam","18 - 24",0.08]
[null,"Carrot36",10,13.5,0.32,null,null,"Sandy Loam / Coarse Loam","24-30",0.08]
[null,"Carrot36",20,21,0.49,null,null,"Sandy Loam / Coarse Loam","30 - 36",0.08]
[null,"Carrot36",30,28.5,0.76,null,null,"Sandy Loam / Coarse Loam","36 - 42",0.08]
[null,"Carrot36",40,36,1,null,null,"Sandy Loam / Coarse Loam","42 - 48",0.06]
[null,"Carrot36",50,36,1]
[null,"Carrot36",60,36,1,null,null,"Schoolcraft","0 - 6",0.21]
[null,"Carrot36",70,36,1,null,null,"Schoolcraft","6 -12",0.21]
[null,"Carrot36",80,36,0.98,null,null,"Schoolcraft","12 - 18",0.155]
[null,"Carrot36",90,36,0.84,null,null,"Schoolcraft","18 - 24",0.155]
[null,"Carrot36",100,36,0.7,null,null,"Schoolcraft","24-30",0.14916699999999999]
[null,null,null,null,null,null,null,"Schoolcraft","30 - 36",0.12]
[null,"Cauliflower12",0,6,0.19,null,null,"Schoolcraft","36 - 42",0.06]
[null,"Cauliflower12",10,7.2,0.28999999999999998,null,null,"Schoolcraft","42 - 48",0.03]
[null,"Cauliflower12",20,8.4,0.42]
[null,"Cauliflower12",30,9.6,0.57999999999999996,null,null,"Spinks","0 - 6",0.09]
[null,"Cauliflower12",40,10.8,0.76,null,null,"Spinks","6 -12",0.09]
[null,"Cauliflower12",50,12,0.95,null,null,"Spinks","12 - 18",0.09]
[null,"Cauliflower12",60,12,0.95,null,null,"Spinks","18 - 24",0.09]
[null,"Cauliflower12",70,12,0.95,null,null,"Spinks","24-30",0.09]
[null,"Cauliflower12",80,12,0.95,null,null,"Spinks","30 - 36",0.06]
[null,"Cauliflower12",90,12,0.89,null,null,"Spinks","36 - 42",0.06]
[null,"Cauliflower12",100,12,0.8,null,null,"Spinks","42 - 48",0.06]
[]
[null,"Cauliflower18",0,6,0.19,null,null,"Adrian","0 - 6",0.4]
[null,"Cauliflower18",10,8.4,0.28999999999999998,null,null,"Adrian","6 -12",0.4]
[null,"Cauliflower18",20,10.8,0.42,null,null,"Adrian","12 - 18",0.4]
[null,"Cauliflower18",30,13.2,0.57999999999999996,null,null,"Adrian","18 - 24",0.4]
[null,"Cauliflower18",40,15.6,0.76,null,null,"Adrian","24-30",0.4]
[null,"Cauliflower18",50,18,0.95,null,null,"Adrian","30 - 36",5.5E-2]
[null,"Cauliflower18",60,18,0.95,null,null,"Adrian","36 - 42",5.5E-2]
[null,"Cauliflower18",70,18,0.95,null,null,"Adrian","42 - 48",5.5E-2]
[null,"Cauliflower18",80,18,0.95]
[null,"Cauliflower18",90,18,0.89,null,null,"Algansee","0 - 6",0.11]
[null,"Cauliflower18",100,18,0.8,null,null,"Algansee","6 -12",0.11]
[null,null,null,null,null,null,null,"Algansee","12 - 18",0.06]
[null,"Celery",0,6,0.19,null,null,"Algansee","18 - 24",0.06]
[null,"Celery",10,9,0.33,null,null,"Algansee","24-30",0.06]
[null,"Celery",20,12,0.52,null,null,"Algansee","30 - 36",0.06]
[null,"Celery",30,15,0.73,null,null,"Algansee","36 - 42",0.06]
[null,"Celery",40,18,1,null,null,"Algansee","42 - 48",0.06]
[null,"Celery",50,18,1]
[null,"Celery",60,18,1,null,null,"Arkona","0 - 6",0.11]
[null,"Celery",70,18,1,null,null,"Arkona","6 -12",0.11]
[null,"Celery",80,18,1,null,null,"Arkona","12 - 18",8.5000000000000006E-2]
[null,"Celery",90,18,0.98,null,null,"Arkona","18 - 24",8.5000000000000006E-2]
[null,"Celery",100,18,0.9,null,null,"Arkona","24-30",8.5000000000000006E-2]
[null,null,null,null,null,null,null,"Arkona","30 - 36",8.5000000000000006E-2]
[null,"Cherries",0,48,0.66,null,null,"Arkona","36 - 42",0.1]
[null,"Cherries",10,48,0.68,null,null,"Arkona","42 - 48",0.1]
[null,"Cherries",20,48,0.76]
[null,"Cherries",30,48,0.88,null,null,"Aubbeenaubbee","0 - 6",0.17]
[null,"Cherries",40,48,0.99,null,null,"Aubbeenaubbee","6 -12",0.115]
[null,"Cherries",50,48,1.02,null,null,"Aubbeenaubbee","12 - 18",0.115]
[null,"Cherries",60,48,1.02,null,null,"Aubbeenaubbee","18 - 24",0.17]
[null,"Cherries",70,48,1.02,null,null,"Aubbeenaubbee","24-30",0.17]
[null,"Cherries",80,48,1.02,null,null,"Aubbeenaubbee","30 - 36",0.14499999999999999]
[null,"Cherries",90,48,1.01,null,null,"Aubbeenaubbee","36 - 42",0.14499999999999999]
[null,"Cherries",100,48,0.95,null,null,"Aubbeenaubbee","42 - 48",0.14499999999999999]
[]
[null,"Corn18",0,6,0.23,null,null,"Brevert","0 - 6",0.11]
[null,"Corn18",10,8.67,0.31,null,null,"Brevert","6 -12",0.08]
[null,"Corn18",20,11.33,0.46,null,null,"Brevert","12 - 18",0.08]
[null,"Corn18",30,14,0.67,null,null,"Brevert","18 - 24",0.08]
[null,"Corn18",40,16.670000000000002,0.89,null,null,"Brevert","24-30",0.08]
[null,"Corn18",50,18,1,null,null,"Brevert","30 - 36",0.17]
[null,"Corn18",60,18,1.02,null,null,"Brevert","36 - 42",0.17]
[null,"Corn18",70,18,1,null,null,"Brevert","42 - 48",0.17]
[null,"Corn18",80,18,0.93]
[null,"Corn18",90,18,0.77,null,null,"Capac","0 - 6",0.19]
[null,"Corn18",100,18,0.5,null,null,"Capac","6 -12",0.19]
[null,null,null,null,null,null,null,"Capac","12 - 18",0.16]
[null,"Corn24",0,6,0.23,null,null,"Capac","18 - 24",0.16]
[null,"Corn24",10,10,0.31,null,null,"Capac","24-30",0.16]
[null,"Corn24",20,14,0.46,null,null,"Capac","30 - 36",0.16]
[null,"Corn24",30,18,0.67,null,null,"Capac","36 - 42",0.16]
[null,"Corn24",40,22,0.89,null,null,"Capac","42 - 48",0.15]
[null,"Corn24",50,24,1]
[null,"Corn24",60,24,1.02,null,null,"Carlisle","0 - 6",0.4]
[null,"Corn24",70,24,1,null,null,"Carlisle","6 -12",0.4]
[null,"Corn24",80,24,0.93,null,null,"Carlisle","12 - 18",0.4]
[null,"Corn24",90,24,0.77,null,null,"Carlisle","18 - 24",0.4]
[null,"Corn24",100,24,0.5,null,null,"Carlisle","24-30",0.4]
[null,null,null,null,null,null,null,"Carlisle","30 - 36",0.4]
[null,"Corn27",0,6,0.23,null,null,"Carlisle","36 - 42",0.4]
[null,"Corn27",10,10.67,0.31,null,null,"Carlisle","42 - 48",0.4]
[null,"Corn27",20,15.33,0.5]
[null,"Corn27",30,20,0.5,null,null,"Coloma","0 - 6",7.4999999999999997E-2]
[null,"Corn27",40,24.67,0.9,null,null,"Coloma","6 -12",7.4999999999999997E-2]
[null,"Corn27",50,27,1,null,null,"Coloma","12 - 18",7.4999999999999997E-2]
[null,"Corn27",60,27,1.2,null,null,"Coloma","18 - 24",7.4999999999999997E-2]
[null,"Corn27",70,27,1.2,null,null,"Coloma","24-30",7.4999999999999997E-2]
[null,"Corn27",80,27,1.2,null,null,"Coloma","30 - 36",7.4999999999999997E-2]
[null,"Corn27",90,27,0.66,null,null,"Coloma","36 - 42",4.4999999999999998E-2]
[null,"Corn27",100,27,0.5,null,null,"Coloma","42 - 48",4.4999999999999998E-2]
[]
[null,"Corn36",0,6,0.23,null,null,"Coral","0 - 6",0.18]
[null,"Corn36",10,12.67,0.31,null,null,"Coral","6 -12",0.18]
[null,"Corn36",20,19.329999999999998,0.5,null,null,"Coral","12 - 18",0.16]
[null,"Corn36",30,26,0.5,null,null,"Coral","18 - 24",0.16]
[null,"Corn36",40,32.67,0.9,null,null,"Coral","24-30",0.16]
[null,"Corn36",50,36,1,null,null,"Coral","30 - 36",0.16]
[null,"Corn36",60,36,1.2,null,null,"Coral","36 - 42",0.16]
[null,"Corn36",70,36,1.2,null,null,"Coral","42 - 48",0.13500000000000001]
[null,"Corn36",80,36,1.2]
[null,"Corn36",90,36,0.66,null,null,"Corunna","0 - 6",0.18]
[null,"Corn36",100,36,0.5,null,null,"Corunna","6 -12",0.18]
[null,null,null,null,null,null,null,"Corunna","12 - 18",0.11]
[null,"CucumberF12",0,6,0.17,null,null,"Corunna","18 - 24",0.11]
[null,"CucumberF12",10,7.67,0.33,null,null,"Corunna","24-30",0.11]
[null,"CucumberF12",20,9.33,0.53,null,null,"Corunna","30 - 36",0.11]
[null,"CucumberF12",30,11,0.78,null,null,"Corunna","36 - 42",0.18]
[null,"CucumberF12",40,12,0.9,null,null,"Corunna","42 - 48",0.18]
[null,"CucumberF12",50,12,0.9]
[null,"CucumberF12",60,12,0.9,null,null,"Covert","0 - 6",0.105]
[null,"CucumberF12",70,12,0.9,null,null,"Covert","6 -12",6.5000000000000002E-2]
[null,"CucumberF12",80,12,0.9,null,null,"Covert","12 - 18",6.5000000000000002E-2]
[null,"CucumberF12",90,12,0.8,null,null,"Covert","18 - 24",6.5000000000000002E-2]
[null,"CucumberF12",100,12,0.7,null,null,"Covert","24-30",6.5000000000000002E-2]
[null,null,null,null,null,null,null,"Covert","30 - 36",6.5000000000000002E-2]
[null,"CucumberF18",0,6,0.17,null,null,"Covert","36 - 42",0.03]
[null,"CucumberF18",10,9.33,0.33,null,null,"Covert","42 - 48",0.06]
[null,"CucumberF18",20,12.67,0.53]
[null,"CucumberF18",30,16,0.78,null,null,"Edmore","0 - 6",0.105]
[null,"CucumberF18",40,18,0.9,null,null,"Edmore","6 -12",0.47]
[null,"CucumberF18",50,18,0.9,null,null,"Edmore","12 - 18",0.47]
[null,"CucumberF18",60,18,0.9,null,null,"Edmore","18 - 24",0.47]
[null,"CucumberF18",70,18,0.9,null,null,"Edmore","24-30",0.47]
[null,"CucumberF18",80,18,0.9,null,null,"Edmore","30 - 36",0.47]
[null,"CucumberF18",90,18,0.8,null,null,"Edmore","36 - 42",0.47]
[null,"CucumberF18",100,18,0.7,null,null,"Edmore","42 - 48",7.4999999999999997E-2]
[]
[null,"CucumberF24",0,6,0.17,null,null,"Edwards","0 - 6",0.4]
[null,"CucumberF24",10,11,0.33,null,null,"Edwards","6 -12",0.4]
[null,"CucumberF24",20,16,0.53,null,null,"Edwards","12 - 18",0.4]
[null,"CucumberF24",30,21,0.78,null,null,"Edwards","18 - 24",0.4]
[null,"CucumberF24",40,24,0.9,null,null,"Edwards","24-30",0.4]
[null,"CucumberF24",50,24,0.9,null,null,"Edwards","30 - 36",0.4]
[null,"CucumberF24",60,24,0.9,null,null,"Edwards","36 - 42",0.4]
[null,"CucumberF24",70,24,0.9,null,null,"Edwards","42 - 48",0.4]
[null,"CucumberF24",80,24,0.9]
[null,"CucumberF24",90,24,0.8,null,null,"Epoufette","0 - 6",0.17]
[null,"CucumberF24",100,24,0.7,null,null,"Epoufette","6 -12",0.17]
[null,null,null,null,null,null,null,"Epoufette","12 - 18",0.13]
[null,"CucumberF36",0,6,0.17,null,null,"Epoufette","18 - 24",0.13]
[null,"CucumberF36",10,13.5,0.33,null,null,"Epoufette","24-30",0.13]
[null,"CucumberF36",20,21,0.53,null,null,"Epoufette","30 - 36",6.5000000000000002E-2]
[null,"CucumberF36",30,28.5,0.78,null,null,"Epoufette","36 - 42",6.5000000000000002E-2]
[null,"CucumberF36",40,36,0.9,null,null,"Epoufette","42 - 48",6.5000000000000002E-2]
[null,"CucumberF36",50,36,0.9]
[null,"CucumberF36",60,36,0.9,null,null,"Gladwin","0 - 6",0.11]
[null,"CucumberF36",70,36,0.9,null,null,"Gladwin","6 -12",0.11]
[null,"CucumberF36",80,36,0.9,null,null,"Gladwin","12 - 18",0.1]
[null,"CucumberF36",90,36,0.8,null,null,"Gladwin","18 - 24",0.1]
[null,"CucumberF36",100,36,0.7,null,null,"Gladwin","24-30",0.125]
[null,null,null,null,null,null,null,"Gladwin","30 - 36",0.03]
[null,"CucumberP12",0,6,0.17,null,null,"Gladwin","36 - 42",0.03]
[null,"CucumberP12",10,7.67,0.33,null,null,"Gladwin","42 - 48",0.03]
[null,"CucumberP12",20,9.33,0.53]
[null,"CucumberP12",30,11,0.78,null,null,"Glendora","0 - 6",0.11]
[null,"CucumberP12",40,12,0.9,null,null,"Glendora","6 -12",0.08]
[null,"CucumberP12",50,12,0.9,null,null,"Glendora","12 - 18",0.08]
[null,"CucumberP12",60,12,0.9,null,null,"Glendora","18 - 24",0.08]
[null,"CucumberP12",70,12,0.9,null,null,"Glendora","24-30",0.08]
[null,"CucumberP12",80,12,0.9,null,null,"Glendora","30 - 36",0.08]
[null,"CucumberP12",90,12,0.88,null,null,"Glendora","36 - 42",0.08]
[null,"CucumberP12",100,12,0.85,null,null,"Glendora","42 - 48",0.08]
[]
[null,"CucumberP18",0,6,0.17,null,null,"Greenwood","0 - 6",0.6]
[null,"CucumberP18",10,11,0.33,null,null,"Greenwood","6 -12",0.5]
[null,"CucumberP18",20,16,0.53,null,null,"Greenwood","12 - 18",0.5]
[null,"CucumberP18",30,21,0.78,null,null,"Greenwood","18 - 24",0.5]
[null,"CucumberP18",40,24,0.9,null,null,"Greenwood","24-30",0.5]
[null,"CucumberP18",50,24,0.9,null,null,"Greenwood","30 - 36",0.5]
[null,"CucumberP18",60,24,0.9,null,null,"Greenwood","36 - 42",0.5]
[null,"CucumberP18",70,24,0.9,null,null,"Greenwood","42 - 48",0.5]
[null,"CucumberP18",80,24,0.9]
[null,"CucumberP18",90,24,0.88,null,null,"Houghton","0 - 6",0.4]
[null,"CucumberP18",100,24,0.85,null,null,"Houghton","6 -12",0.4]
[null,null,null,null,null,null,null,"Houghton","12 - 18",0.4]
[null,"CucumberP24",0,6,0.17,null,null,"Houghton","18 - 24",0.4]
[null,"CucumberP24",10,8.4,0.33,null,null,"Houghton","24-30",0.4]
[null,"CucumberP24",20,10.8,0.53,null,null,"Houghton","30 - 36",0.4]
[null,"CucumberP24",30,13.2,0.78,null,null,"Houghton","36 - 42",0.4]
[null,"CucumberP24",40,15.6,0.9,null,null,"Houghton","42 - 48",0.4]
[null,"CucumberP24",50,18,0.9]
[null,"CucumberP24",60,18,0.9,null,null,"Iosca","0 - 6",0.105]
[null,"CucumberP24",70,18,0.9,null,null,"Iosca","6 -12",8.5000000000000006E-2]
[null,"CucumberP24",80,18,0.9,null,null,"Iosca","12 - 18",8.5000000000000006E-2]
[null,"CucumberP24",90,18,0.88,null,null,"Iosca","18 - 24",8.5000000000000006E-2]
[null,"CucumberP24",100,18,0.85,null,null,"Iosca","24-30",8.5000000000000006E-2]
[null,null,null,null,null,null,null,"Iosca","30 - 36",0.17]
[null,"CucumberP36",0,6,0.17,null,null,"Iosca","36 - 42",0.17]
[null,"CucumberP36",10,13.5,0.33,null,null,"Iosca","42 - 48",0.17]
[null,"CucumberP36",20,21,0.53]
[null,"CucumberP36",30,28.5,0.78,null,null,"Isabella","0 - 6",0.14000000000000001]
[null,"CucumberP36",40,36,0.9,null,null,"Isabella","6 -12",0.125]
[null,"CucumberP36",50,36,0.9,null,null,"Isabella","12 - 18",0.125]
[null,"CucumberP36",60,36,0.9,null,null,"Isabella","18 - 24",0.125]
[null,"CucumberP36",70,36,0.9,null,null,"Isabella","24-30",0.13500000000000001]
[null,"CucumberP36",80,36,0.9,null,null,"Isabella","30 - 36",0.13500000000000001]
[null,"CucumberP36",90,36,0.88,null,null,"Isabella","36 - 42",0.13500000000000001]
[null,"CucumberP36",100,36,0.85,null,null,"Isabella","42 - 48",0.13500000000000001]
[]
[null,"DryBeans18",0,6,0.16,null,null,"Ithaca","0 - 6",0.22]
[null,"DryBeans18",10,10.44,0.35,null,null,"Ithaca","6 -12",0.22]
[null,"DryBeans18",20,18,0.56999999999999995,null,null,"Ithaca","12 - 18",0.15]
[null,"DryBeans18",30,18,0.94,null,null,"Ithaca","18 - 24",0.15]
[null,"DryBeans18",40,18,1.05,null,null,"Ithaca","24-30",0.15]
[null,"DryBeans18",50,18,1.05,null,null,"Ithaca","30 - 36",0.16500000000000001]
[null,"DryBeans18",60,18,1.05,null,null,"Ithaca","36 - 42",0.16500000000000001]
[null,"DryBeans18",70,18,1.05,null,null,"Ithaca","42 - 48",0.16500000000000001]
[null,"DryBeans18",80,18,0.95]
[null,"DryBeans18",90,18,0.62,null,null,"Kawkawlin","0 - 6",0.2]
[null,"DryBeans18",100,18,0.3,null,null,"Kawkawlin","6 -12",0.16]
[null,null,null,null,null,null,null,"Kawkawlin","12 - 18",0.15]
[null,"DryBeans21",0,6,0.16,null,null,"Kawkawlin","18 - 24",0.15]
[null,"DryBeans21",10,11.56,0.35,null,null,"Kawkawlin","24-30",0.15]
[null,"DryBeans21",20,17.11,0.56999999999999995,null,null,"Kawkawlin","30 - 36",0.16500000000000001]
[null,"DryBeans21",30,21,0.94,null,null,"Kawkawlin","36 - 42",0.16500000000000001]
[null,"DryBeans21",40,21,1.05,null,null,"Kawkawlin","42 - 48",0.16500000000000001]
[null,"DryBeans21",50,21,1.05]
[null,"DryBeans21",60,21,1.05,null,null,"Kerston","0 - 6",0.4]
[null,"DryBeans21",70,21,1.05,null,null,"Kerston","6 -12",0.4]
[null,"DryBeans21",80,21,0.95,null,null,"Kerston","12 - 18",0.4]
[null,"DryBeans21",90,21,0.62,null,null,"Kerston","18 - 24",0.14000000000000001]
[null,"DryBeans21",100,21,0.3,null,null,"Kerston","24-30",0.4]
[null,null,null,null,null,null,null,"Kerston","30 - 36",0.4]
[null,"DryBeans24",0,6,0.16,null,null,"Kerston","36 - 42",0.4]
[null,"DryBeans24",10,12.67,0.35,null,null,"Kerston","42 - 48",0.4]
[null,"DryBeans24",20,19.329999999999998,0.56999999999999995]
[null,"DryBeans24",30,24,0.94,null,null,"Leoni","0 - 6",0.11]
[null,"DryBeans24",40,24,1.05,null,null,"Leoni","6 -12",0.06]
[null,"DryBeans24",50,24,1.05,null,null,"Leoni","12 - 18",0.06]
[null,"DryBeans24",60,24,1.05,null,null,"Leoni","18 - 24",0.06]
[null,"DryBeans24",70,24,1.05,null,null,"Leoni","24-30",0.06]
[null,"DryBeans24",80,24,0.95,null,null,"Leoni","30 - 36",0.02]
[null,"DryBeans24",90,24,0.62,null,null,"Leoni","36 - 42",0.02]
[null,"DryBeans24",100,24,0.3,null,null,"Leoni","42 - 48",0.02]
[]
[null,"DryOnion12",0,6,0.24,null,null,"Locke","0 - 6",0.18]
[null,"DryOnion12",10,9.16,0.56000000000000005,null,null,"Locke","6 -12",0.18]
[null,"DryOnion12",20,12,0.95,null,null,"Locke","12 - 18",0.16]
[null,"DryOnion12",30,12,0.95,null,null,"Locke","18 - 24",0.16]
[null,"DryOnion12",40,12,0.95,null,null,"Locke","24-30",0.16]
[null,"DryOnion12",50,12,0.95,null,null,"Locke","30 - 36",0.16]
[null,"DryOnion12",60,12,0.95,null,null,"Locke","36 - 42",0.13500000000000001]
[null,"DryOnion12",70,12,0.95,null,null,"Locke","42 - 48",0.13500000000000001]
[null,"DryOnion12",80,12,0.88]
[null,"DryOnion12",90,12,0.82,null,null,"Loxley","0 - 6",0.5]
[null,"DryOnion12",100,12,0.75,null,null,"Loxley","6 -12",0.4]
[null,null,null,null,null,null,null,"Loxley","12 - 18",0.4]
[null,"DryOnion15",0,6,0.24,null,null,"Loxley","18 - 24",0.4]
[null,"DryOnion15",10,10.74,0.56000000000000005,null,null,"Loxley","24-30",0.4]
[null,"DryOnion15",20,15,0.95,null,null,"Loxley","30 - 36",0.4]
[null,"DryOnion15",30,15,0.95,null,null,"Loxley","36 - 42",0.4]
[null,"DryOnion15",40,15,0.95,null,null,"Loxley","42 - 48",0.4]
[null,"DryOnion15",50,15,0.95]
[null,"DryOnion15",60,15,0.95,null,null,"Mancelona","0 - 6",1.4999999999999999E-2]
[null,"DryOnion15",70,15,0.95,null,null,"Mancelona","6 -12",1.4999999999999999E-2]
[null,"DryOnion15",80,15,0.88,null,null,"Mancelona","12 - 18",6.5000000000000002E-2]
[null,"DryOnion15",90,15,0.82,null,null,"Mancelona","18 - 24",6.5000000000000002E-2]
[null,"DryOnion15",100,15,0.75,null,null,"Mancelona","24-30",6.5000000000000002E-2]
[null,null,null,null,null,null,null,"Mancelona","30 - 36",6.5000000000000002E-2]
[null,"DryOnion18",0,6,0.24,null,null,"Mancelona","36 - 42",0.08]
[null,"DryOnion18",10,12.32,0.56000000000000005,null,null,"Mancelona","42 - 48",0.04]
[null,"DryOnion18",20,18,0.95]
[null,"DryOnion18",30,18,0.95,null,null,"Marlette","0 - 6",0.13500000000000001]
[null,"DryOnion18",40,18,0.95,null,null,"Marlette","6 -12",0.13500000000000001]
[null,"DryOnion18",50,18,0.95,null,null,"Marlette","12 - 18",0.9]
[null,"DryOnion18",60,18,0.95,null,null,"Marlette","18 - 24",0.9]
[null,"DryOnion18",70,18,0.95,null,null,"Marlette","24-30",0.9]
[null,"DryOnion18",80,18,0.88,null,null,"Marlette","30 - 36",0.9]
[null,"DryOnion18",90,18,0.82,null,null,"Marlette","36 - 42",0.155]
[null,"DryOnion18",100,18,0.75,null,null,"Marlette","42 - 48",0.155]
[]
[null,"Grapes",0,36,0.4,null,null,"Matea","0 - 6",0.11]
[null,"Grapes",10,36,0.52,null,null,"Matea","6 -12",0.11]
[null,"Grapes",20,36,0.62,null,null,"Matea","12 - 18",8.5000000000000006E-2]
[null,"Grapes",30,36,0.69,null,null,"Matea","18 - 24",8.5000000000000006E-2]
[null,"Grapes",40,36,0.75,null,null,"Matea","24-30",17]
[null,"Grapes",50,36,0.78,null,null,"Matea","30 - 36",0.12]
[null,"Grapes",60,36,0.8,null,null,"Matea","36 - 42",0.12]
[null,"Grapes",70,36,0.78,null,null,"Matea","42 - 48",0.12]
[null,"Grapes",80,36,0.72]
[null,"Grapes",90,36,0.66,null,null,"McBride","0 - 6",0.14000000000000001]
[null,"Grapes",100,36,0.57999999999999996,null,null,"McBride","6 -12",0.125]
[null,null,null,null,null,null,null,"McBride","12 - 18",0.125]
[null,"GreenBeans",0,6,0.2,null,null,"McBride","18 - 24",0.125]
[null,"GreenBeans",10,11.19,0.33,null,null,"McBride","24-30",0.125]
[null,"GreenBeans",20,16.37,0.49,null,null,"McBride","30 - 36",0.125]
[null,"GreenBeans",30,20,0.69,null,null,"McBride","36 - 42",0.125]
[null,"GreenBeans",40,20,0.9,null,null,"McBride","42 - 48",0.13500000000000001]
[null,"GreenBeans",50,20,0.95]
[null,"GreenBeans",60,20,0.95,null,null,"Mecosta","0 - 6",0.06]
[null,"GreenBeans",70,20,0.95,null,null,"Mecosta","6 -12",0.08]
[null,"GreenBeans",80,20,0.95,null,null,"Mecosta","12 - 18",0.03]
[null,"GreenBeans",90,20,0.91,null,null,"Mecosta","18 - 24",0.06]
[null,"GreenBeans",100,20,0.91,null,null,"Mecosta","24-30",0.02]
[null,null,null,null,null,null,null,"Mecosta","30 - 36",0.02]
[null,"GreenOnion12",0,6,0.24,null,null,"Mecosta","36 - 42",0.02]
[null,"GreenOnion12",10,6.91,0.32,null,null,"Mecosta","42 - 48",0.02]
[null,"GreenOnion12",20,7.82,0.4]
[null,"GreenOnion12",30,8.73,0.5,null,null,"Nester","0 - 6",0.20499999999999999]
[null,"GreenOnion12",40,9.64,0.61,null,null,"Nester","6 -12",0.155]
[null,"GreenOnion12",50,10.55,0.72,null,null,"Nester","12 - 18",0.15]
[null,"GreenOnion12",60,11.45,0.85,null,null,"Nester","18 - 24",0.15]
[null,"GreenOnion12",70,12,0.95,null,null,"Nester","24-30",0.15]
[null,"GreenOnion12",80,12,0.95,null,null,"Nester","30 - 36",0.03]
[null,"GreenOnion12",90,12,0.95,null,null,"Nester","36 - 42",0.03]
[null,"GreenOnion12",100,12,0.95,null,null,"Nester","42 - 48",0.03]
[]
[null,"GreenOnion18",0,6,0.24,null,null,"Newago","0 - 6",0.20499999999999999]
[null,"GreenOnion18",10,7.82,0.32,null,null,"Newago","6 -12",0.20499999999999999]
[null,"GreenOnion18",20,9.64,0.4,null,null,"Newago","12 - 18",0.20499999999999999]
[null,"GreenOnion18",30,11.45,0.5,null,null,"Newago","18 - 24",0.14499999999999999]
[null,"GreenOnion18",40,13.27,0.61,null,null,"Newago","24-30",0.14499999999999999]
[null,"GreenOnion18",50,15.09,0.72,null,null,"Newago","30 - 36",0.14499999999999999]
[null,"GreenOnion18",60,16.91,0.85,null,null,"Newago","36 - 42",4.4999999999999998E-2]
[null,"GreenOnion18",70,18,0.9,null,null,"Newago","42 - 48",4.4999999999999998E-2]
[null,"GreenOnion18",80,18,0.9]
[null,"GreenOnion18",90,18,0.9,null,null,"Palo","0 - 6",0.14000000000000001]
[null,"GreenOnion18",100,18,0.9,null,null,"Palo","6 -12",0.15]
[null,null,null,null,null,null,null,"Palo","12 - 18",0.15]
[null,"GreenOnion24",0,6,0.24,null,null,"Palo","18 - 24",0.15]
[null,"GreenOnion24",10,8.73,0.32,null,null,"Palo","24-30",0.15]
[null,"GreenOnion24",20,11.45,0.4,null,null,"Palo","30 - 36",0.03]
[null,"GreenOnion24",30,14.18,0.5,null,null,"Palo","36 - 42",0.03]
[null,"GreenOnion24",40,16.91,0.61,null,null,"Palo","42 - 48",0.03]
[null,"GreenOnion24",50,19.64,0.72]
[null,"GreenOnion24",60,22.36,0.85,null,null,"Palms","0 - 6",0.4]
[null,"GreenOnion24",70,24,0.9,null,null,"Palms","6 -12",0.4]
[null,"GreenOnion24",80,24,0.9,null,null,"Palms","12 - 18",0.4]
[null,"GreenOnion24",90,24,0.9,null,null,"Palms","18 - 24",0.4]
[null,"GreenOnion24",100,24,0.9,null,null,"Palms","24-30",0.4]
[null,null,null,null,null,null,null,"Palms","30 - 36",0.4]
[null,"MuskMelon12",0,6,0.17,null,null,"Palms","36 - 42",0.18]
[null,"MuskMelon12",10,7.5,0.32,null,null,"Palms","42 - 48",0.18]
[null,"MuskMelon12",20,9,0.52]
[null,"MuskMelon12",30,10.5,0.77,null,null,"Perrington","0 - 6",0.22]
[null,"MuskMelon12",40,12,0.95,null,null,"Perrington","6 -12",0.15]
[null,"MuskMelon12",50,12,0.95,null,null,"Perrington","12 - 18",0.15]
[null,"MuskMelon12",60,12,0.95,null,null,"Perrington","18 - 24",0.15]
[null,"MuskMelon12",70,12,0.95,null,null,"Perrington","24-30",0.15]
[null,"MuskMelon12",80,12,0.94,null,null,"Perrington","30 - 36",0.17]
[null,"MuskMelon12",90,12,0.79,null,null,"Perrington","36 - 42",0.17]
[null,"MuskMelon12",100,12,0.65,null,null,"Perrington","42 - 48",0.17]
[]
[null,"MuskMelon15",0,6,0.17,null,null,"Pipestone","0 - 6",8.5000000000000006E-2]
[null,"MuskMelon15",10,9,0.32,null,null,"Pipestone","6 -12",8.5000000000000006E-2]
[null,"MuskMelon15",20,12,0.52,null,null,"Pipestone","12 - 18",7.4999999999999997E-2]
[null,"MuskMelon15",30,15,0.77,null,null,"Pipestone","18 - 24",7.4999999999999997E-2]
[null,"MuskMelon15",40,15,0.95,null,null,"Pipestone","24-30",0.06]
[null,"MuskMelon15",50,15,0.95,null,null,"Pipestone","30 - 36",0.06]
[null,"MuskMelon15",60,15,0.95,null,null,"Pipestone","36 - 42",0.06]
[null,"MuskMelon15",70,15,0.95,null,null,"Pipestone","42 - 48",0.06]
[null,"MuskMelon15",80,15,0.94]
[null,"MuskMelon15",90,15,0.79,null,null,"Plainfield","0 - 6",6.5000000000000002E-2]
[null,"MuskMelon15",100,15,0.65,null,null,"Plainfield","6 -12",6.5000000000000002E-2]
[null,null,null,null,null,null,null,"Plainfield","12 - 18",6.5000000000000002E-2]
[null,"MuskMelon18",0,6,0.17,null,null,"Plainfield","18 - 24",6.5000000000000002E-2]
[null,"MuskMelon18",10,9,0.32,null,null,"Plainfield","24-30",5.5E-2]
[null,"MuskMelon18",20,12,0.52,null,null,"Plainfield","30 - 36",5.5E-2]
[null,"MuskMelon18",30,15,0.77,null,null,"Plainfield","36 - 42",5.5E-2]
[null,"MuskMelon18",40,18,0.95,null,null,"Plainfield","42 - 48",5.5E-2]
[null,"MuskMelon18",50,18,0.95]
[null,"MuskMelon18",60,18,0.95,null,null,"Remus","0 - 6",0.14000000000000001]
[null,"MuskMelon18",70,18,0.95,null,null,"Remus","6 -12",0.125]
[null,"MuskMelon18",80,18,0.94,null,null,"Remus","12 - 18",0.12]
[null,"MuskMelon18",90,18,0.79,null,null,"Remus","18 - 24",0.12]
[null,"MuskMelon18",100,18,0.65,null,null,"Remus","24-30",0.12]
[null,null,null,null,null,null,null,"Remus","30 - 36",0.12]
[null,"MuskMelon36",0,6,0.17,null,null,"Remus","36 - 42",0.12]
[null,"MuskMelon36",10,14.33,0.32,null,null,"Remus","42 - 48",0.12]
[null,"MuskMelon36",20,22.66,0.52]
[null,"MuskMelon36",30,31,0.77,null,null,"Rifle","0 - 6",0.4]
[null,"MuskMelon36",40,36,0.95,null,null,"Rifle","6 -12",0.4]
[null,"MuskMelon36",50,36,0.95,null,null,"Rifle","12 - 18",0.4]
[null,"MuskMelon36",60,36,0.95,null,null,"Rifle","18 - 24",0.4]
[null,"MuskMelon36",70,36,0.95,null,null,"Rifle","24-30",0.4]
[null,"MuskMelon36",80,36,0.94,null,null,"Rifle","30 - 36",0.4]
[null,"MuskMelon36",90,36,0.79,null,null,"Rifle","36 - 42",0.4]
[null,"MuskMelon36",100,36,0.65,null,null,"Rifle","42 - 48",0.4]
[]
[null,"Peaches",0,48,0.59,null,null,"Riverdale","0 - 6",0.09]
[null,"Peaches",10,48,0.62,null,null,"Riverdale","6 -12",0.08]
[null,"Peaches",20,48,0.69,null,null,"Riverdale","12 - 18",0.08]
[null,"Peaches",30,48,0.83,null,null,"Riverdale","18 - 24",0.08]
[null,"Peaches",40,48,0.94,null,null,"Riverdale","24-30",0.08]
[null,"Peaches",50,48,1,null,null,"Riverdale","30 - 36",0.08]
[null,"Peaches",60,48,1,null,null,"Riverdale","36 - 42",0.09]
[null,"Peaches",70,48,0.99,null,null,"Riverdale","42 - 48",0.03]
[null,"Peaches",80,48,0.95]
[null,"Peaches",90,48,0.85,null,null,"Ronald","0 - 6",0.13500000000000001]
[null,"Peaches",100,48,0.75,null,null,"Ronald","6 -12",0.13500000000000001]
[null,null,null,null,null,null,null,"Ronald","12 - 18",0.17499999999999999]
[null,"Pears",0,48,0.59,null,null,"Ronald","18 - 24",0.17499999999999999]
[null,"Pears",10,48,0.62,null,null,"Ronald","24-30",0.17499999999999999]
[null,"Pears",20,48,0.69,null,null,"Ronald","30 - 36",0.17499999999999999]
[null,"Pears",30,48,0.83,null,null,"Ronald","36 - 42",0.03]
[null,"Pears",40,48,0.94,null,null,"Ronald","42 - 48",0.03]
[null,"Pears",50,48,1]
[null,"Pears",60,48,1,null,null,"Roscommon","0 - 6",7.0000000000000007E-2]
[null,"Pears",70,48,0.99,null,null,"Roscommon","6 -12",9.5000000000000001E-2]
[null,"Pears",80,48,0.94,null,null,"Roscommon","12 - 18",9.5000000000000001E-2]
[null,"Pears",90,48,0.84,null,null,"Roscommon","18 - 24",9.5000000000000001E-2]
[null,"Pears",100,48,0.75,null,null,"Roscommon","24-30",9.5000000000000001E-2]
[null,null,null,null,null,null,null,"Roscommon","30 - 36",7.4999999999999997E-2]
[null,"Peas",0,6,0.16,null,null,"Roscommon","36 - 42",7.4999999999999997E-2]
[null,"Peas",10,7.82,0.36,null,null,"Roscommon","42 - 48",7.4999999999999997E-2]
[null,"Peas",20,9.64,0.61]
[null,"Peas",30,11.45,0.94,null,null,"Rousseau","0 - 6",0.105]
[null,"Peas",40,12,1.05,null,null,"Rousseau","6 -12",0.105]
[null,"Peas",50,12,1.05,null,null,"Rousseau","12 - 18",0.08]
[null,"Peas",60,12,1.05,null,null,"Rousseau","18 - 24",0.08]
[null,"Peas",70,12,1.05,null,null,"Rousseau","24-30",0.06]
[null,"Peas",80,12,1.05,null,null,"Rousseau","30 - 36",0.06]
[null,"Peas",90,12,1,null,null,"Rousseau","36 - 42",0.06]
[null,"Peas",100,12,0.95,null,null,"Rousseau","42 - 48",0.06]
[]
[null,"Plums",0,48,0.59,null,null,"Saugatauk","0 - 6",0.08]
[null,"Plums",10,48,0.62,null,null,"Saugatauk","6 -12",7.0000000000000007E-2]
[null,"Plums",20,48,0.69,null,null,"Saugatauk","12 - 18",7.0000000000000007E-2]
[null,"Plums",30,48,0.83,null,null,"Saugatauk","18 - 24",0.05]
[null,"Plums",40,48,0.94,null,null,"Saugatauk","24-30",0.05]
[null,"Plums",50,48,1,null,null,"Saugatauk","30 - 36",0.05]
[null,"Plums",60,48,1,null,null,"Saugatauk","36 - 42",0.05]
[null,"Plums",70,48,0.99,null,null,"Saugatauk","42 - 48",0.05]
[null,"Plums",80,48,0.94]
[null,"Plums",90,48,0.84,null,null,"Sims","0 - 6",0.2]
[null,"Plums",100,48,0.75,null,null,"Sims","6 -12",0.17]
[null,null,null,null,null,null,null,"Sims","12 - 18",0.17]
[null,"Potatoes12",0,6,0.22,null,null,"Sims","18 - 24",0.17]
[null,"Potatoes12",10,8,0.34,null,null,"Sims","24-30",0.17]
[null,"Potatoes12",20,10,0.53,null,null,"Sims","30 - 36",0.16500000000000001]
[null,"Potatoes12",30,12,0.79,null,null,"Sims","36 - 42",0.16500000000000001]
[null,"Potatoes12",40,12,0.92,null,null,"Sims","42 - 48",0.16500000000000001]
[null,"Potatoes12",50,12,0.99]
[null,"Potatoes12",60,12,1,null,null,"Sparta","0 - 6",0.105]
[null,"Potatoes12",70,12,0.99,null,null,"Sparta","6 -12",0.105]
[null,"Potatoes12",80,12,0.95,null,null,"Sparta","12 - 18",0.08]
[null,"Potatoes12",90,12,0.85,null,null,"Sparta","18 - 24",0.08]
[null,"Potatoes12",100,12,0.65,null,null,"Sparta","24-30",0.06]
[null,null,null,null,null,null,null,"Sparta","30 - 36",0.06]
[null,"Potatoes18",0,6,0.22,null,null,"Sparta","36 - 42",0.06]
[null,"Potatoes18",10,10,0.34,null,null,"Sparta","42 - 48",0.06]
[null,"Potatoes18",20,14,0.53]
[null,"Potatoes18",30,18,0.79,null,null,"Tewas","0 - 6",0.375]
[null,"Potatoes18",40,18,0.92,null,null,"Tewas","6 -12",0.375]
[null,"Potatoes18",50,18,0.99,null,null,"Tewas","12 - 18",0.375]
[null,"Potatoes18",60,18,1,null,null,"Tewas","18 - 24",0.375]
[null,"Potatoes18",70,18,0.99,null,null,"Tewas","24-30",0.375]
[null,"Potatoes18",80,18,0.95,null,null,"Tewas","30 - 36",0.375]
[null,"Potatoes18",90,18,0.85,null,null,"Tewas","36 - 42",5.5E-2]
[null,"Potatoes18",100,18,0.65,null,null,"Tewas","42 - 48",5.5E-2]
[]
[null,"Potatoes24",0,6,0.22,null,null,"Thetford","0 - 6",0.115]
[null,"Potatoes24",10,12,0.34,null,null,"Thetford","6 -12",0.115]
[null,"Potatoes24",20,18,0.53,null,null,"Thetford","12 - 18",0.115]
[null,"Potatoes24",30,24,0.79,null,null,"Thetford","18 - 24",0.115]
[null,"Potatoes24",40,24,0.92,null,null,"Thetford","24-30",0.115]
[null,"Potatoes24",50,24,0.99,null,null,"Thetford","30 - 36",0.105]
[null,"Potatoes24",60,24,1,null,null,"Thetford","36 - 42",0.105]
[null,"Potatoes24",70,24,0.99,null,null,"Thetford","42 - 48",0.105]
[null,"Potatoes24",80,24,0.95]
[null,"Potatoes24",90,24,0.85,null,null,"Tustin","0 - 6",0.22]
[null,"Potatoes24",100,24,0.65,null,null,"Tustin","6 -12",0.22]
[null,null,null,null,null,null,null,"Tustin","12 - 18",0.22]
[null,"Soybeans12",0,6,0.1,"VE-V1",null,"Tustin","18 - 24",0.22]
[null,"Soybeans12",10,7.71,0.17,"V2-V3",null,"Tustin","24-30",0.22]
[null,"Soybeans12",20,9.43,0.27,"V4",null,"Tustin","30 - 36",0.13500000000000001]
[null,"Soybeans12",30,12,0.39,"V5",null,"Tustin","36 - 42",0.13500000000000001]
[null,"Soybeans12",40,12,0.57999999999999996,"V6",null,"Tustin","42 - 48",0.13500000000000001]
[null,"Soybeans12",50,12,0.74,"R1"]
[null,"Soybeans12",60,12,0.89,"R2",null,"Vestaburg","0 - 6",0.13]
[null,"Soybeans12",70,12,1.02,"R3",null,"Vestaburg","6 -12",0.13]
[null,"Soybeans12",80,12,0.92,"R4-R5",null,"Vestaburg","12 - 18",7.0000000000000007E-2]
[null,"Soybeans12",90,12,0.77,"R6",null,"Vestaburg","18 - 24",7.0000000000000007E-2]
[null,"Soybeans12",100,12,0.66,"R7",null,"Vestaburg","24-30",7.0000000000000007E-2]
[null,null,null,null,null,null,null,"Vestaburg","30 - 36",7.0000000000000007E-2]
[null,"Soybeans18",0,6,0.1,"VE-V1",null,"Vestaburg","36 - 42",0.03]
[null,"Soybeans18",10,9.43,0.17,"V2-V3",null,"Vestaburg","42 - 48",0.03]
[null,"Soybeans18",20,12.86,0.27,"V4"]
[null,"Soybeans18",30,16.28,0.39,"V5",null,"Washtenaw","0 - 6",0.23]
[null,"Soybeans18",40,18,0.57999999999999996,"V6",null,"Washtenaw","6 -12",0.23]
[null,"Soybeans18",50,18,0.74,"R1",null,"Washtenaw","12 - 18",0.21]
[null,"Soybeans18",60,18,0.89,"R2",null,"Washtenaw","18 - 24",0.21]
[null,"Soybeans18",70,18,1.02,"R3",null,"Washtenaw","24-30",0.21]
[null,"Soybeans18",80,18,0.92,"R4-R5",null,"Washtenaw","30 - 36",0.21]
[null,"Soybeans18",90,18,0.77,"R6",null,"Washtenaw","36 - 42",0.17499999999999999]
[null,"Soybeans18",100,18,0.66,"R7",null,"Washtenaw","42 - 48",0.17499999999999999]
[]
[null,"Soybeans24",0,6,0.1,"VE-V1",null,"Wauseon","0 - 6",0.155]
[null,"Soybeans24",10,11.14,0.17,"V2-V3",{"$f":"+E615-E614","v":7.0000000000000007E-2},"Wauseon","6 -12",0.155]
[null,"Soybeans24",20,16.28,0.27,"V4",{"$f":"+E616-E615","v":0.1},"Wauseon","12 - 18",0.11]
[null,"Soybeans24",30,21.43,0.39,"V5",{"$f":"+E617-E616","v":0.12},"Wauseon","18 - 24",0.11]
[null,"Soybeans24",40,24,0.57999999999999996,"V6",0.18999999999999995,"Wauseon","24-30",0.13]
[null,"Soybeans24",50,24,0.74,"R1",0.16000000000000003,"Wauseon","30 - 36",0.13]
[null,"Soybeans24",60,24,0.89,"R2",0.15000000000000002,"Wauseon","36 - 42",0.13]
[null,"Soybeans24",70,24,1.02,"R3",0.13,"Wauseon","42 - 48",0.13]
[null,"Soybeans24",80,24,0.92,"R4-R5",-9.9999999999999978E-2]
[null,"Soybeans24",90,24,0.77,"R6",-0.15000000000000002,"Wixom","0 - 6",0.11]
[null,"Soybeans24",100,24,0.66,"R7",-0.10999999999999999,"Wixom","6 -12",0.11]
[null,null,null,null,null,null,null,"Wixom","12 - 18",8.5000000000000006E-2]
[null,"Squash",0,6,0.14000000000000001,null,null,"Wixom","18 - 24",8.5000000000000006E-2]
[null,"Squash",10,13.14,0.28000000000000003,null,null,"Wixom","24-30",0.17]
[null,"Squash",20,20.28,0.47,null,null,"Wixom","30 - 36",0.17]
[null,"Squash",30,27.42,0.7,null,null,"Wixom","36 - 42",0.17]
[null,"Squash",40,34.57,0.9,null,null,"Wixom","42 - 48",0.17]
[null,"Squash",50,36,0.9]
[null,"Squash",60,36,0.9,null,null,"Ziegenfuss","0 - 6",0.17499999999999999]
[null,"Squash",70,36,0.9,null,null,"Ziegenfuss","6 -12",0.17]
[null,"Squash",80,36,0.85,null,null,"Ziegenfuss","12 - 18",0.17]
[null,"Squash",90,36,0.78,null,null,"Ziegenfuss","18 - 24",0.16500000000000001]
[null,"Squash",100,36,0.7,null,null,"Ziegenfuss","24-30",0.16500000000000001]
[null,null,null,null,null,null,null,"Ziegenfuss","30 - 36",0.16500000000000001]
[null,"Strawberries",0,10,0.7,null,null,"Ziegenfuss","36 - 42",0.16500000000000001]
[null,"Strawberries",10,10,0.7,null,null,"Ziegenfuss","42 - 48",0.16500000000000001]
[null,"Strawberries",20,10,1]
[null,"Strawberries",30,10,1,null,null,"Shebeon","0 - 6",0.15]
[null,"Strawberries",40,10,1,null,null,"Shebeon","6 -12",0.22]
[null,"Strawberries",50,10,1,null,null,"Shebeon","12 - 18",0.12]
[null,"Strawberries",60,10,1,null,null,"Shebeon","18 - 24",0.19]
[null,"Strawberries",70,10,1,null,null,"Shebeon","24-30",0.08]
[null,"Strawberries",80,10,0.9,null,null,"Shebeon","30 - 36",0.19]
[null,"Strawberries",90,10,0.8,null,null,"Shebeon","36 - 42",0.03]
[null,"Strawberries",100,10,0.7,null,null,"Shebeon","42 - 48",0.05]
[]
[null,"TomatoesS12",0,6,0.25,null,null,"Kilmanagh","0 - 6",0.16]
[null,"TomatoesS12",10,7.5,0.42,null,null,"Kilmanagh","6 -12",0.2]
[null,"TomatoesS12",20,9,0.64,null,null,"Kilmanagh","12 - 18",0.12]
[null,"TomatoesS12",30,10.5,0.9,null,null,"Kilmanagh","18 - 24",0.19]
[null,"TomatoesS12",40,12,1.05,null,null,"Kilmanagh","24-30",0.1]
[null,"TomatoesS12",50,12,1.05,null,null,"Kilmanagh","30 - 36",0.18]
[null,"TomatoesS12",60,12,1.05,null,null,"Kilmanagh","36 - 42",0.05]
[null,"TomatoesS12",70,12,1.05,null,null,"Kilmanagh","42 - 48",0.09]
[null,"TomatoesS12",80,12,1.05]
[null,"TomatoesS12",90,12,1.05,null,null,"Londo","0 - 6",0.18]
[null,"TomatoesS12",100,12,0.6,null,null,"Londo","6 -12",0.22]
[null,null,null,null,null,null,null,"Londo","12 - 18",0.14000000000000001]
[null,"TomatoesS18",0,6,0.25,null,null,"Londo","18 - 24",0.19]
[null,"TomatoesS18",10,9.43,0.42,null,null,"Londo","24-30",0.19]
[null,"TomatoesS18",20,12.86,0.67,null,null,"Londo","30 - 36",0.19]
[null,"TomatoesS18",30,16.28,0.9,null,null,"Londo","36 - 42",0.19]
[null,"TomatoesS18",40,18,1.05,null,null,"Londo","42 - 48",0.19]
[null,"TomatoesS18",50,18,1.05]
[null,"TomatoesS18",60,18,1.05,null,null,"Tappan","0 - 6",0.18]
[null,"TomatoesS18",70,18,1.05,null,null,"Tappan","6 -12",0.22]
[null,"TomatoesS18",80,18,1.05,null,null,"Tappan","12 - 18",0.14000000000000001]
[null,"TomatoesS18",90,18,1.05,null,null,"Tappan","18 - 24",0.19]
[null,"TomatoesS18",100,18,0.6,null,null,"Tappan","24-30",0.15]
[null,null,null,null,null,null,null,"Tappan","30 - 36",0.15]
[null,"TomatoesS24",0,6,0.25,null,null,"Tappan","36 - 42",0.19]
[null,"TomatoesS24",10,11.14,0.42,null,null,"Tappan","42 - 48",0.19]
[null,"TomatoesS24",20,16.28,0.67]
[null,"TomatoesS24",30,21.43,0.9,null,null,"Poseyville","0 - 6",0.09]
[null,"TomatoesS24",40,24,1.05,null,null,"Poseyville","6 -12",0.06]
[null,"TomatoesS24",50,24,1.05,null,null,"Poseyville","12 - 18",0.14000000000000001]
[null,"TomatoesS24",60,24,1.05,null,null,"Poseyville","18 - 24",0.14000000000000001]
[null,"TomatoesS24",70,24,1.05,null,null,"Poseyville","24-30",0.14000000000000001]
[null,"TomatoesS24",80,24,1.05,null,null,"Poseyville","30 - 36",0.19]
[null,"TomatoesS24",90,24,1.05,null,null,"Poseyville","36 - 42",0.19]
[null,"TomatoesS24",100,24,0.6,null,null,"Poseyville","42 - 48",0.19]
[]
[null,"TomatoesT12",0,6,0.28999999999999998,null,null,"Chippeny-Nahma","0 - 6",0.35]
[null,"TomatoesT12",10,7.5,0.37,null,null,"Chippeny-Nahma","6 -12",0.45]
[null,"TomatoesT12",20,9,0.6,null,null,"Chippeny-Nahma","12 - 18",0.14000000000000001]
[null,"TomatoesT12",30,10.5,0.89,null,null,"Chippeny-Nahma","18 - 24",0.14000000000000001]
[null,"TomatoesT12",40,12,1.05,null,null,"Chippeny-Nahma","24-30",0.16]
[null,"TomatoesT12",50,12,1.05,null,null,"Chippeny-Nahma","30 - 36",0.16]
[null,"TomatoesT12",60,12,1.05,null,null,"Chippeny-Nahma","36 - 42",0.16]
[null,"TomatoesT12",70,12,1.05,null,null,"Chippeny-Nahma","42 - 48",0.16]
[null,"TomatoesT12",80,12,1.05]
[null,"TomatoesT12",90,12,1.05,null,null,"Blount Loam","0 - 6",0.2]
[null,"TomatoesT12",100,12,0.6,null,null,"Blount Loam","6 -12",0.12]
[null,null,null,null,null,null,null,"Blount Loam","12 - 18",0.19]
[null,"TomatoesT18",0,6,0.28999999999999998,null,null,"Blount Loam","18 - 24",0.19]
[null,"TomatoesT18",10,9.43,0.37,null,null,"Blount Loam","24-30",0.19]
[null,"TomatoesT18",20,12.86,0.6,null,null,"Blount Loam","30 - 36",0.1]
[null,"TomatoesT18",30,16.28,0.89,null,null,"Blount Loam","36 - 42",0.1]
[null,"TomatoesT18",40,18,1.05,null,null,"Blount Loam","42 - 48",0.1]
[null,"TomatoesT18",50,18,1.05]
[null,"TomatoesT18",60,18,1.05,null,null,"Emmett","0 - 6",0.12]
[null,"TomatoesT18",70,18,1.05,null,null,"Emmett","6 -12",0.11]
[null,"TomatoesT18",80,18,1.05,null,null,"Emmett","12 - 18",0.14000000000000001]
[null,"TomatoesT18",90,18,1.05,null,null,"Emmett","18 - 24",0.14000000000000001]
[null,"TomatoesT18",100,18,0.6,null,null,"Emmett","24-30",0.11]
[null,null,null,null,null,null,null,"Emmett","30 - 36",0.18]
[null,"TomatoesT24",0,6,0.28999999999999998,null,null,"Emmett","36 - 42",0.18]
[null,"TomatoesT24",10,11.14,0.37,null,null,"Emmett","42 - 48",0.14000000000000001]
[null,"TomatoesT24",20,16.28,0.6]
[null,"TomatoesT24",30,21.43,0.89,null,null,"Benona ","0 - 6",0.08]
[null,"TomatoesT24",40,24,1.05,null,null,"Benona ","6 -12",0.08]
[null,"TomatoesT24",50,24,1.05,null,null,"Benona ","12 - 18",0.08]
[null,"TomatoesT24",60,24,1.05,null,null,"Benona ","18 - 24",0.08]
[null,"TomatoesT24",70,24,1.05,null,null,"Benona ","24-30",0.08]
[null,"TomatoesT24",80,24,1.05,null,null,"Benona ","30 - 36",0.08]
[null,"TomatoesT24",90,24,1.05,null,null,"Benona ","36 - 42",0.08]
[null,"TomatoesT24",100,24,0.6,null,null,"Benona ","42 - 48",0.08]
[]
[null,"Wheat",0,6,0.25,null,null,"Belleville","0 - 6",0.1]
[null,"Wheat",10,12,0.55000000000000004,null,null,"Belleville","6 -12",0.06]
[null,"Wheat",20,26,0.95,null,null,"Belleville","12 - 18",0.1]
[null,"Wheat",30,36,1.05,null,null,"Belleville","18 - 24",0.1]
[null,"Wheat",40,36,1.05,null,null,"Belleville","24-30",0.1]
[null,"Wheat",50,36,1.05,null,null,"Belleville","30 - 36",0.14000000000000001]
[null,"Wheat",60,36,1.05,null,null,"Belleville","36 - 42",0.14000000000000001]
[null,"Wheat",70,36,1.05,null,null,"Belleville","42 - 48",0.14000000000000001]
[null,"Wheat",80,36,1.05]
[null,"Wheat",90,36,1.05,null,null,"Island lake","0 - 6",7.0000000000000007E-2]
[null,"Wheat",100,36,1.05,null,null,"Island lake","6 -12",0.12]
[null,null,null,null,null,null,null,"Island lake","12 - 18",0.08]
[null,"Grass12",0,12,1,null,null,"Island lake","18 - 24",0.08]
[null,"Grass12",10,12,1,null,null,"Island lake","24-30",0.08]
[null,"Grass12",20,12,1,null,null,"Island lake","30 - 36",0.08]
[null,"Grass12",30,12,1,null,null,"Island lake","36 - 42",0.08]
[null,"Grass12",40,12,1,null,null,"Island lake","42 - 48",0.1]
[null,"Grass12",50,12,1]
[null,"Grass12",60,12,1,null,null,"Alcona-Richter","0 - 6",0.12]
[null,"Grass12",70,12,1,null,null,"Alcona-Richter","6 -12",0.1]
[null,"Grass12",80,12,1,null,null,"Alcona-Richter","12 - 18",0.17]
[null,"Grass12",90,12,1,null,null,"Alcona-Richter","18 - 24",0.17]
[null,"Grass12",100,12,1,null,null,"Alcona-Richter","24-30",0.17]
[null,null,null,null,null,null,null,"Alcona-Richter","30 - 36",0.2]
[null,"Grass18",0,18,1,null,null,"Alcona-Richter","36 - 42",0.2]
[null,"Grass18",10,18,1,null,null,"Alcona-Richter","42 - 48",0.2]
[null,"Grass18",20,18,1]
[null,"Grass18",30,18,1,null,null,"Lapeer","0 - 6",0.14000000000000001]
[null,"Grass18",40,18,1,null,null,"Lapeer","6 -12",0.14000000000000001]
[null,"Grass18",50,18,1,null,null,"Lapeer","12 - 18",0.14000000000000001]
[null,"Grass18",60,18,1,null,null,"Lapeer","18 - 24",0.14000000000000001]
[null,"Grass18",70,18,1,null,null,"Lapeer","24-30",0.14000000000000001]
[null,"Grass18",80,18,1,null,null,"Lapeer","30 - 36",0.18]
[null,"Grass18",90,18,1,null,null,"Lapeer","36 - 42",0.15]
[null,"Grass18",100,18,1,null,null,"Lapeer","42 - 48",0.15]
[]
[null,"Grass24",0,24,1,null,null,"Parkhill","0 - 6",0.2]
[null,"Grass24",10,24,1,null,null,"Parkhill","6 -12",0.22]
[null,"Grass24",20,24,1,null,null,"Parkhill","12 - 18",0.15]
[null,"Grass24",30,24,1,null,null,"Parkhill","18 - 24",0.15]
[null,"Grass24",40,24,1,null,null,"Parkhill","24-30",0.19]
[null,"Grass24",50,24,1,null,null,"Parkhill","30 - 36",0.17]
[null,"Grass24",60,24,1,null,null,"Parkhill","36 - 42",0.17]
[null,"Grass24",70,24,1,null,null,"Parkhill","42 - 48",0.17]
[null,"Grass24",80,24,1]
[null,"Grass24",90,24,1,null,null,"Fern","0 - 6",0.08]
[null,"Grass24",100,24,1,null,null,"Fern","6 -12",0.1]
[null,null,null,null,null,null,null,"Fern","12 - 18",0.11]
[null,null,null,null,null,null,null,"Fern","18 - 24",0.11]
[null,null,null,null,null,null,null,"Fern","24-30",0.18]
[null,null,null,null,null,null,null,"Fern","30 - 36",0.18]
[null,null,null,null,null,null,null,"Fern","36 - 42",0.18]
[null,null,null,null,null,null,null,"Fern","42 - 48",0.18]
[]
[null,null,null,null,null,null,null,"Nadeau","0 - 6",0.22]
[null,null,null,null,null,null,null,"Nadeau","6 -12",0.22]
[null,null,null,null,null,null,null,"Nadeau","12 - 18",0.09]
[null,null,null,null,null,null,null,"Nadeau","18 - 24",0.09]
[null,null,null,null,null,null,null,"Nadeau","24-30",0.01]
[null,null,null,null,null,null,null,"Nadeau","30 - 36",0.01]
[null,null,null,null,null,null,null,"Nadeau","36 - 42",0.01]
[null,null,null,null,null,null,null,"Nadeau","42 - 48",0.01]
[]
[]
[]
[]
[]
[]
[]
[]
[]
[]
[null,null,null,null,null,null,null,"Blue Lake","0 - 6",0.12]
[null,null,null,null,null,null,null,"Blue Lake","6 -12",0.11]
[null,null,null,null,null,null,null,"Blue Lake","12 - 18",0.11]
[null,null,null,null,null,null,null,"Blue Lake","18 - 24",0.06]
[null,null,null,null,null,null,null,"Blue Lake","24-30",0.06]
[null,null,null,null,null,null,null,"Blue Lake","30 - 36",0.06]
[null,null,null,null,null,null,null,"Blue Lake","36 - 42",0.06]
[null,null,null,null,null,null,null,"Blue Lake","42 - 48",0.06]
[]
[null,null,null,null,null,null,null,"Granby","0 - 6",0.12]
[null,null,null,null,null,null,null,"Granby","6 -12",0.12]
[null,null,null,null,null,null,null,"Granby","12 - 18",0.12]
[null,null,null,null,null,null,null,"Granby","18 - 24",0.12]
[null,null,null,null,null,null,null,"Granby","24-30",0.12]
[null,null,null,null,null,null,null,"Granby","30 - 36",0.09]
[null,null,null,null,null,null,null,"Granby","36 - 42",0.09]
[null,null,null,null,null,null,null,"Granby","42 - 48",0.09]
[]
[null,null,null,null,null,null,null,"Gilford","0 - 6",0.16]
[null,null,null,null,null,null,null,"Gilford","6 -12",0.18]
[null,null,null,null,null,null,null,"Gilford","12 - 18",0.14000000000000001]
[null,null,null,null,null,null,null,"Gilford","18 - 24",0.14000000000000001]
[null,null,null,null,null,null,null,"Gilford","24-30",0.05]
[null,null,null,null,null,null,null,"Gilford","30 - 36",0.08]
[null,null,null,null,null,null,null,"Gilford","36 - 42",0.05]
[null,null,null,null,null,null,null,"Gilford","42 - 48",0.05]
[]
[null,null,null,null,null,null,null,"Pipestone-Kingsville","0 - 6",0.09]
[null,null,null,null,null,null,null,"Pipestone-Kingsville","6 -12",0.12]
[null,null,null,null,null,null,null,"Pipestone-Kingsville","12 - 18",0.12]
[null,null,null,null,null,null,null,"Pipestone-Kingsville","18 - 24",0.12]
[null,null,null,null,null,null,null,"Pipestone-Kingsville","24-30",0.12]
[null,null,null,null,null,null,null,"Pipestone-Kingsville","30 - 36",0.05]
[null,null,null,null,null,null,null,"Pipestone-Kingsville","36 - 42",0.05]
[null,null,null,null,null,null,null,"Pipestone-Kingsville","42 - 48",0.05]
[]
[null,null,null,null,null,null,null,"Fox","0 - 6",0.12]
[null,null,null,null,null,null,null,"Fox","6 -12",0.14000000000000001]
[null,null,null,null,null,null,null,"Fox","12 - 18",0.14000000000000001]
[null,null,null,null,null,null,null,"Fox","18 - 24",0.18]
[null,null,null,null,null,null,null,"Fox","24-30",0.18]
[null,null,null,null,null,null,null,"Fox","30 - 36",0.19]
[null,null,null,null,null,null,null,"Fox","36 - 42",0.02]
[null,null,null,null,null,null,null,"Fox","42 - 48",0.05]
[]
[null,null,null,null,null,null,null,"Elston","0 - 6",0.14000000000000001]
[null,null,null,null,null,null,null,"Elston","6 -12",0.13]
[null,null,null,null,null,null,null,"Elston","12 - 18",0.14000000000000001]
[null,null,null,null,null,null,null,"Elston","18 - 24",0.18]
[null,null,null,null,null,null,null,"Elston","24-30",0.09]
[null,null,null,null,null,null,null,"Elston","30 - 36",0.12]
[null,null,null,null,null,null,null,"Elston","36 - 42",0.13]
[null,null,null,null,null,null,null,"Elston","42 - 48",0.06]

{"sheet":"Compatibility Report","index":13,"n_rows":9,"n_cols":6,"rows_kept":9,"cut":false,"hidden":true,"merged":[]}
[null,"Compatibility Report for Copy of Irr_cbook_June2014-Coldwater Graph Modified 2.xls"]
[null,"Run on 12/8/2014 11:12"]
[]
[null,"The following features in this workbook are not supported by earlier versions of Excel. These features may be lost or degraded when opening this workbook in an earlier version of Excel or if you save this workbook in an earlier file format."]
[]
[null,"Significant loss of functionality",null,null,"# of occurrences","Version"]
[]
[null,"One or more cells in this workbook contain data validation rules which refer to values on other worksheets. These data validation rules will not be saved.",null,null,2]
[null,null,null,null,"Calculations'!P10:P11","Excel 97-2003"]

{"sheet":"Weather","index":14,"n_rows":64,"n_cols":6,"rows_kept":64,"cut":false,"hidden":false,"merged":[]}
["EWX STATION NAME: coldwater"]
["DATE",null,"ET","PCPN","TMPX","TMPN"]
["2020-05-28",7.0000000000000007E-2,0.38,74.64,66.02,20.329999999999998]
["2020-05-29",0.125,0.06,72.61,56.8,14.704999999999998]
["2020-05-30",0.14599999999999999,0,68.97,48.85,9.4849999999999994]
["2020-05-31",0.161,0,67.209999999999994,41.74,8.6049999999999969]
["2020-06-01",0.16800000000000001,0,72.86,43.27,11.43]
["2020-06-02",0.246,0,91.36,60.4,23.2]
["2020-06-03",0.14399999999999999,0,81.14,60.35,20.745000000000001]
["2020-06-04",0.13600000000000001,0,82.63,58.41,20.519999999999996]
["2020-06-05",0.16200000000000001,0,87.8,58.84,22.42]
["2020-06-06",0.21099999999999999,0,82.99,61.03,22.009999999999998]
["2020-06-07",0.192,0,82.17,52.09,17.130000000000003]
["2020-06-08",0.22700000000000001,0,86.13,58.24,22.12]
["2020-06-09",0.218,0.25,94.24,60.55,23.274999999999999]
["2020-06-10",0.158,0.56999999999999995,89.83,61.43,23.715]
["2020-06-11",0.19700000000000001,0.02,76.69,58.06,17.375]
["2020-06-12",0.183,0.13,78.239999999999995,55,16.619999999999997]
["2020-06-13",0.183,0.04,69.75,51.82,10.785]
["2020-06-14",0.193,0,71.739999999999995,44.78,10.869999999999997]
["2020-06-15",0.188,0,78.489999999999995,45.65,14.244999999999997]
["2020-06-16",0.193,0,84.6,53.69,19.144999999999996]
["2020-06-17",0.20899999999999999,0,84.25,56.62,20.434999999999999]
["2020-06-18",0.17399999999999999,0,89.08,54.61,20.305]
["2020-06-19",0.184,0,94.44,58.33,22.164999999999999]
["2020-06-20",0.193,0,90.52,62.78,24.39]
["2020-06-21",9.4E-2,1.45,81.7,65.91,23.805]
["2020-06-22",0.157,0.23,84.25,64.239999999999995,24.244999999999997]
["2020-06-23",0.106,0.43,71.92,59.38,15.650000000000002]
["2020-06-24",0.16200000000000001,0,76.010000000000005,55.11,15.560000000000002]
["2020-06-25",0.17499999999999999,0,78.930000000000007,53.78,16.355000000000004]
["2020-06-26",9.4E-2,0.53,79.02,57.99,18.504999999999999]
["2020-06-27",0.14699999999999999,0.11,85.03,66.61,25.82]
["2020-06-28",0.19500000000000001,0,88.14,64.58,25.29]
["2020-06-29",0.187,0,89.92,64.83,25.414999999999999]
["2020-06-30",0.20100000000000001,0,88.48,66.45,26.225000000000001]
["2020-07-01",0.19900000000000001,0,88.65,60.12,23.06]
["2020-07-02",0.193,0,92.39,61.79,23.895]
["2020-07-03",0.19600000000000001,0,93.15,63.21,24.605]
["2020-07-04",0.17699999999999999,0,92.23,65.59,25.795000000000002]
["2020-07-05",0.19600000000000001,0,90.18,63.72,24.86]
["2020-07-06",0.20599999999999999,0,93.42,65.17,25.585000000000001]
["2020-07-07",0.17799999999999999,0,93.2,64.489999999999995,25.244999999999997]
["2020-07-08",0.187,0,93.15,67.819999999999993,26.909999999999997]
["2020-07-09",0.21,0,93.22,68.14,27.07]
["2020-07-10",6.8000000000000005E-2,1.34,79.84,68.92,24.380000000000003]
["2020-07-11",0.18099999999999999,0,83.26,64.17,23.715000000000003]
["2020-07-12",0.17199999999999999,0,82.08,62.64,22.36]
["2020-07-13",0.16400000000000001,0,82.92,58.08,20.5]
["2020-07-14",0.16200000000000001,0,84.69,56.28,20.484999999999999]
["2020-07-15",0.16,0,85.44,61.7,23.57]
["2020-07-16",7.1999999999999995E-2,1.71,80.89,67.3,24.094999999999999]
["2020-07-17",0.18099999999999999,0,83.5,60.46,21.98]
["2020-07-18",0.154,0,87.4,62.64,24.32]
["2020-07-19",6.7000000000000004E-2,0.05,82.33,67.64,24.984999999999999]
["2020-07-20",0.16700000000000001,0,82.76,64.739999999999995,23.75]
["2020-07-21",0.11600000000000001,0,84.29,61.2,22.745000000000005]
["2020-07-22",0.112,0.01,83.07,67.89,25.479999999999997]
["2020-07-23",0.18099999999999999,0,87.48,66.959999999999994,26.479999999999997]
["2020-07-24",0.18099999999999999,0,87.82,63.21,24.605]
["2020-07-25",0.16800000000000001,0,86.43,59.68,22.84]
["2020-07-26",0.17100000000000001,0,88.65,61.43,23.715]
["2020-07-27",9.5000000000000001E-2,0.04,83.23,65.17]
[" "]

{"sheet":"Stations","index":15,"n_rows":80,"n_cols":10,"rows_kept":80,"cut":false,"hidden":true,"merged":[]}
[null,null,null,"Coldwater"]
[]
[3,"Bainbridge / Watervliet",1,"http://www.agweather.geo.msu.edu/mawn/irrigation/isd/bbc.et",null,null,null,null,null,"http://www.agweather.geo.msu.edu/mawn/irrigation/isd/bbc.fet"]
[6,"Benton Harbor (SWMREC)",1,"http://www.agweather.geo.msu.edu/mawn/irrigation/isd/swm.et",null,null,null,null,null,"http://www.agweather.geo.msu.edu/mawn/irrigation/isd/swm.fet"]
[8,"Berrien Springs",1,"http://www.agweather.geo.msu.edu/mawn/irrigation/isd/brs.et",null,null,null,null,null,"http://www.agweather.geo.msu.edu/mawn/irrigation/isd/brs.fet"]
[10,"Cassopolis",1,"http://www.agweather.geo.msu.edu/mawn/irrigation/isd/cas.et",null,null,null,null,null,"http://www.agweather.geo.msu.edu/mawn/irrigation/isd/cas.fet"]
[18,"Dowagiac",1,"http://www.agweather.geo.msu.edu/mawn/irrigation/isd/dow.et",null,null,null,null,null,"http://www.agweather.geo.msu.edu/mawn/irrigation/isd/dow.fet"]
[29,"Fennville",1,"http://www.agweather.geo.msu.edu/mawn/irrigation/isd/fev.et",null,null,null,null,null,"http://www.agweather.geo.msu.edu/mawn/irrigation/isd/fev.fet"]
[34,"Grand Junction",1,"http://www.agweather.geo.msu.edu/mawn/irrigation/isd/grj.et",null,null,null,null,null,"http://www.agweather.geo.msu.edu/mawn/irrigation/isd/grj.fet"]
[36,"Hartford",1,"http://www.agweather.geo.msu.edu/mawn/irrigation/isd/hfd.et",null,null,null,null,null,"http://www.agweather.geo.msu.edu/mawn/irrigation/isd/hfd.fet"]
[44,"Keeler",1,"http://www.agweather.geo.msu.edu/mawn/irrigation/isd/klr.et",null,null,null,null,null,"http://www.agweather.geo.msu.edu/mawn/irrigation/isd/klr.fet"]
[49,"Lawrence / Teapot Dome",1,"http://www.agweather.geo.msu.edu/mawn/irrigation/isd/tpd.et",null,null,null,null,null,"http://www.agweather.geo.msu.edu/mawn/irrigation/isd/tpd.fet"]
[50,"Lawton",1,"http://www.agweather.geo.msu.edu/mawn/irrigation/isd/law.et",null,null,null,null,null,"http://www.agweather.geo.msu.edu/mawn/irrigation/isd/law.fet"]
[68,"Scottdale ",1,"http://www.agweather.geo.msu.edu/mawn/irrigation/isd/scd.et",null,null,null,null,null,"http://www.agweather.geo.msu.edu/mawn/irrigation/isd/scd.fet"]
[70,"South Haven ",1,"http://www.agweather.geo.msu.edu/mawn/irrigation/isd/shv.et",null,null,null,null,null,"http://www.agweather.geo.msu.edu/mawn/irrigation/isd/shv.fet"]
[1,"Albion",2,"http://www.agweather.geo.msu.edu/mawn/irrigation/isd/alb.et",null,null,null,null,null,"http://www.agweather.geo.msu.edu/mawn/irrigation/isd/alb.fet"]
[11,"Ceresco",2,"http://www.agweather.geo.msu.edu/mawn/irrigation/isd/cer.et",null,null,null,null,null,"http://www.agweather.geo.msu.edu/mawn/irrigation/isd/cer.fet"]
[12,"Charlotte",2,"http://www.agweather.geo.msu.edu/mawn/irrigation/isd/clt.et",null,null,null,null,null,"http://www.agweather.geo.msu.edu/mawn/irrigation/isd/clt.fet"]
[15,"Coldwater",2,"http://www.agweather.geo.msu.edu/mawn/irrigation/isd/cld.et",null,null,null,null,null,"http://www.agweather.geo.msu.edu/mawn/irrigation/isd/cld.fet"]
[17,"Constantine",2,"http://www.agweather.geo.msu.edu/mawn/irrigation/isd/cnt.et",null,null,null,null,null,"http://www.agweather.geo.msu.edu/mawn/irrigation/isd/cnt.fet"]
[37,"Hastings",2,"http://www.agweather.geo.msu.edu/mawn/irrigation/isd/pcc.et",null,null,null,null,null,"http://www.agweather.geo.msu.edu/mawn/irrigation/isd/pcc.fet"]
[42,"Kalamazoo",2,"http://www.agweather.geo.msu.edu/mawn/irrigation/isd/kzo.et",null,null,null,null,null,"http://www.agweather.geo.msu.edu/mawn/irrigation/isd/kzo.fet"]
[51,"Leslie",2,"http://www.agweather.geo.msu.edu/mawn/irrigation/isd/les.et",null,null,null,null,null,"http://www.agweather.geo.msu.edu/mawn/irrigation/isd/les.fet"]
[57,"Mendon",2,"http://www.agweather.geo.msu.edu/mawn/irrigation/isd/men.et",null,null,null,null,null,"http://www.agweather.geo.msu.edu/mawn/irrigation/isd/men.fet"]
[62,"Oshtemo",2,"http://www.agweather.geo.msu.edu/mawn/irrigation/isd/ost.et",null,null,null,null,null,"http://www.agweather.geo.msu.edu/mawn/irrigation/isd/ost.fet"]
[16,"Commerce Township",3,"http://www.agweather.geo.msu.edu/mawn/irrigation/isd/cmc.et",null,null,null,null,null,"http://www.agweather.geo.msu.edu/mawn/irrigation/isd/cmc.fet"]
[39,"Hudson",3,"http://www.agweather.geo.msu.edu/mawn/irrigation/isd/hdn.et",null,null,null,null,null,"http://www.agweather.geo.msu.edu/mawn/irrigation/isd/hdn.fet"]
[63,"Petersburg ",3,"http://www.agweather.geo.msu.edu/mawn/irrigation/isd/ptr.et",null,null,null,null,null,"http://www.agweather.geo.msu.edu/mawn/irrigation/isd/ptr.fet"]
[66,"Romeo ",3,"http://www.agweather.geo.msu.edu/mawn/irrigation/isd/rom.et",null,null,null,null,null,"http://www.agweather.geo.msu.edu/mawn/irrigation/isd/rom.fet"]
[5,"Belding",4,"http://www.agweather.geo.msu.edu/mawn/irrigation/isd/bel.et",null,null,null,null,null,"http://www.agweather.geo.msu.edu/mawn/irrigation/isd/bel.fet"]
[14,"Clarksville",4,"http://www.agweather.geo.msu.edu/mawn/irrigation/isd/clr.et",null,null,null,null,null,"http://www.agweather.geo.msu.edu/mawn/irrigation/isd/clr.fet"]
[26,"Entrican",4,"http://www.agweather.geo.msu.edu/mawn/irrigation/isd/ent.et",null,null,null,null,null,"http://www.agweather.geo.msu.edu/mawn/irrigation/isd/ent.fet"]
[32,"Fremont",4,"http://www.agweather.geo.msu.edu/mawn/irrigation/isd/frm.et",null,null,null,null,null,"http://www.agweather.geo.msu.edu/mawn/irrigation/isd/frm.fet"]
[35,"Hart",4,"http://www.agweather.geo.msu.edu/mawn/irrigation/isd/hrt.et",null,null,null,null,null,"http://www.agweather.geo.msu.edu/mawn/irrigation/isd/hrt.fet"]
[40,"Hudsonville",4,"http://www.agweather.geo.msu.edu/mawn/irrigation/isd/hvl.et",null,null,null,null,null,"http://www.agweather.geo.msu.edu/mawn/irrigation/isd/hvl.fet"]
[45,"Kent City",4,"http://www.agweather.geo.msu.edu/mawn/irrigation/isd/kct.et",null,null,null,null,null,"http://www.agweather.geo.msu.edu/mawn/irrigation/isd/kct.fet"]
[53,"Ludington",4,"http://www.agweather.geo.msu.edu/mawn/irrigation/isd/ldt.et",null,null,null,null,null,"http://www.agweather.geo.msu.edu/mawn/irrigation/isd/ldt.fet"]
[56,"Mecosta",4,"http://www.agweather.geo.msu.edu/mawn/irrigation/isd/mct.et",null,null,null,null,null,"http://www.agweather.geo.msu.edu/mawn/irrigation/isd/mct.fet"]
[71,"Sparta ",4,"http://www.agweather.geo.msu.edu/mawn/irrigation/isd/spo.et",null,null,null,null,null,"http://www.agweather.geo.msu.edu/mawn/irrigation/isd/spo.fet"]
[72,"Standale / Walker",4,"http://www.agweather.geo.msu.edu/mawn/irrigation/isd/stn.et",null,null,null,null,null,"http://www.agweather.geo.msu.edu/mawn/irrigation/isd/stn.fet"]
[78,"West Olive",4,"http://www.agweather.geo.msu.edu/mawn/irrigation/isd/weo.et",null,null,null,null,null,"http://www.agweather.geo.msu.edu/mawn/irrigation/isd/weo.fet"]
[19,"East Lansing (HTRC)",5,"http://www.agweather.geo.msu.edu/mawn/irrigation/isd/htc.et",null,null,null,null,null,"http://www.agweather.geo.msu.edu/mawn/irrigation/isd/htc.fet"]
[20,"East Lansing (MSU Hort)",5,"http://www.agweather.geo.msu.edu/mawn/irrigation/isd/msu.et",null,null,null,null,null,"http://www.agweather.geo.msu.edu/mawn/irrigation/isd/msu.fet"]
[25,"Emmett",5,"http://www.agweather.geo.msu.edu/mawn/irrigation/isd/emt.et",null,null,null,null,null,"http://www.agweather.geo.msu.edu/mawn/irrigation/emt/scd.fet"]
[28,"Fairgrove",5,"http://www.agweather.geo.msu.edu/mawn/irrigation/isd/fgv.et",null,null,null,null,null,"http://www.agweather.geo.msu.edu/mawn/irrigation/fgv/scd.fet"]
[30,"Flint",5,"http://www.agweather.geo.msu.edu/mawn/irrigation/isd/flt.et",null,null,null,null,null,"http://www.agweather.geo.msu.edu/mawn/irrigation/isd/flt.fet"]
[31,"Freeland",5,"http://www.agweather.geo.msu.edu/mawn/irrigation/isd/frl.et",null,null,null,null,null,"http://www.agweather.geo.msu.edu/mawn/irrigation/isd/frl.fet"]
[41,"Ithaca",5,"http://www.agweather.geo.msu.edu/mawn/irrigation/isd/ith.et",null,null,null,null,null,"http://www.agweather.geo.msu.edu/mawn/irrigation/isd/ith.fet"]
[47,"Kinde",5,"http://www.agweather.geo.msu.edu/mawn/irrigation/isd/knd.et",null,null,null,null,null,"http://www.agweather.geo.msu.edu/mawn/irrigation/isd/knd.fet"]
[48,"Lapeer",5,"http://www.agweather.geo.msu.edu/mawn/irrigation/isd/lpr.et",null,null,null,null,null,"http://www.agweather.geo.msu.edu/mawn/irrigation/isd/lpr.fet"]
[52,"Linwood",5,"http://www.agweather.geo.msu.edu/mawn/irrigation/isd/lin.et",null,null,null,null,null,"http://www.agweather.geo.msu.edu/mawn/irrigation/isd/lin.fet"]
[58,"Munger",5,"http://www.agweather.geo.msu.edu/mawn/irrigation/isd/mgr.et",null,null,null,null,null,"http://www.agweather.geo.msu.edu/mawn/irrigation/isd/mgr.fet"]
[64,"Pigeon ",5,"http://www.agweather.geo.msu.edu/mawn/irrigation/isd/pig.ett",null,null,null,null,null,"http://www.agweather.geo.msu.edu/mawn/irrigation/isd/pig.fet"]
[65,"Richville / Frankenmuth ",5,"http://www.agweather.geo.msu.edu/mawn/irrigation/isd/rvl.et",null,null,null,null,null,"http://www.agweather.geo.msu.edu/mawn/irrigation/isd/rvl.fet"]
[67,"Sandusky ",5,"http://www.agweather.geo.msu.edu/mawn/irrigation/isd/sdk.et",null,null,null,null,null,"http://www.agweather.geo.msu.edu/mawn/irrigation/isd/sdk.fet"]
[76,"Verona",5,"http://www.agweather.geo.msu.edu/mawn/irrigation/isd/ver.et",null,null,null,null,null,"http://www.agweather.geo.msu.edu/mawn/irrigation/isd/ver.fet"]
[2,"Arlene",6,"http://www.agweather.geo.msu.edu/mawn/irrigation/isd/arl.et",null,null,null,null,null,"http://www.agweather.geo.msu.edu/mawn/irrigation/isd/arl.fet"]
[33,"Gaylord",6,"http://www.agweather.geo.msu.edu/mawn/irrigation/isd/gay.et",null,null,null,null,null,"http://www.agweather.geo.msu.edu/mawn/irrigation/isd/gay.fet"]
[43,"Kalkaska",6,"http://www.agweather.geo.msu.edu/mawn/irrigation/isd/kal.et",null,null,null,null,null,"http://www.agweather.geo.msu.edu/mawn/irrigation/isd/kal.fet"]
[54,"McBain",6,"http://www.agweather.geo.msu.edu/mawn/irrigation/isd/mcb.et",null,null,null,null,null,"http://www.agweather.geo.msu.edu/mawn/irrigation/isd/mcb.fet"]
[4,"Bear Lake",7,"http://www.agweather.geo.msu.edu/mawn/irrigation/isd/blk.et",null,null,null,null,null,"http://www.agweather.geo.msu.edu/mawn/irrigation/isd/blk.fet"]
[7,"Benzonia",7,"http://www.agweather.geo.msu.edu/mawn/irrigation/isd/bnz.et",null,null,null,null,null,"http://www.agweather.geo.msu.edu/mawn/irrigation/isd/bnz.fet"]
[21,"East Leland",7,"http://www.agweather.geo.msu.edu/mawn/irrigation/isd/eld.et",null,null,null,null,null,"http://www.agweather.geo.msu.edu/mawn/irrigation/isd/eld.fet"]
[22,"Eastport",7,"http://www.agweather.geo.msu.edu/mawn/irrigation/isd/epr.et",null,null,null,null,null,"http://www.agweather.geo.msu.edu/mawn/irrigation/isd/epr.fet"]
[24,"Elk Rapids",7,"http://www.agweather.geo.msu.edu/mawn/irrigation/isd/elk.et",null,null,null,null,null,"http://www.agweather.geo.msu.edu/mawn/irrigation/isd/elk.fet"]
[46,"Kewadin",7,"http://www.agweather.geo.msu.edu/mawn/irrigation/isd/kwd.et",null,null,null,null,null,"http://www.agweather.geo.msu.edu/mawn/irrigation/isd/kwd.fet"]
[60,"Northport ",7,"http://www.agweather.geo.msu.edu/mawn/irrigation/isd/nth.et",null,null,null,null,null,"http://www.agweather.geo.msu.edu/mawn/irrigation/isd/nth.fet"]
[61,"Old Mission ",7,"http://www.agweather.geo.msu.edu/mawn/irrigation/isd/old.et",null,null,null,null,null,"http://www.agweather.geo.msu.edu/mawn/irrigation/isd/old.fet"]
[75,"Traverse City (NWMHRS) ",7,"http://www.agweather.geo.msu.edu/mawn/irrigation/isd/nwm.et",null,null,null,null,null,"http://www.agweather.geo.msu.edu/mawn/irrigation/isd/nwm.fet"]
[38,"Hawks",8,"http://www.agweather.geo.msu.edu/mawn/irrigation/isd/haw.et",null,null,null,null,null,"http://www.agweather.geo.msu.edu/mawn/irrigation/isd/haw.fet"]
[13,"Chatham",9,"http://www.agweather.geo.msu.edu/mawn/irrigation/isd/cth.et",null,null,null,null,null,"http://www.agweather.geo.msu.edu/mawn/irrigation/isd/cth.fet"]
[27,"Escanaba",9,"http://www.agweather.geo.msu.edu/mawn/irrigation/isd/esc.et",null,null,null,null,null,"http://www.agweather.geo.msu.edu/mawn/irrigation/isd/esc.fet"]
[55,"McMillan / Newberry",9,"http://www.agweather.geo.msu.edu/mawn/irrigation/isd/mml.et",null,null,null,null,null,"http://www.agweather.geo.msu.edu/mawn/irrigation/isd/mml.fet"]
[73,"Stephenson ",9,"http://www.agweather.geo.msu.edu/mawn/irrigation/isd/stv.et",null,null,null,null,null,"http://www.agweather.geo.msu.edu/mawn/irrigation/isd/stv.fet"]
[9,"Casco / Luxemburg",10,"http://www.agweather.geo.msu.edu/mawn/irrigation/isd/lux.et",null,null,null,null,null,"http://www.agweather.geo.msu.edu/mawn/irrigation/isd/lux.fet"]
[23,"Egg Harbor",10,"http://www.agweather.geo.msu.edu/mawn/irrigation/isd/ehb.et",null,null,null,null,null,"http://www.agweather.geo.msu.edu/mawn/irrigation/isd/ehb.fet"]
[59,"Nasewaupee / S. Door County",10,"http://www.agweather.geo.msu.edu/mawn/irrigation/isd/nsw.et",null,null,null,null,null,"http://www.agweather.geo.msu.edu/mawn/irrigation/isd/nsw.fet"]
[69,"Sister Bay / Liberty Grove",10,"http://www.agweather.geo.msu.edu/mawn/irrigation/isd/srb.et",null,null,null,null,null,"http://www.agweather.geo.msu.edu/mawn/irrigation/isd/srb.fet"]
[74,"Sturgeon Bay",10,"http://www.agweather.geo.msu.edu/mawn/irrigation/isd/stb.et",null,null,null,null,null,"http://www.agweather.geo.msu.edu/mawn/irrigation/isd/stb.fet"]
[77,"West Jacksonport",10,"http://www.agweather.geo.msu.edu/mawn/irrigation/isd/wjp.et",null,null,null,null,null,"http://www.agweather.geo.msu.edu/mawn/irrigation/isd/wjp.fet"]

{"sheet":"Test_Junk","index":16,"n_rows":136,"n_cols":7,"rows_kept":136,"cut":false,"hidden":true,"merged":[]}
["41766","0.155","0","69.6","47.3","9.8"," 9.8"]
["41767","0.242","0","87.9","53.1","19.55"," 29.35"]
["41768","0.139","0.17","76.1","53.7","14.9"," 44.25"]
["41769","0.184","0","70","48","10"," 54.25"]
["41770","0.203","0.04","81.9","47.9","15.95"," 70.2"]
["41771","0.148","0.05","83","59.9","21.45"," 91.65"]
["41772","0.083","0.31","75.3","51.5","13.4"," 105.05"]
["41773","0.051","0.52","56.7","48.3","3.35"," 108.4"]
["41774","0.041","0.24","49.2","34.4","0"," 108.4"]
["41775","0.051","0.02","46.2","30.8","0"," 108.4"]
["41776","0.119","0","56.3","32.2","3.15"," 111.55"]
["41777","0.178","0","65.7","43.6","7.85"," 119.4"]
["41778","0.202","0.02","69","46.6","9.5"," 128.9"]
["41779","0.199","0","82.1","56.1","19.1"," 148"]
["41780","0.192","0","83.8","63","23.4"," 171.4"]
["41781","0.167","0","67.5","49.8","8.75"," 180.15"]
["41782","0.164","0","64.7","42.6","7.35"," 187.5"]
["41783","0.199","0","76.2","41.8","13.1"," 200.6"]
["41784","0.223","0","83.6","52.2","17.9"," 218.5"]
["41785","0.201","0.51","84.3","58","21.15"," 239.65"]
["41786","0.138","0.18","80.2","65.4","22.8"," 262.45"]
["41787","0.102","0","75.5","60.3","17.9"," 280.35"]
["41788","0.212","0","79.8","55.2","17.5"," 297.85"]
["41789","0.211","0","83.7","56.3","20"," 317.85"]
["41790","0.239","0","87","55.9","20.95"," 338.8"]
["41791","0.1","0","85.7","59.9","22.8"," 361.6"]
["41792","0.134","0.84","79.6","66.6","23.1"," 384.7"]
["41793","0.204","0","73.5","55.8","14.65"," 399.35"]
["41794","0.056","0.31","66.7","54.5","10.6"," 409.95"]
["41795","0.2","0","75.4","47.1","12.7"," 422.65"]
["41796","0.212","0","81.6","47.4","15.8"," 438.45"]
["41797","0.22","0","81.5","54.3","17.9"," 456.35"]
["41798","0.163","0.56","78.9","57.5","18.2"," 474.55"]
["41799","0.177","0","79.6","55.4","17.5"," 492.05"]
["41800","0.109","0.15","74.9","60.6","17.75"," 509.8"]
["41801","0.111","0.57","76.7","61.6","19.15"," 528.95"]
["41802","0.11","0","77.9","57","17.45"," 546.4"]
["41803","0.153","0","65.6","47.1","7.8"," 554.2"]
["41804","0.205","0","76.6","43.5","13.3"," 567.5"]
["41805","0.22","0","80.6","55.1","17.85"," 585.35"]
["41806","0.235","0","84.9","68.7","26.8"," 612.15"]
["41807","0.194","0","84.9","68.7","26.8"," 638.95"]
["41808","0.061","0.76","78.3","65.8","22.05"," 661"]
["41809","0.107","0","76.4","64.3","20.35"," 681.35"]
["41810","0.095","0","74.3","61.4","17.85"," 699.2"]
["41811","0.15","0.16","80.1","58.5","19.3"," 718.5"]
["41812","0.176","0.01","83","61.5","22.25"," 740.75"]
["41813","0.08","1.21","79.6","65.1","22.35"," 763.1"]
["41814","0.081","0.73","78.3","66","22.15"," 785.25"]
["41815","0.134","0","79.6","63.1","21.35"," 806.6"]
["41816","0.169","0","82.2","62.9","22.55"," 829.15"]
["41817","0.201","0","84.3","59.9","22.1"," 851.25"]
["41818","0.15","0","81.3","68.1","24.7"," 875.95"]
["41819","0.198","0","84.9","71.1","28"," 903.95"]
["41820","0.162","0.21","84.8","66.5","25.65"," 929.6"]
["41821","0.191","1.29","81.2","62.3","21.75"," 951.35"]
["41822","0.158","0","70.8","56.4","13.6"," 964.95"]
["41823","0.184","0.31","69.4","51.4","10.4"," 975.35"]
["41824","0.207","0","77.6","49.4","13.8"," 989.15"]
["41825","0.163","0","75.3","52.4","13.85"," 1003"]
["41826","0.137","0","78.2","60.8","19.5"," 1022.5"]
["41827","0.142","0.22","81.5","64.2","22.85"," 1045.35"]
["41828","0.129","0.3","76.6","64.1","20.35"," 1065.7"]
["41829","0.183","0","74.8","55.8","15.3"," 1081"]
["41830","0.19","0","78.2","51.3","14.75"," 1095.75"]
["41831","0.184","0","79","52.7","15.85"," 1111.6"]
["41832","0.092","0","78.2","62.6","20.4"," 1132"]
["41833","0.176","0.18","79.1","65.2","22.15"," 1154.15"]
["41834","0.097","0.05","74.9","58.4","16.65"," 1170.8"]
["41835","0.105","0.02","65.7","54.2","9.95"," 1180.75"]
["41836","0.122","0","70","49.7","10"," 1190.75"]
["41837","0.166","0","74.9","48.6","12.45"," 1203.2"]
["41838","0.177","0","76","51.8","13.9"," 1217.1"]
["41839","0.178","0","80.2","52.5","16.35"," 1233.45"]
["41840","0.175","0","82.6","56.8","19.7"," 1253.15"]
["41841","0.198","0","84.8","61.6","23.2"," 1276.35"]
["41842","0.206","0","86.9","65","25.5"," 1301.85"]
["41843","0.127","0.32","76.7","58.4","17.55"," 1319.4"]
["41844","0.162","0","76.7","52","14.35"," 1333.75"]
["41845","0.131","0","74.6","51.3","12.95"," 1346.7"]
["41846","0.101","0","77.3","59.7","18.5"," 1365.2"]
["41847","0.152","0","82.2","61","21.6"," 1386.8"]
["41848","0.105","0","66.9","46.9","8.45"," 1395.25"]
["41849","0.133","0","72.9","44.8","11.45"," 1406.7"]
["41850","0.151","0","74.2","52.1","13.15"," 1419.85"]
["41851","0.172","0","78.9","50.4","14.65"," 1434.5"]
["41852","0.153","0","80.7","62","21.35"," 1455.85"]
["41853","0.182","0","83.9","56.6","20.25"," 1476.1"]
["41854","0.187","0","85.2","49.8","17.6"," 1493.7"]
["41855","0.162","0.11","82.5","60.9","21.7"," 1515.4"]
["41856","0.104","0.26","78.4","62.8","20.6"," 1536"]
["41857","0.175","0","81","56.9","18.95"," 1554.95"]
["41858","0.187","0","80.9","54.3","17.6"," 1572.55"]
["41859","0.19","0","81.1","57","19.05"," 1591.6"]
["41860","0.187","0","78.8","60.2","19.5"," 1611.1"]
["41861","0.183","0","85.1","60.5","22.8"," 1633.9"]
["41862","0.084","0.07","80.9","65.8","23.35"," 1657.25"]
["41863","0.043","0.01","66","55.7","10.85"," 1668.1"]
["41864","0.169","0","76.4","49.3","13.2"," 1681.3"]
["41865","0.172","0","70.4","48.2","10.2"," 1691.5"]
["41866","0.169","0","73.8","41.3","11.9"," 1703.4"]
["41867","0.144","0","80.4","55.4","17.9"," 1721.3"]
["41868","0.092","0","80.1","65","22.55"," 1743.85"]
["41869","0.118","0","81.1","62","21.55"," 1765.4"]
["41870","0.105","0.16","82.5","64.1","23.3"," 1788.7"]
["41871","0.156","0","81.8","63","22.4"," 1811.1"]
["41872","0.09","0.27","80.1","67.6","23.85"," 1834.95"]
["41873","0.083","0","84","67.6","25.8"," 1860.75"]
["41874","0.109","0","82.6","69.5","26.05"," 1886.8"]
["41875","0.119","0","81.9","65.7","23.8"," 1910.6"]
["41876","0.122","0.02","89.1","68.1","27.05"," 1937.65"]
["41877","0.06","1.32","79.2","65.6","22.4"," 1960.05"]
["41878","0.143","0","79.4","58.1","18.75"," 1978.8"]
["41879","0.138","0","75.8","52.7","14.25"," 1993.05"]
["41880","0.093","0.17","76.7","62.2","19.45"," 2012.5"]
["41881","0.105","1.03","80.4","67.2","23.8"," 2036.3"]
["41882","0.13","0","82.5","65.6","24.05"," 2060.35"]
["41883","0.086","0.23","80.9","68.1","24.5"," 2084.85"]
["41884","0.125","0","78.4","60.6","19.5"," 2104.35"]
["41885","0.159","0","81.5","59.2","20.35"," 2124.7"]
["41886","0.107","0.04","82.1","63.9","23"," 2147.7"]
["41887","0.147","0.44","87.4","63.9","24.95"," 2172.65"]
["41888","0.113","0","71.7","51.7","11.7"," 2184.35"]
["41889","0.133","0","76.7","49.7","13.35"," 2197.7"]
["41890","0.153","0","76.1","53.4","14.75"," 2212.45"]
["41891","0.125","0","76.8","57","16.9"," 2229.35"]
["41892","0.056","0.83","77.2","56.3","16.75"," 2246.1"]
["41893","0.031","0.05","56.6","50.1","3.35"," 2249.45"]
["41894","0.049","0.02","56.3","47.2","3.15"," 2252.6"]
["41895","0.071","0.2","58.6","43.7","4.3"," 2256.9"]
["41896","0.105","0","63.3","43.2","6.65"," 2263.55"]
["41897","0.046","0.05","61.2","45.9","5.6"," 2269.15"]
["41898","0.09","0.01","64.2","42.6","7.1"," 2287.55"]
["41899","0.106","0","65.9","41.9","7.95"," 2295.5"]
["41900","0.108","0","70.8","42","10.4"," 2305.9"]
["41901","0.116","0","72.1","50.6","11.35"," 2317.25"]

{"sheet":"Outlook","index":17,"n_rows":4,"n_cols":9,"rows_kept":4,"cut":false,"hidden":true,"merged":[]}
["EWX STATION NAME: coldwater"]
["DATE",null,"FETD1","FETD2","FETD3","FETD4","FETD5","FETD6","FETD7"]
["2020-07-28",0.218,0.189,0.16900000000000001,0.155,0.13700000000000001,0.16200000000000001,0.16700000000000001]
[" "]

{"sheet":"Soy_Model","index":18,"n_rows":81,"n_cols":19,"rows_kept":81,"cut":false,"hidden":true,"merged":[]}
["Soybean Growth Chart",null,null,null,null,null,null,null,"Emergence Date"]
[null,null,null,"Days after","Range Days in each Growth Stage",null,null,"Days after","2015-05-10",null,null,null,"Average Days Per Growth Stage"]
[null,"Stage",null,"Emergence","Low Est","Ave","High Est.","Emergence"]
[null,"VE",null,null,0,0,0,0,null,null,null,null,"Cumulative Days",null,"Date"]
[null,1,{"$f":"+$I$2+D5","v":"2015-05-17"},{"$f":"+E5","v":7},7,8.5,10,{"$f":"+H4+G5","v":10},{"$f":"+$I$2+H5","v":"2015-05-20"},null,"Vc",{"$f":"+$B$5","v":1},{"$f":"+$F$5","v":8.5},null,{"$f":"+$I$2+M5","v":"2015-05-18T12:00:00"},null,6,0.1,"VE-V1"]
[null,2,{"$f":"+$I$2+D6","v":"2015-05-20"},{"$f":"+D5+E6","v":10},3,4,5,{"$f":"+H5+G6","v":15},{"$f":"+$I$2+H6","v":"2015-05-25"},null,"V1",{"$f":"+$B$6","v":2},{"$f":"+$M$5+$F$6","v":12.5},null,{"$f":"+$I$2+M6","v":"2015-05-22T12:00:00"},null,11.14,0.17,"V2-V3"]
[null,3,"2015-05-23",{"$f":"+D6+E7","v":13},3,4,5,20,"2015-05-30",null,"V2",{"$f":"+$B$7","v":3},{"$f":"+$M$6+$F$7","v":16.5},null,"2015-05-26T12:00:00",null,16.28,0.27,"V4"]
[null,4,"2015-05-26",16,3,4,5,25,"2015-06-04",null,"V3",{"$f":"+$B$8","v":4},{"$f":"+$M$7+$F$8","v":20.5},null,"2015-05-30T12:00:00",null,21.43,0.39,"V5"]
[null,5,"2015-05-29",19,3,4,5,30,"2015-06-09",null,"V4",{"$f":"+$B$9","v":5},{"$f":"+$M$8+$F$9","v":24.5},null,"2015-06-03T12:00:00",null,24,0.57999999999999996,"V6"]
[null,6,"2015-06-01",22,3,4,5,35,"2015-06-14",null,"V5",{"$f":"+$B$10","v":6},{"$f":"+$M$9+$F$10","v":28.5},null,"2015-06-07T12:00:00",null,24,0.74,"R1"]
[null,7,"2015-06-04",25,3,4,5,40,"2015-06-19",null,"V6",{"$f":"+$B$11","v":7},{"$f":"+$M$10+$F$11","v":32.5},null,"2015-06-11T12:00:00",null,24,0.89,"R2"]
[null,8,"2015-06-09",30,5,7.5,10,50,"2015-06-29",null,"R1",{"$f":"+$B$12","v":8},{"$f":"+$M$11+$F$12","v":40},null,"2015-06-19",null,24,1.02,"R3"]
[null,9,"2015-06-14",35,5,8,10,60,"2015-07-09",null,"R2",{"$f":"+$B$13","v":9},{"$f":"+$M$12+$F$13","v":48},null,"2015-06-27",null,24,0.92,"R4-R5"]
[null,10,"2015-06-23",44,9,10,12,72,"2015-07-21",null,"R3",{"$f":"+$B$14","v":10},{"$f":"+$M$13+$F$14","v":58},null,"2015-07-07",null,24,0.77,"R6"]
[null,11,"2015-07-02",53,9,10,12,84,"2015-08-02",null,"R4",{"$f":"+$B$15","v":11},{"$f":"+$M$14+$F$15","v":68},null,"2015-07-17",null,24,0.66,"R7"]
[null,12,"2015-07-17",68,15,16,18,102,"2015-08-20",null,"R5",{"$f":"+$B$16","v":12},{"$f":"+$M$15+$F$16","v":84},null,"2015-08-02",null,24,0,"R8"]
[null,13,"2015-08-04",86,18,20,22,124,"2015-09-11",null,"R6",{"$f":"+$B$17","v":13},{"$f":"+$M$16+$F$17","v":104},null,"2015-08-22"]
[null,14,"2015-08-13",95,9,11,12,136,"2015-09-23",null,"R7",{"$f":"+$B$18","v":14},{"$f":"+$M$17+$F$18","v":115},null,"2015-09-02"]
[null,"R8","2015-08-20",102,7,12,18,null,null,null,null,{"$f":"+$B$19","v":"R8"},{"$f":"+$M$18+$F$19","v":127},null,"2015-09-14"]
[]
[]
[null,null,null,null,{"$f":"SUM(E4:E21)","v":102},{"$f":"SUM(F4:F21)","v":127},{"$f":"SUM(G4:G21)","v":154}]
[]
[null,null,null,null,{"$f":"+I2+E22","v":"2015-08-20"},{"$f":"+I2+F22","v":"2015-09-14"},{"$f":"+I2+G22","v":"2015-10-11"}]
[]
[]
[]
[null,null,null,null,null,null,null,null,null,null,null,null,null,127]
[]
[]
[]
[]
[]
[]
[]
[]
[]
[]
[]
[]
[]
[null,null,null,null,null,null,null,null,"Exponential Trendline"]
[]
[null,null,null,null,null,null,null,null,"Equation: y = c *e ^(b * x)"]
[null,null,null,null,null,null,null,null,"c: =EXP(INDEX(LINEST(LN(y),x),1,2))",null,null,"y","8.5681e0.1924x"]
[null,null,null,null,null,null,null,null,"b: =INDEX(LINEST(LN(y),x),1)"]
[]
[null,null,null,null,null,null,null,null,null,null,null,"y = 8.5681 * 0.1924^x"]
[]
[]
[null,null,null,null,null,null,null,null,null,null,"y","x",null,"C"]
[null,null,null,null,null,null,null,null,null,null,null,null,null,{"$f":"+EXP(INDEX(LINEST(LN(y),x),1,2))","v":{"$error":"#NAME?"}}]
[null,null,null,null,null,null,null,null,null,null,{"$f":"8.5681*0.1924^L53","v":4.3462522928456758E-4},6]
[null,null,null,null,null,null,null,null,null,null,{"$f":"8.5681*0.1924^L54","v":1.6485024399999997},1]
[]
[]
[]
[]
[]
[]
[null,null,"2015-05-10"]
["Planting Date",null,null,"2015-06-15",null,{"$f":"+D62-C61","v":36}]
[]
[null,null,null,0.18124999999999999]
[]
["VE",0.1,null,null,null,null,null,null,null,null,null,{"$f":"+$F$5","v":8.5},null,{"$f":"+$I$2+L66","v":"2015-05-18T12:00:00"}]
[{"$f":"+$B$5","v":1},{"$f":"+$F$5","v":8.5},null,{"$f":"+B67*($D$64*$F$62)","v":55.462499999999999},{"$f":"+B67-D67","v":-46.962499999999999},null,null,null,null,null,null,{"$f":"+$M$5+$F$6","v":12.5},null,{"$f":"+$I$2+L67","v":"2015-05-22T12:00:00"}]
[{"$f":"+$B$6","v":2},{"$f":"+$M$5+$F$6","v":12.5},null,{"$f":"+(B68-B67)*$D$64","v":0.72499999999999998},{"$f":"+B68-D68","v":11.775},null,null,null,null,null,null,{"$f":"+$M$6+$F$7","v":16.5},null,"2015-05-26T12:00:00"]
[{"$f":"+$B$7","v":3},{"$f":"+$M$6+$F$7","v":16.5},null,0.72499999999999998,15.775,null,null,null,null,null,null,{"$f":"+$M$7+$F$8","v":20.5},null,"2015-05-30T12:00:00"]
[{"$f":"+$B$8","v":4},{"$f":"+$M$7+$F$8","v":20.5},null,0.72499999999999998,19.774999999999999,null,null,null,null,null,null,{"$f":"+$M$8+$F$9","v":24.5},null,"2015-06-03T12:00:00"]
[{"$f":"+$B$9","v":5},{"$f":"+$M$8+$F$9","v":24.5},null,0.72499999999999998,23.774999999999999,null,null,null,null,null,null,{"$f":"+$M$9+$F$10","v":28.5},null,"2015-06-07T12:00:00"]
[{"$f":"+$B$10","v":6},{"$f":"+$M$9+$F$10","v":28.5},null,0.72499999999999998,27.774999999999999,null,null,null,null,null,null,{"$f":"+$M$10+$F$11","v":32.5},null,"2015-06-11T12:00:00"]
[{"$f":"+$B$11","v":7},{"$f":"+$M$10+$F$11","v":32.5},null,0.72499999999999998,31.774999999999999,null,null,null,null,null,null,{"$f":"+$M$11+$F$12","v":40},null,"2015-06-19"]
[{"$f":"+$B$12","v":8},{"$f":"+$M$11+$F$12","v":40},null,1.359375,38.640625,null,null,null,null,null,null,{"$f":"+$M$12+$F$13","v":48},null,"2015-06-27"]
[{"$f":"+$B$13","v":9},{"$f":"+$M$12+$F$13","v":48},null,null,null,null,null,null,null,null,null,{"$f":"+$M$13+$F$14","v":58},null,"2015-07-07"]
[{"$f":"+$B$14","v":10},{"$f":"+$M$13+$F$14","v":58},null,null,null,null,null,null,null,null,null,{"$f":"+$M$14+$F$15","v":68},null,"2015-07-17"]
[{"$f":"+$B$15","v":11},{"$f":"+$M$14+$F$15","v":68},null,null,null,null,null,null,null,null,null,{"$f":"+$M$15+$F$16","v":84},null,"2015-08-02"]
[{"$f":"+$B$16","v":12},{"$f":"+$M$15+$F$16","v":84},null,null,null,null,null,null,null,null,null,{"$f":"+$M$16+$F$17","v":104},null,"2015-08-22"]
[{"$f":"+$B$17","v":13},{"$f":"+$M$16+$F$17","v":104},null,null,null,null,null,null,null,null,null,{"$f":"+$M$17+$F$18","v":115},null,"2015-09-02"]
[{"$f":"+$B$18","v":14},{"$f":"+$M$17+$F$18","v":115},null,null,null,null,null,null,null,null,null,{"$f":"+$M$18+$F$19","v":127},null,"2015-09-14"]
[{"$f":"+$B$19","v":"R8"},{"$f":"+$M$18+$F$19","v":127}]

{"sheet":"Soybean Delayed Planting","index":19,"n_rows":62,"n_cols":10,"rows_kept":62,"cut":false,"hidden":true,"merged":[]}
[]
[null,"Changing Soybean Development Stages by Planting Date"]
[]
[null,"Emergence",null,"VE-R1",null,"R1-R4",null,"R4- R7"]
["D1",14,null,34,null,19,null,42]
["(May 19)",14,null,36,null,19,null,42]
[137,13,null,37,null,21,null,47]
[null,13,null,36,null,21,null,51]
[null,14,null,36,null,26,null,49]
[null,{"$f":"AVERAGE(B5:B9)","v":13.6},null,{"$f":"AVERAGE(D5:D9)","v":35.799999999999997},null,{"$f":"AVERAGE(F5:F9)","v":21.2},null,{"$f":"AVERAGE(H5:H9)","v":46.2},null,{"$f":"SUM(B10:H10)","v":116.8}]
[]
["D2",7,null,27,null,14,null,38]
["(June 22)",6,null,31,null,16,null,42]
[175,7,null,28,null,20,null,45]
[null,6,null,31,null,18,null,47]
[null,6,null,33,null,19,null,51]
[null,{"$f":"AVERAGE(B12:B16)","v":6.4},null,{"$f":"AVERAGE(D12:D16)","v":30},null,{"$f":"AVERAGE(F12:F16)","v":17.399999999999999},null,{"$f":"AVERAGE(H12:H16)","v":44.6},null,{"$f":"SUM(B17:H17)","v":98.4}]
[]
[32]
["Difference",{"$f":"+B10-B17","v":7.1999999999999993},null,{"$f":"+D10-D17","v":5.7999999999999972},null,{"$f":"+F10-F17","v":3.8000000000000007},null,{"$f":"+H10-H17","v":1.6000000000000014},null,{"$f":"+J10-J17","v":18.399999999999991}]
["Shortening of Growth Stage",null,null,{"$f":"+D20/$A$19","v":0.18124999999999991},null,{"$f":"+F20/$A$19","v":0.11875000000000002},null,{"$f":"+H20/$A$19","v":5.0000000000000044E-2}]
["Per Day of Delayed Planting",null,null,{"$f":"1/D21","v":5.5172413793103479},null,{"$f":"1/F21","v":8.4210526315789451},null,{"$f":"1/H21","v":19.999999999999982}]
[]
[]
[]
[]
[]
[]
[]
[]
[]
[]
[]
[]
[]
[]
[]
[]
[]
[]
[]
[]
[]
[]
[]
[]
[]
[]
[]
[]
[]
[]
[]
[]
[]
[]
[]
[]
[]
[]
[null,null,"2015-05-10"]
[null,null,null,"2015-06-05",null,{"$f":"+D62-C61","v":26}]

{"sheet":"Soybean_Growth","index":20,"n_rows":242,"n_cols":50,"rows_kept":242,"cut":false,"hidden":true,"merged":[[125,11,126,11]]}
[null,null,null,null,"Stage","Kc","Root Growth","Y","Emergence Date",null,"2015-05-12",null,null,null,null,null,null,null,null,null,null,null,null,null,0.14264194924572271,1,"VE",6,1,"Stage","Kc","Root Growth","Kc Low","Kc High","Root Low","Root High","Days","KC_Step","Rt_Step",null,null,null,null,"2015-05-15",{"$f":"+AT1","v":0.1},0.1,"VC",6,{"$f":"+(AT31-AS1)/31","v":9.35483870967742E-3},0.6]
[1,8,1,"2015-05-12","VC",0.23,6,null,null,null,null,null,null,null,null,null,null,null,null,null,null,null,null,0.2,0.1579659789667992,2,"VC",6.4185999999999996,2,"VC",0.2,6,0.1,0.15,{"$f":"+AI44","v":6},{"$f":"+AB6","v":8.0929999999999982},6,{"$f":"+(AH2-AG2)/AK2","v":8.3333333333333315E-3},{"$f":"+(AJ2-AI2)/AK2","v":0.34883333333333305},null,{"$f":"+AI2","v":6},{"$f":"+AO2+$AM$2","v":6.3488333333333333},{"$f":"+AP2+$AM$2","v":6.6976666666666667},"2015-05-16",{"$f":"+AS1+$AW$1","v":0.10935483870967742},0.18595393014926856,"VC",{"$f":"+AV1+0.6","v":6.6},null,{"$f":"+AS31-AS1","v":0.28064516129032258}]
[2,9,2,{"$f":"+D2+1","v":"2015-05-13"},"VC",0.23,{"$f":"+G2+0.75","v":6.75},null,null,null,null,null,null,null,null,null,null,null,null,null,null,null,null,null,0.1732900086878757,3,"VC",6.8371999999999993,3,"V1",0.36,9.75,0.16,0.2,{"$f":"+AB7","v":8.5115999999999978},{"$f":"+AB12","v":10.604599999999996},6,{"$f":"+(AH3-AG3)/AK3","v":6.666666666666668E-3},{"$f":"+(AJ3-AI3)/AK3","v":0.34883333333333305},null,8.5115999999999978,{"$f":"+AO3+$AM3","v":8.8604333333333312},9.2092666666666645,"2015-05-17",{"$f":"+AS2+$AW$1","v":0.11870967741935484},0.22788223565804022,"VC",7.1999999999999993]
[3,10,3,"2015-05-14","VC",0.23,{"$f":"+G3+0.75","v":7.5},null,null,null,null,null,null,null,null,null,null,null,null,null,null,null,{"$f":"+(Y4-Y1)/4","v":1.149302229080737E-2},null,0.18861403840895219,4,"VC",7.2557999999999989,4,"V2",0.5,12.5,0.21,0.26,{"$f":"+AB13","v":11.023199999999996},{"$f":"+AB18","v":13.116199999999994},6,8.3333333333333367E-3,{"$f":"+(AJ4-AI4)/AK4","v":0.34883333333333305},null,11.023199999999996,11.372033333333329,11.720866666666662,"2015-05-18",0.12806451612903227,0.2684558995080637,"VC",7.7999999999999989]
[4,11,4,"2015-05-15","VC",0.23,8.25,null,null,null,null,null,null,null,null,null,null,null,null,null,null,null,null,null,0.20393806813002868,5,"VC",7.6743999999999986,5,"V3",0.6,16,0.27,0.32,{"$f":"+AB19","v":13.534799999999994},{"$f":"+AB24","v":15.627799999999992},6,8.3333333333333315E-3,0.34883333333333305,null,13.534799999999994,13.883633333333327,14.23246666666666,"2015-05-19",0.13741935483870971,0.307703955435365,"VC",8.3999999999999986]
[5,12,5,"2015-05-16","V1",0.33,9,null,"0.24/4",null,null,null,null,null,null,null,null,null,null,null,null,null,null,{"$f":"AVERAGE(Y5:Y8)","v":0.22692411271164342},0.21926209785110518,6,"VC",8.0929999999999982,6,"V4",0.72,18.5,0.33,0.37,{"$f":"+AB25","v":16.046399999999991},{"$f":"+AB30","v":18.139399999999998},6,6.6666666666666636E-3,0.34883333333333449,null,16.046399999999991,16.395233333333326,16.744066666666662,"2015-05-20",0.14677419354838714,0.34565543717596986,"VC",8.9999999999999982]
[6,13,6,"2015-05-17","V1",0.33,9.75,null,null,null,null,null,null,null,null,null,null,null,null,null,null,null,null,null,0.23458612757218167,7,"V1",8.5115999999999978,7,"V5",0.8,22.5,0.38,0.51,{"$f":"+AB31","v":18.558},{"$f":"+AB36","v":20.651000000000007},6,2.1666666666666667E-2,0.34883333333333449,null,18.558,18.906833333333335,19.25566666666667,"2015-05-21",0.15612903225806457,0.38233937846590449,"V1",9.5999999999999979]
[7,14,7,"2015-05-18","V1",0.33,10.5," "," ",null," ",null,null,null,null,null,null,null,null,null,null,null,null,null,0.24991015729325816,8,"V1",8.9301999999999975,8,"V6",0.88,24,0.53,0.68,{"$f":"+AB37","v":21.069600000000008},{"$f":"+AB42","v":23.162600000000015},6,2.5000000000000005E-2,0.34883333333333449,null,21.069600000000008,21.418433333333343,21.767266666666679,"2015-05-22",0.165483870967742,0.41778481304119486,"V1",10.199999999999998]
[8,15,8,"2015-05-19","V1",0.33,11.25,null,null,null,null,null,null,null,null,null,null,null,null,null,null,null,null,null,0.26523418701433465,9,"V1",9.3487999999999971,9,"R1",0.98,24,0.69,0.89,24,24,11,1.8181818181818188E-2,0,null,null,null,null,"2015-05-23",0.17483870967741943,0.45202077463786683,"V1",10.799999999999997]
[9,16,9,"2015-05-20","V2",0.44,12,null,null,null,null,null,null,null,null,null,null,null,null,null,null,null,null,{"$f":"AVERAGE(Y9:Y12)","v":0.28822023159594939},0.28055821673541115,10,"V1",9.7673999999999968,10,"R2",1.2,24,0.91,1.02,24,24,9,1.2222222222222221E-2,0,null,null,null,null,"2015-05-24",0.18419354838709687,0.48507629699194632,"V1",11.399999999999997]
[10,17,10,"2015-05-21","V2",0.44,12.75,null,0.72,null,null,null,null,null,null,null,null,null,null,null,null,null,null,null,0.29588224645648764,11,"V1",10.185999999999996,11,"R3",1.2,24,1.02,1.02,24,24,10,0,0,null,null,null,null,"2015-05-25",0.1935483870967743,0.51698041383945936,"V1",11.999999999999996]
[11,18,{"$f":"+C11+1","v":11},"2015-05-22","V2",0.44,13.5,null,1.08,null,null,null,null,null,null,null,null,null,null,null,null,null,null,null,0.31120627617756413,12,"V1",10.604599999999996,12,"R4",1.2,24,1.02,1.02,24,24,15,0,0,null,null,null,null,"2015-05-26",0.20290322580645173,0.54776215891643198,"V1",12.599999999999996]
[12,19,{"$f":"+C12+1","v":12},"2015-05-23","V2",0.44,14.25,null,null,null,null,null,null,null,null,null,null,null,null,null,null,null,null,null,0.32653030589864063,13,"V2",11.023199999999996,13,"R5",1.2,24,1.02,0.89,24,24,20,-6.5000000000000006E-3,0,null,null,null,null,"2015-05-27",0.21225806451612916,0.57745056595889011,"V2",13.199999999999996]
[13,20,13,"2015-05-24","V3",0.66,15,null,{"$f":"+I12-I11","v":0.3600000000000001},null,null,null,null,null,null,null,null,null,null,null,null,null,null,null,0.34185433561971712,14,"V2",11.441799999999995,14,"R6",1.2,24,0.88,0.77,24,24,9,-1.2222222222222221E-2,0,null,null,null,null,"2015-05-28",0.2216129032258066,0.60607466870285964,"V2",13.799999999999995]
[14,21,14,"2015-05-25","V3",0.66,15.75,null,{"$f":"+I14/4","v":9.0000000000000024E-2},null,null,null,null,null,null,null,null,null,null,null,null,null,null,{"$f":"AVERAGE(Y13:Y16)","v":0.34951635048025542},0.35717836534079361,15,"V2",11.860399999999995,15,"R7",0.99,24,0.76,0.66,24,24,12,-8.3333333333333315E-3,0,null,null,null,null,"2015-05-29",0.23096774193548403,0.63366350088436685,"V2",14.399999999999995]
[15,22,15,"2015-05-26","V3",0.66,16.5,null,null,null,null,null,null,null,null,null,null,6.3488333333333333,null,null,null,0.15030396410626115,null,null,0.37250239506187011,16,"V2",12.278999999999995,16,"R8",0.2,24,0.65,0.4,24,24,2,-0.125,0,null,null,null,null,"2015-05-30",0.24032258064516146,0.66024609623943709,"V2",14.999999999999995]
[16,23,16,"2015-05-27","V3",0.66,17.25,null,null,null,null,null,null,null,null,null,null,null,null,null,null,null,null,null,0.3878264247829466,17,"V2",12.697599999999994,17,null,null,null,null,null,null,null,null,null,null,null,null,null,null,"2015-05-31",0.24967741935483889,0.68585148850409683,"V2",15.599999999999994]
[17,24,17,"2015-05-28","V4",{"$f":"+F17+0.08","v":0.74},18,null,0.66,0.99,null,null,null,null,null,null,null,null,null,null,null,null,null,{"$f":"AVERAGE(Y17:Y20)","v":0.41081246936456139},0.40315045450402309,18,"V2",13.116199999999994,18,null,null,null,null,null,null,null,null,null,null,null,null,null,null,"2015-06-01",0.2590322580645163,0.710508711414372,"V2",16.199999999999996]
[18,25,18,"2015-05-29","V4",0.74,18.75,null,null,{"$f":"+J18-I18","v":0.32999999999999996},null,null,null,null,null,null,null,null,null,null,null,null,null,null,0.41847448422509959,19,"V3",13.534799999999994,19,null,null,null,null,null,null,null,null,null,null,null,null,null,null,"2015-06-02",0.2683870967741937,0.73424679870628828,"V3",16.799999999999997]
[19,26,19,"2015-05-30","V4",0.74,19.5,null,null,{"$f":"+J19/4","v":8.249999999999999E-2},null,null,null,null,null,null,null,null,null,null,null,null,null,null,0.43379851394617608,20,"V3",13.953399999999993,20,null,null,null,null,null,null,null,null,null,null,null,null,null,null,"2015-06-03",0.27774193548387111,0.75709478411587205,"V3",17.399999999999999]
[20,27,20,"2015-05-31","V4",0.74,20.25,null,null,null,null,null,null,null,null,null,null,null,null,null,null,null,null,null,0.44912254366725257,21,"V3",14.371999999999993,21,null,null,null,null,null,null,null,null,null,null,null,null,null,null,"2015-06-04",0.28709677419354851,0.77908170137914878,"V3",18]
[21,28,21,"2015-06-01","V5",0.82,21,null,null,null,null,null,null,null,null,null,null,null,null,null,null,null,null,{"$f":"AVERAGE(Y21:Y24)","v":0.47210858824886737},0.46444657338832906,22,"V3",14.790599999999992,22,null,null,null,null,null,null,null,null,null,null,null,null,null,null,"2015-06-05",0.29645161290322591,0.80023658423214494,"V3",18.600000000000001]
[22,29,22,"2015-06-02","V5",0.82,21.75,null,null,null,null,null,null,null,null,"Growth Stage",null,null,null,null,null,null,null,null,0.47977060310940556,23,"V3",15.209199999999992,23,null,null,null,null,null,null,null,null,null,null,null,null,null,null,"2015-06-06",0.30580645161290332,0.82058846641088612,"V3",19.200000000000003]
[23,30,23,"2015-06-03","V5",0.82,22.5,null,null,null,null,null,null,null,"Y","X",null,null,null,null,null,null,null,null,0.49509463283048205,24,"V3",15.627799999999992,24,null,null,null,null,null,null,null,null,null,null,null,null,null,null,"2015-06-07",0.31516129032258072,0.84016638165139834,"V3",19.800000000000004]
[24,31,24,"2015-06-04","V5",0.82,23.25,null,null,null,null,null,null,null,{"$f":"4*P25+4.5","v":9.5},1.25,null,null,null,null,null,null,null,null,0.51041866255155854,25,"V4",16.046399999999991,25,null,null,null,null,null,null,null,null,null,null,null,null,null,null,"2015-06-08",0.32451612903225813,0.85899936368970797,"V4",20.400000000000006]
[25,32,25,"2015-06-05","V6",0.9,24,null,null,null,null,null,null,null,{"$f":"4*P26+4.5","v":10.5},1.5,null,null,null,null,null,null,null,{"$f":"AVERAGE(Y25:Y28)","v":0.53340470713317323},0.52574269227263504,{"$f":"+Z25+1","v":26},"V4",16.464999999999993,26,null,null,null,null,null,null,null,null,null,null,null,null,null,null,"2015-06-09",0.33387096774193553,0.87711644626184049,"V4",21.000000000000007]
[26,33,26,"2015-06-06","V6",0.9,null,null,null,null,null,null,null,null,null,null,null,null,null,null,null,null,null,null,0.54106672199371153,{"$f":"+Z26+1","v":27},"V4",16.883599999999994,27,null,null,null,null,null,null,null,null,null,null,null,null,null,null,"2015-06-10",0.34322580645161294,0.89454666310382214,"V4",21.600000000000009]
[27,34,27,"2015-06-07","V6",0.9,null,null,null,null,null,null,null,null,null,null,null,null,null,null,null,null,null,null,0.55639075171478802,28,"V4",17.302199999999996,28,null,null,null,null,null,null,null,null,null,null,null,null,null,null,"2015-06-11",0.35258064516129034,0.91131904795167851,"V4",22.20000000000001]
[28,35,28,"2015-06-08","V6",0.9,null,null,null,null,null,null,null,null,null,null,null,null,null,null,null,null,null,null,0.57171478143586452,29,"V4",17.720799999999997,29,null,null,null,null,null,null,null,null,null,null,null,null,null,null,"2015-06-12",0.36193548387096774,0.92746263454143618,"V4",22.800000000000011]
[29,36,29,"2015-06-09","V6",0.9,null,null,null,null,null,null,null,null,null,null,null,null,null,null,null,null,null,null,0.58703881115694101,30,"V4",18.139399999999998,30,null,null,null,null,null,null,null,null,null,null,null,null,null,null,"2015-06-13",0.37129032258064515,0.94300645660912064,"V4",23.400000000000013]
[30,33,30,"2015-06-10","R1",0.99,null,null,null,null,null,null,null,null,null,null,null,null,null,null,null,null,null,null,0.6023628408780175,31,"V5",18.558,null,null,null,null,null,null,null,null,null,null,null,null,null,null,null,"2015-06-14",0.38064516129032255,0.39,"V5",24.000000000000014,{"$f":"+(AT38-AS31)/8","v":2.4919354838709676E-2}]
[27,34,31,"2015-06-11","R1",0.99,null,null,null,null,null,null,null,null,null,null,null,null,null,null,null,null,null,{"$f":"AVERAGE(Y30:Y36)","v":0.63301090032017038},0.617686870599094,32,"V5",18.976600000000001,null,null,null,null,null,null,null,null,null,null,null,null,null,null,null,"2015-06-15",{"$f":"+AS31+$AW$31","v":0.40556451612903222},0.97241094212237411,"V5",24]
[28,35,32,"2015-06-12","R1",0.99,null,null,null,null,null,null,null,null,null,null,null,null,null,null,null,null,null,null,0.63301090032017049,33,"V5",19.395200000000003,null,null,null,null,null,null,null,null,null,null,null,null,null,null,null,"2015-06-16",0.43048387096774188,0.98632967303999519,"V5",24]
[29,36,33,"2015-06-13","R1",0.99,null,null,null,null,null,null,null,null,null,null,null,null,null,null,null,null,null,null,0.64833493004124698,34,"V5",19.813800000000004,null,null,null,null,null,null,null,null,null,null,null,null,null,null,null,"2015-06-17",0.45540322580645154,0.99976477437964684,"V5",24]
[30,37,34,{"$f":"+D34+1","v":"2015-06-14"},"R1",0.99,null,null,null,null,null,null,null,null,null,null,null,null,null,null,null,null,null,null,0.66365895976232347,35,"V5",20.232400000000005,null,null,null,null,null,null,null,null,null,null,null,null,null,null,null,"2015-06-18",0.4803225806451612,1.0127452798773555,"V5",24]
[31,38,35,"2015-06-15","R1",0.99,null,null,null,null,null,null,null,null,null,null,null,null,null,null,null,null,null,null,0.67898298948339997,36,"V5",20.651000000000007,null,null,null,null,null,null,null,null,null,null,null,null,null,null,null,"2015-06-19",0.50524193548387086,1.0253002232691468,"V5",24]
[32,39,36,"2015-06-16","R1",0.99,null,null,null,null,null,null,null,null,null,null,null,null,null,null,null,null,null,null,0.69430701920447646,37,"V6",21.069600000000008,null,null,null,null,null,null,null,null,null,null,null,null,null,null,null,"2015-06-20",0.53016129032258053,1.0374586382910469,"V6",24]
[33,40,37,"2015-06-17","R1",0.99,null,null,null,null,null,null,null,null,{"$f":"4*P38+4.5","v":11.5},1.75,null,null,null,null,null,null,null,null,0.70963104892555295,38,"V6",21.48820000000001,null,null,null,null,null,null,null,null,null,null,null,null,null,null,null,"2015-06-21",{"$f":"+AS37+$AW$43","v":0.55682795698924714},0.57999999999999996,"V6",24]
[null,41,38,"2015-06-18","R1",0.99,null,null,null,null,null,null,null,null,null,null,null,null,null,null,null,null,null,null,0.72495507864662945,39,"V6",21.906800000000011,null,null,null,null,null,null,null,null,null,null,null,null,null,null,null,"2015-06-22",{"$f":"+AS38+$AW$43","v":0.58349462365591376},1.060702018169277,"V6",24]
[null,42,39,"2015-06-19","R2",1.1000000000000001,null,null,null,null,null,null,null,null,null,null,null,null,null,null,null,null,null,null,0.74027910836770594,40,"V6",22.325400000000013,null,null,null,null,null,null,null,null,null,null,null,null,null,null,null,"2015-06-23",0.61016129032258037,1.0718450504976589,"V6",24]
[null,43,40,"2015-06-20","R2",1.1000000000000001,null,null,null,null,null,null,null,null,null,null,null,null,null,null,null,null,null,null,0.75560313808878243,41,"V6",22.744000000000014,null,null,null,null,null,null,null,null,null,null,null,null,null,null,null,"2015-06-24",0.63682795698924699,1.0827076894002534,"V6",24]
[null,44,41,"2015-06-21","R2",1.1000000000000001,null,null,null,null,null,null,null,null,null,null,null,null,null,null,null,null,null,null,0.77092716780985893,42,"V6",23.162600000000015,null,null,null,null,null,null,null,null,null,null,null,null,null,null,null,"2015-06-25",0.66349462365591361,1.0933189686130864,"V6",24]
[null,45,42,"2015-06-22","R2",1.1000000000000001,null,null,null,null,null,null,null,null,null,null,null,null,null,null,null,null,null,null,0.78625119753093542,43,"R1",23.581200000000017,24,null,{"$f":"24-6","v":18},null,null,null,null,null,null,null,null,null,null,null,null,"2015-06-26",0.69016129032258022,0.74,"R1",24,{"$f":"+(AT43-AT38)/6","v":2.6666666666666672E-2}]
[null,46,43,"2015-06-23","R2",1.1000000000000001,null,null,null,null,null,null,null,null,null,null,null,null,null,null,null,null,null,null,0.80157522725201191,44,"R1",23.999800000000018,null,null,{"$f":"+AE43/43","v":0.41860465116279072},null,6,null,6,null,null,null,null,null,null,null,null,"2015-06-27",0.71682795698924684,1.1139035829135719,"R1",24]
[null,47,44,"2015-06-24","R2",1.1000000000000001,null,null,null,null,null,null,null,null,null,null,null,null,null,null,null,null,null,null,0.81689925697308841,45,"R1",24,null,null,null,null,{"$f":"+AG44+0.4186","v":6.4185999999999996},null,{"$f":"+AI44+0.6","v":6.6},null,null,null,null,null,null,null,null,"2015-06-28",0.74349462365591346,1.1239349854732763,"R1",24]
[null,48,45,"2015-06-25","R2",1.1000000000000001,null,null,null,null,null,null,null,null,{"$f":"4*P46+4.5","v":12.5},2,null,null,null,null,null,null,null,null,0.8322232866941649,46,"R1",24,null,null,null,null,{"$f":"+AG45+0.4186","v":6.8371999999999993},null,7.1999999999999993,null,null,null,null,null,null,null,null,"2015-06-29",0.75284946236559092,1.1338311632873233,"R1",24]
[null,49,46,"2015-06-26","R2",1.1000000000000001,null,null,null,null,null,null,null,null,null,null,null,null,null,null,null,null,null,null,0.84754731641524139,47,"R1",24,null,null,null,null,7.2557999999999989,null,7.7999999999999989,null,null,null,null,null,null,null,null,"2015-06-30",0.76220430107526838,1.1436211500917381,"R1",24]
[null,50,47,"2015-06-27","R2",1.1000000000000001,null,null,null,null,null,null,null,null,null,null,null,null,null,null,null,null,null,null,0.86287134613631788,48,"R1",24,null,null,null,null,7.6743999999999986,null,8.3999999999999986,null,null,null,null,null,null,null,null,"2015-07-01",0.77155913978494584,1.1533339796225479,"R1",24]
[null,51,48,"2015-06-28","R2",1.1000000000000001,null,null,null,null,null,null,null,null,null,null,null,null,null,null,null,null,null,null,0.87819537585739438,49,"R1",24,null,null,null,null,8.0929999999999982,null,8.9999999999999982,null,null,null,null,null,null,null,null,"2015-07-02",0.7809139784946233,1.1629986856157779,"R1",24]
[null,52,49,"2015-06-29","R3",1.21,null,null,null,null,null,null,null,null,null,null,null,null,null,null,null,null,null,null,0.89351940557847087,50,"R1",24,null,null,null,null,8.5115999999999978,null,9.5999999999999979,null,null,null,null,null,null,null,null,"2015-07-03",0.79026881720430076,1.1726443018074539,"R1",24]
[null,53,50,"2015-06-30","R3",1.21,null,null,null,null,null,null,null,null,null,null,null,null,null,null,null,null,null,null,0.90884343529954736,51,"R1",24,null,null,null,null,8.9301999999999975,null,10.199999999999998,null,null,null,null,null,null,null,null,"2015-07-04",0.79962365591397822,1.1822998619336027,"R1",24]
[null,54,51,"2015-07-01","R3",1.21,null,null,null,null,null,null,null,null,null,null,null,null,null,null,null,null,null,null,0.92416746502062386,52,"R1",24,null,null,null,null,9.3487999999999971,null,10.799999999999997,null,null,null,null,null,null,null,null,"2015-07-05",0.80897849462365568,1.1919943997302489,"R1",24]
[null,55,52,"2015-07-02","R3",1.21,null,null,null,null,null,null,null,null,null,null,null,null,null,null,null,null,null,null,0.93949149474170035,53,"R1",24,null,null,null,null,9.7673999999999968,null,11.399999999999997,null,null,null,null,null,null,null,null,"2015-07-06",0.81833333333333313,1.2,"R1",24]
[null,56,53,"2015-07-03","R3",1.21,null,null,null,null,null,null,null,null,null,null,null,null,null,null,null,null,null,null,0.95481552446277684,54,"R2",24,null,null,null,null,10.185999999999996,null,11.999999999999996,null,null,null,null,null,null,null,null,"2015-07-07",0.82768817204301059,1.2,"R2",24]
[null,57,54,"2015-07-04","R3",1.21,null,null,null,null,null,null,null,null,null,null,null,null,null,null,null,null,null,null,0.97013955418385334,{"$f":"+Z54+1","v":55},"R2",24,null,null,null,null,10.604599999999996,null,12.599999999999996,null,null,null,null,null,null,null,null,"2015-07-08",0.83704301075268805,1.2,"R2",24]
[null,58,55,"2015-07-05","R3",1.21,null,null,null,null,null,null,null,null,{"$f":"4*P56+4.5","v":24.5},5,null,null,null,null,null,null,null,null,0.98546358390492983,{"$f":"+Z55+1","v":56},"R2",24,null,null,null,null,11.023199999999996,null,13.199999999999996,null,null,null,null,null,null,null,null,"2015-07-09",0.84639784946236551,1.2,"R2",24]
[null,59,56,"2015-07-06","R3",1.21,null,null,null,null,null,null,null,null,null,null,null,null,null,null,null,null,null,null,1.0007876136260063,57,"R2",24,null,null,null,null,11.441799999999995,null,13.799999999999995,null,null,null,null,null,null,null,null,"2015-07-10",0.85575268817204297,1.2,"R2",24]
[null,60,57,"2015-07-07","R3",1.21,null,null,null,null,null,null,null,null,null,null,null,null,null,null,null,null,null,null,1.0161116433470827,58,"R2",24,null,null,null,null,11.860399999999995,null,14.399999999999995,null,null,null,null,null,null,null,null,"2015-07-11",0.86510752688172043,1.2,"R2",24]
[null,61,58,"2015-07-08","R3",1.21,null,null,null,null,null,null,null,null,null,null,null,null,null,null,null,null,null,null,1.0314356730681591,59,"R2",24,null,null,null,null,12.278999999999995,null,14.999999999999995,null,null,null,null,null,null,null,null,"2015-07-12",0.87446236559139789,1.2,"R2",24]
[null,62,59,"2015-07-09","R4",1.21,null,null,null,null,null,null,null,null,null,null,null,null,null,null,null,null,null,null,1.0467597027892355,60,"R2",24,null,null,null,null,12.697599999999994,null,15.599999999999994,null,null,null,null,null,null,null,null,"2015-07-13",0.88381720430107535,1.2,"R2",24]
[null,63,60,"2015-07-10","R4",1.21,null,null,null,null,null,null,null,null,null,null,null,null,null,null,null,null,null,null,1.0620837325103119,61,"R2",24,null,null,null,null,13.116199999999994,null,16.199999999999996,null,null,null,null,null,null,null,null,"2015-07-14",0.89317204301075281,1.2,"R2",24]
[null,64,61,"2015-07-11","R4",1.21,null,null,null,null,null,null,null,null,null,null,null,null,null,null,null,null,null,null,1.0774077622313882,62,"R2",24,null,null,null,null,13.534799999999994,null,16.799999999999997,null,null,null,null,null,null,null,null,"2015-07-15",0.90252688172043027,1.2,"R2",24]
[null,65,62,"2015-07-12","R4",1.21,null,null,null,null,null,null,null,null,null,null,null,null,null,null,null,null,null,null,1.0927317919524646,63,"R2",24,null,null,null,null,13.953399999999993,null,17.399999999999999,null,null,null,null,null,null,null,null,"2015-07-16",0.91188172043010773,1.2,"R2",24]
[null,66,63,"2015-07-13","R4",1.21,null,null,null,null,null,null,null,null,null,null,null,null,null,null,null,null,null,null,1.108055821673541,64,"R2",24,null,null,null,null,14.371999999999993,null,18,null,null,null,null,null,null,null,null,"2015-07-17",0.92123655913978519,1.2,"R2",24]
[null,67,64,"2015-07-14","R4",1.21,null,null,null,null,null,null,null,null,null,null,null,null,null,null,null,null,null,null,1.1233798513946174,65,"R2",24,null,null,null,null,14.790599999999992,null,18.600000000000001,null,null,null,null,null,null,null,null,"2015-07-18",0.93059139784946265,1.2,"R2",24]
[null,68,65,"2015-07-15","R4",1.21,null,null,null,null,null,null,null,null,{"$f":"4*P66+4.5","v":28.5},6,null,null,null,null,null,null,null,null,1.1387038811156938,66,"R2",24,null,null,null,null,15.209199999999992,null,19.200000000000003,null,null,null,null,null,null,null,null,"2015-07-19",0.93994623655914011,1.2,"R2",24]
[null,69,66,{"$f":"+D66+1","v":"2015-07-16"},"R4",1.21,null,null,null,null,null,null,null,null,null,null,null,null,null,null,null,null,null,null,1.1540279108367701,67,"R2",24,null,null,null,null,15.627799999999992,null,19.800000000000004,null,null,null,null,null,null,null,null,"2015-07-20",0.94930107526881757,1.2,"R2",24]
[null,70,67,"2015-07-17","R4",1.21,null,null,null,null,null,null,null,null,null,null,null,null,null,null,null,null,null,null,1.1693519405578465,68,"R2",24,null,null,null,null,16.046399999999991,null,20.400000000000006,null,null,null,null,null,null,null,null,"2015-07-21",0.95865591397849503,1.2,"R2",24]
[null,71,68,"2015-07-18","R4",1.21,null,null,null,null,null,null,null,null,null,null,null,null,null,null,null,null,null,null,1.2,69,"R3",24,null,null,null,null,16.464999999999993,null,21.000000000000007,null,null,null,null,null,null,null,null,"2015-07-22",1.02,1.2,"R3",24]
[null,72,69,"2015-07-19","R4",1.21,null,null,null,null,null,null,null,null,null,null,null,null,null,null,null,null,null,null,1.2,70,"R3",24,null,null,null,null,16.883599999999994,null,21.600000000000009,null,null,null,null,null,null,null,null,"2015-07-23",1.02,1.2,"R3",24]
[null,73,70,"2015-07-20","R4",1.21,null,null,null,null,null,null,null,null,null,null,null,null,null,null,null,null,null,null,1.2,71,"R3",24,null,null,null,null,17.302199999999996,null,22.20000000000001,null,null,null,null,null,null,null,null,"2015-07-24",1.02,1.2,"R3",24]
[null,74,71,"2015-07-21","R4",1.21,null,null,null,null,null,null,null,null,null,null,null,null,null,null,null,null,null,null,1.2,72,"R3",24,null,null,null,null,17.720799999999997,null,22.800000000000011,null,null,null,null,null,null,null,null,"2015-07-25",1.02,1.2,"R3",24]
[null,75,72,"2015-07-22","R4",1.21,null,null,null,null,null,null,null,null,null,null,null,null,null,null,null,null,null,null,1.2,73,"R3",24,null,null,null,null,18.139399999999998,null,23.400000000000013,null,null,null,null,null,null,null,null,"2015-07-26",1.02,1.2,"R3",24]
[null,76,73,"2015-07-23","R4",1.21,null,null,null,null,null,null,null,null,null,null,null,null,null,null,null,null,null,null,1.2,74,"R3",24,null,null,null,null,18.558,null,24.000000000000014,null,null,null,null,null,null,null,null,"2015-07-27",1.02,1.2,"R3",24]
[null,77,74,"2015-07-24","R4",1.21,null,null,null,null,null,null,null,null,null,null,null,null,null,null,null,null,null,null,1.2,75,"R3",24,null,null,null,null,18.976600000000001,null,24,null,null,null,null,null,null,null,null,"2015-07-28",1.02,1.2,"R3",24]
[null,78,75,"2015-07-25","R5",1.21,null,null,null,null,null,null,null,null,null,null,null,null,null,null,null,null,null,null,1.2,76,"R3",24,null,null,null,null,19.395200000000003,null,24,null,null,null,null,null,null,null,null,"2015-07-29",1.02,1.2,"R3",24]
[null,79,{"$f":"+C76+1","v":76},"2015-07-26","R5",1.21,null,null,null,null,null,null,null,null,null,null,null,null,null,null,null,null,null,null,1.2,77,"R3",24,null,null,null,null,19.813800000000004,null,24,null,null,null,null,null,null,null,null,"2015-07-30",1.02,1.2,"R3",24]
[null,80,77,"2015-07-27","R5",1.21,null,null,null,null,null,null,null,null,null,null,null,null,null,null,null,null,null,null,1.2,78,"R3",24,null,null,null,null,20.232400000000005,null,24,null,null,null,null,null,null,null,null,"2015-07-31",1.02,1.2,"R3",24]
[null,81,78,"2015-07-28","R5",1.21,null,null,null,null,null,null,null,null,null,null,null,null,null,null,null,null,null,null,1.2,79,"R3",24,null,null,null,null,20.651000000000007,null,24,null,null,null,null,null,null,null,null,"2015-08-01",1.02,1.2,"R3",24]
[null,82,79,"2015-07-29","R5",1.21,null,null,null,null,null,null,null,null,null,null,null,null,null,null,null,null,null,null,1.2,80,"R3",24,null,null,null,null,21.069600000000008,null,24,null,null,null,null,null,null,null,null,"2015-08-02",1.02,1.2,"R3",24]
[null,83,80,"2015-07-30","R5",1.21,null,null,null,null,null,null,null,null,null,null,null,null,null,null,null,null,null,null,1.2,81,"R3",24,null,null,null,null,21.48820000000001,null,24,null,null,null,null,null,null,null,null,"2015-08-03",1.02,1.2,"R3",24]
[null,84,81,"2015-07-31","R5",1.21,null,null,null,null,null,null,null,null,null,null,null,null,null,null,null,null,null,null,1.2,82,"R3",24,null,null,null,null,21.906800000000011,null,24,null,null,null,null,null,null,null,null,"2015-08-04",1.02,1.2,"R3",24]
[null,85,82,"2015-08-01","R5",1.21,null,null,null,null,null,null,null,null,null,null,null,null,null,null,null,null,null,null,1.2,83,"R3",24,null,null,null,null,22.325400000000013,null,24,null,null,null,null,null,null,null,null,"2015-08-05",1.02,1.2,"R3",24]
[null,86,83,"2015-08-02","R5",1.21,null,null,null,null,null,null,null,null,null,null,null,null,null,null,null,null,null,null,1.2,84,"R3",24,null,null,null,null,22.744000000000014,null,24,null,null,null,null,null,null,null,null,"2015-08-06",1.02,1.2,"R3",24]
[null,87,84,"2015-08-03","R5",1.21,null,null,null,null,null,null,null,null,null,null,null,null,null,null,null,null,null,null,1.2,85,"R4",24,null,null,null,null,23.162600000000015,null,24,null,null,null,null,null,null,null,null,"2015-08-07",1.02,1.2,"R4",24]
[null,88,85,"2015-08-04","R5",1.21,null,null,null,null,null,null,null,null,null,null,null,null,null,null,null,null,null,null,1.2,86,"R4",24,null,null,null,null,23.581200000000017,null,null,null,null,null,null,null,null,null,null,"2015-08-08",1.02,1.2,"R4",24]
[null,89,86,"2015-08-05","R5",1.21,null,null,null,null,null,null,null,null,null,null,null,null,null,null,null,null,null,null,1.2,87,"R4",24,null,null,null,null,23.999800000000018,null,null,null,null,null,null,null,null,null,null,"2015-08-09",1.02,1.2,"R4",24]
[null,90,87,"2015-08-06","R5",1.21,null,null,null,null,null,null,null,null,null,null,null,null,null,null,null,null,null,null,1.2,88,"R4",24,null,null,null,null,null,null,null,null,null,null,null,null,null,null,null,"2015-08-10",1.02,1.2,"R4",24]
[null,91,88,"2015-08-07","R5",1.21,null,null,null,null,null,null,null,null,null,null,null,null,null,null,null,null,null,null,1.2,89,"R4",24,null,null,null,null,null,null,null,null,null,null,null,null,null,null,null,"2015-08-11",1.02,1.2,"R4",24]
[null,92,89,"2015-08-08","R5",1.21,null,null,null,null,null,null,null,null,null,null,null,null,null,null,null,null,null,null,1.2,90,"R4",24,null,null,null,null,null,null,null,null,null,null,null,null,null,null,null,"2015-08-12",1.02,1.2,"R4",24]
[null,93,90,"2015-08-09","R5",1.21,null,null,null,null,null,null,null,null,null,null,null,null,null,null,null,null,null,null,1.2,91,"R4",24,null,null,null,null,null,null,null,null,null,null,null,null,null,null,null,"2015-08-13",1.02,1.2,"R4",24]
[null,94,91,"2015-08-10","R5",1.21,null,null,null,null,null,null,null,null,null,null,null,null,null,null,null,null,null,null,1.2,92,"R4",24,null,null,null,null,null,null,null,null,null,null,null,null,null,null,null,"2015-08-14",1.02,1.2,"R4",24]
[null,95,92,"2015-08-11","R5",1.21,null,null,null,null,null,null,null,null,null,null,null,null,null,null,null,null,null,null,1.2,93,"R4",24,null,null,null,null,null,null,null,null,null,null,null,null,null,null,null,"2015-08-15",1.02,1.2,"R4",24]
[null,96,93,"2015-08-12","R5",1.21,null,null,null,null,null,null,null,null,null,null,null,null,null,null,null,null,null,null,1.2,94,"R5",24,null,null,null,null,null,null,null,null,null,null,null,null,null,null,null,"2015-08-16",1.02,1.2,"R5",24]
[null,97,94,"2015-08-13","R5",1.21,null,null,null,null,null,null,null,null,null,null,null,null,null,null,null,null,null,null,1.2,95,"R5",24,null,null,null,null,null,null,null,null,null,null,null,null,null,null,null,"2015-08-17",1.02,1.2,"R5",24]
[null,98,95,"2015-08-14","R6",1.21,null,null,null,null,null,null,null,null,null,null,null,null,null,null,null,null,null,null,1.2,96,"R5",24,null,null,null,null,null,null,null,null,null,null,null,null,null,null,null,"2015-08-18",1.02,1.2,"R5",24]
[null,99,96,"2015-08-15","R6",1.21,null,null,null,null,null,null,null,null,null,null,null,null,null,null,null,null,null,null,1.2,97,"R5",24,null,null,null,null,null,null,null,null,null,null,null,null,null,null,null,"2015-08-19",1.02,1.2,"R5",24]
[null,100,97,"2015-08-16","R6",1.21,null,null,null,null,null,null,null,null,null,null,null,null,null,null,null,null,null,null,1.2,98,"R5",24,null,null,null,null,null,null,null,null,null,null,null,null,null,null,null,"2015-08-20",{"$f":"+AS97-0.0135","v":1.0065},1.2,"R5",24,{"$f":"(1.02-0.92)/8","v":1.2499999999999997E-2}]
[null,101,98,{"$f":"+D98+1","v":"2015-08-17"},"R6",1.21,null,null,null,null,null,null,null,null,null,null,null,null,null,null,null,null,null,null,1.2,99,"R5",24,null,null,null,null,null,null,null,null,null,null,null,null,null,null,null,"2015-08-21",{"$f":"+AS98-0.0135","v":0.99299999999999999},1.2,"R5",24]
[null,102,99,"2015-08-18","R6",1.21,null,null,null,null,null,null,null,null,null,null,null,null,null,null,null,null,null,null,1.2,100,"R5",24,null,null,null,null,null,null,null,null,null,null,null,null,null,null,null,"2015-08-22",0.97950000000000004,1.2,"R5",24]
[null,103,100,"2015-08-19","R6",1.21,null,null,null,null,null,null,null,null,null,null,null,null,null,null,null,null,null,null,1.2,101,"R5",24,null,null,null,null,null,null,null,null,null,null,null,null,null,null,null,"2015-08-23",0.96600000000000008,1.2,"R5",24]
[null,104,101,"2015-08-20","R6",1.21,null,null,null,null,null,null,null,null,null,null,null,null,null,null,null,null,null,null,1.2,102,"R5",24,null,null,null,null,null,null,null,null,null,null,null,null,null,null,null,"2015-08-24",0.95250000000000012,1.2,"R5",24]
[null,105,102,"2015-08-21","R6",1.21,null,null,null,null,null,null,null,null,null,null,null,null,null,null,null,null,null,null,1.2,103,"R5",24,null,null,null,null,null,null,null,null,null,null,null,null,null,null,null,"2015-08-25",0.93900000000000017,1.2,"R5",24]
[null,106,103,"2015-08-22","R6",1.21,null,null,null,null,null,null,null,null,null,null,null,null,null,null,null,null,null,null,1.2,104,"R5",24,null,null,null,null,null,null,null,null,null,null,null,null,null,null,null,"2015-08-26",0.92550000000000021,1.2,"R5",24]
[null,107,104,"2015-08-23","R6",1.21,null,null,null,null,null,null,null,null,null,null,null,null,null,null,null,null,null,null,1.2,105,"R5",24,null,null,null,null,null,null,null,null,null,null,null,null,null,null,null,"2015-08-27",0.91200000000000025,1.2,"R5",24]
[null,108,105,"2015-08-24","R7",0.99,null,null,null,null,null,null,null,null,null,null,null,null,null,null,null,null,null,null,1.1375,106,"R5",24,null,null,null,null,null,null,null,null,null,null,null,null,null,null,null,"2015-08-28",0.8985000000000003,{"$f":"+AT105-$AX$106","v":1.1375},"R5",24,null,6.25E-2]
[null,109,106,"2015-08-25","R7",0.99,null,null,null,null,null,null,null,null,null,null,null,null,null,null,null,null,null,null,1.075,107,"R6",24,null,null,null,null,null,null,null,null,null,null,null,null,null,null,null,"2015-08-29",0.88500000000000034,0.88,"R6",24,{"$f":"(1.02-0.88)/11","v":1.2727272727272728E-2}]
[null,110,107,"2015-08-26","R7",0.99,null,null,null,null,null,null,null,null,null,null,null,null,null,null,null,null,null,null,1.0125,108,"R6",24,null,null,null,null,null,null,null,null,null,null,null,null,null,null,null,"2015-08-30",{"$f":"+AS107-0.01","v":0.87500000000000033},{"$f":"+AT107-$AX$106","v":0.8175},"R6",24]
[null,111,108,"2015-08-27","R7",0.99,null,null,null,null,null,null,null,null,null,null,null,null,null,null,null,null,null,null,0.95,109,"R6",24,null,null,null,null,null,null,null,null,null,null,null,null,null,null,null,"2015-08-31",{"$f":"+AS108-0.01","v":0.86500000000000032},0.755,"R6",24]
[null,112,109,"2015-08-28","R7",0.99,null,null,null,null,null,null,null,null,null,null,null,null,null,null,null,null,null,null,0.88749999999999996,110,"R6",24,null,null,null,null,null,null,null,null,null,null,null,null,null,null,null,"2015-09-01",0.85500000000000032,0.6925,"R6",24]
[null,113,110,"2015-08-29","R7",0.99,null,null,null,null,null,null,null,null,null,null,null,null,null,null,null,null,null,null,0.82499999999999996,111,"R6",24,null,null,null,null,null,null,null,null,null,null,null,null,null,null,null,"2015-09-02",0.84500000000000031,0.63,"R6",24]
[null,114,111,"2015-08-30","R7",0.99,null,null,null,null,null,null,null,null,null,null,null,null,null,null,null,null,null,null,0.76249999999999996,112,"R6",24,null,null,null,null,null,null,null,null,null,null,null,null,null,null,null,"2015-09-03",0.8350000000000003,0.5675,"R6",24]
[null,115,112,"2015-08-31","R7",0.99,null,null,null,null,null,null,null,null,null,null,null,null,null,null,null,null,null,null,0.7,113,"R6",24,null,null,null,null,null,null,null,null,null,null,null,null,null,null,null,"2015-09-04",0.82500000000000029,0.505,"R6",24]
[null,127,113,"2015-09-01","R7",0.99,null,null,null,null,null,null,null,null,null,null,null,null,null,null,null,null,null,null,0.63749999999999996,114,"R6",24,null,null,null,null,null,null,null,null,null,null,null,null,null,null,null,"2015-09-05",0.81500000000000028,0.4425,"R6",24]
[null,null,114,"2015-09-02","R7",0.99,null,null,null,null,null,null,null,null,null,null,null,null,null,null,null,null,null,null,0.57499999999999996,115,"R6",24,null,null,null,null,null,null,null,null,null,null,null,null,null,null,null,"2015-09-06",0.80500000000000027,0.38,"R6",24]
[null,null,115,"2015-09-03","R7",0.99,null,null,null,null,null,null,null,null,null,null,null,null,null,null,null,null,null,null,0.51249999999999996,116,"R6",24,null,null,null,null,null,null,null,null,null,null,null,null,null,null,null,"2015-09-07",0.79500000000000026,0.3175,"R6",24]
[null,null,116,"2015-09-04","R7",0.99,null,null,null,null,null,null,null,null,null,null,null,null,null,null,null,null,null,null,0.44999999999999996,117,"R6",24,null,null,null,null,null,null,null,null,null,null,null,null,null,null,null,"2015-09-08",0.78500000000000025,0.255,"R6",24]
[null,null,117,"2015-09-05","R7",0.99,null,null,null,null,null,null,null,null,null,null,null,null,null,null,null,null,null,null,0.38749999999999996,118,"R7",24,null,null,null,null,null,null,null,null,null,null,null,null,null,null,null,"2015-09-09",0.77500000000000024,0.77,"R7",24,{"$f":"(0.88-0.77)/10","v":1.0999999999999999E-2}]
[null,null,118,"2015-09-06","R8",0.6,null,null,null,null,null,null,null,null,null,null,null,null,null,null,null,null,null,null,0.32499999999999996,null,"R7",24,null,null,null,null,null,null,null,null,null,null,null,null,null,null,null,"2015-09-10",{"$f":"+AS118-0.013","v":0.76200000000000023}," ","R7",24]
[null,null,null," ",null,null,null,null,null,null,null,null,null,null,null,null,null,null,null,null,null,null,null,null,0.26249999999999996,null,"R7",24,null,null,null,null,null,null,null,null,null,null,null,null,null,null,null,"2015-09-11",{"$f":"+AS119-0.013","v":0.74900000000000022}," ","R7",24]
[null,null,null," ",null,null,null,null,null,null,null,null,null,null,null,null,null,null,null,null,null,null,null,null,0.2,null,"R7",24,null,null,null,null,null,null,null,null,null,null,null,null,null,null,null,"2015-09-12",0.73600000000000021," ","R7",24]
[null,null,null,null,null,null,null,null,null,null,null,null,null,null,null,null,null,null,null,null,null,null,null,null,0.2,null,"R7",24,null,null,null,null,null,null,null,null,null,null,null,null,null,null,null,"2015-09-13",0.7230000000000002," ","R7",24]
[null,null,null,null,null,null,null,null,null,null,null,null,null,null,null,null,null,null,null,null,null,null,null,null,0.2,null,"R7",24,null,null,null,null,null,null,null,null,null,null,null,null,null,null,null,"2015-09-14",0.71000000000000019," ","R7",24]
[null,null,null,null,null,null,null,null,null,null,null,null,"Y","x",null,null,null,null,null,null,null,null,null,null,0.2,null,"R7",24,null,null,null,null,null,null,null,null,null,null,null,null,null,null,null,"2015-09-15",0.69700000000000017," ","R7",24]
[null,null,null,"Equation: y = (c3 * x^3) + (c2 * x^2) + (c1 * x^1) + b",null,null,null,null,null,"C3",{"$f":"INDEX(LINEST(F2:F53,C2:C53^{1,2,3}),1)","v":4.8389560043278007E-6},null,{"$f":"+($K$125*N125^3) + ($K$126*N125^2)+($K$127*N125^1)+($K$128)","v":0.14264194924572304},1,"VC",null,null,null,null,null,null,null,null,null,0.2,null,"R7",24,null,null,null,null,null,null,null,null,null,null,null,null,null,null,null,"2015-09-16",0.68400000000000016,null,"R7"]
[null,null,null,null,null,null,null,null,null,"C2",{"$f":"INDEX(LINEST(F2:F53,C2:C53^{1,2,3}),1,2)","v":-7.2087143341305283E-4}," ",0.18595393014926884,2,"VC",null,null,null,null,null,null,null,null,null,0.2,null,"R7",24,null,null,null,null,null,null,null,null,null,null,null,null,null,null,null,"2015-09-17",0.67100000000000015,0.66,"R7",null,{"$f":"+(0.77-0.66)/8","v":1.3749999999999998E-2}]
[null,null,null,"c3: =INDEX(LINEST(y,x^{1,2,3}),1)",null,null,null,null,null,"C1",{"$f":"INDEX(LINEST(F2:F53,C2:C53^{1,2,3}),1,3)","v":4.5440722511754669E-2},null,0.22788223565804047,3,"VC",null,null,null,null,null,null,null,null,null,0.2,null,"R8",24,null,null,null,null,null,null,null,null,null,null,null,null,null,null,null,"2015-09-18",0.2,null,"R8"]
[null,null,null,"c2: =INDEX(LINEST(y,x^{1,2,3}),1,2)",null,null,null,null,null,"b",{"$f":"INDEX(LINEST(F2:F53,C2:C53^{1,2,3}),1,4)","v":9.7917259211377089E-2},null,0.26845589950806392,4,"VC",null,null,null,null,null,null,null,null,null,0.2,null,"R8",24,null,null,null,null,null,null,null,null,null,null,null,null,null,null,null,"2015-09-19",0.2,null,"R8"]
[null,null,null,"C1: =INDEX(LINEST(y,x^{1,2,3}),1,3)",null,null,null,null,null,null," "," ",0.30770395543536511,5,"V1",null,null,null,null,null,null,null,null,null,0.2,null,"R8",24,null,null,null,null,null,null,null,null,null,null,null,null,null,null,null,"2015-09-20",0.2,null,"R8"]
[null,null,null,"b: =INDEX(LINEST(y,x^{1,2,3}),1,4)",null,null,null,null,null,null,null,null,0.34565543717596997,6,"V1",null,null,null,null,null,null,null,null,null,0.2,null,"R8",24,null,null,null,null,null,null,null,null,null,null,null,null,null,null,null,"2015-09-21",0.2,null,"R8"]
[null,null,null,null,null,null,null,null,null,null,null,null,0.3823393784659046,7,"V1"]
[null,null,null,null,null,null,null,null,null,null,null,null,0.41778481304119486,8,"V1"]
[null,null,null,null,null,null,null,null,null,null,null,null,0.45202077463786683,9,"V2"]
[null,null,null,null,null,null,null,null,null,null,null,null,0.48507629699194632,10,"V2"]
[null,null,null,null,null,null,null,null,null,null,null,null,0.51698041383945936,11,"V2",null,null,null,null,null,null,null,null,null,null,null,null,null,null,null,null,null,null,null,null,null,null,null,null,null,null,null,null,"***"]
[null,null,null,null,null,null,null,null,null,null,null,null,0.54776215891643187,12,"V2"]
[null,null,null,null,null,null,null,null,null,null,null,null,0.57745056595888999,13,"V3"]
[null,null,null,null,null,null,null,null,null,null,null,null,0.60607466870285953,14,"V3"]
[null,null,null,null,null,null,null,null,null,null,null,null,0.63366350088436652,15,"V3"]
[null,null,null,null,null,null,null,null,null,null,null,null,0.66024609623943697,16,"V3"]
[null,null,null,null,null,null,null,null,null,null,null,null,0.68585148850409672,17,"V4"]
[null,null,null,null,null,null,null,null,null,null,null,null,0.71050871141437177,18,"V4"]
[null,null,null,null,null,null,null,null,null,null,null,null,0.73424679870628817,19,"V4"]
[null,null,null,null,null,null,null,null,null,null,null,null,0.75709478411587172,20,"V4"]
[null,null,null,null,null,null,null,null,null,null,null,null,0.77908170137914856,21,"V5"]
[null,null,null,null,null,null,null,null,null,null,null,null,0.80023658423214461,22,"V5"]
[null,null,null,null,null,null,null,null,null,null,null,null,0.82058846641088579,23,"V5"]
[null,null,null,null,null,null,null,null,null,null,null,null,0.84016638165139812,24,"V5"]
[null,null,null,null,null,null,null,null,null,null,null,null,0.85899936368970775,25,"V6"]
[null,null,null,null,null,null,null,null,null,null,null,null,0.87711644626184015,{"$f":"+N149+1","v":26},"V6"]
[null,null,null,null,null,null,null,null,null,null,null,null,0.89454666310382169,{"$f":"+N150+1","v":27},"V6"]
[null,null,null,null,null,null,null,null,null,null,null,null,0.91131904795167817,28,"V6"]
[null,null,null,null,null,null,null,null,null,null,null,null,0.92746263454143585,29,"V6"]
[null,null,null,null,null,null,null,null,null,null,null,null,0.94300645660912019,30,"R1"]
[null,null,null,null,null,null,null,null,null,null,null,null,0.95797954789075768,31,"R1"]
[null,null,null,null,null,null,null,null,null,null,null,null,0.97241094212237378,32,"R1"]
[null,null,null,null,null,null,null,null,null,null,null,null,0.98632967303999464,33,"R1"]
[null,null,null,null,null,null,null,null,null,null,null,null,0.99976477437964661,34,"R1"]
[null,null,null,null,null,null,null,null,null,null,null,null,1.0127452798773553,35,"R1"]
[null,null,null,null,null,null,null,null,null,null,null,null,1.0253002232691466,36,"R1"]
[null,null,null,null,null,null,null,null,null,null,null,null,1.0374586382910467,37,"R1"]
[null,null,null,null,null,null,null,null,null,null,null,null,1.0492495586790813,38,"R2"]
[null,null,null,null,null,null,null,null,null,null,null,null,1.0607020181692768,39,"R2"]
[null,null,null,null,null,null,null,null,null,null,null,null,1.0718450504976587,40,"R2"]
[null,null,null,null,null,null,null,null,null,null,null,null,1.082707689400253,41,"R2"]
[null,null,null,null,null,null,null,null,null,null,null,null,1.093318968613086,42,"R2"]
[null,null,null,null,null,null,null,null,null,null,null,null,1.1037079218721837,43,"R2"]
[null,null,null,null,null,null,null,null,null,null,null,null,1.1139035829135717,44,"R2"]
[null,null,null,null,null,null,null,null,null,null,null,null,1.1239349854732761,45,"R2"]
[null,null,null,null,null,null,null,null,null,null,null,null,1.1338311632873228,46,"R2"]
[null,null,null,null,null,null,null,null,null,null,null,null,1.1436211500917377,47,"R2"]
[null,null,null,null,null,null,null,null,null,null,null,null,1.1533339796225475,48,"R3"]
[null,null,null,null,null,null,null,null,null,null,null,null,1.1629986856157775,49,"R3"]
[null,null,null,null,null,null,null,null,null,null,null,null,1.1726443018074537,50,"R3"]
[null,null,null,null,null,null,null,null,null,null,null,null,1.1822998619336018,51,"R3"]
[null,null,null,null,null,null,null,null,null,null,null,null,1.1919943997302482,52,"R3"]
[null,null,null,null,null,null,null,null,null,null,null,null,1.21,53,"R3"]
[null,null,null,null,null,null,null,null,null,null,null,null,1.21,54,"R3"]
[null,null,null,null,null,null,null,null,null,null,null,null,1.21,{"$f":"+N178+1","v":55},"R3"]
[null,null,null,null,null,null,null,null,null,null,null,null,1.21,{"$f":"+N179+1","v":56},"R3"]
[null,null,null,null,null,null,null,null,null,null,null,null,1.21,57,"R3"]
[null,null,null,null,null,null,null,null,null,null,null,null,1.21,58,"R4"]
[null,null,null,null,null,null,null,null,null,null,null,null,1.21,59,"R4"]
[null,null,null,null,null,null,null,null,null,null,null,null,1.21,60,"R4"]
[null,null,null,null,null,null,null,null,null,null,null,null,1.21,61,"R4"]
[null,null,null,null,null,null,null,null,null,null,null,null,1.21,62,"R4"]
[null,null,null,null,null,null,null,null,null,null,null,null,1.21,63,"R4"]
[null,null,null,null,null,null,null,null,null,null,null,null,1.21,64,"R4"]
[null,null,null,null,null,null,null,null,null,null,null,null,1.21,65,"R4"]
[null,null,null,null,null,null,null,null,null,null,null,null,1.21,66,"R4"]
[null,null,null,null,null,null,null,null,null,null,null,null,1.21,67,"R4"]
[null,null,null,null,null,null,null,null,null,null,null,null,1.21,68,"R4"]
[null,null,null,null,null,null,null,null,null,null,null,null,1.21,69,"R4"]
[null,null,null,null,null,null,null,null,null,null,null,null,1.21,70,"R4"]
[null,null,null,null,null,null,null,null,null,null,null,null,1.21,71,"R4"]
[null,null,null,null,null,null,null,null,null,null,null,null,1.21,72,"R4"]
[null,null,null,null,null,null,null,null,null,null,null,null,1.21,73,"R4"]
[null,null,null,null,null,null,null,null,null,null,null,null,1.21,74,"R5"]
[null,null,null,null,null,null,null,null,null,null,null,null,1.21,75,"R5"]
[null,null,null,null,null,null,null,null,null,null,null,null,1.21,76,"R5"]
[null,null,null,null,null,null,null,null,null,null,null,null,1.21,77,"R5"]
[null,null,null,null,null,null,null,null,null,null,null,null,1.21,78,"R5"]
[null,null,null,null,null,null,null,null,null,null,null,null,1.21,79,"R5"]
[null,null,null,null,null,null,null,null,null,null,null,null,1.21,80,"R5"]
[null,null,null,null,null,null,null,null,null,null,null,null,1.21,81,"R5"]
[null,null,null,null,null,null,null,null,null,null,null,null,1.21,82,"R5"]
[null,null,null,null,null,null,null,null,null,null,null,null,1.21,83,"R5"]
[null,null,null,null,null,null,null,null,null,null,null,null,1.21,84,"R5"]
[null,null,null,null,null,null,null,null,null,null,null,null,1.21,85,"R5"]
[null,null,null,null,null,null,null,null,null,null,null,null,1.21,86,"R5"]
[null,null,null,null,null,null,null,null,null,null,null,null,1.21,87,"R5"]
[null,null,null,null,null,null,null,null,null,null,null,null,1.21,88,"R5"]
[null,null,null,null,null,null,null,null,null,null,null,null,1.21,89,"R5"]
[null,null,null,null,null,null,null,null,null,null,null,null,1.21,90,"R5"]
[null,null,null,null,null,null,null,null,null,null,null,null,1.21,91,"R5"]
[null,null,null,null,null,null,null,null,null,null,null,null,1.21,92,"R5"]
[null,null,null,null,null,null,null,null,null,null,null,null,1.21,93,"R5"]
[null,null,null,null,null,null,null,null,null,null,null,null,1.21,94,"R6"]
[null,null,null,null,null,null,null,null,null,null,null,null,1.21,95,"R6"]
[null,null,null,null,null,null,null,null,null,null,null,null,1.21,96,"R6"]
[null,null,null,null,null,null,null,null,null,null,null,null,1.21,97,"R6"]
[null,null,null,null,null,null,null,null,null,null,null,null,1.21,98,"R6"]
[null,null,null,null,null,null,null,null,null,null,null,null,1.21,99,"R6"]
[null,null,null,null,null,null,null,null,null,null,null,null,1.21,100,"R6"]
[null,null,null,null,null,null,null,null,null,null,null,null,1.21,101,"R6"]
[null,null,null,null,null,null,null,null,null,null,null,null,{"$f":"1.21-0.04","v":1.17},102,"R6",1.21,0.99,{"$f":"+P226-Q226","v":0.21999999999999997},{"$f":"+R226/6","v":3.666666666666666E-2}]
[null,null,null,null,null,null,null,null,null,null,null,null,{"$f":"+M226-0.04","v":1.1299999999999999},103,"R6"]
[null,null,null,null,null,null,null,null,null,null,null,null,{"$f":"+M227-0.04","v":1.0899999999999999},104,"R7"]
[null,null,null,null,null,null,null,null,null,null,null,null,{"$f":"+M228-0.04","v":1.0499999999999998},105,"R7"]
[null,null,null,null,null,null,null,null,null,null,null,null,{"$f":"+M229-0.04","v":1.0099999999999998},106,"R7"]
[null,null,null,null,null,null,null,null,null,null,null,null,0.99,107,"R7"]
[null,null,null,null,null,null,null,null,null,null,null,null,0.99,108,"R7"]
[null,null,null,null,null,null,null,null,null,null,null,null,0.99,109,"R7"]
[null,null,null,null,null,null,null,null,null,null,null,null,0.99,110,"R7"]
[null,null,null,null,null,null,null,null,null,null,null,null,0.99,111,"R7"]
[null,null,null,null,null,null,null,null,null,null,null,null,0.99,112,"R7"]
[null,null,null,null,null,null,null,null,null,null,null,null,0.99,113,"R7"]
[null,null,null,null,null,null,null,null,null,null,null,null,0.99,114,"R7"]
[null,null,null,null,null,null,null,null,null,null,null,null,0.99,115,"R7"]
[null,null,null,null,null,null,null,null,null,null,null,null,0.99,116,"R7"]
[null,null,null,null,null,null,null,null,null,null,null,null,0.2,117,"R8"]
[null,null,null,null,null,null,null,null,null,null,null,null,0.2,118,"R8"]

{"sheet":"Maury Vitosh Water Use","index":21,"n_rows":17,"n_cols":5,"rows_kept":17,"cut":false,"hidden":true,"merged":[]}
["Maury Vitosh"]
[]
[null,"VE",0.04]
[null,"VC",0.06]
[null,"V1",0.08]
[null,"V3",0.1]
[null,"V5",0.15]
[null,"R1",0.2]
[null,"R3",0.23]
[null,"R5",0.24]
[null,"R6",0.23]
[null,"R7",0.15]
[null,"R8",0.08]
[]
[null,"X","Y",null,"Water Use Inches Per Day"]
[]
[null,null,null,null,"Soybean Irrigation"]

{"sheet":"Sheet2","index":22,"n_rows":114,"n_cols":21,"rows_kept":114,"cut":false,"hidden":true,"merged":[]}
[null,"Pioneer GDD"]
[]
[null,"RM","Silk","BL"]
[null,96,1210,2320]
[null,96,1190,2340]
[null,97,1200,2300]
[null,97,1240,2270]
[null,97,1220,2330]
[null,98,1240,2370]
[null,100,1220,2400]
[null,101,1270,2450]
[null,102,1265,2460]
[null,104,1260,2470]
[null,105,1270,2470]
[null,106,1260,2550]
[null,108,1300,2680]
[null,108,1330,2680]
[null,108,1380,2650]
[]
[]
[]
[]
[]
[]
[null,"From 2011 Nielsen"]
[null,"BL",null,"Vt"]
[95,{"$f":"26.36*A27-256.93","v":2247.27},null,1125,null,null,null,null,null,null,null,null,null,null,null,null,"y=","28.75*x + 2219.3"]
[96,{"$f":"26.36*A28-256.93","v":2273.63},null,1137]
[97,2299.9900000000002,null,1150,null,null,null,null,null,null,null,null,null,null,null,null,1,{"$f":"28.75*Q29+2219.3","v":2248.0500000000002}]
[98,2326.35,null,1163,null,null,null,null,null,null,null,null,null,null,null,null,2,{"$f":"28.75*Q30+2219.3","v":2276.8000000000002}]
[99,2352.71,null,1176,null,null,null,null,null,null,null,null,null,null,null,null,3,2305.5500000000002]
[100,2379.0700000000002,null,1190,null,null,null,null,null,null,null,null,null,null,null,null,4,2334.3000000000002]
[101,2405.4300000000003,null,1203,null,null,null,null,null,null,null,null,null,null,null,null,5,2363.0500000000002]
[102,2431.79,null,1216,null,null,null,null,null,null,null,null,null,null,null,null,6,2391.8000000000002]
[103,2458.15,null,1229,null,null,null,null,null,null,null,null,null,null,null,null,7,2420.5500000000002]
[104,2484.5100000000002,null,1242,null,null,null,null,null,null,null,null,null,null,null,null,8,2449.3000000000002]
[105,2510.87,null,1250,null,null,null,null,null,null,null,null,null,null,null,null,9,2478.0500000000002]
[106,2537.23,null,1267,null,null,null,null,null,null,null,null,null,null,null,null,11,2535.5500000000002]
[107,2563.59,null,1282,null,null,null,null,null,null,null,null,null,null,null,null,12,2564.3000000000002]
[108,2589.9500000000003,null,1295,null,null,null,null,null,null,null,null,null,null,null,null,13,2593.0500000000002]
[109,2616.31,null,1308,null,null,null,null,null,null,null,null,null,null,null,null,14,2621.8]
[110,2642.67,null,1321]
[111,2669.03,null,1335]
[112,2695.39,null,1350," "]
[113,2721.75,null,1361," "," ",null," "]
[114,2748.11,null,1375]
[]
[]
[]
[]
[null,95,96,97,98,99,100,101,102,103,104,105,106,107,108,109,110,111,112,113,114]
["VE ",115,115,115,115,115,115,115,115,115,115,115,115,115,115,115,115,115,115,115,115]
["V1",{"$f":"+B52+82","v":197},{"$f":"+D53*$J$74","v":130.89060543208819},132.28098736261089,133.68613858773912,135.106215993907,136.54137813407058,137.99178524541043,139.45759926722218,140.93898385899735,142.43610441869598,143.94912810121343,145.47822383704352,147.02356235113962,148.58531618197634,150.16365970081358,151.75876913116531,153.37082256847495,155,{"$f":"+T52+82","v":197}]
["V2",279,{"$f":"+B54+0.9","v":279.89999999999998},{"$f":"+C54+0.9","v":280.79999999999995},281.69999999999993,282.59999999999991,283.49999999999989,284.39999999999986,285.29999999999984,286.19999999999982,287.0999999999998,287.99999999999977,288.89999999999975,289.79999999999973,290.6999999999997,291.59999999999968,292.49999999999966,293.39999999999964,235,279]
["V3",361,{"$f":"+B55+0.9","v":361.9},362.79999999999995,363.69999999999993,364.59999999999991,365.49999999999989,366.39999999999986,367.29999999999984,368.19999999999982,369.0999999999998,369.99999999999977,370.89999999999975,371.79999999999973,372.6999999999997,373.59999999999968,374.49999999999966,375.39999999999964,315,361]
["V4",443,443.9,444.79999999999995,445.69999999999993,446.59999999999991,447.49999999999989,448.39999999999986,449.29999999999984,450.19999999999982,451.0999999999998,451.99999999999977,452.89999999999975,453.79999999999973,454.6999999999997,455.59999999999968,456.49999999999966,457.39999999999964,395,443]
["V5",525,525.9,526.79999999999995,527.69999999999993,528.59999999999991,529.49999999999989,530.39999999999986,531.29999999999984,532.19999999999982,533.0999999999998,533.99999999999977,534.89999999999975,535.79999999999973,536.6999999999997,537.59999999999968,538.49999999999966,539.39999999999964,475,525]
["V6",607,607.9,608.79999999999995,609.69999999999993,610.59999999999991,611.49999999999989,612.39999999999986,613.29999999999984,614.19999999999982,615.0999999999998,615.99999999999977,616.89999999999975,617.79999999999973,618.6999999999997,619.59999999999968,620.49999999999966,621.39999999999964,555,607]
["V7",689,689.9,690.8,691.69999999999993,692.59999999999991,693.49999999999989,694.39999999999986,695.29999999999984,696.19999999999982,697.0999999999998,697.99999999999977,698.89999999999975,699.79999999999973,700.6999999999997,701.59999999999968,702.49999999999966,703.39999999999964,635,689]
["V8",771,771.9,772.8,773.69999999999993,774.59999999999991,775.49999999999989,776.39999999999986,777.29999999999984,778.19999999999982,779.0999999999998,779.99999999999977,780.89999999999975,781.79999999999973,782.6999999999997,783.59999999999968,784.49999999999966,785.39999999999964,715,771]
["V9",853,853.9,854.8,855.69999999999993,856.59999999999991,857.49999999999989,858.39999999999986,859.29999999999984,860.19999999999982,861.0999999999998,861.99999999999977,862.89999999999975,863.79999999999973,864.6999999999997,865.59999999999968,866.49999999999966,867.39999999999964,795,853]
["V10",935,935.9,936.8,937.69999999999993,938.59999999999991,939.49999999999989,940.39999999999986,941.29999999999984,942.19999999999982,943.0999999999998,943.99999999999977,944.89999999999975,945.79999999999973,946.6999999999997,947.59999999999968,948.49999999999966,949.39999999999964,845,935]
["V11",{"$f":"+B62+50","v":985},null,null,null,895,{"$f":"+F63-F62","v":-43.599999999999909},null,null,null,null,null,null,null,null,null,null,null,895,{"$f":"+T62+50","v":985}]
["V12",{"$f":"+B63+50","v":1035},null,null,null,945,50,null,null,null,null,null,null,null,null,null,null,null,945,{"$f":"+T63+50","v":1035}]
["V13",1085,null,null,null,995,50,null,null,null,null,null,null,null,null,null,null,null,995,1085]
["V14",1135,null,null,null,1045,50,null,null,null,null,null,null,null,null,null,null,null,1045,1135]
["V15",1185,null,null,null,1095,50,null,null,null,null,null,null,null,null,null,null,null,1095,1185]
["V16",1235,null,null,null,1140,45,null,115,1125," ",{"$f":"+J68-I68","v":1010},{"$f":"+L68/17","v":59.411764705882355},null,null,null,null,null,1140,1235]
["V17",1285,null,null,null,1180,40,null,null,null,null,null,null,null,null,null,null,null,1180,1285]
["V18",1335,null,null,null,1220,40,null,null,null,null,null,null,null,null,null,null,null,1220,1335]
["Vt",{"$f":"+D27","v":1125},{"$f":"+D28","v":1137},{"$f":"+D29","v":1150},{"$f":"+D30","v":1163},{"$f":"+D31","v":1176},{"$f":"+D32","v":1190},{"$f":"+D33","v":1203},{"$f":"+D34","v":1216},{"$f":"+D35","v":1229},{"$f":"+D36","v":1242},{"$f":"+D37","v":1250},{"$f":"+D38","v":1267},{"$f":"+D39","v":1282},{"$f":"+D40","v":1295},{"$f":"+D41","v":1308},{"$f":"+D42","v":1321},{"$f":"+D43","v":1335},{"$f":"+D44","v":1350},1385,{"$f":"+D46","v":1375}]
["R1",null,{"$f":"+B71/C71","v":0.98944591029023743},{"$f":"+C71/D71","v":0.98869565217391309},{"$f":"+D71/E71","v":0.98882201203783315},1400,{"$f":"+F71/G71","v":0.9882352941176471},0.98919368246051542,0.98930921052631582,0.98942229454841335,0.98953301127214166,0.99360000000000004,0.98658247829518553,0.98829953198127929,0.98996138996138994,0.99006116207951067,0.99015897047691148,0.98951310861423225,1400]
["R2",null,null,null,null,1660,null,null,null,null,null,null,null,null,null,null,null,null,1660]
["R3",null,null,null,null,1925,null,null,null,{"$f":"AVERAGE(G72:R72)","v":0.98948917786112867},null,0.83,null,null,null,null,null,null,1925]
["R4",null,null,null,null,2190,null,null,null,null,null,null,null,null,null,null,null,null,2190]
["R5",null,null,null,null,2450,null,null,null,null,null,null,null,null,null,null,null,null,2450]
["R6",null,null,null,null,2700,null,null,null,null,null,null,null,null,null,null,null,null,2700]
[]
[]
[]
[]
[]
[]
[]
[]
[]
[]
[]
[null,null,{"$f":"21/24","v":0.875}]
[]
[]
[null,null,0.9]
[]
[]
[]
[]
[]
[]
[]
[]
[]
[]
[]
[]
[]
[]
[]
[]
[]
[]
[]
[]
[]
[null,null,null,null,"22 GDD's "]

{"sheet":"Help","index":23,"n_rows":180,"n_cols":1,"rows_kept":180,"cut":false,"hidden":true,"merged":[]}
["Contents  (Draft)"]
["Introduction"]
["           Use"]
["           Color Scheme & Layout of workbook & layout of spreadsheet"]
["Calculations Worksheet"]
["           User Entered Data"]
["           Buttons (Macros & Hotkeys)"]
["           Definitions of Each Column"]
["           Definitions of the Sums at the Bottom"]
["Soil Moisture Graph"]
["           Legend"]
["           Use"]
["Cumulative Data Graph"]
["           Legend"]
["           Use"]
["Table1 Worksheet"]
["Caluations Worksheet"]
["Crop & Soil Tables Worksheet"]
["Making Adjustments to my Spreadsheet"]
["Troubleshooting"]
["Contact Us"]
[]
["Introduction"]
["Use"]
["This spreadsheet is intended for use as a practical irrigation scheduling method. It will fulfill GAAMP requirements. The spreadsheet will require you to know the following:"]
["     ●  approximate growing season length"]
["     ●  emergence date of crop"]
["     ●  crop type (and rooting depth)"]
["     ●  predominant soil type or water capacity of soil at 8 depths"]
["     ●  initial soil AW capacity"]
["     ●  amount being applied when irrigating"]
["     ●  daily rainfall"]
["     ●  minimum desired percent available water"]
["     ●  potential evapotranspiration"]
[]
["You will get:"]
["     ●  approximate inches of available water in root zone each day"]
["     ●  percent available water in root zone each day"]
["     ●  approximate amount draining out of root zone"]
["     ●  additional capacity of root zone"]
["     ●  projected potential evapotranspiration"]
["     ●  projected evapotranspiration"]
[]
["     ●  alerted when soil AW falls below your selected percentage"]
[]
["     ●  total amount of rainfall throughout growing season"]
["     ●  total amount of irrigation added throughout growing season"]
["     ●  the average percent available water throughout the growing season filled (percent)"]
["     ●  total drainage"]
[]
["     ●  graph relating max/min AW and actual AW w/ projected AW"]
["     ●  daily rainfall/irrigation/drainage against cumulative r,i,r+i & ET"]
[]
["This system is not a substitute for actually being out in the fields, it is not fool proof and may need to be reset on occasion."]
[]
["Color Scheme & Layout of workbook & layout of spreadsheet"]
["There is one page which has all of your interaction/entering and the majority of your results. Two pages with graphs, a sheet to help you fill in soil AW values if you have no idea where to start, a sheet that the workbook uses to make its calculations (protect this), and a sheet that stores all the crop rooting depth, evaporation coefficient and soil AW values for the program."]
[]
["The light yellow areas define everything that you will need to fill in. Dark yellow areas are generally column/row headings and dark green areas give additional information – not exactly true. The row of buttons on the top right will help fill in some of the more tedious columns after you have entered in the data to set up your field. All the data to enter is between rows 10 and 15 or in columns C and E.  All the output on this page is entered in columns G through O and row 160."]
["Back to Top"]
[]
["Calculations Worksheet"]
["User Entered Data"]
["The first thing to do is set up a spreadsheet for your field. Make sure the columns that the computer is going to help you fill in are empty by clicking the clear columns button. Note, this will clear only the columns that there are buttons to replace, the soil AW row, the date, the rooting depth and the canopy cover. This is to prevent fields with a shorter growing season from being set overtop and merging with fields with a longer growing season if the same spreadsheet is used. Note it will not delete rain, irrigation or potential evapotranspiration data. If this is desired, it must be done by clicking on one cell, and dragging the mouse til the desired area is highlighted and selecting 'Edit' and then 'Delete' from the menu bar on top."]
[]
["You can name your field, and record the crop being grown for your own purposes in the top left corner of the spreadsheet."]
[]
["First select the soil type that is dominant in your field from the drop down list in cell P10. If you don't find the soil you are looking for e-mail us and you can look up the AW here and enter it yourself.  Fill in the values by clicking on the 'Fill in Soil Capacity' button. Alternately you may choose to measure your AW values yourself and just enter them into cells B12 through I12."]
[]
["Now you need the initial percent of available water in the soil. The best way to do this is to assume it starts around 95% right after a rainy spell or irrigation. So just enter 95% for each depth."]
[]
["Enter the amount of water your irrigation system applies, in inches, in cell F15. The program will not use this, but it will be good to remember so you don't have to measure it again."]
[]
["In cell L15 enter the percentage of AW at which you would like to be a minimum/irrigate. This can be as low as 50% although since irrigation is not instantaneous it should probably be set higher, like around 60% to prevent any yield loss."]
[]
["In cells P11, P12 and P13 select your crop type, the approximate length of your growing season and the crop's emergence date. Note, the scheduler will not function accurately if you are too far off on crop's emergence date or growing season length."]
[]
["You can now fill in the date column, the rooting depth column and the canopy cover coefficient column by clicking the 'Fill in Date', 'Fill in Root Depth' and 'Fill in Canopy Cover' buttons respectively."]
[]
["The only other data you will need to provide are the things to be filled out on a daily basis: rainfall which should be measured, irrigation added, and potential ET which may be found at:"]
["http://www.agweather.geo.msu.edu/mawn/irrigation/"]
[]
["Macro buttons (including hotkeys)"]
["For those curious about the buttons. The buttons are used to run small programs saved in Excel written in Visual Basic called macros. Macros must be enabled when the file is opened in order to function, if you are having a problem working them please see Troubleshooting – my buttons don't work. They may be accessed and edited by going to Tools, Macros, Macros. Warning, changing anything may prevent the buttons from functioning. There are also hotkeys to activate each macro which may be used instead of the buttons."]
[]
["'Clear Columns'                                             CTRL+Shift+L"]
["'Fill in Soil Capacity'                                     CTRL+Shift+S"]
["'Fill in Date'                                                    CTRL+Shift+D"]
["'Fill in Root Depth'                                         CTRL+Shift+R"]
["'Fill in Canopy Cover'                                    CTRL+Shift+C"]
[]
["Definitions of Each Column"]
["Root Depth: This is the approximate depth, in inches, that the roots of your crop will have reached at this date. It is important because the deeper the roots grow, the more access they have to water because of the increased soil."]
[]
["Rainfall & Irrigation Columns: These are where you add the amount, in inches, of rainfall and/or irrigation that your crops receive on a particular date."]
[]
["Potential ET: This column contains the reference ET for the day which may be found at:"]
["http://www.agweather.geo.msu.edu/mawn/irrigation/"]
[]
["% Canopy Cover (Kc): This column includes the coefficient that is going to be used to calculate your crop's evapotranspiration based off of the potential ET."]
[]
["ET modified for crop: This column is the product of the Potential ET and % Canopy Cover columns. It gives an estimate of the amount of water, in inches, used by the crop during a given day."]
[]
["Capacity of the Root Zone: This gives the maximum amount of water, in inches, that can be held in the soil within the rooted area. This column is based off of the soil AW row and the root depth column."]
[]
["Available Water in Root Zone: This is the actual amount of water, in inches, available to the plant. For example, if the soil is 90% saturated and the Capacity of the root zone is 1 inch, then this value would be 0.9 inches."]
[]
["Definitions of the Sums at the Bottom"]
["At the bottom of all the above mentioned columns there are areas which sum and give you cumulative information about your growing season. The information provided is: total amount of rainfall throughout growing season, total amount of irrigation added throughout growing season, average? percent filled, total drainage"]
["Back to Top"]
[]
["Soil Moisture Graph"]
["Legend"]
["This graph displays the following:"]
["     ●  each day's rainfall in inches"]
["     ●  the irrigation added each day in inches"]
["     ●  the amount of water lost from the root zone by drainage each day, in inches"]
["     ●  the maximum capacity that the root zone has to hold water, in inches"]
["     ●  the percent capacity that you entered as the minimum amount you wanted your crops to"]
["          reach, in inches"]
["     ●  the amount of available water in the root zone each day, in inches"]
["     ●  the projected available water for the next five days, in inches - should say what this is"]
["          based  on"]
[]
["Use"]
["This graph is useful in that it gives a visual display of a range to keep soil AW values between, your AW values, and predicted AW values. In addition, you can see the rainfall, irrigation and drainage for the day on the same scale."]
["Back to Top"]
[]
["Cumulative Data Graph"]
["Legend"]
["This graph displays the following:"]
["     ●  each day's rainfall in inches"]
["     ●  the irrigation added each day in inches"]
["     ●  the amount of water lost from the root zone by drainage each day, in inches"]
["     ●  the cumulative amount of evapotransppiration by the crops throughout the growing"]
["          season, in inches"]
["     ●  the cumulative amount of rainfall during the growing season, in inches"]
["     ●  the cumulative amount of irrigation applied during the growing season, in inches"]
["     ●  the cumulative amount of both rainfall and irrigation during the growing season, in"]
["          inches"]
[]
["Use"]
["This graph provides a visual comparison of the amounts of water added to and used by your crops in both daily terms and cumulative terms for the season."]
["Back to Top"]
[]
["Table1 Worksheet"]
["If you don't know the name of your soil type, you could go out to the field and determine the general type: sand, clay etc. Then use this table to pick your values. Use the same given value for every depth."]
["Back to Top"]
[]
["Caluations Worksheet"]
["This worksheet is protected, which means you will not be able to make changes to it."]
[]
["The cells in columns A through E are used by the two graphs to perform calculations and store data.  The cells in columns F through J are used for the same ppurposes by the calculations worksheet."]
["Back to Top"]
[]
["Crop & Soil Tables Worksheet"]
["This worksheet holds the values for soil AW capacity, crop canopy cover and crop root depth.  This worksheet is protected and you will not be able to make changes to it."]
["Back to Top"]
[]
["Making Adjustments to my Spreadsheet"]
["If you went out to your field, measured the soil available water and found it was significantly different than what the spreadsheet says that it should be, it is possible to make adjustments to get back on track.  You will have to make the changes in the column labeled 'Available Water in root zone (inches)' (column I).  If you measured a percent capacity, just multiply it by the 'Capacity' column (column H) to get the value in inches that you can use in column I.  This will update the necessary fields and allow you to continue using the scheduler."]
[]
["After using this method to update the scheduler, the formulas that were in column I are no longer there.  To start a new field, you should dowload a new copy of the spreadsheet."]
["Back to Top"]
[]
["Troubleshooting"]
["Although we have tried to protect areas of this workbook that are prone causing problems if accidentally changed, you may find that something has occurred and your spreadsheet is no longer functioning correctly.  The best solution to this problem is to dowload a new version of the spreadsheet online.  Keep your old spreadsheet though, you can copy and paste rainfall and irrigation values over into the new spreadsheet rather than having to reenter them."]
[]
["If the buttons are not functioning properly, you may have macros disabled in your spreadsheet.  To turn macros on:"]
["     ●  Go to the menu bar up top and select 'Tools', then 'Macro' and then 'Security'."]
["     ●  Under the 'Security Level' tab, change the setting to 'Low'."]
["     ●  You will now have to exit Excel, and reopen the spreadsheet before the macros will"]
["          work."]
[]
["If for some reason the macro gets stuck and does not stop running, you may end it by pressing the escape key [ESC] on your keyboard.  You will now want to start over with a fresh copy of the spreadsheet.  If the problem happens again, it is either a bug in the spreadsheet or that you are asking something of the spreadsheet that we did not anticipate.  In this case please contact us.  Another thing that will cause the macros to function improperly is if your growing season is shorter than 11 days or longer than 138 days."]
["Back to Top"]
[]
["Contact Us"]
["Questions?  E-mail them to:"]
["Back to Top"]

{"sheet":"C_Sheet","index":24,"n_rows":1,"n_cols":3,"rows_kept":1,"cut":false,"hidden":true,"merged":[]}
[null,null,"Run the Update Routine? - Call from multiple report generation"]

{"sheet":"Use_Report","index":25,"n_rows":37,"n_cols":11,"rows_kept":37,"cut":false,"hidden":false,"merged":[]}
[]
[]
[]
[null,{"$f":"TODAY()","v":"2020-08-21"}]
[]
[null,"Field:",null,{"$f":"ScheduleSetup!C2","v":"Home S"},null,null,null,"Crop:",{"$f":"ScheduleSetup!P6","v":"Corn36"}]
[]
[null,"Emergence Date:",null,{"$f":"ScheduleSetup!P8","v":"2020-05-28"},null,null,null,"Irrigated Acres:",{"$f":"ScheduleSetup!P10","v":138}]
[null,null,null,null,null,"Irrigation Water Applied"]
[null,"Month",null,"Inches",null,"Acre Inches",null,"Gallons",null,null,"Percent"]
[]
[null,"April",null,0,null,0,null,0,null,null,{"$f":"IF(H12>0,H12/$H$24,0)","v":0}]
[null,null,null,null,null," ",null," "]
[null,"May",null,0,null,0,null,0,null,null,{"$f":"IF(H14>0,H14/$H$24,0)","v":0}]
[null,null,null,null,null," ",null," "]
[null,"June",null,0,null,0,null,0,null,null,{"$f":"IF(H16>0,H16/$H$24,0)","v":0}]
[null,null,null,null,null," ",null," "]
[null,"July",null,0,null,0,null,0,null,null,{"$f":"IF(H18>0,H18/$H$24,0)","v":0}]
[null,null,null,null,null," ",null," "]
[null,"August",null,0,null,0,null,0,null,null,{"$f":"IF(H20>0,H20/$H$24,0)","v":0}]
[null,null,null,null,null," ",null," "]
[null,"September",null,0,null,0,null,0,null,null,{"$f":"IF(H22>0,H22/$H$24,0)","v":0}]
[null,null,null," ",null," ",null," "]
[null,"Total",null,{"$f":"SUM(D11:D22)","v":0},null,{"$f":"SUM(F12:F22)","v":0},null,{"$f":"SUM(H12:H22)","v":0},null,null,{"$f":"SUM(K11:K22)","v":0}]
[]
[]
[]
[null,"Month",null,null,null,"Rainfall Received During Scheduling Period"]
[null,null,null,"Rainfall",null,null,"Est. Drainage/Recharge",null,"Irrigation ",null,"Rain + Irrig."]
[null,"April",null,0.43000000000000005,null,null,5.1031249999999598E-2,null,{"$f":"+D12","v":0}]
[null,"May ",null,4.7699999999999996,null,null,3.481299583333334,null,{"$f":"+D14","v":0}]
[null,"June",null,0,null,null,0,null,{"$f":"+D16","v":0}]
[null,"July",null,0,null,null,0,null,{"$f":"+D18","v":0}]
[null,"August",null,0,null,null,0,null,{"$f":"+D20","v":0}]
[null,"September",null,0,null,null,0,null,{"$f":"+D22","v":0}]
[]
[null,"Total",null,5.1999999999999993,null,null,3.5323308333333334,null,{"$f":"SUM(I30:I36)","v":0},null,{"$f":"+D37+I37","v":5.1999999999999993}]

{"sheet":"GDD_Base","index":26,"n_rows":174,"n_cols":4,"rows_kept":174,"cut":false,"hidden":true,"merged":[]}
["charlotte"]
["growing degree-day data [base: 50]"]
[null,null,null,"Base GDD Curve for Mid Michigan"]
["date"]
["2020-04-15",1]
["2020-04-16",1]
["2020-04-17",1]
["2020-04-18",1]
["2020-04-19",1]
["2020-04-20",1]
["2020-04-21",1]
["2020-04-22",1]
["2020-04-23",2]
["2020-04-24",2]
["2020-04-25",2]
["2020-04-26",3]
["2020-04-27",3]
["2020-04-28",4]
["2020-04-29",4]
["2020-04-30",5]
["2020-05-01",5]
["2020-05-02",6]
["2020-05-03",6]
["2020-05-04",6]
["2020-05-05",7]
["2020-05-06",7]
["2020-05-07",7]
["2020-05-08",8]
["2020-05-09",8]
["2020-05-10",9]
["2020-05-11",9]
["2020-05-12",10]
["2020-05-13",10]
["2020-05-14",10]
["2020-05-15",11]
["2020-05-16",11]
["2020-05-17",12]
["2020-05-18",12]
["2020-05-19",12]
["2020-05-20",13]
["2020-05-21",13]
["2020-05-22",13]
["2020-05-23",14]
["2020-05-24",14]
["2020-05-25",14]
["2020-05-26",15]
["2020-05-27",15]
["2020-05-28",15]
["2020-05-29",15]
["2020-05-30",16]
["2020-05-31",16]
["2020-06-01",16]
["2020-06-02",16]
["2020-06-03",17]
["2020-06-04",17]
["2020-06-05",17]
["2020-06-06",18]
["2020-06-07",18]
["2020-06-08",18]
["2020-06-09",19]
["2020-06-10",19]
["2020-06-11",19]
["2020-06-12",19]
["2020-06-13",20]
["2020-06-14",20]
["2020-06-15",20]
["2020-06-16",20]
["2020-06-17",20]
["2020-06-18",20.5]
["2020-06-19",20.5]
["2020-06-20",20.5]
["2020-06-21",21]
["2020-06-22",21]
["2020-06-23",21]
["2020-06-24",21]
["2020-06-25",21]
["2020-06-26",21]
["2020-06-27",21]
["2020-06-28",22]
["2020-06-29",22]
["2020-06-30",22]
["2020-07-01",22]
["2020-07-02",22]
["2020-07-03",22]
["2020-07-04",22]
["2020-07-05",22]
["2020-07-06",22]
["2020-07-07",22]
["2020-07-08",22.5]
["2020-07-09",22.5]
["2020-07-10",22.5]
["2020-07-11",22.5]
["2020-07-12",22.5]
["2020-07-13",22.5]
["2020-07-14",22.5]
["2020-07-15",22.5]
["2020-07-16",22.5]
["2020-07-17",22.5]
["2020-07-18",22.5]
["2020-07-19",22.5]
["2020-07-20",22.5]
["2020-07-21",22.5]
["2020-07-22",22.5]
["2020-07-23",22.5]
["2020-07-24",22.5]
["2020-07-25",22.5]
["2020-07-26",22]
["2020-07-27",22]
["2020-07-28",22]
["2020-07-29",22]
["2020-07-30",22]
["2020-07-31",22]
["2020-08-01",22]
["2020-08-02",22]
["2020-08-03",22]
["2020-08-04",21]
["2020-08-05",21]
["2020-08-06",21]
["2020-08-07",21]
["2020-08-08",21]
["2020-08-09",21]
["2020-08-10",20]
["2020-08-11",20]
["2020-08-12",20]
["2020-08-13",20]
["2020-08-14",20]
["2020-08-15",20]
["2020-08-16",19]
["2020-08-17",19]
["2020-08-18",19]
["2020-08-19",19]
["2020-08-20",19]
["2020-08-21",19]
["2020-08-22",19]
["2020-08-23",18]
["2020-08-24",18]
["2020-08-25",18]
["2020-08-26",18]
["2020-08-27",18]
["2020-08-28",17]
["2020-08-29",17]
["2020-08-30",17]
["2020-08-31",17]
["2020-09-01",16]
["2020-09-02",16]
["2020-09-03",16]
["2020-09-04",16]
["2020-09-05",15]
["2020-09-06",15]
["2020-09-07",15]
["2020-09-08",15]
["2020-09-09",14]
["2020-09-10",14]
["2020-09-11",13]
["2020-09-12",13]
["2020-09-13",12]
["2020-09-14",12]
["2020-09-15",11]
["2020-09-16",11]
["2020-09-17",10]
["2020-09-18",10]
["2020-09-19",10]
["2020-09-20",9]
["2020-09-21",9]
["2020-09-22",9]
["2020-09-23",9]
["2020-09-24",8]
["2020-09-25",8]
["2020-09-26",8]
["2020-09-27",7]
["2020-09-28",7]
["2020-09-29",6]
["2020-09-30",6]
[null,2565.5]

{"sheet":"SoyPicts","index":27,"n_rows":430,"n_cols":1,"rows_kept":430,"cut":false,"hidden":false,"merged":[]}
[]
["Vegetative Stages "]
["From Iowa State University"]
[]
[]
[]
[]
[]
[]
[]
[]
[]
[]
[]
[]
[]
[]
[]
[]
[]
[]
[]
[]
[]
[]
[]
[]
[]
[]
[" "]
[]
[]
[]
[]
[]
[]
[]
[]
[]
[]
[]
[]
[]
[]
[]
[]
[]
[]
[]
[]
[]
[]
[]
[]
[]
[]
[]
[]
[]
[]
[]
[]
[]
[]
[]
[]
[]
[]
[]
[]
[]
[]
[]
[]
[]
[]
[]
[]
[]
[]
[]
[]
[]
[]
[]
[]
[]
[]
[]
[]
[]
[]
[]
[]
[]
[]
[]
[]
[]
[]
[]
[]
[]
[]
[]
[]
[]
[]
[]
[]
[]
[]
[]
[]
[]
[]
[]
[]
[]
[]
[]
[]
[]
[]
[]
[]
[]
[]
[]
[]
[]
[]
[]
[]
[]
[]
[]
[]
[]
[]
[]
[]
[]
[]
[]
[]
[]
[]
[]
[]
[]
[]
[]
[]
[]
[]
[]
[]
[]
[]
[]
[]
[]
[]
[]
[]
[]
[]
[]
[]
[]
[]
[]
[]
[]
[]
[]
[]
[]
[]
[]
[]
[]
[]
[]
[]
[]
[]
[]
[]
[]
[]
[]
[]
[]
[]
[]
[]
[]
[]
[]
[]
[]
[]
[]
[]
[]
[]
[]
[]
[]
[]
[]
[]
[]
[]
[]
[]
[]
[]
[]
[]
[]
[]
[]
[]
[]
[]
[]
[]
[]
[]
[]
[]
[]
[]
[]
[]
[]
[]
[]
[]
[]
[]
[]
[]
[]
[]
[]
[]
[]
[]
[]
[]
[]
[]
[]
[]
[]
[]
[]
[]
[]
[]
[]
[]
[]
[]
[]
[]
[]
[]
[]
[]
[]
[]
[]
[]
[]
[]
[]
[]
[]
[]
[]
[]
[]
[]
[]
[]
[]
[]
[]
[]
[]
[]
[]
[]
[]
[]
[]
[]
[]
[]
[]
[]
[]
[]
[]
[]
[]
[]
[]
[]
[]
[]
[]
[]
[]
[]
[]
[]
[]
[]
[]
[]
[]
[]
[]
[]
[]
[]
[]
[]
[]
[]
[]
[]
[]
[]
[]
[]
[]
[]
[]
[]
[]
[]
[]
[]
[]
[]
[]
[]
[]
[]
[]
[]
[]
[]
[]
[]
[]
[]
[]
[]
[]
[]
[]
[]
[]
[]
[]
[]
[]
[]
[]
[]
[]
[]
[]
[]
[]
[]
[]
[]
[]
[]
[]
[]
[]
[]
[]
[]
[]
[]
[]
[]
[]
[]
[]
[]
[]
[]
[]
[]
[]
[]
[]
[]
[]
[]
[]
[]
[]
[]
[]
[]
[]
[]
[]
[]
[]
[]
[]
[]
[]
[]
[]
["R7"]

{"sheet":"7_Day","index":28,"n_rows":53,"n_cols":79,"rows_kept":53,"cut":false,"hidden":false,"merged":[]}
["     St. Joseph County  Soil and Water Conservation District Irrigation Scheduling Service"]
["      Weekly Water Balance Report and Et Outlook for Next 5 Days"]
["Generated:","2019-08-09",null,null,null,"MSU Irrigation Scheduler"]
[]
["Field Name",null,null,null,{"$f":"ScheduleSetup!$C$2","v":"Home S"}]
["Crop:",null,null,null,null,null,{"$f":"ScheduleSetup!$P$6","v":"Corn36"}]
["Emergence Date:",null,null,null,null,null,{"$f":"ScheduleSetup!$P$8","v":"2020-05-28"}]
[]
[null,null,null,null,null,null,"AW Above","Additional",null,null,null,null,null,null,null,null,null,null,null,null,null,null,null,null,null,null,null,null,null,null,null,null,null,null,null,null,null,null,null,null,null,null,null,null,null,null,null,null,null,null,null,null,null,null,null,null,null,null,null,null,null,null,null,null,null,null,null,null,null,null,null,null,null,null,null,null,null,null,"Lower_Limit"]
["Date","Rainfall","Irrigation","Crop Et","Forecasted Et","Drainage","Threshold","Capacity",null,null,null,null,null,null,null,null,null,null,null,null,null,null,null,null,null,null,"% Filled","AW in Root Zone","RZ_Capacity",null,"Threshold Level","Additional Capacity",null,null,null,null,null,null,null,null,null,null,null,null,null,null,null,null,null,null,null,null,null,null,null,null,null,null,null,null,null,null,null,null,null,null,null,null,null,null,null,null,null,null,null,null,null,null,50]
["2019-07-31",0,null,0.2316,null,0,{"$f":"+AG11","v":1.0563000000000005},{"$f":"+AF11","v":0.15869999999999962},null,null,null,null,null,null,null,null,null,null,null,null,null,null,null,null,null,null,93.469135802469154,2.2713000000000005,2.4300000000000002,{"$f":"+AC11*((100-AE11)/100)","v":1.2150000000000001},50,0.15869999999999962,{"$f":"+AD11-AF11","v":1.0563000000000005},null,null,null,null,null,null,null,null,null,null,null,null,null,null,null,null,null,null,null,null,null,null,null,null,null,null,null,null,null,null,null,null,null,null,null,null,null,null,null,null,null,null,null,null,null,50]
["2019-08-01",0,null,0.17159999999999997,null,0,{"$f":"+AG12","v":0.88470000000000026},{"$f":"+AF12","v":0.33029999999999982},null,null,null,null,null,null,null,null,null,null,null,null,null,null,null,null,null,null,86.407407407407405,2.0997000000000003,2.4300000000000002,{"$f":"+AC12*((100-AE12)/100)","v":1.2150000000000001},50,0.33029999999999982,{"$f":"+AD12-AF12","v":0.88470000000000026},null,null,null,null,null,null,null,null,null,null,null,null,null,null,null,null,null,null,null,null,null,null,null,null,null,null,null,null,null,null,null,null,null,null,null,null,null,null,null,null,null,null,null,null,null,50]
["2019-08-02",0,null,0.24360000000000001,null,0,0.64110000000000023,0.57389999999999985,null,null,null,null,null,null,null,null,null,null,null,null,null,null,null,null,null,null,76.382716049382722,1.8561000000000003,2.4300000000000002,1.2150000000000001,50,0.57389999999999985,0.64110000000000023,null,null,null,null,null,null,null,null,null,null,null,null,null,null,null,null,null,null,null,null,null,null,null,null,null,null,null,null,null,null,null,null,null,null,null,null,null,null,null,null,null,null,null,null,null,50]
["2019-08-03",0.44,null,0.23880000000000001,null,0,0.84230000000000049,0.37269999999999959,null,null,null,null,null,null,null,null,null,null,null,null,null,null,null,null,null,null,84.662551440329239,2.0573000000000006,2.4300000000000002,1.2150000000000001,50,0.37269999999999959,0.84230000000000049,null,null,null,null,null,null,null,null,null,null,null,null,null,null,null,null,null,null,null,null,null,null,null,null,null,null,null,null,null,null,null,null,null,null,null,null,null,null,null,null,null,null,null,null,null,50]
["2019-08-04",0.15,null,0.23399999999999999,null,0,0.75830000000000042,0.45669999999999966,null,null,null,null,null,null,null,null,null,null,null,null,null,null,null,null,null,null,81.20576131687244,1.9733000000000005,2.4300000000000002,1.2150000000000001,50,0.45669999999999966,0.75830000000000042,null,null,null,null,null,null,null,null,null,null,null,null,null,null,null,null,null,null,null,null,null,null,null,null,null,null,null,null,null,null,null,null,null,null,null,null,null,null,null,null,null,null,null,null,null,50]
["2019-08-05",0.02,null,0.20639999999999997,null,0,0.57190000000000052,0.64309999999999956,null,null,null,null,null,null,null,null,null,null,null,null,null,null,null,null,null,null,73.534979423868336,1.7869000000000006,2.4300000000000002,1.2150000000000001,50,0.64309999999999956,0.57190000000000052,null,null,null,null,null,null,null,null,null,null,null,null,null,null,null,null,null,null,null,null,null,null,null,null,null,null,null,null,null,null,null,null,null,null,null,null,null,null,null,null,null,null,null,null,null,50]
["2019-08-06",0.49,null,0.19800000000000001,null,0,0.86390000000000033,0.35109999999999975,null,null,null,null,null,null,null,null,null,null,null,null,null,null,null,null,null,null,85.551440329218124,2.0789000000000004,2.4300000000000002,1.2150000000000001,50,0.35109999999999975,0.86390000000000033,null,null,null,null,null,null,null,null,null,null,null,null,null,null,null,null,null,null,null,null,null,null,null,null,null,null,null,null,null,null,null,null,null,null,null,null,null,null,null,null,null,null,null,null,null,50]
["2019-08-07",0,null,0.12719999999999998,null,0,0.73670000000000035,0.47829999999999973,null,null,null,null,null,null,null,null,null,null,null,null,null,null,null,null,null,null,80.316872427983554,1.9517000000000004,2.4300000000000002,1.2150000000000001,50,0.47829999999999973,0.73670000000000035,null,null,null,null,null,null,null,null,null,null,null,null,null,null,null,null,null,null,null,null,null,null,null,null,null,null,null,null,null,null,null,null,null,null,null,null,null,null,null,null,null,null,null,null,null,50]
["2019-08-08",0.11,null,0.21839999999999998,null,0,0.62830000000000052,0.58669999999999956,null,null,null,null,null,null,null,null,null,null,null,null,null,null,null,null,null,null,75.855967078189323,1.8433000000000006,2.4300000000000002,1.2150000000000001,50,0.58669999999999956,0.62830000000000052,null,null,null,null,null,null,null,null,null,null,null,null,null,null,null,null,null,null,null,null,null,null,null,null,null,null,null,null,null,null,null,null,null,null,null,null,null,null,null,null,null,null,null,null,null,50]
["2019-08-09",null,null,0.23039999999999999,null,0,0.39790000000000059,0.81709999999999949,null,null,null,null,null,null,null,null,null,null,null,null,null,null,null,null,null,null,66.374485596707842,1.6129000000000007,2.4300000000000002,1.2150000000000001,50,0.81709999999999949,0.39790000000000059,null,null,null,null,null,null,null,null,null,null,null,null,null,null,null,null,null,null,null,null,null,null,null,null,null,null,null,null,null,null,null,null,null,null,null,null,null,null,null,null,null,null,null,null,null,50]
["2019-08-10",null,null,null,0.1812,0,0.21670000000000056,0.99829999999999952,null,null,null,null,null,null,null,null,null,null,null,null,null,null,null,null,null,null,58.917695473251051,1.4317000000000006,2.4300000000000002,1.2150000000000001,50,0.99829999999999952,0.21670000000000056,null,null,null,null,null,null,null,null,null,null,null,null,null,null,null,null,null,null,null,null,null,null,null,null,null,null,null,null,null,null,null,null,null,null,null,null,null,null,null,null,null,null,null,null,null,50]
["2019-08-11",null,null,null,0.192,0,2.470000000000061E-2,1.1902999999999995,null,null,null,null,null,null,null,null,null,null,null,null,null,null,null,null,null,null,51.016460905349817,1.2397000000000007,2.4300000000000002,1.2150000000000001,50,1.1902999999999995,2.470000000000061E-2,null,null,null,null,null,null,null,null,null,null,null,null,null,null,null,null,null,null,null,null,null,null,null,null,null,null,null,null,null,null,null,null,null,null,null,null,null,null,null,null,null,null,null,null,null,50]
["2019-08-12",null,null,null,0.16919999999999999,0,-0.14449999999999941,1.3594999999999995,null,null,null,null,null,null,null,null,null,null,null,null,null,null,null,null,null,null,44.053497942386855,1.0705000000000007,2.4300000000000002,1.2150000000000001,50,1.3594999999999995,-0.14449999999999941,null,null,null,null,null,null,null,null,null,null,null,null,null,null,null,null,null,null,null,null,null,null,null,null,null,null,null,null,null,null,null,null,null,null,null,null,null,null,null,null,null,null,null,null,null,50]
["2019-08-13",null,null,null,0.1608,0,-0.30529999999999946,1.5202999999999995,null,null,null,null,null,null,null,null,null,null,null,null,null,null,null,null,null,null,37.43621399176957,0.90970000000000062,2.4300000000000002,1.2150000000000001,50,1.5202999999999995,-0.30529999999999946]
[" ",null,null,null,null,null," ",null,null,null,null,null,null,null,null,null,null,null,null,null,null,null,null,null,null,null,null,2.1911692499999997]
[]
["Totals",{"$f":"SUM(B11:B26)","v":1.2100000000000002},{"$f":"SUM(C11:C26)","v":0},{"$f":"SUM(D11:D19)","v":1.8695999999999999},{"$f":"SUM(E20:E24)","v":0.70320000000000005},{"$f":"SUM(F11:F24)","v":0}]
[]
[]
[]
[]
[]
[]
[]
[]
[]
[]
[]
[]
[]
[]
[]
[]
[]
[]
[]
[]
[]
[]
[]
["Please note: projected values do not include forecasted rainfall, only the outlook Et values."]
["Irrigation Threshold:  Dropping below this level may cause yield loss. To avoid, initiate irrigation."]
["Enviroweather Station Selected:",null,null,{"$f":"ScheduleSetup!$P$9","v":"Coldwater"}]

{"sheet":"Entry","index":30,"n_rows":165,"n_cols":30,"rows_kept":165,"cut":false,"hidden":false,"merged":[]}
["Schedule:",{"$f":"+ScheduleSetup!C2","v":"Home S"},null,null,null,null,null,{"$f":"+ScheduleSetup!$P$6","v":"Corn36"},"Soil Type:",{"$f":"+ScheduleSetup!$P$5","v":0}]
[null,null,null,null,null,null,"% of Root Zone","Capacity of Root Zone","Drainage","W. Station"]
["Date","Rainfall","Irrigation"," "," "," ","Capacity Filled","to Hold Water (Inches)","Inches",{"$f":"+ScheduleSetup!P$9","v":"Coldwater"},null,null,null,null,null,null,null,null,null,null,null,null,null,null,null,null,"Rainfall S2","IrrigS2","ET Values","DrainageS2"]
[{"$f":"+ScheduleSetup!$P$8","v":"2020-05-28"},0,null,null,null,null,{"$f":"+Calculations2!J19","v":85},{"$f":"+Calculations2!L19","v":0.16},{"$f":"+IF(Calculations2!K19=0,\"\",Calculations2!K19)","v":""},null,null,null,null,null,null,null,null,null,null,null,null,null,null,null,null,null,{"$f":"+IF(Calculations2!C19=\"\",\"\",Calculations2!C19)","v":0.38},{"$f":"+IF(Calculations2!D19=\"\",\"\",Calculations2!D19)","v":""},{"$f":"+IF(Calculations2!#REF!=\"\",\"\",Calculations2!#REF!)","v":{"$error":"#REF!"}},{"$f":"+IF(Calculations2!L19=\"\",\"\",Calculations2!L19)","v":0.16}]
[{"$f":"+Calculations2!A20","v":"2020-05-29"},0,null,null,null,null,{"$f":"+Calculations2!J20","v":103},{"$f":"+Calculations2!L20","v":0},{"$f":"+IF(Calculations2!K20=0,\"\",Calculations2!K20)","v":""},null,null,null,null,null,null,null,null,null,null,null,null,null,null,null,null,null,{"$f":"+IF(Calculations2!C20=\"\",\"\",Calculations2!C20)","v":0.06},{"$f":"+IF(Calculations2!D20=\"\",\"\",Calculations2!D20)","v":""},{"$f":"+IF(Calculations2!E19=\"\",\"\",Calculations2!E19)","v":7.0000000000000007E-2},{"$f":"+IF(Calculations2!L20=\"\",\"\",Calculations2!L20)","v":0}]
[{"$f":"+Calculations2!A21","v":"2020-05-30"},0.06,null,null,null,null,{"$f":"+Calculations2!J21","v":79.906084656084658},{"$f":"+Calculations2!L21","v":5.0636666666666663E-2},{"$f":"+IF(Calculations2!K21=0,\"\",Calculations2!K21)","v":""},null,null,null,null,null,null,null,null,null,null,null,null,null,null,null,null,null,{"$f":"+IF(Calculations2!C21=\"\",\"\",Calculations2!C21)","v":0},{"$f":"+IF(Calculations2!D21=\"\",\"\",Calculations2!D21)","v":""},{"$f":"+IF(Calculations2!E20=\"\",\"\",Calculations2!E20)","v":0.125},{"$f":"+IF(Calculations2!L21=\"\",\"\",Calculations2!L21)","v":5.0636666666666663E-2}]
[{"$f":"+Calculations2!A22","v":"2020-05-31"},0.21,null,null,null,null,{"$f":"+Calculations2!J22","v":70.545855379188708},{"$f":"+Calculations2!L22","v":0.11133666666666669},{"$f":"+IF(Calculations2!K22=0,\"\",Calculations2!K22)","v":""},null,null,null,null,null,null,null,null,null,null,null,null,null,null,null,null,null,{"$f":"+IF(Calculations2!C22=\"\",\"\",Calculations2!C22)","v":0},{"$f":"+IF(Calculations2!D22=\"\",\"\",Calculations2!D22)","v":""},{"$f":"+IF(Calculations2!E21=\"\",\"\",Calculations2!E21)","v":0.14599999999999999},{"$f":"+IF(Calculations2!L22=\"\",\"\",Calculations2!L22)","v":0.11133666666666669}]
[{"$f":"+Calculations2!A23","v":"2020-06-01"},0.01,null,null,null,null,{"$f":"+Calculations2!J23","v":64.501891101120393},{"$f":"+Calculations2!L23","v":0.16581166666666669},{"$f":"+IF(Calculations2!K23=0,\"\",Calculations2!K23)","v":""},null,null,null,null,null,null,null,null,null,null,null,null,null,null,null,null,null,{"$f":"+IF(Calculations2!C23=\"\",\"\",Calculations2!C23)","v":0},{"$f":"+IF(Calculations2!D23=\"\",\"\",Calculations2!D23)","v":""},{"$f":"+IF(Calculations2!E22=\"\",\"\",Calculations2!E22)","v":0.161},{"$f":"+IF(Calculations2!L23=\"\",\"\",Calculations2!L23)","v":0.16581166666666669}]
[{"$f":"+Calculations2!A24","v":"2020-06-02"},0.36,null,null,null,null,{"$f":"+Calculations2!J24","v":61.886145404663928},{"$f":"+Calculations2!L24","v":0.25238041666666672},{"$f":"+IF(Calculations2!K24=0,\"\",Calculations2!K24)","v":""},null,null,null,null,null,null,null,null,null,null,null,null,null,null,null,null,null,{"$f":"+IF(Calculations2!C24=\"\",\"\",Calculations2!C24)","v":0},{"$f":"+IF(Calculations2!D24=\"\",\"\",Calculations2!D24)","v":""},{"$f":"+IF(Calculations2!E23=\"\",\"\",Calculations2!E23)","v":0.16800000000000001},{"$f":"+IF(Calculations2!L24=\"\",\"\",Calculations2!L24)","v":0.25238041666666672}]
[{"$f":"+Calculations2!A25","v":"2020-06-03"},0,null,null,null,null,{"$f":"+Calculations2!J25","v":57.696218528239527},{"$f":"+Calculations2!L25","v":0.36264916666666674},{"$f":"+IF(Calculations2!K25=0,\"\",Calculations2!K25)","v":""},null,null,null,null,null,null,null,null,null,null,null,null,null,null,null,null,null,{"$f":"+IF(Calculations2!C25=\"\",\"\",Calculations2!C25)","v":0},{"$f":"+IF(Calculations2!D25=\"\",\"\",Calculations2!D25)","v":""},{"$f":"+IF(Calculations2!E24=\"\",\"\",Calculations2!E24)","v":0.246},{"$f":"+IF(Calculations2!L25=\"\",\"\",Calculations2!L25)","v":0.36264916666666674}]
[{"$f":"+Calculations2!A26","v":"2020-06-04"},0,null,null,null,null,{"$f":"+Calculations2!J26","v":55.267965460643694},{"$f":"+Calculations2!L26","v":0.41788666666666663},{"$f":"+IF(Calculations2!K26=0,\"\",Calculations2!K26)","v":""},null,null,null,null,null,null,null,null,null,null,null,null,null,null,null,null,null,{"$f":"+IF(Calculations2!C26=\"\",\"\",Calculations2!C26)","v":0},{"$f":"+IF(Calculations2!D26=\"\",\"\",Calculations2!D26)","v":""},{"$f":"+IF(Calculations2!E25=\"\",\"\",Calculations2!E25)","v":0.14399999999999999},{"$f":"+IF(Calculations2!L26=\"\",\"\",Calculations2!L26)","v":0.41788666666666663}]
[{"$f":"+Calculations2!A27","v":"2020-06-05"},0,null,null,null,null,{"$f":"+Calculations2!J27","v":53.901813395497832},{"$f":"+Calculations2!L27","v":0.48448041666666664},{"$f":"+IF(Calculations2!K27=0,\"\",Calculations2!K27)","v":""},null,null,null,null,null,null,null,null,null,null,null,null,null,null,null,null,null,{"$f":"+IF(Calculations2!C27=\"\",\"\",Calculations2!C27)","v":0},{"$f":"+IF(Calculations2!D27=\"\",\"\",Calculations2!D27)","v":""},{"$f":"+IF(Calculations2!E26=\"\",\"\",Calculations2!E26)","v":0.13600000000000001},{"$f":"+IF(Calculations2!L27=\"\",\"\",Calculations2!L27)","v":0.48448041666666664}]
[{"$f":"+Calculations2!A28","v":"2020-06-06"},0,null,null,null,null,{"$f":"+Calculations2!J28","v":51.849782344965398},{"$f":"+Calculations2!L28","v":0.56227416666666663},{"$f":"+IF(Calculations2!K28=0,\"\",Calculations2!K28)","v":""},null,null,null,null,null,null,null,null,null,null,null,null,null,null,null,null,null,{"$f":"+IF(Calculations2!C28=\"\",\"\",Calculations2!C28)","v":0},{"$f":"+IF(Calculations2!D28=\"\",\"\",Calculations2!D28)","v":""},{"$f":"+IF(Calculations2!E27=\"\",\"\",Calculations2!E27)","v":0.16200000000000001},{"$f":"+IF(Calculations2!L28=\"\",\"\",Calculations2!L28)","v":0.56227416666666663}]
[{"$f":"+Calculations2!A29","v":"2020-06-07"},0.01,null,null,null,null,{"$f":"+Calculations2!J29","v":48.224455947460648},{"$f":"+Calculations2!L29","v":0.64514916666666666},{"$f":"+IF(Calculations2!K29=0,\"\",Calculations2!K29)","v":""},null,null,null,null,null,null,null,null,null,null,null,null,null,null,null,null,null,{"$f":"+IF(Calculations2!C29=\"\",\"\",Calculations2!C29)","v":0},{"$f":"+IF(Calculations2!D29=\"\",\"\",Calculations2!D29)","v":""},{"$f":"+IF(Calculations2!E28=\"\",\"\",Calculations2!E28)","v":0.21099999999999999},{"$f":"+IF(Calculations2!L29=\"\",\"\",Calculations2!L29)","v":0.64514916666666666}]
[{"$f":"+Calculations2!A30","v":"2020-06-08"},0,null,null,null,null,{"$f":"+Calculations2!J30","v":45.966734041606216},{"$f":"+Calculations2!L30","v":0.73637885679748005},{"$f":"+IF(Calculations2!K30=0,\"\",Calculations2!K30)","v":""},null,null,null,null,null,null,null,null,null,null,null,null,null,null,null,null,null,{"$f":"+IF(Calculations2!C30=\"\",\"\",Calculations2!C30)","v":0},{"$f":"+IF(Calculations2!D30=\"\",\"\",Calculations2!D30)","v":""},{"$f":"+IF(Calculations2!E29=\"\",\"\",Calculations2!E29)","v":0.192},{"$f":"+IF(Calculations2!L30=\"\",\"\",Calculations2!L30)","v":0.73637885679748005}]
[{"$f":"+Calculations2!A31","v":"2020-06-09"},0,null,null,null,null,{"$f":"+Calculations2!J31","v":59.935960621751136},{"$f":"+Calculations2!L31","v":0.59278752664057022},{"$f":"+IF(Calculations2!K31=0,\"\",Calculations2!K31)","v":""},null,null,null,null,null,null,null,null,null,null,null,null,null,null,null,null,null,{"$f":"+IF(Calculations2!C31=\"\",\"\",Calculations2!C31)","v":0.25},{"$f":"+IF(Calculations2!D31=\"\",\"\",Calculations2!D31)","v":""},{"$f":"+IF(Calculations2!E30=\"\",\"\",Calculations2!E30)","v":0.22700000000000001},{"$f":"+IF(Calculations2!L31=\"\",\"\",Calculations2!L31)","v":0.59278752664057022}]
[{"$f":"+Calculations2!A32","v":"2020-06-10"},0,null,null,null,null,{"$f":"+Calculations2!J32","v":92.103310440941655},{"$f":"+Calculations2!L32","v":0.12302252664057001},{"$f":"+IF(Calculations2!K32=0,\"\",Calculations2!K32)","v":""},null,null,null,null,null,null,null,null,null,null,null,null,null,null,null,null,null,{"$f":"+IF(Calculations2!C32=\"\",\"\",Calculations2!C32)","v":0.56999999999999995},{"$f":"+IF(Calculations2!D32=\"\",\"\",Calculations2!D32)","v":""},{"$f":"+IF(Calculations2!E31=\"\",\"\",Calculations2!E31)","v":0.218},{"$f":"+IF(Calculations2!L32=\"\",\"\",Calculations2!L32)","v":0.12302252664057001}]
[{"$f":"+Calculations2!A33","v":"2020-06-11"},0.62,null,null,null,null,{"$f":"+Calculations2!J33","v":88.670771675982081},{"$f":"+Calculations2!L33","v":0.18545002664057009},{"$f":"+IF(Calculations2!K33=0,\"\",Calculations2!K33)","v":""},null,null,null,null,null,null,null,null,null,null,null,null,null,null,null,null,null,{"$f":"+IF(Calculations2!C33=\"\",\"\",Calculations2!C33)","v":0.02},{"$f":"+IF(Calculations2!D33=\"\",\"\",Calculations2!D33)","v":""},{"$f":"+IF(Calculations2!E32=\"\",\"\",Calculations2!E32)","v":0.158},{"$f":"+IF(Calculations2!L33=\"\",\"\",Calculations2!L33)","v":0.18545002664057009}]
[{"$f":"+Calculations2!A34","v":"2020-06-12"},0.03,null,null,null,null,{"$f":"+Calculations2!J34","v":90.715038361715159},{"$f":"+Calculations2!L34","v":0.15975085997390348},{"$f":"+IF(Calculations2!K34=0,\"\",Calculations2!K34)","v":""},null,null,null,null,null,null,null,null,null,null,null,null,null,null,null,null,null,{"$f":"+IF(Calculations2!C34=\"\",\"\",Calculations2!C34)","v":0.13},{"$f":"+IF(Calculations2!D34=\"\",\"\",Calculations2!D34)","v":""},{"$f":"+IF(Calculations2!E33=\"\",\"\",Calculations2!E33)","v":0.19700000000000001},{"$f":"+IF(Calculations2!L34=\"\",\"\",Calculations2!L34)","v":0.15975085997390348}]
[{"$f":"+Calculations2!A35","v":"2020-06-13"},0,null,null,null,null,{"$f":"+Calculations2!J35","v":87.639330064541753},{"$f":"+Calculations2!L35","v":0.22300502664057009},{"$f":"+IF(Calculations2!K35=0,\"\",Calculations2!K35)","v":""},null,null,null,null,null,null,null,null,null,null,null,null,null,null,null,null,null,{"$f":"+IF(Calculations2!C35=\"\",\"\",Calculations2!C35)","v":0.04},{"$f":"+IF(Calculations2!D35=\"\",\"\",Calculations2!D35)","v":""},{"$f":"+IF(Calculations2!E34=\"\",\"\",Calculations2!E34)","v":0.183},{"$f":"+IF(Calculations2!L35=\"\",\"\",Calculations2!L35)","v":0.22300502664057009}]
[{"$f":"+Calculations2!A36","v":"2020-06-14"},0,null,null,null,null,{"$f":"+Calculations2!J36","v":82.715211087484718},{"$f":"+Calculations2!L36","v":0.32638002664056986},{"$f":"+IF(Calculations2!K36=0,\"\",Calculations2!K36)","v":""},null,null,null,null,null,null,null,null,null,null,null,null,null,null,null,null,null,{"$f":"+IF(Calculations2!C36=\"\",\"\",Calculations2!C36)","v":0},{"$f":"+IF(Calculations2!D36=\"\",\"\",Calculations2!D36)","v":""},{"$f":"+IF(Calculations2!E35=\"\",\"\",Calculations2!E35)","v":0.183},{"$f":"+IF(Calculations2!L36=\"\",\"\",Calculations2!L36)","v":0.32638002664056986}]
[{"$f":"+Calculations2!A37","v":"2020-06-15"},0.11,null,null,null,null,{"$f":"+Calculations2!J37","v":77.728756239017244},{"$f":"+Calculations2!L37","v":0.43291585997390314},{"$f":"+IF(Calculations2!K37=0,\"\",Calculations2!K37)","v":""},null,null,null,null,null,null,null,null,null,null,null,null,null,null,null,null,null,{"$f":"+IF(Calculations2!C37=\"\",\"\",Calculations2!C37)","v":0},{"$f":"+IF(Calculations2!D37=\"\",\"\",Calculations2!D37)","v":""},{"$f":"+IF(Calculations2!E36=\"\",\"\",Calculations2!E36)","v":0.193},{"$f":"+IF(Calculations2!L37=\"\",\"\",Calculations2!L37)","v":0.43291585997390314}]
[{"$f":"+Calculations2!A38","v":"2020-06-16"},0,null,null,null,null,{"$f":"+Calculations2!J38","v":72.857498771779959},{"$f":"+Calculations2!L38","v":0.54269169330723632},{"$f":"+IF(Calculations2!K38=0,\"\",Calculations2!K38)","v":""},null,null,null,null,null,null,null,null,null,null,null,null,null,null,null,null,null,{"$f":"+IF(Calculations2!C38=\"\",\"\",Calculations2!C38)","v":0},{"$f":"+IF(Calculations2!D38=\"\",\"\",Calculations2!D38)","v":""},{"$f":"+IF(Calculations2!E37=\"\",\"\",Calculations2!E37)","v":0.188},{"$f":"+IF(Calculations2!L38=\"\",\"\",Calculations2!L38)","v":0.54269169330723632}]
[{"$f":"+Calculations2!A39","v":"2020-06-17"},0,null,null,null,null,{"$f":"+Calculations2!J39","v":67.8439159785611},{"$f":"+Calculations2!L39","v":0.66080752664056952},{"$f":"+IF(Calculations2!K39=0,\"\",Calculations2!K39)","v":""},null,null,null,null,null,null,null,null,null,null,null,null,null,null,null,null,null,{"$f":"+IF(Calculations2!C39=\"\",\"\",Calculations2!C39)","v":0},{"$f":"+IF(Calculations2!D39=\"\",\"\",Calculations2!D39)","v":""},{"$f":"+IF(Calculations2!E38=\"\",\"\",Calculations2!E38)","v":0.193},{"$f":"+IF(Calculations2!L39=\"\",\"\",Calculations2!L39)","v":0.66080752664056952}]
[{"$f":"+Calculations2!A40","v":"2020-06-18"},0,null,null,null,null,{"$f":"+Calculations2!J40","v":62.751506397991228},{"$f":"+Calculations2!L40","v":0.7967825266405697},{"$f":"+IF(Calculations2!K40=0,\"\",Calculations2!K40)","v":""},null,null,null,null,null,null,null,null,null,null,null,null,null,null,null,null,null,{"$f":"+IF(Calculations2!C40=\"\",\"\",Calculations2!C40)","v":0},{"$f":"+IF(Calculations2!D40=\"\",\"\",Calculations2!D40)","v":""},{"$f":"+IF(Calculations2!E39=\"\",\"\",Calculations2!E39)","v":0.20899999999999999},{"$f":"+IF(Calculations2!L40=\"\",\"\",Calculations2!L40)","v":0.7967825266405697}]
[{"$f":"+Calculations2!A41","v":"2020-06-19"},0,null,null,null,null,{"$f":"+Calculations2!J41","v":58.807813750219239},{"$f":"+Calculations2!L41","v":0.9498300266405697},{"$f":"+IF(Calculations2!K41=0,\"\",Calculations2!K41)","v":""},null,null,null,null,null,null,null,null,null,null,null,null,null,null,null,null,null,{"$f":"+IF(Calculations2!C41=\"\",\"\",Calculations2!C41)","v":0},{"$f":"+IF(Calculations2!D41=\"\",\"\",Calculations2!D41)","v":""},{"$f":"+IF(Calculations2!E40=\"\",\"\",Calculations2!E40)","v":0.17399999999999999},{"$f":"+IF(Calculations2!L41=\"\",\"\",Calculations2!L41)","v":0.9498300266405697}]
[{"$f":"+Calculations2!A42","v":"2020-06-20"},0,null,null,null,null,{"$f":"+Calculations2!J42","v":54.446560216589148},{"$f":"+Calculations2!L42","v":1.0885062766405698},{"$f":"+IF(Calculations2!K42=0,\"\",Calculations2!K42)","v":""},null,null,null,null,null,null,null,null,null,null,null,null,null,null,null,null,null,{"$f":"+IF(Calculations2!C42=\"\",\"\",Calculations2!C42)","v":0},{"$f":"+IF(Calculations2!D42=\"\",\"\",Calculations2!D42)","v":""},{"$f":"+IF(Calculations2!E41=\"\",\"\",Calculations2!E41)","v":0.184},{"$f":"+IF(Calculations2!L42=\"\",\"\",Calculations2!L42)","v":1.0885062766405698}]
[{"$f":"+Calculations2!A43","v":"2020-06-21"},1.1200000000000001,null,null,null,null,{"$f":"+Calculations2!J43","v":90.191514051024086},{"$f":"+Calculations2!L43","v":0.24257440164056954},{"$f":"+IF(Calculations2!K43=0,\"\",Calculations2!K43)","v":""},null,null,null,null,null,null,null,null,null,null,null,null,null,null,null,null,null,{"$f":"+IF(Calculations2!C43=\"\",\"\",Calculations2!C43)","v":1},{"$f":"+IF(Calculations2!D43=\"\",\"\",Calculations2!D43)","v":""},{"$f":"+IF(Calculations2!E42=\"\",\"\",Calculations2!E42)","v":0.193},{"$f":"+IF(Calculations2!L43=\"\",\"\",Calculations2!L43)","v":0.24257440164056954}]
[{"$f":"+Calculations2!A44","v":"2020-06-22"},0.28000000000000003,null,null,null,null,{"$f":"+Calculations2!J44","v":95.970097131436233},{"$f":"+Calculations2!L44","v":0.10303252664056961},{"$f":"+IF(Calculations2!K44=0,\"\",Calculations2!K44)","v":""},null,null,null,null,null,null,null,null,null,null,null,null,null,null,null,null,null,{"$f":"+IF(Calculations2!C44=\"\",\"\",Calculations2!C44)","v":0.23},{"$f":"+IF(Calculations2!D44=\"\",\"\",Calculations2!D44)","v":""},{"$f":"+IF(Calculations2!E43=\"\",\"\",Calculations2!E43)","v":9.4E-2},{"$f":"+IF(Calculations2!L44=\"\",\"\",Calculations2!L44)","v":0.10303252664056961}]
[{"$f":"+Calculations2!A45","v":"2020-06-23"},0,null,null,null,null,{"$f":"+Calculations2!J45","v":103},{"$f":"+Calculations2!L45","v":0},{"$f":"+IF(Calculations2!K45=0,\"\",Calculations2!K45)","v":4.7762173359430449E-2},null,null,null,null,null,null,null,null,null,null,null,null,null,null,null,null,null,{"$f":"+IF(Calculations2!C45=\"\",\"\",Calculations2!C45)","v":0.43},{"$f":"+IF(Calculations2!D45=\"\",\"\",Calculations2!D45)","v":""},{"$f":"+IF(Calculations2!E44=\"\",\"\",Calculations2!E44)","v":0.157},{"$f":"+IF(Calculations2!L45=\"\",\"\",Calculations2!L45)","v":0}]
[{"$f":"+Calculations2!A46","v":"2020-06-24"},0.01,null,null,null,null,{"$f":"+Calculations2!J46","v":99.368317267452724},{"$f":"+Calculations2!L46","v":1.7031366666666603E-2},{"$f":"+IF(Calculations2!K46=0,\"\",Calculations2!K46)","v":""},null,null,null,null,null,null,null,null,null,null,null,null,null,null,null,null,null,{"$f":"+IF(Calculations2!C46=\"\",\"\",Calculations2!C46)","v":0},{"$f":"+IF(Calculations2!D46=\"\",\"\",Calculations2!D46)","v":""},{"$f":"+IF(Calculations2!E45=\"\",\"\",Calculations2!E45)","v":0.106},{"$f":"+IF(Calculations2!L46=\"\",\"\",Calculations2!L46)","v":1.7031366666666603E-2}]
[{"$f":"+Calculations2!A47","v":"2020-06-25"},0,null,null,null,null,{"$f":"+Calculations2!J47","v":103},{"$f":"+Calculations2!L47","v":0},{"$f":"+IF(Calculations2!K47=0,\"\",Calculations2!K47)","v":0.11297253333333312},null,null,null,null,null,null,null,null,null,null,null,null,null,null,null,null,null,{"$f":"+IF(Calculations2!C47=\"\",\"\",Calculations2!C47)","v":0},{"$f":"+IF(Calculations2!D47=\"\",\"\",Calculations2!D47)","v":0.4},{"$f":"+IF(Calculations2!E46=\"\",\"\",Calculations2!E46)","v":0.16200000000000001},{"$f":"+IF(Calculations2!L47=\"\",\"\",Calculations2!L47)","v":0}]
[{"$f":"+Calculations2!A48","v":"2020-06-26"},0,null,null,null,null,{"$f":"+Calculations2!J48","v":103},{"$f":"+Calculations2!L48","v":0},{"$f":"+IF(Calculations2!K48=0,\"\",Calculations2!K48)","v":0.59389959999999986},null,null,null,null,null,null,null,null,null,null,null,null,null,null,null,null,null,{"$f":"+IF(Calculations2!C48=\"\",\"\",Calculations2!C48)","v":0.8},{"$f":"+IF(Calculations2!D48=\"\",\"\",Calculations2!D48)","v":""},{"$f":"+IF(Calculations2!E47=\"\",\"\",Calculations2!E47)","v":0.17499999999999999},{"$f":"+IF(Calculations2!L48=\"\",\"\",Calculations2!L48)","v":0}]
[{"$f":"+Calculations2!A49","v":"2020-06-27"},0,null,null,null,null,{"$f":"+Calculations2!J49","v":103},{"$f":"+Calculations2!L49","v":0},{"$f":"+IF(Calculations2!K49=0,\"\",Calculations2!K49)","v":""},null,null,null,null,null,null,null,null,null,null,null,null,null,null,null,null,null,{"$f":"+IF(Calculations2!C49=\"\",\"\",Calculations2!C49)","v":0.11},{"$f":"+IF(Calculations2!D49=\"\",\"\",Calculations2!D49)","v":""},{"$f":"+IF(Calculations2!E48=\"\",\"\",Calculations2!E48)","v":9.4E-2},{"$f":"+IF(Calculations2!L49=\"\",\"\",Calculations2!L49)","v":0}]
[{"$f":"+Calculations2!A50","v":"2020-06-28"},0.04,0.4,null,null,null,{"$f":"+Calculations2!J50","v":96.711926272584179},{"$f":"+Calculations2!L50","v":0.10057674999999966},{"$f":"+IF(Calculations2!K50=0,\"\",Calculations2!K50)","v":""},null,null,null,null,null,null,null,null,null,null,null,null,null,null,null,null,null,{"$f":"+IF(Calculations2!C50=\"\",\"\",Calculations2!C50)","v":0},{"$f":"+IF(Calculations2!D50=\"\",\"\",Calculations2!D50)","v":""},{"$f":"+IF(Calculations2!E49=\"\",\"\",Calculations2!E49)","v":0.14699999999999999},{"$f":"+IF(Calculations2!L50=\"\",\"\",Calculations2!L50)","v":0.10057674999999966}]
[{"$f":"+Calculations2!A51","v":"2020-06-29"},0.01,null,null,null,null,{"$f":"+Calculations2!J51","v":89.928623707239481},{"$f":"+Calculations2!L51","v":0.31649299999999947},{"$f":"+IF(Calculations2!K51=0,\"\",Calculations2!K51)","v":""},null,null,null,null,null,null,null,null,null,null,null,null,null,null,null,null,null,{"$f":"+IF(Calculations2!C51=\"\",\"\",Calculations2!C51)","v":0},{"$f":"+IF(Calculations2!D51=\"\",\"\",Calculations2!D51)","v":""},{"$f":"+IF(Calculations2!E50=\"\",\"\",Calculations2!E50)","v":0.19500000000000001},{"$f":"+IF(Calculations2!L51=\"\",\"\",Calculations2!L51)","v":0.31649299999999947}]
[{"$f":"+Calculations2!A52","v":"2020-06-30"},null,null,null,null,null,{"$f":"+Calculations2!J52","v":83.600984229085157},{"$f":"+Calculations2!L52","v":0.52901174999999956},{"$f":"+IF(Calculations2!K52=0,\"\",Calculations2!K52)","v":""},null,null,null,null,null,null,null,null,null,null,null,null,null,null,null,null,null,{"$f":"+IF(Calculations2!C52=\"\",\"\",Calculations2!C52)","v":0},{"$f":"+IF(Calculations2!D52=\"\",\"\",Calculations2!D52)","v":""},{"$f":"+IF(Calculations2!E51=\"\",\"\",Calculations2!E51)","v":0.187},{"$f":"+IF(Calculations2!L52=\"\",\"\",Calculations2!L52)","v":0.52901174999999956}]
[{"$f":"+Calculations2!A53","v":"2020-07-01"},null,null,null,null,null,{"$f":"+Calculations2!J53","v":77.00670846868627},{"$f":"+Calculations2!L53","v":0.76090549999999979},{"$f":"+IF(Calculations2!K53=0,\"\",Calculations2!K53)","v":""},null,null,null,null,null,null,null,null,null,null,null,null,null,null,null,null,null,{"$f":"+IF(Calculations2!C53=\"\",\"\",Calculations2!C53)","v":0},{"$f":"+IF(Calculations2!D53=\"\",\"\",Calculations2!D53)","v":""},{"$f":"+IF(Calculations2!E52=\"\",\"\",Calculations2!E52)","v":0.20100000000000001},{"$f":"+IF(Calculations2!L53=\"\",\"\",Calculations2!L53)","v":0.76090549999999979}]
[{"$f":"+Calculations2!A54","v":"2020-07-02"},null,null,null,null,null,{"$f":"+Calculations2!J54","v":70.783624693110895},{"$f":"+Calculations2!L54","v":0.9877180000000001},{"$f":"+IF(Calculations2!K54=0,\"\",Calculations2!K54)","v":""},null,null,null,null,null,null,null,null,null,null,null,null,null,null,null,null,null,{"$f":"+IF(Calculations2!C54=\"\",\"\",Calculations2!C54)","v":0},{"$f":"+IF(Calculations2!D54=\"\",\"\",Calculations2!D54)","v":""},{"$f":"+IF(Calculations2!E53=\"\",\"\",Calculations2!E53)","v":0.19900000000000001},{"$f":"+IF(Calculations2!L54=\"\",\"\",Calculations2!L54)","v":0.9877180000000001}]
[{"$f":"+Calculations2!A55","v":"2020-07-03"},null,null,null,null,null,{"$f":"+Calculations2!J55","v":64.81565352161185},{"$f":"+Calculations2!L55","v":1.2258930000000001},{"$f":"+IF(Calculations2!K55=0,\"\",Calculations2!K55)","v":""},null,null,null,null,null,null,null,null,null,null,null,null,null,null,null,null,null,{"$f":"+IF(Calculations2!C55=\"\",\"\",Calculations2!C55)","v":0},{"$f":"+IF(Calculations2!D55=\"\",\"\",Calculations2!D55)","v":""},{"$f":"+IF(Calculations2!E54=\"\",\"\",Calculations2!E54)","v":0.193},{"$f":"+IF(Calculations2!L55=\"\",\"\",Calculations2!L55)","v":1.2258930000000001}]
[{"$f":"+Calculations2!A56","v":"2020-07-04"},null,null,null,null,null,{"$f":"+Calculations2!J56","v":58.869386947177929},{"$f":"+Calculations2!L56","v":1.4545430000000001},{"$f":"+IF(Calculations2!K56=0,\"\",Calculations2!K56)","v":""},null,null,null,null,null,null,null,null,null,null,null,null,null,null,null,null,null,{"$f":"+IF(Calculations2!C56=\"\",\"\",Calculations2!C56)","v":0},{"$f":"+IF(Calculations2!D56=\"\",\"\",Calculations2!D56)","v":""},{"$f":"+IF(Calculations2!E55=\"\",\"\",Calculations2!E55)","v":0.19600000000000001},{"$f":"+IF(Calculations2!L56=\"\",\"\",Calculations2!L56)","v":1.4545430000000001}]
[{"$f":"+Calculations2!A57","v":"2020-07-05"},null,null,null,null,null,{"$f":"+Calculations2!J57","v":54.036510387042604},{"$f":"+Calculations2!L57","v":1.6970179999999999},{"$f":"+IF(Calculations2!K57=0,\"\",Calculations2!K57)","v":""},null,null,null,null,null,null,null,null,null,null,null,null,null,null,null,null,null,{"$f":"+IF(Calculations2!C57=\"\",\"\",Calculations2!C57)","v":0},{"$f":"+IF(Calculations2!D57=\"\",\"\",Calculations2!D57)","v":""},{"$f":"+IF(Calculations2!E56=\"\",\"\",Calculations2!E56)","v":0.17699999999999999},{"$f":"+IF(Calculations2!L57=\"\",\"\",Calculations2!L57)","v":1.6970179999999999}]
[{"$f":"+Calculations2!A58","v":"2020-07-06"},null,null,null,null,null,{"$f":"+Calculations2!J58","v":64.22183590148822},{"$f":"+Calculations2!L58","v":1.3583179999999997},{"$f":"+IF(Calculations2!K58=0,\"\",Calculations2!K58)","v":""},null,null,null,null,null,null,null,null,null,null,null,null,null,null,null,null,null,{"$f":"+IF(Calculations2!C58=\"\",\"\",Calculations2!C58)","v":0},{"$f":"+IF(Calculations2!D58=\"\",\"\",Calculations2!D58)","v":0.6},{"$f":"+IF(Calculations2!E57=\"\",\"\",Calculations2!E57)","v":0.19600000000000001},{"$f":"+IF(Calculations2!L58=\"\",\"\",Calculations2!L58)","v":1.3583179999999997}]
[{"$f":"+Calculations2!A59","v":"2020-07-07"},null,null,null,null,null,{"$f":"+Calculations2!J59","v":57.941083216383404},{"$f":"+Calculations2!L59","v":1.6183429999999994},{"$f":"+IF(Calculations2!K59=0,\"\",Calculations2!K59)","v":""},null,null,null,null,null,null,null,null,null,null,null,null,null,null,null,null,null,{"$f":"+IF(Calculations2!C59=\"\",\"\",Calculations2!C59)","v":0},{"$f":"+IF(Calculations2!D59=\"\",\"\",Calculations2!D59)","v":""},{"$f":"+IF(Calculations2!E58=\"\",\"\",Calculations2!E58)","v":0.20599999999999999},{"$f":"+IF(Calculations2!L59=\"\",\"\",Calculations2!L59)","v":1.6183429999999994}]
[{"$f":"+Calculations2!A60","v":"2020-07-08"},null,null,null,null,null,{"$f":"+Calculations2!J60","v":52.692487179487188},{"$f":"+Calculations2!L60","v":1.8449929999999997},{"$f":"+IF(Calculations2!K60=0,\"\",Calculations2!K60)","v":""},null,null,null,null,null,null,null,null,null,null,null,null,null,null,null,null,null,{"$f":"+IF(Calculations2!C60=\"\",\"\",Calculations2!C60)","v":0},{"$f":"+IF(Calculations2!D60=\"\",\"\",Calculations2!D60)","v":""},{"$f":"+IF(Calculations2!E59=\"\",\"\",Calculations2!E59)","v":0.17799999999999999},{"$f":"+IF(Calculations2!L60=\"\",\"\",Calculations2!L60)","v":1.8449929999999997}]
[{"$f":"+Calculations2!A61","v":"2020-07-09"},null,null,null,null,null,{"$f":"+Calculations2!J61","v":46.93864102564104},{"$f":"+Calculations2!L61","v":2.0693929999999998},{"$f":"+IF(Calculations2!K61=0,\"\",Calculations2!K61)","v":""},null,null,null,null,null,null,null,null,null,null,null,null,null,null,null,null,null,{"$f":"+IF(Calculations2!C61=\"\",\"\",Calculations2!C61)","v":0},{"$f":"+IF(Calculations2!D61=\"\",\"\",Calculations2!D61)","v":""},{"$f":"+IF(Calculations2!E60=\"\",\"\",Calculations2!E60)","v":0.187},{"$f":"+IF(Calculations2!L61=\"\",\"\",Calculations2!L61)","v":2.0693929999999998}]
[{"$f":"+Calculations2!A62","v":"2020-07-10"},null,null,null,null,null,{"$f":"+Calculations2!J62","v":66.513749980276131},{"$f":"+Calculations2!L62","v":1.3059637507692305},{"$f":"+IF(Calculations2!K62=0,\"\",Calculations2!K62)","v":""},null,null,null,null,null,null,null,null,null,null,null,null,null,null,null,null,null,{"$f":"+IF(Calculations2!C62=\"\",\"\",Calculations2!C62)","v":1},{"$f":"+IF(Calculations2!D62=\"\",\"\",Calculations2!D62)","v":""},{"$f":"+IF(Calculations2!E61=\"\",\"\",Calculations2!E61)","v":0.21},{"$f":"+IF(Calculations2!L62=\"\",\"\",Calculations2!L62)","v":1.3059637507692305}]
[{"$f":"+Calculations2!A63","v":"2020-07-11"},null,null,null,null,null,{"$f":"+Calculations2!J63","v":64.421442287968461},{"$f":"+Calculations2!L63","v":1.3875637507692304},{"$f":"+IF(Calculations2!K63=0,\"\",Calculations2!K63)","v":""},null,null,null,null,null,null,null,null,null,null,null,null,null,null,null,null,null,{"$f":"+IF(Calculations2!C63=\"\",\"\",Calculations2!C63)","v":0},{"$f":"+IF(Calculations2!D63=\"\",\"\",Calculations2!D63)","v":""},{"$f":"+IF(Calculations2!E62=\"\",\"\",Calculations2!E62)","v":6.8000000000000005E-2},{"$f":"+IF(Calculations2!L63=\"\",\"\",Calculations2!L63)","v":1.3875637507692304}]
[{"$f":"+Calculations2!A64","v":"2020-07-12"},null,null,null,null,null,{"$f":"+Calculations2!J64","v":58.852211518737683},{"$f":"+Calculations2!L64","v":1.6047637507692305},{"$f":"+IF(Calculations2!K64=0,\"\",Calculations2!K64)","v":""},null,null,null,null,null,null,null,null,null,null,null,null,null,null,null,null,null,{"$f":"+IF(Calculations2!C64=\"\",\"\",Calculations2!C64)","v":0},{"$f":"+IF(Calculations2!D64=\"\",\"\",Calculations2!D64)","v":""},{"$f":"+IF(Calculations2!E63=\"\",\"\",Calculations2!E63)","v":0.18099999999999999},{"$f":"+IF(Calculations2!L64=\"\",\"\",Calculations2!L64)","v":1.6047637507692305}]
[{"$f":"+Calculations2!A65","v":"2020-07-13"},null,null,null,null,null,{"$f":"+Calculations2!J65","v":53.559903826429988},{"$f":"+Calculations2!L65","v":1.8111637507692304},{"$f":"+IF(Calculations2!K65=0,\"\",Calculations2!K65)","v":""},null,null,null,null,null,null,null,null,null,null,null,null,null,null,null,null,null,{"$f":"+IF(Calculations2!C65=\"\",\"\",Calculations2!C65)","v":0},{"$f":"+IF(Calculations2!D65=\"\",\"\",Calculations2!D65)","v":""},{"$f":"+IF(Calculations2!E64=\"\",\"\",Calculations2!E64)","v":0.17199999999999999},{"$f":"+IF(Calculations2!L65=\"\",\"\",Calculations2!L65)","v":1.8111637507692304}]
[{"$f":"+Calculations2!A66","v":"2020-07-14"},null,null,null,null,null,{"$f":"+Calculations2!J66","v":48.513749980276145},{"$f":"+Calculations2!L66","v":2.0079637507692305},{"$f":"+IF(Calculations2!K66=0,\"\",Calculations2!K66)","v":""},null,null,null,null,null,null,null,null,null,null,null,null,null,null,null,null,null,{"$f":"+IF(Calculations2!C66=\"\",\"\",Calculations2!C66)","v":0},{"$f":"+IF(Calculations2!D66=\"\",\"\",Calculations2!D66)","v":""},{"$f":"+IF(Calculations2!E65=\"\",\"\",Calculations2!E65)","v":0.16400000000000001},{"$f":"+IF(Calculations2!L66=\"\",\"\",Calculations2!L66)","v":2.0079637507692305}]
[{"$f":"+Calculations2!A67","v":"2020-07-15"},null,null,null,null,null,{"$f":"+Calculations2!J67","v":43.677302289934772},{"$f":"+Calculations2!L67","v":2.1965852106925441},{"$f":"+IF(Calculations2!K67=0,\"\",Calculations2!K67)","v":""},null,null,null,null,null,null,null,null,null,null,null,null,null,null,null,null,null,{"$f":"+IF(Calculations2!C67=\"\",\"\",Calculations2!C67)","v":0},{"$f":"+IF(Calculations2!D67=\"\",\"\",Calculations2!D67)","v":""},{"$f":"+IF(Calculations2!E66=\"\",\"\",Calculations2!E66)","v":0.16200000000000001},{"$f":"+IF(Calculations2!L67=\"\",\"\",Calculations2!L67)","v":2.1965852106925441}]
[{"$f":"+Calculations2!A68","v":"2020-07-16"},null,null,null,null,null,{"$f":"+Calculations2!J68","v":85.53061406446426},{"$f":"+Calculations2!L68","v":0.56430605148589397},{"$f":"+IF(Calculations2!K68=0,\"\",Calculations2!K68)","v":""},null,null,null,null,null,null,null,null,null,null,null,null,null,null,null,null,null,{"$f":"+IF(Calculations2!C68=\"\",\"\",Calculations2!C68)","v":1.8},{"$f":"+IF(Calculations2!D68=\"\",\"\",Calculations2!D68)","v":""},{"$f":"+IF(Calculations2!E67=\"\",\"\",Calculations2!E67)","v":0.16},{"$f":"+IF(Calculations2!L68=\"\",\"\",Calculations2!L68)","v":0.56430605148589397}]
[{"$f":"+Calculations2!A69","v":"2020-07-17"},null,null,null,null,null,{"$f":"+Calculations2!J69","v":83.315229449079652},{"$f":"+Calculations2!L69","v":0.65070605148589378},{"$f":"+IF(Calculations2!K69=0,\"\",Calculations2!K69)","v":""},null,null,null,null,null,null,null,null,null,null,null,null,null,null,null,null,null,{"$f":"+IF(Calculations2!C69=\"\",\"\",Calculations2!C69)","v":0},{"$f":"+IF(Calculations2!D69=\"\",\"\",Calculations2!D69)","v":""},{"$f":"+IF(Calculations2!E68=\"\",\"\",Calculations2!E68)","v":7.1999999999999995E-2},{"$f":"+IF(Calculations2!L69=\"\",\"\",Calculations2!L69)","v":0.65070605148589378}]
[{"$f":"+Calculations2!A70","v":"2020-07-18"},null,null,null,null,null,{"$f":"+Calculations2!J70","v":77.745998679848881},{"$f":"+Calculations2!L70","v":0.86790605148589384},{"$f":"+IF(Calculations2!K70=0,\"\",Calculations2!K70)","v":""},null,null,null,null,null,null,null,null,null,null,null,null,null,null,null,null,null,{"$f":"+IF(Calculations2!C70=\"\",\"\",Calculations2!C70)","v":0},{"$f":"+IF(Calculations2!D70=\"\",\"\",Calculations2!D70)","v":""},{"$f":"+IF(Calculations2!E69=\"\",\"\",Calculations2!E69)","v":0.18099999999999999},{"$f":"+IF(Calculations2!L70=\"\",\"\",Calculations2!L70)","v":0.86790605148589384}]
[{"$f":"+Calculations2!A71","v":"2020-07-19"},null,null,null,null,null,{"$f":"+Calculations2!J71","v":75.571639705489901},{"$f":"+Calculations2!L71","v":0.95270605148589382},{"$f":"+IF(Calculations2!K71=0,\"\",Calculations2!K71)","v":""},null,null,null,null,null,null,null,null,null,null,null,null,null,null,null,null,null,{"$f":"+IF(Calculations2!C71=\"\",\"\",Calculations2!C71)","v":0.1},{"$f":"+IF(Calculations2!D71=\"\",\"\",Calculations2!D71)","v":""},{"$f":"+IF(Calculations2!E70=\"\",\"\",Calculations2!E70)","v":0.154},{"$f":"+IF(Calculations2!L71=\"\",\"\",Calculations2!L71)","v":0.95270605148589382}]
[{"$f":"+Calculations2!A72","v":"2020-07-20"},null,null,null,null,null,{"$f":"+Calculations2!J72","v":73.510101243951439},{"$f":"+Calculations2!L72","v":1.0331060514858939},{"$f":"+IF(Calculations2!K72=0,\"\",Calculations2!K72)","v":""},null,null,null,null,null,null,null,null,null,null,null,null,null,null,null,null,null,{"$f":"+IF(Calculations2!C72=\"\",\"\",Calculations2!C72)","v":0},{"$f":"+IF(Calculations2!D72=\"\",\"\",Calculations2!D72)","v":""},{"$f":"+IF(Calculations2!E71=\"\",\"\",Calculations2!E71)","v":6.7000000000000004E-2},{"$f":"+IF(Calculations2!L72=\"\",\"\",Calculations2!L72)","v":1.0331060514858939}]
[{"$f":"+Calculations2!A73","v":"2020-07-21"},null,null,null,null,null,{"$f":"+Calculations2!J73","v":68.371639705489912},{"$f":"+Calculations2!L73","v":1.233506051485894},{"$f":"+IF(Calculations2!K73=0,\"\",Calculations2!K73)","v":""},null,null,null,null,null,null,null,null,null,null,null,null,null,null,null,null,null,{"$f":"+IF(Calculations2!C73=\"\",\"\",Calculations2!C73)","v":0},{"$f":"+IF(Calculations2!D73=\"\",\"\",Calculations2!D73)","v":""},{"$f":"+IF(Calculations2!E72=\"\",\"\",Calculations2!E72)","v":0.16700000000000001},{"$f":"+IF(Calculations2!L73=\"\",\"\",Calculations2!L73)","v":1.233506051485894}]
[{"$f":"+Calculations2!A74","v":"2020-07-22"},null,null,null,null,null,{"$f":"+Calculations2!J74","v":64.802408936259141},{"$f":"+Calculations2!L74","v":1.3727060514858938},{"$f":"+IF(Calculations2!K74=0,\"\",Calculations2!K74)","v":""},null,null,null,null,null,null,null,null,null,null,null,null,null,null,null,null,null,{"$f":"+IF(Calculations2!C74=\"\",\"\",Calculations2!C74)","v":0},{"$f":"+IF(Calculations2!D74=\"\",\"\",Calculations2!D74)","v":""},{"$f":"+IF(Calculations2!E73=\"\",\"\",Calculations2!E73)","v":0.11600000000000001},{"$f":"+IF(Calculations2!L74=\"\",\"\",Calculations2!L74)","v":1.3727060514858938}]
[{"$f":"+Calculations2!A75","v":"2020-07-23"},null,null,null,null,null,{"$f":"+Calculations2!J75","v":61.356255090105293},{"$f":"+Calculations2!L75","v":1.5071060514858936},{"$f":"+IF(Calculations2!K75=0,\"\",Calculations2!K75)","v":""},null,null,null,null,null,null,null,null,null,null,null,null,null,null,null,null,null,{"$f":"+IF(Calculations2!C75=\"\",\"\",Calculations2!C75)","v":0},{"$f":"+IF(Calculations2!D75=\"\",\"\",Calculations2!D75)","v":""},{"$f":"+IF(Calculations2!E74=\"\",\"\",Calculations2!E74)","v":0.112},{"$f":"+IF(Calculations2!L75=\"\",\"\",Calculations2!L75)","v":1.5071060514858936}]
[{"$f":"+Calculations2!A76","v":"2020-07-24"},null,null,null,null,null,{"$f":"+Calculations2!J76","v":55.787024320874522},{"$f":"+Calculations2!L76","v":1.7243060514858937},{"$f":"+IF(Calculations2!K76=0,\"\",Calculations2!K76)","v":""},null,null,null,null,null,null,null,null,null,null,null,null,null,null,null,null,null,{"$f":"+IF(Calculations2!C76=\"\",\"\",Calculations2!C76)","v":0},{"$f":"+IF(Calculations2!D76=\"\",\"\",Calculations2!D76)","v":""},{"$f":"+IF(Calculations2!E75=\"\",\"\",Calculations2!E75)","v":0.18099999999999999},{"$f":"+IF(Calculations2!L76=\"\",\"\",Calculations2!L76)","v":1.7243060514858937}]
[{"$f":"+Calculations2!A77","v":"2020-07-25"},null,null,null,null,null,{"$f":"+Calculations2!J77","v":50.217793551643751},{"$f":"+Calculations2!L77","v":1.9415060514858937},{"$f":"+IF(Calculations2!K77=0,\"\",Calculations2!K77)","v":""},null,null,null,null,null,null,null,null,null,null,null,null,null,null,null,null,null,{"$f":"+IF(Calculations2!C77=\"\",\"\",Calculations2!C77)","v":0},{"$f":"+IF(Calculations2!D77=\"\",\"\",Calculations2!D77)","v":""},{"$f":"+IF(Calculations2!E76=\"\",\"\",Calculations2!E76)","v":0.18099999999999999},{"$f":"+IF(Calculations2!L77=\"\",\"\",Calculations2!L77)","v":1.9415060514858937}]
[{"$f":"+Calculations2!A78","v":"2020-07-26"},null,null,null,null,null,{"$f":"+Calculations2!J78","v":45.048562782412986},{"$f":"+Calculations2!L78","v":2.1431060514858937},{"$f":"+IF(Calculations2!K78=0,\"\",Calculations2!K78)","v":""},null,null,null,null,null,null,null,null,null,null,null,null,null,null,null,null,null,{"$f":"+IF(Calculations2!C78=\"\",\"\",Calculations2!C78)","v":0},{"$f":"+IF(Calculations2!D78=\"\",\"\",Calculations2!D78)","v":""},{"$f":"+IF(Calculations2!E77=\"\",\"\",Calculations2!E77)","v":0.16800000000000001},{"$f":"+IF(Calculations2!L78=\"\",\"\",Calculations2!L78)","v":2.1431060514858937}]
[{"$f":"+Calculations2!A79","v":"2020-07-27"},null,null,null,null,null,{"$f":"+Calculations2!J79","v":40.308067868079064},{"$f":"+Calculations2!L79","v":2.3279853531449168},{"$f":"+IF(Calculations2!K79=0,\"\",Calculations2!K79)","v":""},null,null,null,null,null,null,null,null,null,null,null,null,null,null,null,null,null,{"$f":"+IF(Calculations2!C79=\"\",\"\",Calculations2!C79)","v":""},{"$f":"+IF(Calculations2!D79=\"\",\"\",Calculations2!D79)","v":""},{"$f":"+IF(Calculations2!E78=\"\",\"\",Calculations2!E78)","v":0.17100000000000001},{"$f":"+IF(Calculations2!L79=\"\",\"\",Calculations2!L79)","v":2.3279853531449168}]
[{"$f":"+Calculations2!A80","v":"2020-07-28"},null,null,null,null,null,{"$f":"+Calculations2!J80","v":37.951596208099062},{"$f":"+Calculations2!L80","v":2.419887747884137},{"$f":"+IF(Calculations2!K80=0,\"\",Calculations2!K80)","v":""},null,null,null,null,null,null,null,null,null,null,null,null,null,null,null,null,null,{"$f":"+IF(Calculations2!C80=\"\",\"\",Calculations2!C80)","v":""},{"$f":"+IF(Calculations2!D80=\"\",\"\",Calculations2!D80)","v":""},{"$f":"+IF(Calculations2!E79=\"\",\"\",Calculations2!E79)","v":9.5000000000000001E-2},{"$f":"+IF(Calculations2!L80=\"\",\"\",Calculations2!L80)","v":2.419887747884137}]
[{"$f":"+Calculations2!A81","v":"2020-07-29"},null,null,null,null,null,{"$f":"+Calculations2!J81","v":32.136211592714446},{"$f":"+Calculations2!L81","v":2.6466877478841369},{"$f":"+IF(Calculations2!K81=0,\"\",Calculations2!K81)","v":""},null,null,null,null,null,null,null,null,null,null,null,null,null,null,null,null,null,{"$f":"+IF(Calculations2!C81=\"\",\"\",Calculations2!C81)","v":""},{"$f":"+IF(Calculations2!D81=\"\",\"\",Calculations2!D81)","v":""},{"$f":"+IF(Calculations2!E80=\"\",\"\",Calculations2!E80)","v":""},{"$f":"+IF(Calculations2!L81=\"\",\"\",Calculations2!L81)","v":2.6466877478841369}]
[{"$f":"+Calculations2!A82","v":"2020-07-30"},null,null,null,null,null,{"$f":"+Calculations2!J82","v":26.936211592714443},{"$f":"+Calculations2!L82","v":2.8494877478841367},{"$f":"+IF(Calculations2!K82=0,\"\",Calculations2!K82)","v":""},null,null,null,null,null,null,null,null,null,null,null,null,null,null,null,null,null,{"$f":"+IF(Calculations2!C82=\"\",\"\",Calculations2!C82)","v":""},{"$f":"+IF(Calculations2!D82=\"\",\"\",Calculations2!D82)","v":""},{"$f":"+IF(Calculations2!E81=\"\",\"\",Calculations2!E81)","v":""},{"$f":"+IF(Calculations2!L82=\"\",\"\",Calculations2!L82)","v":2.8494877478841367}]
[{"$f":"+Calculations2!A83","v":"2020-07-31"},null,null,null,null,null,{"$f":"+Calculations2!J83","v":22.166980823483676},{"$f":"+Calculations2!L83","v":3.0354877478841367},{"$f":"+IF(Calculations2!K83=0,\"\",Calculations2!K83)","v":""},null,null,null,null,null,null,null,null,null,null,null,null,null,null,null,null,null,{"$f":"+IF(Calculations2!C83=\"\",\"\",Calculations2!C83)","v":""},{"$f":"+IF(Calculations2!D83=\"\",\"\",Calculations2!D83)","v":""},{"$f":"+IF(Calculations2!E82=\"\",\"\",Calculations2!E82)","v":""},{"$f":"+IF(Calculations2!L83=\"\",\"\",Calculations2!L83)","v":3.0354877478841367}]
[{"$f":"+Calculations2!A84","v":"2020-08-01"},null,null,null,null,null,{"$f":"+Calculations2!J84","v":17.951596208099062},{"$f":"+Calculations2!L84","v":3.1998877478841368},{"$f":"+IF(Calculations2!K84=0,\"\",Calculations2!K84)","v":""},null,null,null,null,null,null,null,null,null,null,null,null,null,null,null,null,null,{"$f":"+IF(Calculations2!C84=\"\",\"\",Calculations2!C84)","v":""},{"$f":"+IF(Calculations2!D84=\"\",\"\",Calculations2!D84)","v":""},{"$f":"+IF(Calculations2!E83=\"\",\"\",Calculations2!E83)","v":""},{"$f":"+IF(Calculations2!L84=\"\",\"\",Calculations2!L84)","v":3.1998877478841368}]
[{"$f":"+Calculations2!A85","v":"2020-08-02"},null,null,null,null,null,{"$f":"+Calculations2!J85","v":17.951596208099062},{"$f":"+Calculations2!L85","v":3.1998877478841368},{"$f":"+IF(Calculations2!K85=0,\"\",Calculations2!K85)","v":""},null,null,null,null,null,null,null,null,null,null,null,null,null,null,null,null,null,{"$f":"+IF(Calculations2!C85=\"\",\"\",Calculations2!C85)","v":""},{"$f":"+IF(Calculations2!D85=\"\",\"\",Calculations2!D85)","v":""},{"$f":"+IF(Calculations2!E84=\"\",\"\",Calculations2!E84)","v":""},{"$f":"+IF(Calculations2!L85=\"\",\"\",Calculations2!L85)","v":3.1998877478841368}]
[{"$f":"+Calculations2!A86","v":"2020-08-03"},null,null,null,null,null,{"$f":"+Calculations2!J86","v":""},{"$f":"+Calculations2!L86","v":""},{"$f":"+IF(Calculations2!K86=0,\"\",Calculations2!K86)","v":""},null,null,null,null,null,null,null,null,null,null,null,null,null,null,null,null,null,{"$f":"+IF(Calculations2!C86=\"\",\"\",Calculations2!C86)","v":""},{"$f":"+IF(Calculations2!D86=\"\",\"\",Calculations2!D86)","v":""},{"$f":"+IF(Calculations2!E85=\"\",\"\",Calculations2!E85)","v":""},{"$f":"+IF(Calculations2!L86=\"\",\"\",Calculations2!L86)","v":""}]
[{"$f":"+Calculations2!A87","v":"2020-08-04"},null,null,null,null,null,{"$f":"+Calculations2!J87","v":""},{"$f":"+Calculations2!L87","v":""},{"$f":"+IF(Calculations2!K87=0,\"\",Calculations2!K87)","v":""},null,null,null,null,null,null,null,null,null,null,null,null,null,null,null,null,null,{"$f":"+IF(Calculations2!C87=\"\",\"\",Calculations2!C87)","v":""},{"$f":"+IF(Calculations2!D87=\"\",\"\",Calculations2!D87)","v":""},{"$f":"+IF(Calculations2!E86=\"\",\"\",Calculations2!E86)","v":""},{"$f":"+IF(Calculations2!L87=\"\",\"\",Calculations2!L87)","v":""}]
[{"$f":"+Calculations2!A88","v":"2020-08-05"},null,null,null,null,null,{"$f":"+Calculations2!J88","v":""},{"$f":"+Calculations2!L88","v":""},{"$f":"+IF(Calculations2!K88=0,\"\",Calculations2!K88)","v":""},null,null,null,null,null,null,null,null,null,null,null,null,null,null,null,null,null,{"$f":"+IF(Calculations2!C88=\"\",\"\",Calculations2!C88)","v":""},{"$f":"+IF(Calculations2!D88=\"\",\"\",Calculations2!D88)","v":""},{"$f":"+IF(Calculations2!E87=\"\",\"\",Calculations2!E87)","v":""},{"$f":"+IF(Calculations2!L88=\"\",\"\",Calculations2!L88)","v":""}]
[{"$f":"+Calculations2!A89","v":"2020-08-06"},null,null,null,null,null,{"$f":"+Calculations2!J89","v":""},{"$f":"+Calculations2!L89","v":""},{"$f":"+IF(Calculations2!K89=0,\"\",Calculations2!K89)","v":""},null,null,null,null,null,null,null,null,null,null,null,null,null,null,null,null,null,{"$f":"+IF(Calculations2!C89=\"\",\"\",Calculations2!C89)","v":""},{"$f":"+IF(Calculations2!D89=\"\",\"\",Calculations2!D89)","v":""},{"$f":"+IF(Calculations2!E88=\"\",\"\",Calculations2!E88)","v":""},{"$f":"+IF(Calculations2!L89=\"\",\"\",Calculations2!L89)","v":""}]
[{"$f":"+Calculations2!A90","v":"2020-08-07"},null,null,null,null,null,{"$f":"+Calculations2!J90","v":""},{"$f":"+Calculations2!L90","v":""},{"$f":"+IF(Calculations2!K90=0,\"\",Calculations2!K90)","v":""},null,null,null,null,null,null,null,null,null,null,null,null,null,null,null,null,null,{"$f":"+IF(Calculations2!C90=\"\",\"\",Calculations2!C90)","v":""},{"$f":"+IF(Calculations2!D90=\"\",\"\",Calculations2!D90)","v":""},{"$f":"+IF(Calculations2!E89=\"\",\"\",Calculations2!E89)","v":""},{"$f":"+IF(Calculations2!L90=\"\",\"\",Calculations2!L90)","v":""}]
[{"$f":"+Calculations2!A91","v":"2020-08-08"},null,null,null,null,null,{"$f":"+Calculations2!J91","v":""},{"$f":"+Calculations2!L91","v":""},{"$f":"+IF(Calculations2!K91=0,\"\",Calculations2!K91)","v":""},null,null,null,null,null,null,null,null,null,null,null,null,null,null,null,null,null,{"$f":"+IF(Calculations2!C91=\"\",\"\",Calculations2!C91)","v":""},{"$f":"+IF(Calculations2!D91=\"\",\"\",Calculations2!D91)","v":""},{"$f":"+IF(Calculations2!E90=\"\",\"\",Calculations2!E90)","v":""},{"$f":"+IF(Calculations2!L91=\"\",\"\",Calculations2!L91)","v":""}]
[{"$f":"+Calculations2!A92","v":"2020-08-09"},null,null,null,null,null,{"$f":"+Calculations2!J92","v":""},{"$f":"+Calculations2!L92","v":""},{"$f":"+IF(Calculations2!K92=0,\"\",Calculations2!K92)","v":""},null,null,null,null,null,null,null,null,null,null,null,null,null,null,null,null,null,{"$f":"+IF(Calculations2!C92=\"\",\"\",Calculations2!C92)","v":""},{"$f":"+IF(Calculations2!D92=\"\",\"\",Calculations2!D92)","v":""},{"$f":"+IF(Calculations2!E91=\"\",\"\",Calculations2!E91)","v":""},{"$f":"+IF(Calculations2!L92=\"\",\"\",Calculations2!L92)","v":""}]
[{"$f":"+Calculations2!A93","v":"2020-08-10"},null,null,null,null,null,{"$f":"+Calculations2!J93","v":""},{"$f":"+Calculations2!L93","v":""},{"$f":"+IF(Calculations2!K93=0,\"\",Calculations2!K93)","v":""},null,null,null,null,null,null,null,null,null,null,null,null,null,null,null,null,null,{"$f":"+IF(Calculations2!C93=\"\",\"\",Calculations2!C93)","v":""},{"$f":"+IF(Calculations2!D93=\"\",\"\",Calculations2!D93)","v":""},{"$f":"+IF(Calculations2!E92=\"\",\"\",Calculations2!E92)","v":""},{"$f":"+IF(Calculations2!L93=\"\",\"\",Calculations2!L93)","v":""}]
[{"$f":"+Calculations2!A94","v":"2020-08-11"},null,null,null,null,null,{"$f":"+Calculations2!J94","v":""},{"$f":"+Calculations2!L94","v":""},{"$f":"+IF(Calculations2!K94=0,\"\",Calculations2!K94)","v":""},null,null,null,null,null,null,null,null,null,null,null,null,null,null,null,null,null,{"$f":"+IF(Calculations2!C94=\"\",\"\",Calculations2!C94)","v":""},{"$f":"+IF(Calculations2!D94=\"\",\"\",Calculations2!D94)","v":""},{"$f":"+IF(Calculations2!E93=\"\",\"\",Calculations2!E93)","v":""},{"$f":"+IF(Calculations2!L94=\"\",\"\",Calculations2!L94)","v":""}]
[{"$f":"+Calculations2!A95","v":"2020-08-12"},null,null,null,null,null,{"$f":"+Calculations2!J95","v":""},{"$f":"+Calculations2!L95","v":""},{"$f":"+IF(Calculations2!K95=0,\"\",Calculations2!K95)","v":""},null,null,null,null,null,null,null,null,null,null,null,null,null,null,null,null,null,{"$f":"+IF(Calculations2!C95=\"\",\"\",Calculations2!C95)","v":""},{"$f":"+IF(Calculations2!D95=\"\",\"\",Calculations2!D95)","v":""},{"$f":"+IF(Calculations2!E94=\"\",\"\",Calculations2!E94)","v":""},{"$f":"+IF(Calculations2!L95=\"\",\"\",Calculations2!L95)","v":""}]
[{"$f":"+Calculations2!A96","v":"2020-08-13"},null,null,null,null,null,{"$f":"+Calculations2!J96","v":""},{"$f":"+Calculations2!L96","v":""},{"$f":"+IF(Calculations2!K96=0,\"\",Calculations2!K96)","v":""},null,null,null,null,null,null,null,null,null,null,null,null,null,null,null,null,null,{"$f":"+IF(Calculations2!C96=\"\",\"\",Calculations2!C96)","v":""},{"$f":"+IF(Calculations2!D96=\"\",\"\",Calculations2!D96)","v":""},{"$f":"+IF(Calculations2!E95=\"\",\"\",Calculations2!E95)","v":""},{"$f":"+IF(Calculations2!L96=\"\",\"\",Calculations2!L96)","v":""}]
[{"$f":"+Calculations2!A97","v":"2020-08-14"},null,null,null,null,null,{"$f":"+Calculations2!J97","v":""},{"$f":"+Calculations2!L97","v":""},{"$f":"+IF(Calculations2!K97=0,\"\",Calculations2!K97)","v":""},null,null,null,null,null,null,null,null,null,null,null,null,null,null,null,null,null,{"$f":"+IF(Calculations2!C97=\"\",\"\",Calculations2!C97)","v":""},{"$f":"+IF(Calculations2!D97=\"\",\"\",Calculations2!D97)","v":""},{"$f":"+IF(Calculations2!E96=\"\",\"\",Calculations2!E96)","v":""},{"$f":"+IF(Calculations2!L97=\"\",\"\",Calculations2!L97)","v":""}]
[{"$f":"+Calculations2!A98","v":"2020-08-15"},null,null,null,null,null,{"$f":"+Calculations2!J98","v":""},{"$f":"+Calculations2!L98","v":""},{"$f":"+IF(Calculations2!K98=0,\"\",Calculations2!K98)","v":""},null,null,null,null,null,null,null,null,null,null,null,null,null,null,null,null,null,{"$f":"+IF(Calculations2!C98=\"\",\"\",Calculations2!C98)","v":""},{"$f":"+IF(Calculations2!D98=\"\",\"\",Calculations2!D98)","v":""},{"$f":"+IF(Calculations2!E97=\"\",\"\",Calculations2!E97)","v":""},{"$f":"+IF(Calculations2!L98=\"\",\"\",Calculations2!L98)","v":""}]
[{"$f":"+Calculations2!A99","v":"2020-08-16"},null,null,null,null,null,{"$f":"+Calculations2!J99","v":""},{"$f":"+Calculations2!L99","v":""},{"$f":"+IF(Calculations2!K99=0,\"\",Calculations2!K99)","v":""},null,null,null,null,null,null,null,null,null,null,null,null,null,null,null,null,null,{"$f":"+IF(Calculations2!C99=\"\",\"\",Calculations2!C99)","v":""},{"$f":"+IF(Calculations2!D99=\"\",\"\",Calculations2!D99)","v":""},{"$f":"+IF(Calculations2!E98=\"\",\"\",Calculations2!E98)","v":""},{"$f":"+IF(Calculations2!L99=\"\",\"\",Calculations2!L99)","v":""}]
[{"$f":"+Calculations2!A100","v":"2020-08-17"},null,null,null,null,null,{"$f":"+Calculations2!J100","v":""},{"$f":"+Calculations2!L100","v":""},{"$f":"+IF(Calculations2!K100=0,\"\",Calculations2!K100)","v":""},null,null,null,null,null,null,null,null,null,null,null,null,null,null,null,null,null,{"$f":"+IF(Calculations2!C100=\"\",\"\",Calculations2!C100)","v":""},{"$f":"+IF(Calculations2!D100=\"\",\"\",Calculations2!D100)","v":""},{"$f":"+IF(Calculations2!E99=\"\",\"\",Calculations2!E99)","v":""},{"$f":"+IF(Calculations2!L100=\"\",\"\",Calculations2!L100)","v":""}]
[{"$f":"+Calculations2!A101","v":"2020-08-18"},null,null,null,null,null,{"$f":"+Calculations2!J101","v":""},{"$f":"+Calculations2!L101","v":""},{"$f":"+IF(Calculations2!K101=0,\"\",Calculations2!K101)","v":""},null,null,null,null,null,null,null,null,null,null,null,null,null,null,null,null,null,{"$f":"+IF(Calculations2!C101=\"\",\"\",Calculations2!C101)","v":""},{"$f":"+IF(Calculations2!D101=\"\",\"\",Calculations2!D101)","v":""},{"$f":"+IF(Calculations2!E100=\"\",\"\",Calculations2!E100)","v":""},{"$f":"+IF(Calculations2!L101=\"\",\"\",Calculations2!L101)","v":""}]
[{"$f":"+Calculations2!A102","v":"2020-08-19"},null,null,null,null,null,{"$f":"+Calculations2!J102","v":""},{"$f":"+Calculations2!L102","v":""},{"$f":"+IF(Calculations2!K102=0,\"\",Calculations2!K102)","v":""},null,null,null,null,null,null,null,null,null,null,null,null,null,null,null,null,null,{"$f":"+IF(Calculations2!C102=\"\",\"\",Calculations2!C102)","v":""},{"$f":"+IF(Calculations2!D102=\"\",\"\",Calculations2!D102)","v":""},{"$f":"+IF(Calculations2!E101=\"\",\"\",Calculations2!E101)","v":""},{"$f":"+IF(Calculations2!L102=\"\",\"\",Calculations2!L102)","v":""}]
[{"$f":"+Calculations2!A103","v":"2020-08-20"},null,null,null,null,null,{"$f":"+Calculations2!J103","v":""},{"$f":"+Calculations2!L103","v":""},{"$f":"+IF(Calculations2!K103=0,\"\",Calculations2!K103)","v":""},null,null,null,null,null,null,null,null,null,null,null,null,null,null,null,null,null,{"$f":"+IF(Calculations2!C103=\"\",\"\",Calculations2!C103)","v":""},{"$f":"+IF(Calculations2!D103=\"\",\"\",Calculations2!D103)","v":""},{"$f":"+IF(Calculations2!E102=\"\",\"\",Calculations2!E102)","v":""},{"$f":"+IF(Calculations2!L103=\"\",\"\",Calculations2!L103)","v":""}]
[{"$f":"+Calculations2!A104","v":"2020-08-21"},null,null,null,null,null,{"$f":"+Calculations2!J104","v":""},{"$f":"+Calculations2!L104","v":""},{"$f":"+IF(Calculations2!K104=0,\"\",Calculations2!K104)","v":""},null,null,null,null,null,null,null,null,null,null,null,null,null,null,null,null,null,{"$f":"+IF(Calculations2!C104=\"\",\"\",Calculations2!C104)","v":""},{"$f":"+IF(Calculations2!D104=\"\",\"\",Calculations2!D104)","v":""},{"$f":"+IF(Calculations2!E103=\"\",\"\",Calculations2!E103)","v":""},{"$f":"+IF(Calculations2!L104=\"\",\"\",Calculations2!L104)","v":""}]
[{"$f":"+Calculations2!A105","v":"2020-08-22"},null,null,null,null,null,{"$f":"+Calculations2!J105","v":""},{"$f":"+Calculations2!L105","v":""},{"$f":"+IF(Calculations2!K105=0,\"\",Calculations2!K105)","v":""},null,null,null,null,null,null,null,null,null,null,null,null,null,null,null,null,null,{"$f":"+IF(Calculations2!C105=\"\",\"\",Calculations2!C105)","v":""},{"$f":"+IF(Calculations2!D105=\"\",\"\",Calculations2!D105)","v":""},{"$f":"+IF(Calculations2!E104=\"\",\"\",Calculations2!E104)","v":""},{"$f":"+IF(Calculations2!L105=\"\",\"\",Calculations2!L105)","v":""}]
[{"$f":"+Calculations2!A106","v":"2020-08-23"},null,null,null,null,null,{"$f":"+Calculations2!J106","v":""},{"$f":"+Calculations2!L106","v":""},{"$f":"+IF(Calculations2!K106=0,\"\",Calculations2!K106)","v":""},null,null,null,null,null,null,null,null,null,null,null,null,null,null,null,null,null,{"$f":"+IF(Calculations2!C106=\"\",\"\",Calculations2!C106)","v":""},{"$f":"+IF(Calculations2!D106=\"\",\"\",Calculations2!D106)","v":""},{"$f":"+IF(Calculations2!E105=\"\",\"\",Calculations2!E105)","v":""},{"$f":"+IF(Calculations2!L106=\"\",\"\",Calculations2!L106)","v":""}]
[{"$f":"+Calculations2!A107","v":"2020-08-24"},null,null,null,null,null,{"$f":"+Calculations2!J107","v":""},{"$f":"+Calculations2!L107","v":""},{"$f":"+IF(Calculations2!K107=0,\"\",Calculations2!K107)","v":""},null,null,null,null,null,null,null,null,null,null,null,null,null,null,null,null,null,{"$f":"+IF(Calculations2!C107=\"\",\"\",Calculations2!C107)","v":""},{"$f":"+IF(Calculations2!D107=\"\",\"\",Calculations2!D107)","v":""},{"$f":"+IF(Calculations2!E106=\"\",\"\",Calculations2!E106)","v":""},{"$f":"+IF(Calculations2!L107=\"\",\"\",Calculations2!L107)","v":""}]
[{"$f":"+Calculations2!A108","v":"2020-08-25"},null,null,null,null,null,{"$f":"+Calculations2!J108","v":""},{"$f":"+Calculations2!L108","v":""},{"$f":"+IF(Calculations2!K108=0,\"\",Calculations2!K108)","v":""},null,null,null,null,null,null,null,null,null,null,null,null,null,null,null,null,null,{"$f":"+IF(Calculations2!C108=\"\",\"\",Calculations2!C108)","v":""},{"$f":"+IF(Calculations2!D108=\"\",\"\",Calculations2!D108)","v":""},{"$f":"+IF(Calculations2!E107=\"\",\"\",Calculations2!E107)","v":""},{"$f":"+IF(Calculations2!L108=\"\",\"\",Calculations2!L108)","v":""}]
[{"$f":"+Calculations2!A109","v":"2020-08-26"},null,null,null,null,null,{"$f":"+Calculations2!J109","v":""},{"$f":"+Calculations2!L109","v":""},{"$f":"+IF(Calculations2!K109=0,\"\",Calculations2!K109)","v":""},null,null,null,null,null,null,null,null,null,null,null,null,null,null,null,null,null,{"$f":"+IF(Calculations2!C109=\"\",\"\",Calculations2!C109)","v":""},{"$f":"+IF(Calculations2!D109=\"\",\"\",Calculations2!D109)","v":""},{"$f":"+IF(Calculations2!E108=\"\",\"\",Calculations2!E108)","v":""},{"$f":"+IF(Calculations2!L109=\"\",\"\",Calculations2!L109)","v":""}]
[{"$f":"+Calculations2!A110","v":"2020-08-27"},null,null,null,null,null,{"$f":"+Calculations2!J110","v":""},{"$f":"+Calculations2!L110","v":""},{"$f":"+IF(Calculations2!K110=0,\"\",Calculations2!K110)","v":""},null,null,null,null,null,null,null,null,null,null,null,null,null,null,null,null,null,{"$f":"+IF(Calculations2!C110=\"\",\"\",Calculations2!C110)","v":""},{"$f":"+IF(Calculations2!D110=\"\",\"\",Calculations2!D110)","v":""},{"$f":"+IF(Calculations2!E109=\"\",\"\",Calculations2!E109)","v":""},{"$f":"+IF(Calculations2!L110=\"\",\"\",Calculations2!L110)","v":""}]
[{"$f":"+Calculations2!A111","v":"2020-08-28"},null,null,null,null,null,{"$f":"+Calculations2!J111","v":""},{"$f":"+Calculations2!L111","v":""},{"$f":"+IF(Calculations2!K111=0,\"\",Calculations2!K111)","v":""},null,null,null,null,null,null,null,null,null,null,null,null,null,null,null,null,null,{"$f":"+IF(Calculations2!C111=\"\",\"\",Calculations2!C111)","v":""},{"$f":"+IF(Calculations2!D111=\"\",\"\",Calculations2!D111)","v":""},{"$f":"+IF(Calculations2!E110=\"\",\"\",Calculations2!E110)","v":""},{"$f":"+IF(Calculations2!L111=\"\",\"\",Calculations2!L111)","v":""}]
[{"$f":"+Calculations2!A112","v":"2020-08-29"},null,null,null,null,null,{"$f":"+Calculations2!J112","v":""},{"$f":"+Calculations2!L112","v":""},{"$f":"+IF(Calculations2!K112=0,\"\",Calculations2!K112)","v":""},null,null,null,null,null,null,null,null,null,null,null,null,null,null,null,null,null,{"$f":"+IF(Calculations2!C112=\"\",\"\",Calculations2!C112)","v":""},{"$f":"+IF(Calculations2!D112=\"\",\"\",Calculations2!D112)","v":""},{"$f":"+IF(Calculations2!E111=\"\",\"\",Calculations2!E111)","v":""},{"$f":"+IF(Calculations2!L112=\"\",\"\",Calculations2!L112)","v":""}]
[{"$f":"+Calculations2!A113","v":"2020-08-30"},null,null,null,null,null,{"$f":"+Calculations2!J113","v":""},{"$f":"+Calculations2!L113","v":""},{"$f":"+IF(Calculations2!K113=0,\"\",Calculations2!K113)","v":""},null,null,null,null,null,null,null,null,null,null,null,null,null,null,null,null,null,{"$f":"+IF(Calculations2!C113=\"\",\"\",Calculations2!C113)","v":""},{"$f":"+IF(Calculations2!D113=\"\",\"\",Calculations2!D113)","v":""},{"$f":"+IF(Calculations2!E112=\"\",\"\",Calculations2!E112)","v":""},{"$f":"+IF(Calculations2!L113=\"\",\"\",Calculations2!L113)","v":""}]
[{"$f":"+Calculations2!A114","v":"2020-08-31"},null,null,null,null,null,{"$f":"+Calculations2!J114","v":""},{"$f":"+Calculations2!L114","v":""},{"$f":"+IF(Calculations2!K114=0,\"\",Calculations2!K114)","v":""},null,null,null,null,null,null,null,null,null,null,null,null,null,null,null,null,null,{"$f":"+IF(Calculations2!C114=\"\",\"\",Calculations2!C114)","v":""},{"$f":"+IF(Calculations2!D114=\"\",\"\",Calculations2!D114)","v":""},{"$f":"+IF(Calculations2!E113=\"\",\"\",Calculations2!E113)","v":""},{"$f":"+IF(Calculations2!L114=\"\",\"\",Calculations2!L114)","v":""}]
[{"$f":"+Calculations2!A115","v":"2020-09-01"},null,null,null,null,null,{"$f":"+Calculations2!J115","v":""},{"$f":"+Calculations2!L115","v":""},{"$f":"+IF(Calculations2!K115=0,\"\",Calculations2!K115)","v":""},null,null,null,null,null,null,null,null,null,null,null,null,null,null,null,null,null,{"$f":"+IF(Calculations2!C115=\"\",\"\",Calculations2!C115)","v":""},{"$f":"+IF(Calculations2!D115=\"\",\"\",Calculations2!D115)","v":""},{"$f":"+IF(Calculations2!E114=\"\",\"\",Calculations2!E114)","v":""},{"$f":"+IF(Calculations2!L115=\"\",\"\",Calculations2!L115)","v":""}]
[{"$f":"+Calculations2!A116","v":"2020-09-02"},null,null,null,null,null,{"$f":"+Calculations2!J116","v":""},{"$f":"+Calculations2!L116","v":""},{"$f":"+IF(Calculations2!K116=0,\"\",Calculations2!K116)","v":""},null,null,null,null,null,null,null,null,null,null,null,null,null,null,null,null,null,{"$f":"+IF(Calculations2!C116=\"\",\"\",Calculations2!C116)","v":""},{"$f":"+IF(Calculations2!D116=\"\",\"\",Calculations2!D116)","v":""},{"$f":"+IF(Calculations2!E115=\"\",\"\",Calculations2!E115)","v":""},{"$f":"+IF(Calculations2!L116=\"\",\"\",Calculations2!L116)","v":""}]
[{"$f":"+Calculations2!A117","v":"2020-09-03"},null,null,null,null,null,{"$f":"+Calculations2!J117","v":""},{"$f":"+Calculations2!L117","v":""},{"$f":"+IF(Calculations2!K117=0,\"\",Calculations2!K117)","v":""},null,null,null,null,null,null,null,null,null,null,null,null,null,null,null,null,null,{"$f":"+IF(Calculations2!C117=\"\",\"\",Calculations2!C117)","v":""},{"$f":"+IF(Calculations2!D117=\"\",\"\",Calculations2!D117)","v":""},{"$f":"+IF(Calculations2!E116=\"\",\"\",Calculations2!E116)","v":""},{"$f":"+IF(Calculations2!L117=\"\",\"\",Calculations2!L117)","v":""}]
[{"$f":"+Calculations2!A118","v":"2020-09-04"},null,null,null,null,null,{"$f":"+Calculations2!J118","v":""},{"$f":"+Calculations2!L118","v":""},{"$f":"+IF(Calculations2!K118=0,\"\",Calculations2!K118)","v":""},null,null,null,null,null,null,null,null,null,null,null,null,null,null,null,null,null,{"$f":"+IF(Calculations2!C118=\"\",\"\",Calculations2!C118)","v":""},{"$f":"+IF(Calculations2!D118=\"\",\"\",Calculations2!D118)","v":""},{"$f":"+IF(Calculations2!E117=\"\",\"\",Calculations2!E117)","v":""},{"$f":"+IF(Calculations2!L118=\"\",\"\",Calculations2!L118)","v":""}]
[{"$f":"+Calculations2!A119","v":"2020-09-05"},null,null,null,null,null,{"$f":"+Calculations2!J119","v":""},{"$f":"+Calculations2!L119","v":""},{"$f":"+IF(Calculations2!K119=0,\"\",Calculations2!K119)","v":""},null,null,null,null,null,null,null,null,null,null,null,null,null,null,null,null,null,{"$f":"+IF(Calculations2!C119=\"\",\"\",Calculations2!C119)","v":""},{"$f":"+IF(Calculations2!D119=\"\",\"\",Calculations2!D119)","v":""},{"$f":"+IF(Calculations2!E118=\"\",\"\",Calculations2!E118)","v":""},{"$f":"+IF(Calculations2!L119=\"\",\"\",Calculations2!L119)","v":""}]
[{"$f":"+Calculations2!A120","v":"2020-09-06"},null,null,null,null,null,{"$f":"+Calculations2!J120","v":""},{"$f":"+Calculations2!L120","v":""},{"$f":"+IF(Calculations2!K120=0,\"\",Calculations2!K120)","v":""},null,null,null,null,null,null,null,null,null,null,null,null,null,null,null,null,null,{"$f":"+IF(Calculations2!C120=\"\",\"\",Calculations2!C120)","v":""},{"$f":"+IF(Calculations2!D120=\"\",\"\",Calculations2!D120)","v":""},{"$f":"+IF(Calculations2!E119=\"\",\"\",Calculations2!E119)","v":""},{"$f":"+IF(Calculations2!L120=\"\",\"\",Calculations2!L120)","v":""}]
[{"$f":"+Calculations2!A121","v":"2020-09-07"},null,null,null,null,null,{"$f":"+Calculations2!J121","v":""},{"$f":"+Calculations2!L121","v":""},{"$f":"+IF(Calculations2!K121=0,\"\",Calculations2!K121)","v":""},null,null,null,null,null,null,null,null,null,null,null,null,null,null,null,null,null,{"$f":"+IF(Calculations2!C121=\"\",\"\",Calculations2!C121)","v":""},{"$f":"+IF(Calculations2!D121=\"\",\"\",Calculations2!D121)","v":""},{"$f":"+IF(Calculations2!E120=\"\",\"\",Calculations2!E120)","v":""},{"$f":"+IF(Calculations2!L121=\"\",\"\",Calculations2!L121)","v":""}]
[{"$f":"+Calculations2!A122","v":"2020-09-08"},null,null,null,null,null,{"$f":"+Calculations2!J122","v":""},{"$f":"+Calculations2!L122","v":""},{"$f":"+IF(Calculations2!K122=0,\"\",Calculations2!K122)","v":""},null,null,null,null,null,null,null,null,null,null,null,null,null,null,null,null,null,{"$f":"+IF(Calculations2!C122=\"\",\"\",Calculations2!C122)","v":""},{"$f":"+IF(Calculations2!D122=\"\",\"\",Calculations2!D122)","v":""},{"$f":"+IF(Calculations2!E121=\"\",\"\",Calculations2!E121)","v":""},{"$f":"+IF(Calculations2!L122=\"\",\"\",Calculations2!L122)","v":""}]
[{"$f":"+Calculations2!A123","v":"2020-09-09"},null,null,null,null,null,{"$f":"+Calculations2!J123","v":""},{"$f":"+Calculations2!L123","v":""},{"$f":"+IF(Calculations2!K123=0,\"\",Calculations2!K123)","v":""},null,null,null,null,null,null,null,null,null,null,null,null,null,null,null,null,null,{"$f":"+IF(Calculations2!C123=\"\",\"\",Calculations2!C123)","v":""},{"$f":"+IF(Calculations2!D123=\"\",\"\",Calculations2!D123)","v":""},{"$f":"+IF(Calculations2!E122=\"\",\"\",Calculations2!E122)","v":""},{"$f":"+IF(Calculations2!L123=\"\",\"\",Calculations2!L123)","v":""}]
[{"$f":"+Calculations2!A124","v":"2020-09-10"},null,null,null,null,null,{"$f":"+Calculations2!J124","v":""},{"$f":"+Calculations2!L124","v":""},{"$f":"+IF(Calculations2!K124=0,\"\",Calculations2!K124)","v":""},null,null,null,null,null,null,null,null,null,null,null,null,null,null,null,null,null,{"$f":"+IF(Calculations2!C124=\"\",\"\",Calculations2!C124)","v":""},{"$f":"+IF(Calculations2!D124=\"\",\"\",Calculations2!D124)","v":""},{"$f":"+IF(Calculations2!E123=\"\",\"\",Calculations2!E123)","v":""},{"$f":"+IF(Calculations2!L124=\"\",\"\",Calculations2!L124)","v":""}]
[{"$f":"+Calculations2!A125","v":"2020-09-11"},null,null,null,null,null,{"$f":"+Calculations2!J125","v":""},{"$f":"+Calculations2!L125","v":""},{"$f":"+IF(Calculations2!K125=0,\"\",Calculations2!K125)","v":""},null,null,null,null,null,null,null,null,null,null,null,null,null,null,null,null,null,{"$f":"+IF(Calculations2!C125=\"\",\"\",Calculations2!C125)","v":""},{"$f":"+IF(Calculations2!D125=\"\",\"\",Calculations2!D125)","v":""},{"$f":"+IF(Calculations2!E124=\"\",\"\",Calculations2!E124)","v":""},{"$f":"+IF(Calculations2!L125=\"\",\"\",Calculations2!L125)","v":""}]
[{"$f":"+Calculations2!A126","v":"2020-09-12"},null,null,null,null,null,{"$f":"+Calculations2!J126","v":""},{"$f":"+Calculations2!L126","v":""},{"$f":"+IF(Calculations2!K126=0,\"\",Calculations2!K126)","v":""},null,null,null,null,null,null,null,null,null,null,null,null,null,null,null,null,null,{"$f":"+IF(Calculations2!C126=\"\",\"\",Calculations2!C126)","v":""},{"$f":"+IF(Calculations2!D126=\"\",\"\",Calculations2!D126)","v":""},{"$f":"+IF(Calculations2!E125=\"\",\"\",Calculations2!E125)","v":""},{"$f":"+IF(Calculations2!L126=\"\",\"\",Calculations2!L126)","v":""}]
[{"$f":"+Calculations2!A127","v":"2020-09-13"},null,null,null,null,null,{"$f":"+Calculations2!J127","v":""},{"$f":"+Calculations2!L127","v":""},{"$f":"+IF(Calculations2!K127=0,\"\",Calculations2!K127)","v":""},null,null,null,null,null,null,null,null,null,null,null,null,null,null,null,null,null,{"$f":"+IF(Calculations2!C127=\"\",\"\",Calculations2!C127)","v":""},{"$f":"+IF(Calculations2!D127=\"\",\"\",Calculations2!D127)","v":""},{"$f":"+IF(Calculations2!E126=\"\",\"\",Calculations2!E126)","v":""},{"$f":"+IF(Calculations2!L127=\"\",\"\",Calculations2!L127)","v":""}]
[{"$f":"+Calculations2!A128","v":"2020-09-14"},null,null,null,null,null,{"$f":"+Calculations2!J128","v":""},{"$f":"+Calculations2!L128","v":""},{"$f":"+IF(Calculations2!K128=0,\"\",Calculations2!K128)","v":""},null,null,null,null,null,null,null,null,null,null,null,null,null,null,null,null,null,{"$f":"+IF(Calculations2!C128=\"\",\"\",Calculations2!C128)","v":""},{"$f":"+IF(Calculations2!D128=\"\",\"\",Calculations2!D128)","v":""},{"$f":"+IF(Calculations2!E127=\"\",\"\",Calculations2!E127)","v":""},{"$f":"+IF(Calculations2!L128=\"\",\"\",Calculations2!L128)","v":""}]
[{"$f":"+Calculations2!A129","v":"2020-09-15"},null,null,null,null,null,{"$f":"+Calculations2!J129","v":""},{"$f":"+Calculations2!L129","v":""},{"$f":"+IF(Calculations2!K129=0,\"\",Calculations2!K129)","v":""},null,null,null,null,null,null,null,null,null,null,null,null,null,null,null,null,null,{"$f":"+IF(Calculations2!C129=\"\",\"\",Calculations2!C129)","v":""},{"$f":"+IF(Calculations2!D129=\"\",\"\",Calculations2!D129)","v":""},{"$f":"+IF(Calculations2!E128=\"\",\"\",Calculations2!E128)","v":""},{"$f":"+IF(Calculations2!L129=\"\",\"\",Calculations2!L129)","v":""}]
[{"$f":"+Calculations2!A130","v":"2020-09-16"},null,null,null,null,null,{"$f":"+Calculations2!J130","v":""},{"$f":"+Calculations2!L130","v":""},{"$f":"+IF(Calculations2!K130=0,\"\",Calculations2!K130)","v":""},null,null,null,null,null,null,null,null,null,null,null,null,null,null,null,null,null,{"$f":"+IF(Calculations2!C130=\"\",\"\",Calculations2!C130)","v":""},{"$f":"+IF(Calculations2!D130=\"\",\"\",Calculations2!D130)","v":""},{"$f":"+IF(Calculations2!E129=\"\",\"\",Calculations2!E129)","v":""},{"$f":"+IF(Calculations2!L130=\"\",\"\",Calculations2!L130)","v":""}]
[{"$f":"+Calculations2!A131","v":"2020-09-17"},null,null,null,null,null,{"$f":"+Calculations2!J131","v":""},{"$f":"+Calculations2!L131","v":""},{"$f":"+IF(Calculations2!K131=0,\"\",Calculations2!K131)","v":""},null,null,null,null,null,null,null,null,null,null,null,null,null,null,null,null,null,{"$f":"+IF(Calculations2!C131=\"\",\"\",Calculations2!C131)","v":""},{"$f":"+IF(Calculations2!D131=\"\",\"\",Calculations2!D131)","v":""},{"$f":"+IF(Calculations2!E130=\"\",\"\",Calculations2!E130)","v":""},{"$f":"+IF(Calculations2!L131=\"\",\"\",Calculations2!L131)","v":""}]
[{"$f":"+Calculations2!A132","v":"2020-09-18"},null,null,null,null,null,{"$f":"+Calculations2!J132","v":""},{"$f":"+Calculations2!L132","v":""},{"$f":"+IF(Calculations2!K132=0,\"\",Calculations2!K132)","v":""},null,null,null,null,null,null,null,null,null,null,null,null,null,null,null,null,null,{"$f":"+IF(Calculations2!C132=\"\",\"\",Calculations2!C132)","v":""},{"$f":"+IF(Calculations2!D132=\"\",\"\",Calculations2!D132)","v":""},{"$f":"+IF(Calculations2!E131=\"\",\"\",Calculations2!E131)","v":""},{"$f":"+IF(Calculations2!L132=\"\",\"\",Calculations2!L132)","v":""}]
[{"$f":"+Calculations2!A133","v":"2020-09-19"},null,null,null,null,null,{"$f":"+Calculations2!J133","v":""},{"$f":"+Calculations2!L133","v":""},{"$f":"+IF(Calculations2!K133=0,\"\",Calculations2!K133)","v":""},null,null,null,null,null,null,null,null,null,null,null,null,null,null,null,null,null,{"$f":"+IF(Calculations2!C133=\"\",\"\",Calculations2!C133)","v":""},{"$f":"+IF(Calculations2!D133=\"\",\"\",Calculations2!D133)","v":""},{"$f":"+IF(Calculations2!E132=\"\",\"\",Calculations2!E132)","v":""},{"$f":"+IF(Calculations2!L133=\"\",\"\",Calculations2!L133)","v":""}]
[{"$f":"+Calculations2!A134","v":"2020-09-20"},null,null,null,null,null,{"$f":"+Calculations2!J134","v":""},{"$f":"+Calculations2!L134","v":""},{"$f":"+IF(Calculations2!K134=0,\"\",Calculations2!K134)","v":""},null,null,null,null,null,null,null,null,null,null,null,null,null,null,null,null,null,{"$f":"+IF(Calculations2!C134=\"\",\"\",Calculations2!C134)","v":""},{"$f":"+IF(Calculations2!D134=\"\",\"\",Calculations2!D134)","v":""},{"$f":"+IF(Calculations2!E133=\"\",\"\",Calculations2!E133)","v":""},{"$f":"+IF(Calculations2!L134=\"\",\"\",Calculations2!L134)","v":""}]
[{"$f":"+Calculations2!A135","v":"2020-09-21"},null,null,null,null,null,{"$f":"+Calculations2!J135","v":""},{"$f":"+Calculations2!L135","v":""},{"$f":"+IF(Calculations2!K135=0,\"\",Calculations2!K135)","v":""},null,null,null,null,null,null,null,null,null,null,null,null,null,null,null,null,null,{"$f":"+IF(Calculations2!C135=\"\",\"\",Calculations2!C135)","v":""},{"$f":"+IF(Calculations2!D135=\"\",\"\",Calculations2!D135)","v":""},{"$f":"+IF(Calculations2!E134=\"\",\"\",Calculations2!E134)","v":""},{"$f":"+IF(Calculations2!L135=\"\",\"\",Calculations2!L135)","v":""}]
[{"$f":"+Calculations2!A136","v":"2020-09-22"},null,null,null,null,null,{"$f":"+Calculations2!J136","v":""},{"$f":"+Calculations2!L136","v":""},{"$f":"+IF(Calculations2!K136=0,\"\",Calculations2!K136)","v":""},null,null,null,null,null,null,null,null,null,null,null,null,null,null,null,null,null,{"$f":"+IF(Calculations2!C136=\"\",\"\",Calculations2!C136)","v":""},{"$f":"+IF(Calculations2!D136=\"\",\"\",Calculations2!D136)","v":""},{"$f":"+IF(Calculations2!E135=\"\",\"\",Calculations2!E135)","v":""},{"$f":"+IF(Calculations2!L136=\"\",\"\",Calculations2!L136)","v":""}]
[{"$f":"+Calculations2!A137","v":"2020-09-23"},null,null,null,null,null,{"$f":"+Calculations2!J137","v":""},{"$f":"+Calculations2!L137","v":""},{"$f":"+IF(Calculations2!K137=0,\"\",Calculations2!K137)","v":""},null,null,null,null,null,null,null,null,null,null,null,null,null,null,null,null,null,{"$f":"+IF(Calculations2!C137=\"\",\"\",Calculations2!C137)","v":""},{"$f":"+IF(Calculations2!D137=\"\",\"\",Calculations2!D137)","v":""},{"$f":"+IF(Calculations2!E136=\"\",\"\",Calculations2!E136)","v":""},{"$f":"+IF(Calculations2!L137=\"\",\"\",Calculations2!L137)","v":""}]
[{"$f":"+Calculations2!A138","v":"2020-09-24"},null,null,null,null,null,{"$f":"+Calculations2!J138","v":""},{"$f":"+Calculations2!L138","v":""},{"$f":"+IF(Calculations2!K138=0,\"\",Calculations2!K138)","v":""},null,null,null,null,null,null,null,null,null,null,null,null,null,null,null,null,null,{"$f":"+IF(Calculations2!C138=\"\",\"\",Calculations2!C138)","v":""},{"$f":"+IF(Calculations2!D138=\"\",\"\",Calculations2!D138)","v":""},{"$f":"+IF(Calculations2!E137=\"\",\"\",Calculations2!E137)","v":""},{"$f":"+IF(Calculations2!L138=\"\",\"\",Calculations2!L138)","v":""}]
[{"$f":"+Calculations2!A139","v":"2020-09-25"},null,null,null,null,null,{"$f":"+Calculations2!J139","v":""},{"$f":"+Calculations2!L139","v":""},{"$f":"+IF(Calculations2!K139=0,\"\",Calculations2!K139)","v":""},null,null,null,null,null,null,null,null,null,null,null,null,null,null,null,null,null,{"$f":"+IF(Calculations2!C139=\"\",\"\",Calculations2!C139)","v":""},{"$f":"+IF(Calculations2!D139=\"\",\"\",Calculations2!D139)","v":""},{"$f":"+IF(Calculations2!E138=\"\",\"\",Calculations2!E138)","v":""},{"$f":"+IF(Calculations2!L139=\"\",\"\",Calculations2!L139)","v":""}]
[{"$f":"+Calculations2!A140","v":"2020-09-26"},null,null,null,null,null,{"$f":"+Calculations2!J140","v":""},{"$f":"+Calculations2!L140","v":""},{"$f":"+IF(Calculations2!K140=0,\"\",Calculations2!K140)","v":""},null,null,null,null,null,null,null,null,null,null,null,null,null,null,null,null,null,{"$f":"+IF(Calculations2!C140=\"\",\"\",Calculations2!C140)","v":""},{"$f":"+IF(Calculations2!D140=\"\",\"\",Calculations2!D140)","v":""},{"$f":"+IF(Calculations2!E139=\"\",\"\",Calculations2!E139)","v":""},{"$f":"+IF(Calculations2!L140=\"\",\"\",Calculations2!L140)","v":""}]
[{"$f":"+Calculations2!A141","v":"2020-09-27"},null,null,null,null,null,{"$f":"+Calculations2!J141","v":""},{"$f":"+Calculations2!L141","v":""},{"$f":"+IF(Calculations2!K141=0,\"\",Calculations2!K141)","v":""},null,null,null,null,null,null,null,null,null,null,null,null,null,null,null,null,null,{"$f":"+IF(Calculations2!C141=\"\",\"\",Calculations2!C141)","v":""},{"$f":"+IF(Calculations2!D141=\"\",\"\",Calculations2!D141)","v":""},{"$f":"+IF(Calculations2!E140=\"\",\"\",Calculations2!E140)","v":""},{"$f":"+IF(Calculations2!L141=\"\",\"\",Calculations2!L141)","v":""}]
[{"$f":"+Calculations2!A142","v":"2020-09-28"},null,null,null,null,null,{"$f":"+Calculations2!J142","v":""},{"$f":"+Calculations2!L142","v":""},{"$f":"+IF(Calculations2!K142=0,\"\",Calculations2!K142)","v":""},null,null,null,null,null,null,null,null,null,null,null,null,null,null,null,null,null,{"$f":"+IF(Calculations2!C142=\"\",\"\",Calculations2!C142)","v":""},{"$f":"+IF(Calculations2!D142=\"\",\"\",Calculations2!D142)","v":""},{"$f":"+IF(Calculations2!E141=\"\",\"\",Calculations2!E141)","v":""},{"$f":"+IF(Calculations2!L142=\"\",\"\",Calculations2!L142)","v":""}]
[{"$f":"+Calculations2!A143","v":"2020-09-29"},null,null,null,null,null,{"$f":"+Calculations2!J143","v":""},{"$f":"+Calculations2!L143","v":""},{"$f":"+IF(Calculations2!K143=0,\"\",Calculations2!K143)","v":""},null,null,null,null,null,null,null,null,null,null,null,null,null,null,null,null,null,{"$f":"+IF(Calculations2!C143=\"\",\"\",Calculations2!C143)","v":""},{"$f":"+IF(Calculations2!D143=\"\",\"\",Calculations2!D143)","v":""},{"$f":"+IF(Calculations2!E142=\"\",\"\",Calculations2!E142)","v":""},{"$f":"+IF(Calculations2!L143=\"\",\"\",Calculations2!L143)","v":""}]
[{"$f":"+Calculations2!A144","v":"2020-09-30"},null,null,null,null,null,{"$f":"+Calculations2!J144","v":""},{"$f":"+Calculations2!L144","v":""},{"$f":"+IF(Calculations2!K144=0,\"\",Calculations2!K144)","v":""},null,null,null,null,null,null,null,null,null,null,null,null,null,null,null,null,null,{"$f":"+IF(Calculations2!C144=\"\",\"\",Calculations2!C144)","v":""},{"$f":"+IF(Calculations2!D144=\"\",\"\",Calculations2!D144)","v":""},{"$f":"+IF(Calculations2!E143=\"\",\"\",Calculations2!E143)","v":""},{"$f":"+IF(Calculations2!L144=\"\",\"\",Calculations2!L144)","v":""}]
[{"$f":"+Calculations2!A145","v":"2020-10-01"},null,null,null,null,null,{"$f":"+Calculations2!J145","v":""},{"$f":"+Calculations2!L145","v":""},{"$f":"+IF(Calculations2!K145=0,\"\",Calculations2!K145)","v":""},null,null,null,null,null,null,null,null,null,null,null,null,null,null,null,null,null,{"$f":"+IF(Calculations2!C145=\"\",\"\",Calculations2!C145)","v":""},{"$f":"+IF(Calculations2!D145=\"\",\"\",Calculations2!D145)","v":""},{"$f":"+IF(Calculations2!E144=\"\",\"\",Calculations2!E144)","v":""},{"$f":"+IF(Calculations2!L145=\"\",\"\",Calculations2!L145)","v":""}]
[{"$f":"+Calculations2!A146","v":"2020-10-02"},null,null,null,null,null,{"$f":"+Calculations2!J146","v":""},{"$f":"+Calculations2!L146","v":""},{"$f":"+IF(Calculations2!K146=0,\"\",Calculations2!K146)","v":""},null,null,null,null,null,null,null,null,null,null,null,null,null,null,null,null,null,{"$f":"+IF(Calculations2!C146=\"\",\"\",Calculations2!C146)","v":""},{"$f":"+IF(Calculations2!D146=\"\",\"\",Calculations2!D146)","v":""},{"$f":"+IF(Calculations2!E145=\"\",\"\",Calculations2!E145)","v":""},{"$f":"+IF(Calculations2!L146=\"\",\"\",Calculations2!L146)","v":""}]
[{"$f":"+Calculations2!A147","v":"2020-10-03"},null,null,null,null,null,{"$f":"+Calculations2!J147","v":""},{"$f":"+Calculations2!L147","v":""},{"$f":"+IF(Calculations2!K147=0,\"\",Calculations2!K147)","v":""},null,null,null,null,null,null,null,null,null,null,null,null,null,null,null,null,null,{"$f":"+IF(Calculations2!C147=\"\",\"\",Calculations2!C147)","v":""},{"$f":"+IF(Calculations2!D147=\"\",\"\",Calculations2!D147)","v":""},{"$f":"+IF(Calculations2!E146=\"\",\"\",Calculations2!E146)","v":""},{"$f":"+IF(Calculations2!L147=\"\",\"\",Calculations2!L147)","v":""}]
[{"$f":"+Calculations2!A148","v":"2020-10-04"},null,null,null,null,null,{"$f":"+Calculations2!J148","v":""},{"$f":"+Calculations2!L148","v":""},{"$f":"+IF(Calculations2!K148=0,\"\",Calculations2!K148)","v":""},null,null,null,null,null,null,null,null,null,null,null,null,null,null,null,null,null,{"$f":"+IF(Calculations2!C148=\"\",\"\",Calculations2!C148)","v":""},{"$f":"+IF(Calculations2!D148=\"\",\"\",Calculations2!D148)","v":""},{"$f":"+IF(Calculations2!E147=\"\",\"\",Calculations2!E147)","v":""},{"$f":"+IF(Calculations2!L148=\"\",\"\",Calculations2!L148)","v":""}]
[{"$f":"+Calculations2!A149","v":"2020-10-05"},null,null,null,null,null,{"$f":"+Calculations2!J149","v":""},{"$f":"+Calculations2!L149","v":""},{"$f":"+IF(Calculations2!K149=0,\"\",Calculations2!K149)","v":""},null,null,null,null,null,null,null,null,null,null,null,null,null,null,null,null,null,{"$f":"+IF(Calculations2!C149=\"\",\"\",Calculations2!C149)","v":""},{"$f":"+IF(Calculations2!D149=\"\",\"\",Calculations2!D149)","v":""},{"$f":"+IF(Calculations2!E148=\"\",\"\",Calculations2!E148)","v":""},{"$f":"+IF(Calculations2!L149=\"\",\"\",Calculations2!L149)","v":""}]
[{"$f":"+Calculations2!A150","v":"2020-10-06"},null,null,null,null,null,{"$f":"+Calculations2!J150","v":""},{"$f":"+Calculations2!L150","v":""},{"$f":"+IF(Calculations2!K150=0,\"\",Calculations2!K150)","v":""},null,null,null,null,null,null,null,null,null,null,null,null,null,null,null,null,null,{"$f":"+IF(Calculations2!C150=\"\",\"\",Calculations2!C150)","v":""},{"$f":"+IF(Calculations2!D150=\"\",\"\",Calculations2!D150)","v":""},{"$f":"+IF(Calculations2!E149=\"\",\"\",Calculations2!E149)","v":""},{"$f":"+IF(Calculations2!L150=\"\",\"\",Calculations2!L150)","v":""}]
[{"$f":"+Calculations2!A151","v":"2020-10-07"},null,null,null,null,null,{"$f":"+Calculations2!J151","v":""},{"$f":"+Calculations2!L151","v":""},{"$f":"+IF(Calculations2!K151=0,\"\",Calculations2!K151)","v":""},null,null,null,null,null,null,null,null,null,null,null,null,null,null,null,null,null,{"$f":"+IF(Calculations2!C151=\"\",\"\",Calculations2!C151)","v":""},{"$f":"+IF(Calculations2!D151=\"\",\"\",Calculations2!D151)","v":""},{"$f":"+IF(Calculations2!E150=\"\",\"\",Calculations2!E150)","v":""},{"$f":"+IF(Calculations2!L151=\"\",\"\",Calculations2!L151)","v":""}]
[{"$f":"+Calculations2!A152","v":"2020-10-08"},null,null,null,null,null,{"$f":"+Calculations2!J152","v":""},{"$f":"+Calculations2!L152","v":""},{"$f":"+IF(Calculations2!K152=0,\"\",Calculations2!K152)","v":""},null,null,null,null,null,null,null,null,null,null,null,null,null,null,null,null,null,{"$f":"+IF(Calculations2!C152=\"\",\"\",Calculations2!C152)","v":""},{"$f":"+IF(Calculations2!D152=\"\",\"\",Calculations2!D152)","v":""},{"$f":"+IF(Calculations2!E151=\"\",\"\",Calculations2!E151)","v":""},{"$f":"+IF(Calculations2!L152=\"\",\"\",Calculations2!L152)","v":""}]
[{"$f":"+Calculations2!A153","v":"2020-10-09"},null,null,null,null,null,{"$f":"+Calculations2!J153","v":""},{"$f":"+Calculations2!L153","v":""},{"$f":"+IF(Calculations2!K153=0,\"\",Calculations2!K153)","v":""},null,null,null,null,null,null,null,null,null,null,null,null,null,null,null,null,null,{"$f":"+IF(Calculations2!C153=\"\",\"\",Calculations2!C153)","v":""},{"$f":"+IF(Calculations2!D153=\"\",\"\",Calculations2!D153)","v":""},{"$f":"+IF(Calculations2!E152=\"\",\"\",Calculations2!E152)","v":""},{"$f":"+IF(Calculations2!L153=\"\",\"\",Calculations2!L153)","v":""}]
[{"$f":"+Calculations2!A154","v":"2020-10-10"},null,null,null,null,null,{"$f":"+Calculations2!J154","v":""},{"$f":"+Calculations2!L154","v":""},{"$f":"+IF(Calculations2!K154=0,\"\",Calculations2!K154)","v":""},null,null,null,null,null,null,null,null,null,null,null,null,null,null,null,null,null,{"$f":"+IF(Calculations2!C154=\"\",\"\",Calculations2!C154)","v":""},{"$f":"+IF(Calculations2!D154=\"\",\"\",Calculations2!D154)","v":""},{"$f":"+IF(Calculations2!E153=\"\",\"\",Calculations2!E153)","v":""},{"$f":"+IF(Calculations2!L154=\"\",\"\",Calculations2!L154)","v":""}]
[{"$f":"+Calculations2!A155","v":"2020-10-11"},null,null,null,null,null,{"$f":"+Calculations2!J155","v":""},{"$f":"+Calculations2!L155","v":""},{"$f":"+IF(Calculations2!K155=0,\"\",Calculations2!K155)","v":""}]
[{"$f":"+Calculations2!A156","v":"2020-10-12"},null,null,null,null,null,{"$f":"+Calculations2!J156","v":""},{"$f":"+Calculations2!L156","v":""},{"$f":"+IF(Calculations2!K156=0,\"\",Calculations2!K156)","v":""}]
[{"$f":"+Calculations2!A157","v":"2020-10-13"},null,null,null,null,null,{"$f":"+Calculations2!J157","v":""},{"$f":"+Calculations2!L157","v":""},{"$f":"+IF(Calculations2!K157=0,\"\",Calculations2!K157)","v":""}]
[{"$f":"+Calculations2!A158","v":"2020-10-14"},null,null,null,null,null,{"$f":"+Calculations2!J158","v":""},{"$f":"+Calculations2!L158","v":""},{"$f":"+IF(Calculations2!K158=0,\"\",Calculations2!K158)","v":""}]
[{"$f":"+Calculations2!A159","v":"2020-10-15"},null,null,null,null,null,{"$f":"+Calculations2!J159","v":""},{"$f":"+Calculations2!L159","v":""},{"$f":"+IF(Calculations2!K159=0,\"\",Calculations2!K159)","v":""}]
[{"$f":"+Calculations2!A160","v":"2020-10-16"},null,null,null,null,null,{"$f":"+Calculations2!J160","v":""},{"$f":"+Calculations2!L160","v":""},{"$f":"+IF(Calculations2!K160=0,\"\",Calculations2!K160)","v":""}]
[{"$f":"+Calculations2!A161","v":"2020-10-17"},null,null,null,null,null,{"$f":"+Calculations2!J161","v":""},{"$f":"+Calculations2!L161","v":""},{"$f":"+IF(Calculations2!K161=0,\"\",Calculations2!K161)","v":""}]
[{"$f":"+Calculations2!A162","v":"2020-10-18"},null,null,null,null,null,{"$f":"+Calculations2!J162","v":""},{"$f":"+Calculations2!L162","v":""},{"$f":"+IF(Calculations2!K162=0,\"\",Calculations2!K162)","v":""}]
[{"$f":"+Calculations2!A163","v":"2020-10-19"},null,null,null,null,null,{"$f":"+Calculations2!J163","v":""},{"$f":"+Calculations2!L163","v":""},{"$f":"+IF(Calculations2!K163=0,\"\",Calculations2!K163)","v":""}]
[{"$f":"+Calculations2!A164","v":"2020-10-20"},null,null,null,null,null,{"$f":"+Calculations2!J164","v":""},{"$f":"+Calculations2!L164","v":""},{"$f":"+IF(Calculations2!K164=0,\"\",Calculations2!K164)","v":""}]
[{"$f":"+Calculations2!A165","v":"2020-10-21"},null,null,null,null,null,{"$f":"+Calculations2!J165","v":""},{"$f":"+Calculations2!L165","v":""},{"$f":"+IF(Calculations2!K165=0,\"\",Calculations2!K165)","v":""}]
[{"$f":"+Calculations2!A166","v":"2020-10-22"},null,null,null,null,null,{"$f":"+Calculations2!J166","v":""},{"$f":"+Calculations2!L166","v":""},{"$f":"+IF(Calculations2!K166=0,\"\",Calculations2!K166)","v":""}]
[{"$f":"+Calculations2!A167","v":"2020-10-23"},null,null,null,null,null,{"$f":"+Calculations2!J167","v":""},{"$f":"+Calculations2!L167","v":""},{"$f":"+IF(Calculations2!K167=0,\"\",Calculations2!K167)","v":""}]
[{"$f":"+Calculations2!A168","v":"2020-10-24"},null,null,null,null,null,{"$f":"+Calculations2!J168","v":""},{"$f":"+Calculations2!L168","v":""},{"$f":"+IF(Calculations2!K168=0,\"\",Calculations2!K168)","v":""}]
[{"$f":"+Calculations2!A169","v":"2020-10-25"},null,null,null,null,null,{"$f":"+Calculations2!J169","v":""},{"$f":"+Calculations2!L169","v":""},{"$f":"+IF(Calculations2!K169=0,\"\",Calculations2!K169)","v":""}]
[null,null,null,null,null,null,{"$f":"+Calculations2!J170","v":""},{"$f":"+Calculations2!L170","v":""},{"$f":"+IF(Calculations2!K170=0,\"\",Calculations2!K170)","v":""}]
[]
[]
[]
[]
[]
[]
[]
[]
[]
["Totals",{"$f":"SUM(B4:B154)","v":2.87},{"$f":"SUM(C4:C154)","v":0.4},null,null,null,null,null,{"$f":"SUM(I4:I144)","v":0.75463430669276343}]

{"sheet":"SM","index":31,"n_rows":37,"n_cols":8,"rows_kept":37,"cut":false,"hidden":true,"merged":[]}
[]
[]
[]
[]
[]
[]
[]
[]
[]
[]
[]
[]
[]
[]
[]
[]
[]
[]
[]
[]
[]
[]
[]
[]
[]
[]
[]
[]
[]
[]
[]
[]
[]
[]
[]
[]
[null,"Emergence Date:",null,{"$f":"ScheduleSetup!$P$8","v":"2020-05-28"},null,null,"Location: ","MSU Soybean Disease Research Site"]

{"sheet":"Corn_GDD","index":32,"n_rows":109,"n_cols":31,"rows_kept":109,"cut":false,"hidden":true,"merged":[]}
["Corn GDD Table:",null,null,null,"This data is a best guess based on work published by Dr. Robert Nielsen, Corn Specialist from Purdue and Dr. Joe Lauer, Corn Specialist from the University of Wisconsin."]
[]
[]
[null,null,"RM",80,82,85,88,89,90,91,92,93,94,95,96,97,98,99,100,101,102,103,104,105,106,107,108,109,110,111,112]
[null,null,"Phys. Mat.",1852,1905,1983,2063,2089,2115,2142,2168,2195,2221,2247,2274,2300,2326,2353,2380,2405,2432,2458,2485,2511,2537,2564,2589,2616,2643,2669,2695]
[null,null,"V1",137.91489361702128,141.86170212765956,147.67021276595744,153.62765957446808,155.56382978723403,157.5,159.51063829787233,161.44680851063828,163.45744680851064,165.39361702127658,167.32978723404256,169.34042553191489,171.27659574468083,173.21276595744681,175.22340425531914,177.23404255319147,179.09574468085106,181.10638297872339,183.04255319148936,185.05319148936169,186.98936170212764,188.92553191489361,190.93617021276594,192.79787234042553,194.80851063829786,196.81914893617019,198.75531914893617,200.69148936170211]
[null,null,"V2",185.20000000000002,190.5,198.3,206.3,208.9,211.5,214.20000000000002,216.8,219.5,222.10000000000002,224.70000000000002,227.4,230,232.60000000000002,235.3,238,240.5,243.20000000000002,245.8,248.5,251.10000000000002,253.70000000000002,256.40000000000003,258.90000000000003,261.60000000000002,264.3,266.90000000000003,269.5]
[null,null,"V3",232.4851063829787,239.13829787234039,248.92978723404252,258.97234042553191,262.23617021276596,265.5,268.88936170212764,272.15319148936169,275.54255319148933,278.80638297872338,282.07021276595742,285.45957446808507,288.72340425531911,291.98723404255315,295.3765957446808,298.7659574468085,301.90425531914889,305.29361702127659,308.55744680851063,311.94680851063828,315.21063829787232,318.47446808510637,321.86382978723401,325.00212765957446,328.3914893617021,331.78085106382974,335.04468085106379,338.30851063829783]
[null,null,"V4",279.77021276595747,287.77659574468083,299.55957446808509,311.64468085106381,315.57234042553193,319.5,323.5787234042553,327.50638297872342,331.58510638297872,335.51276595744679,339.44042553191491,343.51914893617021,347.44680851063828,351.3744680851064,355.4531914893617,359.531914893617,363.30851063829789,367.38723404255319,371.31489361702126,375.39361702127661,379.32127659574468,383.24893617021274,387.3276595744681,391.10425531914893,395.18297872340423,399.26170212765959,403.18936170212766,407.11702127659572]
[null,null,"V5",327.05531914893618,336.41489361702128,350.18936170212766,364.31702127659577,368.90851063829786,373.5,378.26808510638301,382.8595744680851,387.62765957446811,392.2191489361702,396.81063829787234,401.57872340425536,406.17021276595744,410.76170212765959,415.52978723404254,420.29787234042556,424.71276595744683,429.48085106382979,434.07234042553193,438.84042553191489,443.43191489361703,448.02340425531918,452.79148936170213,457.20638297872341,461.97446808510642,466.74255319148938,471.33404255319152,475.92553191489361]
[null,null,"V6",374.34042553191489,385.05319148936167,400.81914893617017,416.98936170212761,422.24468085106378,427.49999999999994,432.95744680851061,438.21276595744678,443.67021276595744,448.92553191489361,454.18085106382978,459.63829787234039,464.89361702127655,470.14893617021272,475.60638297872339,481.063829787234,486.11702127659572,491.57446808510633,496.8297872340425,502.28723404255317,507.54255319148933,512.79787234042544,518.25531914893611,523.30851063829789,528.76595744680844,534.22340425531911,539.47872340425533,544.73404255319144]
[null,null,"V7",421.6255319148936,433.69148936170211,451.44893617021273,469.66170212765957,475.58085106382975,481.5,487.64680851063827,493.56595744680851,499.71276595744678,505.63191489361702,511.55106382978721,517.69787234042553,523.61702127659578,529.53617021276591,535.68297872340429,541.82978723404256,547.52127659574467,553.66808510638293,559.58723404255318,565.73404255319144,571.65319148936169,577.57234042553193,583.7191489361702,589.41063829787231,595.55744680851058,601.70425531914896,607.62340425531909,613.54255319148933]
[null,null,"V8",468.91063829787231,482.3297872340425,502.0787234042553,522.33404255319147,528.91702127659573,535.5,542.33617021276586,548.91914893617013,555.75531914893611,562.33829787234038,568.92127659574464,575.75744680851062,582.34042553191489,588.92340425531904,595.75957446808502,602.595744680851,608.92553191489355,615.76170212765953,622.3446808510638,629.18085106382978,635.76382978723393,642.3468085106382,649.18297872340418,655.51276595744673,662.34893617021271,669.18510638297869,675.76808510638296,682.35106382978722]
[null,null,"V9",516.19574468085113,530.968085106383,552.70851063829787,575.00638297872342,582.25319148936171,589.5,597.02553191489369,604.27234042553198,611.79787234042556,619.04468085106384,626.29148936170213,633.81702127659582,641.06382978723411,648.3106382978724,655.83617021276598,663.36170212765956,670.32978723404256,677.85531914893625,685.10212765957453,692.62765957446811,699.8744680851064,707.12127659574469,714.64680851063838,721.61489361702127,729.14042553191496,736.66595744680853,743.91276595744682,751.15957446808511]
[null,null,"V10",563.48085106382973,579.60638297872345,603.33829787234038,627.67872340425527,635.58936170212769,643.5,651.71489361702129,659.6255319148936,667.84042553191489,675.7510638297872,683.66170212765951,691.8765957446808,699.78723404255322,707.69787234042553,715.91276595744682,724.12765957446811,731.73404255319144,739.94893617021273,747.85957446808504,756.07446808510633,763.98510638297876,771.89574468085107,780.11063829787236,787.71702127659569,795.93191489361698,804.14680851063827,812.05744680851058,819.968085106383]
[null,null,"V11",610.76595744680844,628.24468085106378,653.96808510638289,680.35106382978722,688.92553191489355,697.5,706.40425531914889,714.97872340425522,723.88297872340422,732.45744680851055,741.031914893617,749.93617021276589,758.51063829787233,767.08510638297867,775.98936170212755,784.89361702127655,793.13829787234033,802.04255319148933,810.61702127659566,819.52127659574467,828.095744680851,836.67021276595733,845.57446808510633,853.81914893617011,862.72340425531911,871.627659574468,880.20212765957444,888.77659574468078]
[null,null,"V12",647.80595744680852,666.3446808510638,693.62808510638297,721.61106382978721,730.70553191489364,739.8,749.24425531914892,758.33872340425535,767.7829787234042,776.87744680851063,785.97191489361705,795.41617021276591,804.51063829787233,813.60510638297876,823.04936170212761,832.49361702127658,841.23829787234047,850.68255319148932,859.77702127659575,869.22127659574471,878.31574468085103,887.41021276595745,896.85446808510642,905.5991489361702,915.04340425531916,924.48765957446813,933.58212765957444,942.67659574468087]
[null,null,"V13",684.84595744680848,704.44468085106382,733.28808510638305,762.8710638297872,772.48553191489361,782.1,792.08425531914895,801.69872340425536,811.68297872340429,821.2974468085107,830.91191489361699,840.89617021276604,850.51063829787233,860.12510638297874,870.10936170212767,880.0936170212766,889.33829787234049,899.32255319148942,908.93702127659583,918.92127659574476,928.53574468085105,938.15021276595746,948.13446808510639,957.37914893617028,967.36340425531921,977.34765957446814,986.96212765957455,996.57659574468084]
[null,null,"V14",721.88595744680845,742.54468085106373,772.9480851063829,804.13106382978719,814.26553191489359,824.4,834.92425531914887,845.05872340425526,855.58297872340415,865.71744680851054,875.85191489361694,886.37617021276594,896.51063829787233,906.64510638297861,917.16936170212762,927.69361702127651,937.4382978723404,947.96255319148929,958.09702127659568,968.62127659574458,978.75574468085097,988.89021276595736,999.41446808510636,1009.1591489361701,1019.683404255319,1030.2076595744679,1040.3421276595743,1050.4765957446807]
[null,null,"V15",758.92595744680852,780.64468085106387,812.60808510638299,845.39106382978719,856.04553191489356,866.69999999999993,877.7642553191489,888.41872340425527,899.48297872340424,910.13744680851062,920.79191489361699,931.85617021276596,942.51063829787233,953.16510638297871,964.22936170212768,975.29361702127653,985.53829787234042,996.60255319148939,1007.2570212765958,1018.3212765957446,1028.975744680851,1039.6302127659574,1050.6944680851063,1060.9391489361701,1072.0034042553191,1083.0676595744681,1093.7221276595744,1104.3765957446808]
[null,null,"V16",795.96595744680849,818.74468085106389,852.26808510638296,886.65106382978729,897.82553191489365,909,920.60425531914893,931.77872340425529,943.38297872340422,954.55744680851069,965.73191489361704,977.33617021276598,988.51063829787233,999.6851063829788,1011.2893617021277,1022.8936170212767,1033.6382978723404,1045.2425531914894,1056.4170212765957,1068.0212765957447,1079.195744680851,1090.3702127659574,1101.9744680851063,1112.7191489361703,1124.3234042553192,1135.9276595744682,1147.1021276595745,1158.2765957446809]
[null,null,"V17",833.00595744680857,856.84468085106391,891.92808510638304,927.91106382978728,939.60553191489362,951.30000000000007,963.44425531914897,975.13872340425542,987.28297872340431,998.97744680851065,1010.6719148936171,1022.816170212766,1034.5106382978724,1046.2051063829788,1058.3493617021277,1070.4936170212766,1081.7382978723406,1093.8825531914895,1105.5770212765958,1117.7212765957447,1129.415744680851,1141.1102127659576,1153.2544680851065,1164.4991489361703,1176.6434042553192,1188.7876595744681,1200.4821276595746,1212.176595744681]
[null,null,"V18",870.04595744680853,894.94468085106382,931.58808510638301,969.17106382978716,981.38553191489359,993.6,1006.2842553191489,1018.4987234042553,1031.1829787234042,1043.3974468085107,1055.611914893617,1068.2961702127659,1080.5106382978722,1092.7251063829788,1105.4093617021276,1118.0936170212765,1129.8382978723405,1142.5225531914894,1154.7370212765957,1167.4212765957448,1179.6357446808511,1191.8502127659574,1204.5344680851063,1216.2791489361703,1228.9634042553191,1241.647659574468,1253.8621276595745,1266.0765957446808]
[null,null,"R1",906.29787234042556,932.23404255319144,970.40425531914889,1009.5531914893617,1022.2765957446808,1035,1048.2127659574467,1060.936170212766,1074.1489361702127,1086.8723404255318,1099.5957446808511,1112.8085106382978,1125.5319148936169,1138.2553191489362,1151.4680851063829,1164.6808510638298,1176.9148936170213,1190.127659574468,1202.8510638297871,1216.063829787234,1228.7872340425531,1241.5106382978722,1254.7234042553191,1266.9574468085107,1280.1702127659573,1293.3829787234042,1306.1063829787233,1318.8297872340424]
[null,null,"R2",1123.0212765957447,1155.1595744680851,1202.4574468085107,1250.9680851063831,1266.7340425531916,1282.5,1298.872340425532,1314.6382978723404,1331.0106382978724,1346.7765957446809,1362.5425531914896,1378.9148936170213,1394.6808510638298,1410.4468085106384,1426.8191489361702,1443.1914893617022,1458.3510638297873,1474.7234042553193,1490.4893617021278,1506.8617021276598,1522.6276595744682,1538.3936170212767,1554.7659574468087,1569.9255319148938,1586.2978723404256,1602.6702127659576,1618.436170212766,1634.2021276595747]
[null,null,"R3",1300.3404255319149,1337.5531914893618,1392.3191489361702,1448.4893617021278,1466.7446808510638,1485,1503.9574468085107,1522.2127659574469,1541.1702127659576,1559.4255319148936,1577.6808510638298,1596.6382978723404,1614.8936170212767,1633.1489361702129,1652.1063829787233,1671.063829787234,1688.6170212765958,1707.5744680851064,1725.8297872340427,1744.7872340425533,1763.0425531914893,1781.2978723404256,1800.2553191489362,1817.808510638298,1836.7659574468084,1855.7234042553191,1873.9787234042553,1892.2340425531916]
[null,null,"R4",1477.6595744680851,1519.9468085106382,1582.1808510638298,1646.0106382978722,1666.7553191489362,1687.5,1709.0425531914893,1729.7872340425531,1751.3297872340424,1772.0744680851064,1792.8191489361702,1814.3617021276596,1835.1063829787233,1855.8510638297871,1877.3936170212767,1898.936170212766,1918.8829787234042,1940.4255319148936,1961.1702127659573,1982.7127659574467,2003.4574468085107,2024.2021276595744,2045.7446808510638,2065.6914893617022,2087.2340425531916,2108.7765957446809,2129.5212765957444,2150.2659574468084]
[null,null,"R5",1654.9787234042553,1702.3404255319149,1772.0425531914893,1843.5319148936169,1866.7659574468084,1890,1914.127659574468,1937.3617021276596,1961.4893617021276,1984.7234042553191,2007.9574468085104,2032.0851063829787,2055.3191489361702,2078.5531914893618,2102.6808510638298,2126.8085106382978,2149.1489361702124,2173.2765957446809,2196.5106382978724,2220.6382978723404,2243.872340425532,2267.1063829787231,2291.2340425531916,2313.5744680851062,2337.7021276595742,2361.8297872340422,2385.0638297872338,2408.2978723404253]
[null,null,"R6",1852,1905,1983,2063,2089,2115,2142,2168,2195,2221,2247,2274,2300,2326,2353,2380,2405,2432,2458,2485,2511,2537,2564,2589,2616,2643,2669,2695]
[]
[null,null,"Stage","Kc","Root Growth",null,"KC Low","KcHigh","TotK_c","Days","Low Root","High Root","Root Per"]
[null,null,"VE",0.2,2,null,0.15,0.2,{"$f":"+H32-G32","v":5.0000000000000017E-2},6,6,8.8000000000000007,{"$f":"+L32-K32","v":2.8000000000000007},{"$f":"+(L32-K32)/J32","v":0.46666666666666679},2,6,{"$f":"+O32/P32","v":0.33333333333333331},{"$f":"+K32+$Q$32","v":6.333333333333333},{"$f":"+R32+$Q$32","v":6.6666666666666661},{"$f":"+S32+$Q$32","v":6.9999999999999991},{"$f":"+T32+$Q$32","v":7.3333333333333321},{"$f":"+U32+$Q$32","v":7.6666666666666652}]
[null,null,"V1",0.2,6,null,0.2,0.25,{"$f":"+H33-G33","v":4.9999999999999989E-2},6,9.4600000000000009,12.35,{"$f":"+L33-K33","v":2.8899999999999988},0.5,{"$f":"+I32","v":5.0000000000000017E-2},5,{"$f":"+O33/P33","v":1.0000000000000004E-2},{"$f":"+G32+Q33","v":0.16}]
[null,null,"V2",0.25,10,null,0.25,0.3,4.9999999999999989E-2,4,12.92,14.65,1.7300000000000004,0.5,null,null,null,19.84615384615384,"V5"]
[null,null,"V3",0.3,12,null,{"$f":"+D35","v":0.3},0.37,7.0000000000000007E-2,4,15.23,16.96,1.7300000000000004,{"$f":"+(L35-K35)/J35","v":0.43250000000000011},null,null,null,20.423076923076916,"V5"]
[null,null,"V4",0.39,15,null,0.37,0.45,8.0000000000000016E-2,4,17.54,19.27,1.7300000000000004,0.43250000000000011,null,null,null,20.999999999999993,"V5"]
[null,null,"V5",0.47,17,null,0.45,0.54,9.0000000000000024E-2,3,19.850000000000001,21,1.1499999999999986,0.38333333333333286,null,null,null,21.57692307692307,"V6"]
[null,null,"V6",0.56000000000000005,20,null,0.55000000000000004,0.64,8.9999999999999969E-2,3,21.58,22.73,1.1500000000000021,0.38333333333333403,null,null,null,22.153846153846146,"V6"]
[null,null,"V7",0.66,21,null,0.64,0.74,9.9999999999999978E-2,3,23.306999999999999,24.46,1.1530000000000022,0.38433333333333408,null,null,null,22.730769230769223,"V6"]
[null,null,"V8",0.76,23,null,0.74,0.85,0.10999999999999999,3,25.038,26.19,1.152000000000001,0.38400000000000034,null,null,null,23.307692307692299,"V7"]
[null,null,"V9",0.84,24,null,0.85,0.99,0.14000000000000001,3,26.77,27.922999999999998,1.1529999999999987,0.38433333333333292,null,null,null,23.884615384615376,"V7"]
[null,null,"V10",1,26,null,{"$f":"+D42","v":1},1.05,5.0000000000000044E-2,3,28.5,29.65,1.1499999999999986,0.38333333333333286,null,null,null,24.461538461538453,"V7"]
[null,null,"V11",1.05,27,null,1.05,1.1000000000000001,5.0000000000000044E-2,3,30.23,31.38,1.1499999999999986,0.38333333333333286,null,null,null,25.038461538461529,"V8"]
[null,null,"V12",1.1000000000000001,28,null,1.1000000000000001,1.1499999999999999,4.9999999999999822E-2,2,31.96,33.119999999999997,1.1599999999999966,0.57999999999999829,null,null,null,25.615384615384606,"V8"]
[null,null,"V13",1.1499999999999999,30,null,1.1499999999999999,1.2,5.0000000000000044E-2,2,33.69,34.85,1.1600000000000037,0.58000000000000185,null,null,null,26.192307692307683,"V8"]
[null,null,"V14",1.2,32,null,1.2,1.2,0,2,35.42,36,0.57999999999999829,0.28999999999999915,null,null,null,26.769230769230759,"V9"]
[null,null,"V15",1.2,34,null,1.2,1.2,0,52,36,36,0,0,null,null,null,27.346153846153836,"V9"]
[null,null,"V16",1.2,36,null,1.2,1.2,0,2,36,36,0,{"$f":"+N47/14","v":0},null,null,null,27.923076923076913,"V9"]
[null,null,"V17",1.2,36,null,1.2,1.2,0,2,36,36,0,null,null,null,null,28.499999999999989,"V10"]
[null,null,"V18",1.2,36,null,1.2,1.2,0,2,36,36,0]
[null,null,"R1",1.2,36,null,1.2,1.2,0,13,36,36,0]
[null,null,"R2",1.2,36,null,1.2,1.2,0,10,36,36,0]
[null,null,"R3",1.2,36,null,1.2,1.2,0,11,36,36,0]
[null,null,"R4",1.2,36,null,1.2,1.2,0,13,36,36,0]
[null,null,"R5",1.1000000000000001,36,null,1.1000000000000001,0.66,-0.44000000000000006,15,36,36,0]
[null,null,"R6",0.66,36,null,0.66,0.66,0,null,36,36,0]
[null,null,null,null,null,null,null,null,null,null,null,null,null,null,null,null,null,null,null,6,"VE",1]
[null,null,"Corn 27 Table:",null,null,null,null,null,null,null,null,null,null,null,null,null,1,6,9,{"$f":"+R58+$O$66","v":6.5769230769230766},"VE",2]
[null,null,null,null,null,null,null,null,null,null,null,null,null,null,null,null,2,9,12,{"$f":"+T58+$O$66","v":7.1538461538461533},"VE",3]
[null,null,"Stage","Kc","Root Growth",null,"KC Low","KcHigh","TotK_c","Days","Low Root","High Root","Root Per",null,36,null,3,12,14,7.7307692307692299,"VE",4]
[null,null,"VE",0.2,2,null,0.15,0.2,{"$f":"+H61-G61","v":5.0000000000000017E-2}," ",6,8.8000000000000007,{"$f":"+L61-K61","v":2.8000000000000007},null,6,null,4,14,16,8.3076923076923066,"VE",5]
[null,null,"V1",0.2,6,null,0.2,0.25,{"$f":"+H62-G62","v":4.9999999999999989E-2}," ",9.4600000000000009,12.35,{"$f":"+L62-K62","v":2.8899999999999988},null,null,null,5,16,18,8.8846153846153832,"VE",6]
[null,null,"V2",0.25,10,null,0.25,0.3,4.9999999999999989E-2," ",12.92,14.65,1.7300000000000004,null,30,null,6,18,20,9.4615384615384599,"V1",1]
[null,null,"V3",0.3,12,null,{"$f":"+D64","v":0.3},0.37,7.0000000000000007E-2," ",15.23,16.96,1.7300000000000004,null,52,null,7,20,22,10.038461538461537,"V1",2]
[null,null,"V4",0.39,15,null,0.37,0.45,8.0000000000000016E-2," ",17.54,19.27,1.7300000000000004,null,null,null,8,22,24,10.615384615384613,"V1",3]
[null,null,"V5",0.47,17,null,0.45,0.54,9.0000000000000024E-2,null,19.850000000000001,21,1.1499999999999986,null,{"$f":"+O63/O64","v":0.57692307692307687},null,9,24,26,11.19230769230769,"V1",4]
[null,null,"V6",0.56000000000000005,20,null,0.55000000000000004,0.64,8.9999999999999969E-2,null,21.58,22.73,1.1500000000000021,null,null,null,10,26,28,11.769230769230766,"V1",5]
[null,null,"V7",0.66,21,null,0.64,0.74,9.9999999999999978E-2,null,23.306999999999999,24.46,1.1530000000000022,null,null,null,11,28,30,12.346153846153843,"V1",6]
[null,null,"V8",0.76,23,null,0.74,0.85,0.10999999999999999,null,25.038,26.19,1.152000000000001,null,null,null,12,30,32,12.92307692307692,"V2",1]
[null,null,"V9",0.84,24,null,0.85,0.99,0.14000000000000001,null,26.77,27,0.23000000000000043,null,null,null,13,32,34,13.499999999999996,"V2",2]
[null,null,"V10",1,26,null,{"$f":"+D71","v":1},1.05,5.0000000000000044E-2,null,27,27,0,null,null,null,14,34,36,14.076923076923073,"V2",3]
[null,null,"V11",1.05,27,null,1.05,1.1000000000000001,5.0000000000000044E-2,null,27,27,0,null,null,null,15,36,36,14.65384615384615,"V2",4]
[null,null,"V12",1.1000000000000001,28,null,1.1000000000000001,1.1499999999999999,4.9999999999999822E-2,null,27,27,0,null,null,null,null,null,null,15.230769230769226,"V3",1]
[null,null,"V13",1.1499999999999999,30,null,1.1499999999999999,1.2,5.0000000000000044E-2,null,27,27,0,null,null,null,null,null,null,15.807692307692303,"V3",2]
[null,null,"V14",1.2,32,null,1.2,1.2,0,null,27,27,0,null,null,null,null,2.0286,7.7142999999999997,16.38461538461538,"V3",3]
[null,null,"V15",1.2,34,null,1.2,1.2,0,null,27,27,0,null,null,null,null,2.0714000000000001,5.2286000000000001,16.961538461538456,"V3",4]
[null,null,"V16",1.2,36,null,1.2,1.2,0,null,27,27,0,null,null,null,0.5,{"$f":"+(Q77*$R$76)+$S$76","v":6.2643000000000004},{"$f":"+(Q77*$T$76)+$U$76","v":{"$error":"#VALUE!"}},17.538461538461533,"V4",1]
[null,null,"V17",1.2,36,null,1.2,1.2,0,null,27,27,0,null,null,null,1,{"$f":"+(Q78*$R$76)+$S$76","v":7.3000000000000007},{"$f":"+(Q78*$T$76)+$U$76","v":{"$error":"#VALUE!"}},18.11538461538461,"V4",2]
[null,null,"V18",1.2,36,null,1.2,1.2,0,null,27,27,0,null,null,null,2,9.3714000000000013,{"$error":"#VALUE!"},18.692307692307686,"V4",3]
[null,null,"R1",1.2,36,null,1.2,1.2,0,null,27,27,0,null,null,null,3,11.4428,{"$error":"#VALUE!"},19.269230769230763,"V4",4]
[null,null,"R2",1.2,36,null,1.2,1.2,0,null,27,27,0,null,null,null,4,13.514200000000001,{"$error":"#VALUE!"},19.84615384615384,"V5"]
[null,null,"R3",1.2,36,null,1.2,1.2,0,null,27,27,0,null,null,null,5,15.585600000000001,{"$error":"#VALUE!"},20.423076923076916,"V5"]
[null,null,"R4",1.2,36,null,1.2,1.2,0,null,27,27,0,null,null,null,6,17.657,{"$error":"#VALUE!"},20.999999999999993,"V5"]
[null,null,"R5",1.1000000000000001,36,null,1.1000000000000001,0.66,-0.44000000000000006,null,27,27,0,null,null,null,7,19.728400000000001,{"$error":"#VALUE!"},21.57692307692307,"V6"]
[null,null,"R6",0.66,36,null,0.66,0.66,0,null,27,27,0,null,null,null,8,21.799800000000001,{"$error":"#VALUE!"},22.153846153846146,"V6"]
[null,null,null,null,null,null,null,null,null,null,null,null,null,null,null,null,9,23.871200000000002,{"$error":"#VALUE!"},22.730769230769223,"V6"]
[null,null,null,null,null,null,null,null,null,null,null,null,null,null,null,null,10,25.942600000000002,{"$error":"#VALUE!"},23.307692307692299,"V7"]
[null,null,null,null,null,null,null,null,null,null,null,null,null,null,null,null,11,28.014000000000003,{"$error":"#VALUE!"},23.884615384615376,"V7"]
[null,null,null,null,null,null,null,null,null,null,null,null,null,null,null,null,12,30.0854,{"$error":"#VALUE!"},24.461538461538453,"V7"]
[null,null,null,null,null,null,null,null,null,null,null,null,null,null,null,null,13,32.156800000000004,{"$error":"#VALUE!"},25.038461538461529,"V8"]
[null,null,null,null,null,null,null,null,null,null,null,null,null,null,null,null,14,34.228200000000001,{"$error":"#VALUE!"},{"$f":"+T90+$O$66","v":25.615384615384606},"V8"]
[null,null,null,null,null,null,null,null,null,null,null,null,null,null,null,null,15,36.299599999999998,{"$error":"#VALUE!"},26.192307692307683,"V8"]
[null,null,null,null,null,null,null,null,null,null,null,null,null,null,null,null,null,null,null,26.769230769230759,"V9"]
[null,null,null,null,null,null,null,null,null,null,null,null,null,null,null,null,null,null,null,27.346153846153836,"V9"]
[null,null,null,null,null,null,null,null,null,null,null,null,null,null,null,null,null,null,null,27.923076923076913,"V9"]
[null,null,null,null,null,null,null,null,null,null,null,null,null,null,null,null,null,null,null,28.499999999999989,"V10"]
[null,null,null,null,null,null,null,null,null,null,null,null,null,null,null,null,null,null,null,29.076923076923066,"V10"]
[null,null,null,null,null,null,null,null,null,null,null,null,null,null,null,null,null,null,null,29.653846153846143,"V10"]
[null,null,null,null,null,null,null,null,null,null,null,null,null,null,null,null,null,null,null,30.230769230769219,"V11"]
[null,null,null,null,null,null,null,null,null,null,null,null,null,null,null,null,null,null,null,30.807692307692296,"V11"]
[null,null,null,null,null,null,null,null,null,null,null,null,null,null,null,null,null,null,null,31.384615384615373,"V11"]
[null,null,null,null,null,null,null,null,null,null,null,null,null,null,null,null,null,null,null,31.961538461538449,"V12"]
[null,null,null,null,null,null,null,null,null,null,null,null,null,null,null,null,null,null,null,32.538461538461526,"V12"]
[null,null,null,null,null,null,null,null,null,null,null,null,null,null,null,null,null,null,null,33.115384615384606,"V12"]
[null,null,null,null,null,null,null,null,null,null,null,null,null,null,null,null,null,null,null,33.692307692307686,"V13"]
[null,null,null,null,null,null,null,null,null,null,null,null,null,null,null,null,null,null,null,34.269230769230766,"V13"]
[null,null,null,null,null,null,null,null,null,null,null,null,null,null,null,null,null,null,null,34.846153846153847,"V13"]
[null,null,null,null,null,null,null,null,null,null,null,null,null,null,null,null,null,null,null,35.423076923076927,"V14"]
[null,null,null,null,null,null,null,null,null,null,null,null,null,null,null,null,null,null,null,36.000000000000007,"V14"]